{"text_format":"1","workbook":"xlsx","n_sheets":69,"sheets":["Introduction","Abbreviations & Assumptions","Changelog","1 - Volume Input","2 - Base and Alt Sel","LanesDefaults","3 - Alt Num Lanes Input","Multimodal Ped","Multimodal Bike","4a - Summary Results","4b - Detailed Results","SumComp","5a - Summary Report","5b - Detailed Report","Conventional Shared RT LT","Traffic Signal","CGT N","CGT W","CGT E","CGT S","TWSC N-S","TWSC E-W","AWSC","QR S-W","QR N-E","QR S-E","QR N-W","P DLT N-S","P DLT E-W","Full DLT","RCUT N-S","RCUT E-W","Unsig RCUT N-S","Unsig RCUT E-W","MUT N-S ","MUT E-W","PMUT N-S","PMUT E-W","Bowtie N-S","Bowtie E-W","Split Intersection N-S","Split Intersection E-W","Echelon N-S","Echelon E-W","Center Turn Overpass","Center Turn Overpass E-W","50 Mini-Rndabt","75 Mini-Rndabt","1x1 Rndabt ","1NS x 2 EW Rndabt","2 NS x 1 EW Rndabt","2x2 Rndabt","3x3 Rndabt","TD N-S","TD E-W","PCLA N-S","PCLA E-W","PCLB N-S","PCLB E-W","DLTI N-S","DLTI E-W ","DDI N-S","DDI E-W","Contraflow Left N-S","Contraflow Left E-W","SPI N-S ","SPI E-W","SPI RAB N-S","SPI RAB E-W"],"not_rendered":{"charts":0,"images":44,"macros":1,"external_links":0,"defined_names":878,"comments":0,"pivot_tables":0},"unopened":[],"bounds":{"document_bytes":16777216,"sheet_cells":100000,"rows_first":2000,"rows_last":500,"rows_between":2000,"halvings":0,"cell_chars":16384,"cell_head_chars":4096},"cells_cut":0,"cells_raw":0,"read":"whole","date_system":"1900"}

{"sheet":"Introduction","index":0,"n_rows":0,"n_cols":0,"rows_kept":0,"cut":false,"hidden":false,"merged":[]}

{"sheet":"Abbreviations & Assumptions","index":1,"n_rows":63,"n_cols":63,"rows_kept":63,"cut":false,"hidden":false,"merged":[[56,2,61,15],[56,16,61,29],[56,30,61,43],[56,44,61,57],[62,2,62,15],[62,16,62,29],[62,30,62,43],[62,44,62,57],[0,1,1,60],[2,1,3,60],[33,1,34,60],[50,1,51,60],[0,62,1,121],[2,62,3,121],[50,62,51,121]]}
[null,"Capacity Analysis for Planning of Junctions\n\nCapacity Analysis for Planning of Junctions",null,null,null,null,null,null,null,null,null,null,null,null,null,null,null,null,null,null,null,null,null,null,null,null,null,null,null,null,null,null,null,null,null,null,null,null,null,null,null,null,null,null,null,null,null,null,null,null,null,null,null,null,null,null,null,null,null,null,null,null,"Capacity Analysis for Planning of Junctions\n\nCapacity Analysis for Planning of Junctions"]
[]
[null,"Abbreviation Definitions   ",null,null,null,null,null,null,null,null,null,null,null,null,null,null,null,null,null,null,null,null,null,null,null,null,null,null,null,null,null,null,null,null,null,null,null,null,null,null,null,null,null,null,null,null,null,null,null,null,null,null,null,null,null,null,null,null,null,null,null,null,"Intersection-Specific Assumptions"]
[]
[]
[]
[]
[]
[]
[]
[]
[]
[]
[]
[]
[]
[]
[]
[]
[]
[]
[]
[]
[]
[]
[]
[]
[]
[]
[]
[]
[]
[]
[null,"General Assumptions"]
[]
[]
[]
[]
[]
[]
[]
[]
[]
[]
[]
[]
[]
[]
[]
[]
[null,"Shared Lane Configuration Options"]
[]
[]
[]
[]
[]
[]
[]
[]
[]
[]
[]
[null,null,"0,1,0",null,null,null,null,null,null,null,null,null,null,null,null,null,"0,2,0",null,null,null,null,null,null,null,null,null,null,null,null,null,"0,1,1",null,null,null,null,null,null,null,null,null,null,null,null,null,"1,1,0"]

{"sheet":"Changelog","index":2,"n_rows":10,"n_cols":10,"rows_kept":10,"cut":false,"hidden":false,"merged":[[0,0,1,59],[2,0,3,59],[9,9,14,57],[9,2,14,8],[5,2,8,8],[5,9,8,57]]}
["Capacity Analysis for Planning of Junctions"]
[]
["Changelog"]
[]
[]
[null,null,"10/25/2018 (V3.0.0)",null,null,null,null,null,null,"Initial Release of Version 3.0.0 Update"]
[]
[]
[]
[null,null,"8/14/2019 (V3.0.1)",null,null,null,null,null,null,"Updated labeling of 1x2 and 2x1 roundabouts to more accurately reflect that they represent 1NS x 2EW and 2NS x 1EW, respectively. Additionally, fixed issue where the incorrect major street alternative intersection was being displayed as the exising conditions in the 2 - Base and Alt Sel tab for some 3-leg intersection configurations."]

{"sheet":"1 - Volume Input","index":3,"n_rows":90,"n_cols":61,"rows_kept":90,"cut":false,"hidden":false,"merged":[[0,1,1,60],[2,1,3,60],[89,4,89,21],[89,22,89,57],[84,4,84,57],[85,4,85,21],[85,22,85,57],[86,4,86,21],[86,22,86,57],[87,4,87,21],[87,22,87,57],[79,12,80,17],[77,12,78,17],[77,42,78,49],[79,42,80,49],[77,34,78,41],[79,34,80,41],[77,26,78,33],[79,26,80,33],[88,4,88,21],[88,22,88,57],[73,26,74,33],[75,26,76,33],[73,18,74,25],[67,34,68,41],[67,26,68,33],[67,18,68,25],[65,18,66,49],[73,34,74,41],[75,34,76,41],[69,42,72,49],[73,42,74,49],[75,42,76,49],[77,18,78,25],[79,18,80,25],[69,34,72,41],[67,42,68,49],[39,4,40,9],[39,10,40,17],[41,10,42,17],[41,4,42,9],[43,4,44,33],[43,34,44,45],[43,46,44,57],[55,46,56,57],[57,46,58,57],[59,46,60,57],[41,34,42,41],[39,18,40,25],[41,18,42,25],[45,4,46,21],[75,12,76,17],[73,12,74,17],[65,12,72,17],[75,18,76,25],[69,18,72,25],[69,26,72,33],[7,4,8,11],[7,12,8,57],[9,4,10,11],[9,12,10,57],[25,10,26,17],[27,10,30,17],[31,10,32,17],[25,18,26,25],[25,26,26,33],[25,34,26,41],[25,42,26,49],[25,50,26,57],[27,50,30,57],[27,42,30,49],[31,50,32,57],[27,18,30,25],[27,26,30,33],[27,34,30,41],[31,42,32,49],[11,4,12,11],[11,12,12,57],[13,4,14,11],[19,4,19,11],[19,12,19,57],[13,12,14,57],[21,4,22,57],[39,42,40,49],[39,50,40,57],[41,42,42,49],[41,50,42,57],[15,4,16,11],[15,12,16,57],[17,4,18,11],[17,12,18,57],[35,50,36,57],[35,34,36,41],[37,34,38,41],[39,26,40,33],[41,26,42,33],[37,4,38,9],[35,4,36,9],[35,10,36,17],[37,10,38,17],[35,18,36,25],[37,18,38,25],[35,26,36,33],[37,26,38,33],[39,34,40,41],[23,4,30,9],[31,4,32,9],[33,4,34,9],[33,10,34,17],[33,42,34,49],[35,42,36,49],[37,42,38,49],[45,22,46,33],[45,34,46,45],[45,46,46,57],[33,50,34,57],[23,10,24,41],[23,42,24,57],[33,18,34,25],[33,26,34,33],[33,34,34,41],[31,18,32,25],[31,26,32,33],[31,34,32,41],[37,50,38,57],[57,14,58,21],[59,14,60,21],[55,22,56,45],[57,22,58,45],[59,22,60,45],[63,12,64,49],[47,34,48,45],[47,46,48,57],[49,34,50,45],[49,46,50,57],[47,22,48,33],[53,34,54,45],[53,46,54,57],[51,22,52,33],[53,22,54,33],[51,4,52,21],[53,4,54,21],[51,34,52,45],[51,46,52,57],[49,22,50,33],[47,4,48,21],[49,4,50,21],[55,4,60,13],[55,14,56,21]]}
[null,"Capacity Analysis for Planning of Junctions"]
[]
[null,"Step 1"]
[]
[]
[]
[]
[null,null,null,null,"Project Name:",null,null,null,null,null,null,null,"Cap-X Sample Street"]
[]
[null,null,null,null,"Project Number:",null,null,null,null,null,null,null,10000]
[]
[null,null,null,null,"Location",null,null,null,null,null,null,null,"Anywhere, USA"]
[]
[null,null,null,null,"Date",null,null,null,null,null,null,null,"2017 AM"]
[]
[null,null,null,null,"Number of Intersection Legs",null,null,null,null,null,null,null,null,null,null,null,null,null,null,null,null,null,null,null,null,null,null,null,null,null,null,null,null,null,null,null,null,null,null,null,null,null,null,null,null,null,null,null,null,null,null,null,null,null,null,null,null,null,null,3,"N"]
[null,null,null,null,null,null,null,null,null,null,null,null,null,null,null,null,null,null,null,null,null,null,null,null,null,null,null,null,null,null,null,null,null,null,null,null,null,null,null,null,null,null,null,null,null,null,null,null,null,null,null,null,null,null,null,null,null,null,null,4,"S"]
[null,null,null,null,"Major Street Direction",null,null,null,null,null,null,null,"North-South",null,null,null,null,null,null,null,null,null,null,null,null,null,null,null,null,null,null,null,null,null,null,null,null,null,null,null,null,null,null,null,null,null,null,null,null,null,null,null,null,null,null,null,null,null,"North-South",null,"E"]
[null,null,null,null,null,null,null,null,null,null,null,null,null,null,null,null,null,null,null,null,null,null,null,null,null,null,null,null,null,null,null,null,null,null,null,null,null,null,null,null,null,null,null,null,null,null,null,null,null,null,null,null,null,null,null,null,null,null,"East-West",null,"W"]
[null,null,null,null,"Which leg is the minor street?",null,null,null,null,null,null,null,"N"]
[]
[null,null,null,null,"Traffic Volume Demand"]
[]
[null,null,null,null,null,null,null,null,null,null,"Volume (Veh/hr)",null,null,null,null,null,null,null,null,null,null,null,null,null,null,null,null,null,null,null,null,null,null,null,null,null,null,null,null,null,null,null,"Percent (%)"]
[]
[null,null,null,null,null,null,null,null,null,null,"U-Turn",null,null,null,null,null,null,null,"Left",null,null,null,null,null,null,null,"Thru",null,null,null,null,null,null,null,"Right",null,null,null,null,null,null,null,"Heavy Vehicles",null,null,null,null,null,null,null,"Volume Growth"]
[]
[]
[]
[]
[]
[null,null,null,null,"Eastbound",null,null,null,null,null,0,null,null,null,null,null,null,null,30,null,null,null,null,null,null,null,200,null,null,null,null,null,null,null,50,null,null,null,null,null,null,null,0.02,null,null,null,null,null,null,null,0]
[]
[null,null,null,null,"Westbound",null,null,null,null,null,0,null,null,null,null,null,null,null,30,null,null,null,null,null,null,null,200,null,null,null,null,null,null,null,50,null,null,null,null,null,null,null,0.02,null,null,null,null,null,null,null,0]
[]
[null,null,null,null,"Southbound",null,null,null,null,null,0,null,null,null,null,null,null,null,30,null,null,null,null,null,null,null,200,null,null,null,null,null,null,null,50,null,null,null,null,null,null,null,0.02,null,null,null,null,null,null,null,0]
[]
[null,null,null,null,"Northbound",null,null,null,null,null,0,null,null,null,null,null,null,null,100,null,null,null,null,null,null,null,500,null,null,null,null,null,null,null,200,null,null,null,null,null,null,null,0.02,null,null,null,null,null,null,null,0]
[null,null,null,null,null,null,null,null,null,null,null,null,null,null,null,null,null,null,null,null,null,null,null,null,null,null,null,null,null,null,null,null,null,null,null,null,null,null,null,null,null,null,null,null,null,null,null,null,null,null,null,null,null,null,null,null,null,null,null,"Low"]
[null,null,null,null,"Adjustment Factor",null,null,null,null,null,0.8,null,null,null,null,null,null,null,0.95,null,null,null,null,null,null,null,null,null,null,null,null,null,null,null,0.85,null,null,null,null,null,null,null,null,null,null,null,null,null,null,null,null,null,null,null,null,null,null,null,null,"Medium"]
[null,null,null,null,null,null,null,null,null,null,null,null,null,null,null,null,null,null,null,null,null,null,null,null,null,null,null,null,null,null,null,null,null,null,null,null,null,null,null,null,null,null,null,null,null,null,null,null,null,null,null,null,null,null,null,null,null,null,null,"High"]
[null,null,null,null,"Suggested",null,null,null,null,null,0.8,null,null,null,null,null,null,null,0.95,null,null,null,null,null,null,null,null,null,null,null,null,null,null,null,0.85]
[]
[null,null,null,null,"Truck to PCE Factor ",null,null,null,null,null,null,null,null,null,null,null,null,null,null,null,null,null,null,null,null,null,null,null,null,null,null,null,null,null,"Suggested = 2.00",null,null,null,null,null,null,null,null,null,null,null,2]
[]
[null,null,null,null,"Multimodal Activity Level",null,null,null,null,null,null,null,null,null,null,null,null,null,null,null,null,null,"Low",null,null,null,null,null,null,null,null,null,null,null,"Multimodal Ped",null,null,null,null,null,null,null,null,null,null,null,"Multimodal Bike"]
[]
[null,null,null,null,"E-W / Crossing East-West Legs",null,null,null,null,null,null,null,null,null,null,null,null,null,null,null,null,null,{"$f":"IF(Multimodal=1,\"Low\",IF(Multimodal=2,\"Medium\",\"High\"))","v":"Low"},null,null,null,null,null,null,null,null,null,null,null,{"$f":"IF(Multimodal=1,\"Low\",IF(Multimodal=2,\"Medium\",\"High\"))","v":"Low"},null,null,null,null,null,null,null,null,null,null,null,{"$f":"IF(Multimodal=1,\"Low\",IF(Multimodal=2,\"Medium\",\"High\"))","v":"Low"}]
[]
[null,null,null,null,"Westbound / Crossing East Leg",null,null,null,null,null,null,null,null,null,null,null,null,null,null,null,null,null,{"$f":"IF(Multimodal=1,\"Low\",IF(Multimodal=2,\"Medium\",\"High\"))","v":"Low"},null,null,null,null,null,null,null,null,null,null,null,{"$f":"IF(Multimodal=1,\"Low\",IF(Multimodal=2,\"Medium\",\"High\"))","v":"Low"},null,null,null,null,null,null,null,null,null,null,null,{"$f":"IF(Multimodal=1,\"Low\",IF(Multimodal=2,\"Medium\",\"High\"))","v":"Low"}]
[]
[null,null,null,null,"N-S / Crossing North-South Legs",null,null,null,null,null,null,null,null,null,null,null,null,null,null,null,null,null,{"$f":"IF(Multimodal=1,\"Low\",IF(Multimodal=2,\"Medium\",\"High\"))","v":"Low"},null,null,null,null,null,null,null,null,null,null,null,{"$f":"IF(Multimodal=1,\"Low\",IF(Multimodal=2,\"Medium\",\"High\"))","v":"Low"},null,null,null,null,null,null,null,null,null,null,null,{"$f":"IF(Multimodal=1,\"Low\",IF(Multimodal=2,\"Medium\",\"High\"))","v":"Low"}]
[]
[null,null,null,null,"Northbound / Crossing South Leg",null,null,null,null,null,null,null,null,null,null,null,null,null,null,null,null,null,{"$f":"IF(Multimodal=1,\"Low\",IF(Multimodal=2,\"Medium\",\"High\"))","v":"Low"},null,null,null,null,null,null,null,null,null,null,null,{"$f":"IF(Multimodal=1,\"Low\",IF(Multimodal=2,\"Medium\",\"High\"))","v":"Low"},null,null,null,null,null,null,null,null,null,null,null,{"$f":"IF(Multimodal=1,\"Low\",IF(Multimodal=2,\"Medium\",\"High\"))","v":"Low"}]
[]
[null,null,null,null,"Critical Lane Volume Sum Limit",null,null,null,null,null,null,null,null,null,"2-phase signal",null,null,null,null,null,null,null,"Suggested = 1800 (Urban), 1650 (Rural)",null,null,null,null,null,null,null,null,null,null,null,null,null,null,null,null,null,null,null,null,null,null,null,1800]
[]
[null,null,null,null,null,null,null,null,null,null,null,null,null,null,"3-phase signal",null,null,null,null,null,null,null,"Suggested = 1750 (Urban), 1600 (Rural)",null,null,null,null,null,null,null,null,null,null,null,null,null,null,null,null,null,null,null,null,null,null,null,1750]
[]
[null,null,null,null,null,null,null,null,null,null,null,null,null,null,"4-phase signal",null,null,null,null,null,null,null,"Suggested = 1700 (Urban), 1550 (Rural)",null,null,null,null,null,null,null,null,null,null,null,null,null,null,null,null,null,null,null,null,null,null,null,1700]
[]
[]
[]
[null,null,null,null,null,null,null,null,null,null,null,null,"Equivalent Passenger Car Volume",null,null,null,null,null,null,null,null,null,null,null,null,null,null,null,null,null,null,null,null,null,null,null,null,null,null,null,null,null,null,null,null,null,null,null,null,null,null,null,null,{"$f":"IF(W48=\"Low\",1,IF(W48=\"Medium\",2,3))","v":1},{"$f":"IF(AI48=\"Low\",1,IF(AI48=\"Medium\",2,3))","v":1},null,null,null,{"$f":"IF(W46=BH39,1,IF(W46=BH40,2,3))","v":1}]
[]
[null,null,null,null,null,null,null,null,null,null,null,null,null,null,null,null,null,null,"Volume (Veh/hr)",null,null,null,null,null,null,null,null,null,null,null,null,null,null,null,null,null,null,null,null,null,null,null,null,null,null,null,null,null,null,null,null,null,null,{"$f":"IF(W50=\"Low\",1,IF(W50=\"Medium\",2,3))","v":1},{"$f":"IF(AI50=\"Low\",1,IF(AI50=\"Medium\",2,3))","v":1}]
[]
[null,null,null,null,null,null,null,null,null,null,null,null,null,null,null,null,null,null,"U-Turn",null,null,null,null,null,null,null,"Left",null,null,null,null,null,null,null,"Thru",null,null,null,null,null,null,null,"Right",null,null,null,null,null,null,null,null,null,null,{"$f":"IF(W52=\"Low\",1,IF(W52=\"Medium\",2,3))","v":1},{"$f":"IF(AI52=\"Low\",1,IF(AI52=\"Medium\",2,3))","v":1}]
[]
[null,null,null,null,null,null,null,null,null,null,null,null,null,null,null,null,null,null,null,null,null,null,null,null,null,null,null,null,null,null,null,null,null,null,null,null,null,null,null,null,null,null,null,null,null,null,null,null,null,null,null,null,null,{"$f":"IF(W54=\"Low\",1,IF(W54=\"Medium\",2,3))","v":1},{"$f":"IF(AI54=\"Low\",1,IF(AI54=\"Medium\",2,3))","v":1}]
[]
[]
[]
[null,null,null,null,null,null,null,null,null,null,null,null,"Eastbound",null,null,null,null,null,{"$f":"+ROUND((K32*(1-EB_Truck_Percentage) +K32* EB_Truck_Percentage*Truck_Adjustment_Factor)*(1+EB_Growth_Factor),0)","v":0},null,null,null,null,null,null,null,{"$f":"+ROUND((S32*(1-EB_Truck_Percentage) +S32* EB_Truck_Percentage*Truck_Adjustment_Factor)*(1+EB_Growth_Factor),0)","v":31},null,null,null,null,null,null,null,{"$f":"+ROUND((AA32*(1-EB_Truck_Percentage) +AA32* EB_Truck_Percentage*Truck_Adjustment_Factor)*(1+EB_Growth_Factor),0)","v":204},null,null,null,null,null,null,null,{"$f":"+ROUND((AI32*(1-EB_Truck_Percentage) +AI32* EB_Truck_Percentage*Truck_Adjustment_Factor)*(1+EB_Growth_Factor),0)","v":51}]
[]
[null,null,null,null,null,null,null,null,null,null,null,null,"Westbound",null,null,null,null,null,{"$f":"+ROUND((K34*(1-WB_Truck_Percentage) +K34*WB_Truck_Percentage*Truck_Adjustment_Factor)*(1+WB_Growth_Factor),0)","v":0},null,null,null,null,null,null,null,{"$f":"+ROUND((S34*(1-WB_Truck_Percentage) +S34* WB_Truck_Percentage*Truck_Adjustment_Factor)*(1+WB_Growth_Factor),0)","v":31},null,null,null,null,null,null,null,{"$f":"+ROUND((AA34*(1-WB_Truck_Percentage) +AA34* WB_Truck_Percentage*Truck_Adjustment_Factor)*(1+WB_Growth_Factor),0)","v":204},null,null,null,null,null,null,null,{"$f":"+ROUND((AI34*(1-WB_Truck_Percentage) +AI34* WB_Truck_Percentage*Truck_Adjustment_Factor)*(1+WB_Growth_Factor),0)","v":51}]
[]
[null,null,null,null,null,null,null,null,null,null,null,null,"Southbound",null,null,null,null,null,{"$f":"+ROUND((K36*(1-SB_Truck_Percentage) +K36* SB_Truck_Percentage*Truck_Adjustment_Factor)*(1+SB_Growth_Factor),0)","v":0},null,null,null,null,null,null,null,{"$f":"+ROUND((S36*(1-SB_Truck_Percentage) +S36* SB_Truck_Percentage*Truck_Adjustment_Factor)*(1+SB_Growth_Factor),0)","v":31},null,null,null,null,null,null,null,{"$f":"+ROUND((AA36*(1-SB_Truck_Percentage) +AA36* SB_Truck_Percentage*Truck_Adjustment_Factor)*(1+SB_Growth_Factor),0)","v":204},null,null,null,null,null,null,null,{"$f":"+ROUND((AI36*(1-SB_Truck_Percentage) +AI36* SB_Truck_Percentage*Truck_Adjustment_Factor)*(1+SB_Growth_Factor),0)","v":51}]
[]
[null,null,null,null,null,null,null,null,null,null,null,null,"Northbound",null,null,null,null,null,{"$f":"+ROUND((K38*(1-NB_Truck_Percentage) +K38* NB_Truck_Percentage*Truck_Adjustment_Factor)*(1+NB_Growth_Factor),0)","v":0},null,null,null,null,null,null,null,{"$f":"+ROUND((S38*(1-NB_Truck_Percentage) +S38* NB_Truck_Percentage*Truck_Adjustment_Factor)*(1+NB_Growth_Factor),0)","v":102},null,null,null,null,null,null,null,{"$f":"+ROUND((AA38*(1-NB_Truck_Percentage) +AA38* NB_Truck_Percentage*Truck_Adjustment_Factor)*(1+NB_Growth_Factor),0)","v":510},null,null,null,null,null,null,null,{"$f":"+ROUND((AI38*(1-NB_Truck_Percentage) +AI38* NB_Truck_Percentage*Truck_Adjustment_Factor)*(1+NB_Growth_Factor),0)","v":204}]
[]
[]
[]
[]
[null,null,null,null,"Notes: "]
[null,null,null,null,"Left-Turn Adjustment Factor",null,null,null,null,null,null,null,null,null,null,null,null,null,null,null,null,null,"Conversion of left-turning vehicles to equivalent through vehicles"]
[null,null,null,null,"Right-turn Adjustment Factor",null,null,null,null,null,null,null,null,null,null,null,null,null,null,null,null,null,"Conversion of right-turning vehicles to equivalent through vehicles"]
[null,null,null,null,"U-turn Adjustment Factor",null,null,null,null,null,null,null,null,null,null,null,null,null,null,null,null,null,"Conversion of U-turning vehicles to equivalent through vehicles"]
[null,null,null,null,"Truck to PCE Factor ",null,null,null,null,null,null,null,null,null,null,null,null,null,null,null,null,null,"1 truck = X Passenger Car Equivalents"]
[null,null,null,null,"Critical Lane Volume Sum Limit",null,null,null,null,null,null,null,null,null,null,null,null,null,null,null,null,null,"Saturation Value for Critical Lane Volume Sum at an intersection"]

{"sheet":"2 - Base and Alt Sel","index":4,"n_rows":83,"n_cols":99,"rows_kept":83,"cut":false,"hidden":false,"merged":[[0,96,2,96],[0,97,2,97],[0,98,2,98],[13,3,14,10],[13,11,14,57],[0,67,1,70],[0,71,1,74],[0,75,1,78],[0,79,1,82],[0,83,1,84],[0,85,1,86],[0,0,1,60],[2,0,3,60],[5,3,6,10],[5,11,6,57],[7,3,8,10],[7,11,8,57],[9,3,10,10],[9,11,10,57],[11,3,12,10],[0,87,1,88],[0,89,1,90],[0,91,1,92],[0,93,1,94],[21,3,24,19],[21,20,24,25],[21,26,22,33],[21,34,22,41],[21,42,22,49],[21,50,22,57],[23,50,24,51],[23,52,24,53],[23,54,24,55],[23,56,24,57],[23,44,24,45],[0,95,2,95],[11,11,12,57],[16,3,17,32],[16,33,17,57],[19,3,20,57],[23,46,24,47],[23,48,24,49],[25,3,26,19],[25,20,26,25],[25,26,26,27],[25,28,26,29],[25,30,26,31],[25,32,26,33],[23,38,24,39],[23,40,24,41],[23,42,24,43],[23,26,24,27],[23,28,24,29],[23,30,24,31],[23,32,24,33],[23,34,24,35],[23,36,24,37],[25,46,26,47],[25,34,26,35],[25,36,26,37],[25,38,26,39],[25,40,26,41],[25,42,26,43],[25,44,26,45],[39,38,40,52],[25,48,26,49],[32,22,33,24],[32,25,33,27],[32,46,33,48],[32,49,33,51],[32,40,33,42],[32,43,33,45],[28,3,29,57],[25,50,26,51],[25,52,26,53],[25,54,26,55],[25,56,26,57],[30,3,33,15],[30,52,31,57],[32,52,33,54],[32,55,33,57],[32,28,33,30],[32,31,33,33],[32,34,33,36],[32,37,33,39],[30,16,33,21],[30,22,31,27],[30,28,31,33],[30,34,31,39],[30,40,31,45],[30,46,31,51],[42,0,43,60],[45,3,45,32],[45,33,45,38],[45,39,45,57],[34,40,35,42],[34,43,35,45],[34,46,35,48],[34,49,35,51],[37,3,38,57],[39,3,40,8],[39,9,40,15],[39,33,40,37],[34,16,35,21],[34,22,35,24],[34,25,35,27],[34,28,35,30],[34,31,35,33],[34,34,35,36],[34,37,35,39],[34,52,35,54],[34,55,35,57],[39,16,40,32],[39,53,40,57],[34,3,35,15],[50,3,50,32],[50,33,50,38],[50,39,50,57],[51,33,51,38],[51,39,51,57],[46,3,46,32],[46,33,46,38],[46,39,46,57],[47,3,47,32],[47,33,47,38],[47,39,47,57],[48,3,48,32],[48,33,48,38],[48,39,48,57],[49,3,49,32],[49,33,49,38],[49,39,49,57],[51,3,54,26],[51,27,51,32],[52,27,52,32],[53,27,53,32],[54,27,54,32],[52,33,52,38],[52,39,52,57],[57,3,57,32],[57,33,57,38],[57,39,57,57],[59,3,59,32],[59,33,59,38],[59,39,59,57],[55,3,55,32],[55,33,55,38],[55,39,55,57],[56,3,56,32],[56,33,56,38],[56,39,56,57],[58,3,58,32],[58,33,58,38],[58,39,58,57],[53,33,53,38],[53,39,53,57],[54,33,54,38],[54,39,54,57],[60,3,60,32],[60,33,60,38],[60,39,60,57],[66,3,66,32],[66,33,66,38],[66,39,66,57],[61,3,61,32],[61,33,61,38],[61,39,61,57],[62,3,62,32],[62,33,62,38],[62,39,62,57],[64,3,64,32],[64,33,64,38],[64,39,64,57],[65,3,65,32],[65,33,65,38],[65,39,65,57],[63,3,63,32],[63,33,63,38],[63,39,63,57],[69,3,69,32],[69,33,69,38],[69,39,69,57],[70,3,70,32],[70,33,70,38],[70,39,70,57],[67,3,67,32],[67,33,67,38],[67,39,67,57],[68,3,68,32],[68,33,68,38],[68,39,68,57],[82,3,82,32],[82,33,82,38],[82,39,82,57],[81,3,81,32],[81,33,81,38],[81,39,81,57],[71,3,71,32],[71,33,71,38],[71,39,71,57],[72,3,72,32],[72,33,72,38],[72,39,72,57],[80,3,80,32],[80,33,80,38],[80,39,80,57],[78,3,78,32],[78,33,78,38],[78,39,78,57],[79,3,79,32],[79,33,79,38],[79,39,79,57],[73,3,73,32],[73,33,73,38],[73,39,73,57],[76,3,76,32],[76,33,76,38],[76,39,76,57],[77,3,77,32],[77,33,77,38],[77,39,77,57],[74,3,74,32],[74,33,74,38],[74,39,74,57],[75,3,75,32],[75,33,75,38],[75,39,75,57]]}
["Capacity Analysis for Planning of Junctions",null,null,null,null,null,null,null,null,null,null,null,null,null,null,null,null,null,null,null,null,null,null,null,null,null,null,null,null,null,null,null,null,null,null,null,null,null,null,null,null,null,null,null,null,null,null,null,null,null,null,null,null,null,null,null,null,null,null,null,null,null,null,"Major Str Offset",null,{"$f":"IF(OR($L$14='1 - Volume Input'!$BG$18,$L$14='1 - Volume Input'!$BI$18,$L$14='1 - Volume Input'!$BI$19),0,2)","v":0},null,"NB Lanes",null,null,null,"SB Lanes",null,null,null,"EB Lanes",null,null,null,"WB Lanes",null,null,null,"Zone 1",null,"Zone 2",null,"Zone 3",null,"Zone 4",null,"Zone 5",null,"Zone 6",null,"Overall V/C","Ped Accom.","Bike Accom.","Transit Accom."]
[]
["Step 2A: Base Conditions Analysis",null,null,null,null,null,null,null,null,null,null,null,null,null,null,null,null,null,null,null,null,null,null,null,null,null,null,null,null,null,null,null,null,null,null,null,null,null,null,null,null,null,null,null,null,null,null,null,null,null,null,null,null,null,null,null,null,null,null,null,null,null,null,"Existing Intx List:",null,"No Lanes","Outputs","U","L","T","R","U","L","T","R","U","L","T","R","U","L","T","R","CLV","VC","CLV","VC","CLV","VC","CLV","VC","CLV","VC","CLV","VC"]
[null,null,null,null,null,null,null,null,null,null,null,null,null,null,null,null,null,null,null,null,null,null,null,null,null,null,null,null,null,null,null,null,null,null,null,null,null,null,null,null,null,null,null,null,null,null,null,null,null,null,null,null,null,null,null,null,null,null,null,null,null,null,null,{"$f":"'3 - Alt Num Lanes Input'!E24","v":"Traffic Signal"},null,{"$f":"24","v":24},{"$f":"24","v":24},{"$f":"INDIRECT(\"'3 - Alt Num Lanes Input'!AA\"&$BN4)","v":0},{"$f":"INDIRECT(\"'3 - Alt Num Lanes Input'!AC\"&$BN4)","v":1},{"$f":"INDIRECT(\"'3 - Alt Num Lanes Input'!AE\"&$BN4)","v":1},{"$f":"INDIRECT(\"'3 - Alt Num Lanes Input'!AG\"&$BN4)","v":1},{"$f":"INDIRECT(\"'3 - Alt Num Lanes Input'!AI\"&$BN4)","v":0},{"$f":"INDIRECT(\"'3 - Alt Num Lanes Input'!AK\"&$BN4)","v":1},{"$f":"INDIRECT(\"'3 - Alt Num Lanes Input'!AM\"&$BN4)","v":1},{"$f":"INDIRECT(\"'3 - Alt Num Lanes Input'!AO\"&$BN4)","v":1},{"$f":"INDIRECT(\"'3 - Alt Num Lanes Input'!AQ\"&$BN4)","v":0},{"$f":"INDIRECT(\"'3 - Alt Num Lanes Input'!AS\"&$BN4)","v":1},{"$f":"INDIRECT(\"'3 - Alt Num Lanes Input'!AU\"&$BN4)","v":1},{"$f":"INDIRECT(\"'3 - Alt Num Lanes Input'!AW\"&$BN4)","v":1},{"$f":"INDIRECT(\"'3 - Alt Num Lanes Input'!AY\"&$BN4)","v":0},{"$f":"INDIRECT(\"'3 - Alt Num Lanes Input'!BA\"&$BN4)","v":1},{"$f":"INDIRECT(\"'3 - Alt Num Lanes Input'!BC\"&$BN4)","v":1},{"$f":"INDIRECT(\"'3 - Alt Num Lanes Input'!BE\"&$BN4)","v":1},{"$f":"INDIRECT(\"'4b - Detailed Results'!AD\"&$BO4)","v":0},{"$f":"INDIRECT(\"'4b - Detailed Results'!AG\"&$BO4)","v":0},{"$f":"INDIRECT(\"'4b - Detailed Results'!AJ\"&$BO4)","v":0},{"$f":"INDIRECT(\"'4b - Detailed Results'!AM\"&$BO4)","v":0},{"$f":"INDIRECT(\"'4b - Detailed Results'!AP\"&$BO4)","v":0},{"$f":"INDIRECT(\"'4b - Detailed Results'!AS\"&$BO4)","v":0},{"$f":"INDIRECT(\"'4b - Detailed Results'!AV\"&$BO4)","v":0},{"$f":"INDIRECT(\"'4b - Detailed Results'!AY\"&$BO4)","v":0},{"$f":"INDIRECT(\"'4b - Detailed Results'!BB\"&$BO4)","v":780.9806094182826},{"$f":"INDIRECT(\"'4b - Detailed Results'!BE\"&$BO4)","v":0.46},0,0,{"$f":"INDIRECT(\"'4b - Detailed Results'!BH\"&$BO4)","v":0.46},{"$f":"INDIRECT(\"'4b - Detailed Results'!BO\"&$BO4)","v":"Good"},{"$f":"INDIRECT(\"'4b - Detailed Results'!BS\"&$BO4)","v":"Excellent"},{"$f":"INDIRECT(\"'4b - Detailed Results'!BW\"&$BO4)","v":0}]
[null,null,null,null,null,null,null,null,null,null,null,null,null,null,null,null,null,null,null,null,null,null,null,null,null,null,null,null,null,null,null,null,null,null,null,null,null,null,null,null,null,null,null,null,null,null,null,null,null,null,null,null,null,null,null,null,null,null,null,null,null,null,null,{"$f":"'3 - Alt Num Lanes Input'!E28","v":"Two-Way Stop Control"},null,{"$f":"28 +$BN$1","v":28},{"$f":"28 +$BN$1","v":28},{"$f":"INDIRECT(\"'3 - Alt Num Lanes Input'!AA\"&$BN5)","v":0},{"$f":"INDIRECT(\"'3 - Alt Num Lanes Input'!AC\"&$BN5)","v":1},{"$f":"INDIRECT(\"'3 - Alt Num Lanes Input'!AE\"&$BN5)","v":1},{"$f":"INDIRECT(\"'3 - Alt Num Lanes Input'!AG\"&$BN5)","v":1},{"$f":"INDIRECT(\"'3 - Alt Num Lanes Input'!AI\"&$BN5)","v":0},{"$f":"INDIRECT(\"'3 - Alt Num Lanes Input'!AK\"&$BN5)","v":1},{"$f":"INDIRECT(\"'3 - Alt Num Lanes Input'!AM\"&$BN5)","v":1},{"$f":"INDIRECT(\"'3 - Alt Num Lanes Input'!AO\"&$BN5)","v":1},{"$f":"INDIRECT(\"'3 - Alt Num Lanes Input'!AQ\"&$BN5)","v":0},{"$f":"INDIRECT(\"'3 - Alt Num Lanes Input'!AS\"&$BN5)","v":1},{"$f":"INDIRECT(\"'3 - Alt Num Lanes Input'!AU\"&$BN5)","v":1},{"$f":"INDIRECT(\"'3 - Alt Num Lanes Input'!AW\"&$BN5)","v":1},{"$f":"INDIRECT(\"'3 - Alt Num Lanes Input'!AY\"&$BN5)","v":0},{"$f":"INDIRECT(\"'3 - Alt Num Lanes Input'!BA\"&$BN5)","v":1},{"$f":"INDIRECT(\"'3 - Alt Num Lanes Input'!BC\"&$BN5)","v":1},{"$f":"INDIRECT(\"'3 - Alt Num Lanes Input'!BE\"&$BN5)","v":1},{"$f":"INDIRECT(\"'4b - Detailed Results'!AD\"&$BO5)","v":0},{"$f":"INDIRECT(\"'4b - Detailed Results'!AG\"&$BO5)","v":0},{"$f":"INDIRECT(\"'4b - Detailed Results'!AJ\"&$BO5)","v":0},{"$f":"INDIRECT(\"'4b - Detailed Results'!AM\"&$BO5)","v":0},{"$f":"INDIRECT(\"'4b - Detailed Results'!AP\"&$BO5)","v":0},{"$f":"INDIRECT(\"'4b - Detailed Results'!AS\"&$BO5)","v":0},{"$f":"INDIRECT(\"'4b - Detailed Results'!AV\"&$BO5)","v":0},{"$f":"INDIRECT(\"'4b - Detailed Results'!AY\"&$BO5)","v":0},{"$f":"INDIRECT(\"'4b - Detailed Results'!BB\"&$BO5)","v":"--"},{"$f":"INDIRECT(\"'4b - Detailed Results'!BE\"&$BO5)","v":15.849681734685804},0,0,15.849681734685804,"Fair","Good",0]
[null,null,null,"Project Name:",null,null,null,null,null,null,null,{"$f":"'1 - Volume Input'!M8","v":"Cap-X Sample Street"},null,null,null,null,null,null,null,null,null,null,null,null,null,null,null,null,null,null,null,null,null,null,null,null,null,null,null,null,null,null,null,null,null,null,null,null,null,null,null,null,null,null,null,null,null,null,null,null,null,null,null,{"$f":"'3 - Alt Num Lanes Input'!E32","v":"All-Way Stop Control"},null,{"$f":"32","v":32},{"$f":"32","v":32},0,0,1,0,0,0,1,0,0,0,1,0,0,0,1,0,{"$f":"INDIRECT(\"'4b - Detailed Results'!AD\"&$BO6)","v":0},{"$f":"INDIRECT(\"'4b - Detailed Results'!AG\"&$BO6)","v":0},{"$f":"INDIRECT(\"'4b - Detailed Results'!AJ\"&$BO6)","v":0},{"$f":"INDIRECT(\"'4b - Detailed Results'!AM\"&$BO6)","v":0},{"$f":"INDIRECT(\"'4b - Detailed Results'!AP\"&$BO6)","v":0},{"$f":"INDIRECT(\"'4b - Detailed Results'!AS\"&$BO6)","v":0},{"$f":"INDIRECT(\"'4b - Detailed Results'!AV\"&$BO6)","v":0},{"$f":"INDIRECT(\"'4b - Detailed Results'!AY\"&$BO6)","v":0},{"$f":"INDIRECT(\"'4b - Detailed Results'!BB\"&$BO6)","v":1572},{"$f":"INDIRECT(\"'4b - Detailed Results'!BE\"&$BO6)","v":1.31},0,0,1.31,"Good","Excellent",0]
[null,null,null,null,null,null,null,null,null,null,null,null,null,null,null,null,null,null,null,null,null,null,null,null,null,null,null,null,null,null,null,null,null,null,null,null,null,null,null,null,null,null,null,null,null,null,null,null,null,null,null,null,null,null,null,null,null,null,null,null,null,null,null,"1x1 Roundabout",null,{"$f":"-1","v":-1},114,"--","--","--","--","--","--","--","--","--","--","--","--","--","--","--","--",{"$f":"INDIRECT(\"'4b - Detailed Results'!L\"&$BO7)","v":0.29226131359598517},{"$f":"INDIRECT(\"'4b - Detailed Results'!P\"&$BO7)","v":0},{"$f":"INDIRECT(\"'4b - Detailed Results'!T\"&$BO7)","v":0},{"$f":"INDIRECT(\"'4b - Detailed Results'!X\"&$BO7)","v":0.27184398349836608},{"$f":"INDIRECT(\"'4b - Detailed Results'!AB\"&$BO7)","v":0},{"$f":"INDIRECT(\"'4b - Detailed Results'!AF\"&$BO7)","v":0},{"$f":"INDIRECT(\"'4b - Detailed Results'!AJ\"&$BO7)","v":0.77561080606526822},{"$f":"INDIRECT(\"'4b - Detailed Results'!AN\"&$BO7)","v":0},{"$f":"INDIRECT(\"'4b - Detailed Results'!AR\"&$BO7)","v":0},{"$f":"INDIRECT(\"'4b - Detailed Results'!AV\"&$BO7)","v":0.39932208093482385},{"$f":"INDIRECT(\"'4b - Detailed Results'!AZ\"&$BO7)","v":0},{"$f":"INDIRECT(\"'4b - Detailed Results'!BD\"&$BO7)","v":0},0.77561080606526822,"Excellent","Excellent",0]
[null,null,null,"Project Number:",null,null,null,null,null,null,null,{"$f":"'1 - Volume Input'!M10","v":10000},null,null,null,null,null,null,null,null,null,null,null,null,null,null,null,null,null,null,null,null,null,null,null,null,null,null,null,null,null,null,null,null,null,null,null,null,null,null,null,null,null,null,null,null,null,null,null,null,null,null,null,"1x2 Roundabout",null,-1,{"$f":"116 +(2-$BN$1)","v":118},"--","--","--","--","--","--","--","--","--","--","--","--","--","--","--","--",{"$f":"INDIRECT(\"'4b - Detailed Results'!L\"&$BO8)","v":0.13576217396475573},{"$f":"INDIRECT(\"'4b - Detailed Results'!P\"&$BO8)","v":0.14215338728632426},{"$f":"INDIRECT(\"'4b - Detailed Results'!T\"&$BO8)","v":0},{"$f":"INDIRECT(\"'4b - Detailed Results'!X\"&$BO8)","v":0.25250598191990237},{"$f":"INDIRECT(\"'4b - Detailed Results'!AB\"&$BO8)","v":0},{"$f":"INDIRECT(\"'4b - Detailed Results'!AF\"&$BO8)","v":0},{"$f":"INDIRECT(\"'4b - Detailed Results'!AJ\"&$BO8)","v":0.36285640527036489},{"$f":"INDIRECT(\"'4b - Detailed Results'!AN\"&$BO8)","v":0.38183142328922859},{"$f":"INDIRECT(\"'4b - Detailed Results'!AR\"&$BO8)","v":0},{"$f":"INDIRECT(\"'4b - Detailed Results'!AV\"&$BO8)","v":0.34788951342532187},{"$f":"INDIRECT(\"'4b - Detailed Results'!AZ\"&$BO8)","v":0},{"$f":"INDIRECT(\"'4b - Detailed Results'!BD\"&$BO8)","v":0},0.38183142328922859,"Good","Excellent",0]
[null,null,null,null,null,null,null,null,null,null,null,null,null,null,null,null,null,null,null,null,null,null,null,null,null,null,null,null,null,null,null,null,null,null,null,null,null,null,null,null,null,null,null,null,null,null,null,null,null,null,null,null,null,null,null,null,null,null,null,null,null,null,null,"2x2 Roundabout",null,-1,120,"--","--","--","--","--","--","--","--","--","--","--","--","--","--","--","--",{"$f":"INDIRECT(\"'4b - Detailed Results'!L\"&$BO9)","v":0.13576217396475573},{"$f":"INDIRECT(\"'4b - Detailed Results'!P\"&$BO9)","v":0.14215338728632426},{"$f":"INDIRECT(\"'4b - Detailed Results'!T\"&$BO9)","v":0},{"$f":"INDIRECT(\"'4b - Detailed Results'!X\"&$BO9)","v":0.17990422646463175},{"$f":"INDIRECT(\"'4b - Detailed Results'!AB\"&$BO9)","v":0.18438144211542062},{"$f":"INDIRECT(\"'4b - Detailed Results'!AF\"&$BO9)","v":0},{"$f":"INDIRECT(\"'4b - Detailed Results'!AJ\"&$BO9)","v":0.36285640527036489},{"$f":"INDIRECT(\"'4b - Detailed Results'!AN\"&$BO9)","v":0.38183142328922859},{"$f":"INDIRECT(\"'4b - Detailed Results'!AR\"&$BO9)","v":0},{"$f":"INDIRECT(\"'4b - Detailed Results'!AV\"&$BO9)","v":0.12717761263152494},{"$f":"INDIRECT(\"'4b - Detailed Results'!AZ\"&$BO9)","v":0.13382817041754827},{"$f":"INDIRECT(\"'4b - Detailed Results'!BD\"&$BO9)","v":0},0.38183142328922859,"Good","Excellent",0]
[null,null,null,"Location:",null,null,null,null,null,null,null,{"$f":"'1 - Volume Input'!M12","v":"Anywhere, USA"},null,null,null,null,null,null,null,null,null,null,null,null,null,null,null,null,null,null,null,null,null,null,null,null,null,null,null,null,null,null,null,null,null,null,null,null,null,null,null,null,null,null,null,null,null,null,null,null,null,null,null,"Traditional Diamond",null,{"$f":"111 +(2-$BN$1)","v":113},{"$f":"108 +(2-$BN$1)","v":110},0,1,2,1,0,1,2,1,0,1,2,1,0,1,2,1,{"$f":"INDIRECT(\"'4b - Detailed Results'!X\"&$BO10)","v":0.38628448968657914},{"$f":"INDIRECT(\"'4b - Detailed Results'!AA\"&$BO10)","v":0},{"$f":"INDIRECT(\"'4b - Detailed Results'!AD\"&$BO10)","v":0},{"$f":"INDIRECT(\"'4b - Detailed Results'!AG\"&$BO10)","v":0},{"$f":"INDIRECT(\"'4b - Detailed Results'!AJ\"&$BO10)","v":1.0639288231617303},{"$f":"INDIRECT(\"'4b - Detailed Results'!AM\"&$BO10)","v":0},{"$f":"INDIRECT(\"'4b - Detailed Results'!AP\"&$BO10)","v":0},{"$f":"INDIRECT(\"'4b - Detailed Results'!AS\"&$BO10)","v":0},{"$f":"INDIRECT(\"'4b - Detailed Results'!AV\"&$BO10)","v":0.797136004213433},{"$f":"INDIRECT(\"'4b - Detailed Results'!AY\"&$BO10)","v":0},{"$f":"INDIRECT(\"'4b - Detailed Results'!BB\"&$BO10)","v":0},{"$f":"INDIRECT(\"'4b - Detailed Results'!BE\"&$BO10)","v":0},1.0639288231617303,"Excellent","Good",0]
[null,null,null,null,null,null,null,null,null,null,null,null,null,null,null,null,null,null,null,null,null,null,null,null,null,null,null,null,null,null,null,null,null,null,null,null,null,null,null,null,null,null,null,null,null,null,null,null,null,null,null,null,null,null,null,null,null,null,null,null,null,null,null,"Partial Cloverleaf A",null,{"$f":"115 +(2-$BN$1)","v":117},{"$f":"112 +(2-$BN$1)","v":114},0,1,0,1,0,1,0,1,0,0,2,0,0,0,2,0,{"$f":"INDIRECT(\"'4b - Detailed Results'!X\"&$BO11)","v":0.27184398349836608},{"$f":"INDIRECT(\"'4b - Detailed Results'!AA\"&$BO11)","v":0},{"$f":"INDIRECT(\"'4b - Detailed Results'!AD\"&$BO11)","v":0},{"$f":"INDIRECT(\"'4b - Detailed Results'!AG\"&$BO11)","v":0},{"$f":"INDIRECT(\"'4b - Detailed Results'!AJ\"&$BO11)","v":0.77561080606526822},{"$f":"INDIRECT(\"'4b - Detailed Results'!AM\"&$BO11)","v":0},{"$f":"INDIRECT(\"'4b - Detailed Results'!AP\"&$BO11)","v":0},{"$f":"INDIRECT(\"'4b - Detailed Results'!AS\"&$BO11)","v":0},{"$f":"INDIRECT(\"'4b - Detailed Results'!AV\"&$BO11)","v":0.39932208093482385},{"$f":"INDIRECT(\"'4b - Detailed Results'!AY\"&$BO11)","v":0},{"$f":"INDIRECT(\"'4b - Detailed Results'!BB\"&$BO11)","v":0},{"$f":"INDIRECT(\"'4b - Detailed Results'!BE\"&$BO11)","v":0},0.77561080606526822,"Excellent","Excellent",0]
[null,null,null,"Date:",null,null,null,null,null,null,null,{"$f":"'1 - Volume Input'!M14","v":"2017 AM"},null,null,null,null,null,null,null,null,null,null,null,null,null,null,null,null,null,null,null,null,null,null,null,null,null,null,null,null,null,null,null,null,null,null,null,null,null,null,null,null,null,null,null,null,null,null,null,null,null,null,null,"Partial Cloverleaf B",null,{"$f":"119 +(2-$BN$1)","v":121},{"$f":"116 +(2-$BN$1)","v":118},0,1,0,1,0,1,0,1,0,1,2,1,0,1,2,1,{"$f":"INDIRECT(\"'4b - Detailed Results'!X\"&$BO12)","v":0.25250598191990237},{"$f":"INDIRECT(\"'4b - Detailed Results'!AA\"&$BO12)","v":0},{"$f":"INDIRECT(\"'4b - Detailed Results'!AD\"&$BO12)","v":0},{"$f":"INDIRECT(\"'4b - Detailed Results'!AG\"&$BO12)","v":0},{"$f":"INDIRECT(\"'4b - Detailed Results'!AJ\"&$BO12)","v":0.36285640527036489},{"$f":"INDIRECT(\"'4b - Detailed Results'!AM\"&$BO12)","v":0},{"$f":"INDIRECT(\"'4b - Detailed Results'!AP\"&$BO12)","v":0},{"$f":"INDIRECT(\"'4b - Detailed Results'!AS\"&$BO12)","v":0},{"$f":"INDIRECT(\"'4b - Detailed Results'!AV\"&$BO12)","v":0.34788951342532187},{"$f":"INDIRECT(\"'4b - Detailed Results'!AY\"&$BO12)","v":0},{"$f":"INDIRECT(\"'4b - Detailed Results'!BB\"&$BO12)","v":0},{"$f":"INDIRECT(\"'4b - Detailed Results'!BE\"&$BO12)","v":0},0.38183142328922859,"Good","Excellent",0]
[null,null,null,null,null,null,null,null,null,null,null,null,null,null,null,null,null,null,null,null,null,null,null,null,null,null,null,null,null,null,null,null,null,null,null,null,null,null,null,null,null,null,null,null,null,null,null,null,null,null,null,null,null,null,null,null,null,null,null,null,null,null,null,"None",null,-1,-1,"--","--","--","--","--","--","--","--","--","--","--","--","--","--","--","--","--","--","--","--","--","--","--","--","--","--","--","--","--","--","--","--"]
[null,null,null,{"$f":"IF(Input_NumLegs = 3,'1 - Volume Input'!E20, '1 - Volume Input'!E18)","v":"Major Street Direction"},null,null,null,null,null,null,null,{"$f":"IF(Input_NumLegs = 3, Input_MinorStreetLeg, '1 - Volume Input'!M18)","v":"North-South"}]
[]
[]
[null,null,null,"Existing Intersection Configuration",null,null,null,null,null,null,null,null,null,null,null,null,null,null,null,null,null,null,null,null,null,null,null,null,null,null,null,null,null,"Two-Way Stop Control"]
[]
[]
[null,null,null,"Number of Lanes for Existing Configuration\n(Can be edited in \"3- Alt Num Lanes Input\" as needed)"]
[]
[null,null,null,"TYPE OF INTERSECTION",null,null,null,null,null,null,null,null,null,null,null,null,null,null,null,null,"Sheet",null,null,null,null,null,"Northbound",null,null,null,null,null,null,null,"Southbound",null,null,null,null,null,null,null,"Eastbound",null,null,null,null,null,null,null,"Westbound"]
[]
[null,null,null,null,null,null,null,null,null,null,null,null,null,null,null,null,null,null,null,null,null,null,null,null,null,null,"U",null,"L",null,"T",null,"R",null,"U",null,"L",null,"T",null,"R",null,"U",null,"L",null,"T",null,"R",null,"U",null,"L",null,"T",null,"R"]
[]
[null,null,null,{"$f":"AH17","v":"Two-Way Stop Control"},null,null,null,null,null,null,null,null,null,null,null,null,null,null,null,null,{"$f":"IF(AH17=BL13,\"\",IF(VLOOKUP(AH17,$BL$4:$BO$13,3,FALSE)>0,INDIRECT(\"'3 - Alt Num Lanes Input'!V\"&VLOOKUP(AH17,$BL$4:$BO$13,3,FALSE)),INDIRECT(\"'4b - Detailed Results'!E\"&VLOOKUP(AH17,$BL$4:$BO$13,4,FALSE))))","v":"N-S"},null,null,null,null,null,null,null,{"$f":"VLOOKUP($AH$17,$BL$4:$CE$13,6,FALSE)","v":1},null,{"$f":"VLOOKUP($AH$17,$BL$4:$CE$13,7,FALSE)","v":1},null,{"$f":"VLOOKUP($AH$17,$BL$4:$CE$13,8,FALSE)","v":1},null,null,null,{"$f":"VLOOKUP($AH$17,$BL$4:$CE$13,10,FALSE)","v":1},null,{"$f":"VLOOKUP($AH$17,$BL$4:$CE$13,11,FALSE)","v":1},null,{"$f":"VLOOKUP($AH$17,$BL$4:$CE$13,12,FALSE)","v":1},null,null,null,{"$f":"VLOOKUP($AH$17,$BL$4:$CE$13,14,FALSE)","v":1},null,{"$f":"VLOOKUP($AH$17,$BL$4:$CE$13,15,FALSE)","v":1},null,{"$f":"VLOOKUP($AH$17,$BL$4:$CE$13,16,FALSE)","v":1},null,null,null,{"$f":"VLOOKUP($AH$17,$BL$4:$CE$13,18,FALSE)","v":1},null,{"$f":"VLOOKUP($AH$17,$BL$4:$CE$13,19,FALSE)","v":1},null,{"$f":"VLOOKUP($AH$17,$BL$4:$CE$13,20,FALSE)","v":1}]
[]
[]
[null,null,null,"Results for Existing Configuration"]
[]
[null,null,null,"TYPE OF INTERSECTION",null,null,null,null,null,null,null,null,null,null,null,null,"Sheet",null,null,null,null,null,{"$f":"IF($C$35=1,'4b - Detailed Results'!AD20,IF($C$35=2,'4b - Detailed Results'!L106,'4b - Detailed Results'!X127))","v":"Zone 1 (North)"},null,null,null,null,null,{"$f":"IF($C$35=1,'4b - Detailed Results'!AJ20,IF($C$35=2,'4b - Detailed Results'!X106,'4b - Detailed Results'!AD127))","v":"Zone 2 (South)"},null,null,null,null,null,{"$f":"IF($C$35=1,'4b - Detailed Results'!AP20,IF($C$35=2,'4b - Detailed Results'!AJ106,'4b - Detailed Results'!AJ127))","v":"Zone 3 (East)"},null,null,null,null,null,{"$f":"IF($C$35=1,'4b - Detailed Results'!AV20,IF($C$35=2,'4b - Detailed Results'!AV106,'4b - Detailed Results'!AP127))","v":"Zone 4 (West)"},null,null,null,null,null,{"$f":"IF($C$35=1,'4b - Detailed Results'!BB20,IF($C$35=2,\"\",'4b - Detailed Results'!AV127))","v":"Zone 5 (Center) "},null,null,null,null,null,{"$f":"IF($C$35=1,\"\",IF($C$35=2,\"\",'4b - Detailed Results'!BB127))","v":""}]
[]
[null,null,null,null,null,null,null,null,null,null,null,null,null,null,null,null,null,null,null,null,null,null,{"$f":"IF(W31<>\"\",IF($C$35=2,\"V/C\",\"CLV\"),\"\")","v":"CLV"},null,null,{"$f":"IF(W31<>\"\",\"V/C\",\"\")","v":"V/C"},null,null,{"$f":"IF(AC31<>\"\",IF($C$35=2,\"V/C\",\"CLV\"),\"\")","v":"CLV"},null,null,{"$f":"IF(AC31<>\"\",\"V/C\",\"\")","v":"V/C"},null,null,{"$f":"IF(AI31<>\"\",IF($C$35=2,\"V/C\",\"CLV\"),\"\")","v":"CLV"},null,null,{"$f":"IF(AI31<>\"\",\"V/C\",\"\")","v":"V/C"},null,null,{"$f":"IF(AO31<>\"\",IF($C$35=2,\"V/C\",\"CLV\"),\"\")","v":"CLV"},null,null,{"$f":"IF(AO31<>\"\",\"V/C\",\"\")","v":"V/C"},null,null,{"$f":"IF(AU31<>\"\",\"CLV\",\"\")","v":"CLV"},null,null,{"$f":"IF(AU31<>\"\",\"V/C\",\"\")","v":"V/C"},null,null,{"$f":"IF(BA31<>\"\",\"CLV\",\"\")","v":""},null,null,{"$f":"IF(BA31<>\"\",\"V/C\",\"\")","v":""}]
[]
[null,null,{"$f":"IF(VLOOKUP(AH17,$BL$4:$BO$13,3,FALSE)<0,2,IF(VLOOKUP(AH17,$BL$4:$BO$13,3,FALSE)>80,3,1))","v":1},{"$f":"AH17","v":"Two-Way Stop Control"},null,null,null,null,null,null,null,null,null,null,null,null,{"$f":"IF(AH17=BL13,\"\",IF(VLOOKUP(AH17,$BL$4:$BO$13,3,FALSE)>0,INDIRECT(\"'3 - Alt Num Lanes Input'!V\"&VLOOKUP(AH17,$BL$4:$BO$13,3,FALSE)),INDIRECT(\"'4b - Detailed Results'!E\"&VLOOKUP(AH17,$BL$4:$BO$13,4,FALSE))))","v":"N-S"},null,null,null,null,null,{"$f":"VLOOKUP($AH$17,$BL$4:$CQ$13,21,FALSE)","v":0},null,null,{"$f":"VLOOKUP($AH$17,$BL$4:$CQ$13,22,FALSE)","v":0},null,null,{"$f":"IF($C$35<>2,VLOOKUP($AH$17,$BL$4:$CQ$13,23,FALSE),VLOOKUP($AH$17,$BL$4:$CQ$13,24,FALSE))","v":0},null,null,{"$f":"IF($C$35<>2,VLOOKUP($AH$17,$BL$4:$CQ$13,24,FALSE),VLOOKUP($AH$17,$BL$4:$CQ$13,25,FALSE))","v":0},null,null,{"$f":"IF($C$35<>2,VLOOKUP($AH$17,$BL$4:$CQ$13,25,FALSE),VLOOKUP($AH$17,$BL$4:$CQ$13,27,FALSE))","v":0},null,null,{"$f":"IF($C$35<>2,VLOOKUP($AH$17,$BL$4:$CQ$13,26,FALSE),VLOOKUP($AH$17,$BL$4:$CQ$13,28,FALSE))","v":0},null,null,{"$f":"IF($C$35<>2,VLOOKUP($AH$17,$BL$4:$CQ$13,27,FALSE),VLOOKUP($AH$17,$BL$4:$CQ$13,30,FALSE))","v":0},null,null,{"$f":"IF($C$35<>2,VLOOKUP($AH$17,$BL$4:$CQ$13,28,FALSE),VLOOKUP($AH$17,$BL$4:$CQ$13,31,FALSE))","v":0},null,null,{"$f":"IF($C$35<>2,VLOOKUP($AH$17,$BL$4:$CQ$13,29,FALSE),0)","v":"--"},null,null,{"$f":"IF($C$35<>2,VLOOKUP($AH$17,$BL$4:$CQ$13,30,FALSE),0)","v":15.849681734685804},null,null,{"$f":"IF($C$35<>2,VLOOKUP($AH$17,$BL$4:$CQ$13,31,FALSE),0)","v":0},null,null,{"$f":"IF($C$35<>2,VLOOKUP($AH$17,$BL$4:$CQ$13,32,FALSE),0)","v":0}]
[]
[]
[null,null,null,"Existing Configuration Results"]
[]
[null,null,null,"Overall v/c Ratio ",null,null,null,null,null,{"$f":"VLOOKUP($AH$17,$BL$4:$CU$13,33,FALSE)","v":15.849681734685804},null,null,null,null,null,null,"Pedestrian Accommodation",null,null,null,null,null,null,null,null,null,null,null,null,null,null,null,null,{"$f":"VLOOKUP($AH$17,$BL$4:$CU$13,34,FALSE)","v":"Fair"},null,null,null,null,"Bicycle Accommodation",null,null,null,null,null,null,null,null,null,null,null,null,null,null,{"$f":"VLOOKUP($AH$17,$BL$4:$CU$13,35,FALSE)","v":"Good"}]
[]
[]
["Step 2B: Alternative Selection"]
[]
[null,null,null,null,null,null,null,null,null,null,null,null,null,null,null,null,null,null,null,null,null,null,null,null,null,null,null,null,null,null,null,null,null,null,null,null,null,null,null,null,null,null,null,null,null,null,null,null,null,null,null,null,null,null,null,null,null,null,"Yes"]
[null,null,null,"Rankings Inclusion",null,null,null,null,null,null,null,null,null,null,null,null,null,null,null,null,null,null,null,null,null,null,null,null,null,null,null,null,null,"Yes/No",null,null,null,null,null,"Comment",null,null,null,null,null,null,null,null,null,null,null,null,null,null,null,null,null,null,"No"]
[null,null,{"$f":"IF(AH47=$BG$45,TRUE,FALSE)","v":true},"At-Grade Non-Roundabout Intersections?",null,null,null,null,null,null,null,null,null,null,null,null,null,null,null,null,null,null,null,null,null,null,null,null,null,null,null,null,null,"Yes"]
[null,null,{"$f":"IF(AH48=$BG$45,TRUE,FALSE)","v":true},{"$f":"'3 - Alt Num Lanes Input'!E24","v":"Traffic Signal"},null,null,null,null,null,null,null,null,null,null,null,null,null,null,null,null,null,null,null,null,null,null,null,null,null,null,null,null,null,"Yes"]
[null,null,true,{"$f":"'3 - Alt Num Lanes Input'!E28","v":"Two-Way Stop Control"},null,null,null,null,null,null,null,null,null,null,null,null,null,null,null,null,null,null,null,null,null,null,null,null,null,null,null,null,null,"Yes"]
[null,null,true,{"$f":"'3 - Alt Num Lanes Input'!E32","v":"All-Way Stop Control"},null,null,null,null,null,null,null,null,null,null,null,null,null,null,null,null,null,null,null,null,null,null,null,null,null,null,null,null,null,"Yes"]
[null,null,true,"Continuous Green T",null,null,null,null,null,null,null,null,null,null,null,null,null,null,null,null,null,null,null,null,null,null,null,null,null,null,null,null,null,"Yes"]
[null,null,true,"Quadrant Roadway",null,null,null,null,null,null,null,null,null,null,null,null,null,null,null,null,null,null,null,null,null,null,null,"S-W",null,null,null,null,null,"Yes"]
[null,null,true,null,null,null,null,null,null,null,null,null,null,null,null,null,null,null,null,null,null,null,null,null,null,null,null,"N-E",null,null,null,null,null,"Yes"]
[null,null,true,null,null,null,null,null,null,null,null,null,null,null,null,null,null,null,null,null,null,null,null,null,null,null,null,"S-E",null,null,null,null,null,"Yes"]
[null,null,true,null,null,null,null,null,null,null,null,null,null,null,null,null,null,null,null,null,null,null,null,null,null,null,null,"N-W",null,null,null,null,null,"Yes"]
[null,null,true,"Partial Displaced Left Turn",null,null,null,null,null,null,null,null,null,null,null,null,null,null,null,null,null,null,null,null,null,null,null,null,null,null,null,null,null,"Yes"]
[null,null,true,"Displaced Left Turn",null,null,null,null,null,null,null,null,null,null,null,null,null,null,null,null,null,null,null,null,null,null,null,null,null,null,null,null,null,"Yes"]
[null,null,true,{"$f":"'3 - Alt Num Lanes Input'!E56","v":"Signalized Restricted Crossing U-Turn"},null,null,null,null,null,null,null,null,null,null,null,null,null,null,null,null,null,null,null,null,null,null,null,null,null,null,null,null,null,"Yes"]
[null,null,true,{"$f":"'3 - Alt Num Lanes Input'!E60","v":"Unsignalized Restricted Crossing U-Turn"},null,null,null,null,null,null,null,null,null,null,null,null,null,null,null,null,null,null,null,null,null,null,null,null,null,null,null,null,null,"Yes"]
[null,null,true,"Median U-Turn",null,null,null,null,null,null,null,null,null,null,null,null,null,null,null,null,null,null,null,null,null,null,null,null,null,null,null,null,null,"Yes"]
[null,null,true,"Partial Median U-Turn",null,null,null,null,null,null,null,null,null,null,null,null,null,null,null,null,null,null,null,null,null,null,null,null,null,null,null,null,null,"Yes"]
[null,null,true,"Bowtie",null,null,null,null,null,null,null,null,null,null,null,null,null,null,null,null,null,null,null,null,null,null,null,null,null,null,null,null,null,"Yes"]
[null,null,{"$f":"IF(AH63=$BG$45,TRUE,FALSE)","v":true},"Split Intersection",null,null,null,null,null,null,null,null,null,null,null,null,null,null,null,null,null,null,null,null,null,null,null,null,null,null,null,null,null,"Yes"]
[null,null,{"$f":"IF(AH64=$BG$45,TRUE,FALSE)","v":true},"Grade Separated Intersections?",null,null,null,null,null,null,null,null,null,null,null,null,null,null,null,null,null,null,null,null,null,null,null,null,null,null,null,null,null,"Yes"]
[null,null,true,"Echelon",null,null,null,null,null,null,null,null,null,null,null,null,null,null,null,null,null,null,null,null,null,null,null,null,null,null,null,null,null,"Yes"]
[null,null,{"$f":"IF(AH66=$BG$45,TRUE,FALSE)","v":true},"Center Turn Overpass",null,null,null,null,null,null,null,null,null,null,null,null,null,null,null,null,null,null,null,null,null,null,null,null,null,null,null,null,null,"Yes"]
[null,null,true,"Roundabouts?",null,null,null,null,null,null,null,null,null,null,null,null,null,null,null,null,null,null,null,null,null,null,null,null,null,null,null,null,null,"Yes"]
[null,null,true,"50 ICD Miniroundabout",null,null,null,null,null,null,null,null,null,null,null,null,null,null,null,null,null,null,null,null,null,null,null,null,null,null,null,null,null,"Yes"]
[null,null,true,"75 ICD Miniroundaobut",null,null,null,null,null,null,null,null,null,null,null,null,null,null,null,null,null,null,null,null,null,null,null,null,null,null,null,null,null,"Yes"]
[null,null,true,"1x1",null,null,null,null,null,null,null,null,null,null,null,null,null,null,null,null,null,null,null,null,null,null,null,null,null,null,null,null,null,"Yes"]
[null,null,true,"1NS x 2EW",null,null,null,null,null,null,null,null,null,null,null,null,null,null,null,null,null,null,null,null,null,null,null,null,null,null,null,null,null,"Yes"]
[null,null,true,"2NS x 1EW",null,null,null,null,null,null,null,null,null,null,null,null,null,null,null,null,null,null,null,null,null,null,null,null,null,null,null,null,null,"Yes"]
[null,null,true,"2x2",null,null,null,null,null,null,null,null,null,null,null,null,null,null,null,null,null,null,null,null,null,null,null,null,null,null,null,null,null,"Yes"]
[null,null,true,"3x3",null,null,null,null,null,null,null,null,null,null,null,null,null,null,null,null,null,null,null,null,null,null,null,null,null,null,null,null,null,"Yes"]
[null,null,true,"Grade Separated Interchanges?",null,null,null,null,null,null,null,null,null,null,null,null,null,null,null,null,null,null,null,null,null,null,null,null,null,null,null,null,null,"Yes"]
[null,null,true,"Diamond",null,null,null,null,null,null,null,null,null,null,null,null,null,null,null,null,null,null,null,null,null,null,null,null,null,null,null,null,null,"Yes"]
[null,null,true,"Partial Cloverleaf A",null,null,null,null,null,null,null,null,null,null,null,null,null,null,null,null,null,null,null,null,null,null,null,null,null,null,null,null,null,"Yes"]
[null,null,true,"Partial Cloverleaf B",null,null,null,null,null,null,null,null,null,null,null,null,null,null,null,null,null,null,null,null,null,null,null,null,null,null,null,null,null,"Yes"]
[null,null,true,"Displaced Left Turn Interchange",null,null,null,null,null,null,null,null,null,null,null,null,null,null,null,null,null,null,null,null,null,null,null,null,null,null,null,null,null,"Yes"]
[null,null,{"$f":"IF(AH80=$BG$45,TRUE,FALSE)","v":true},"Contraflow Left Interchange",null,null,null,null,null,null,null,null,null,null,null,null,null,null,null,null,null,null,null,null,null,null,null,null,null,null,null,null,null,"Yes"]
[null,null,{"$f":"IF(AH81=$BG$45,TRUE,FALSE)","v":true},"Diverging Diamond Interchange",null,null,null,null,null,null,null,null,null,null,null,null,null,null,null,null,null,null,null,null,null,null,null,null,null,null,null,null,null,"Yes"]
[null,null,{"$f":"IF(AH82=$BG$45,TRUE,FALSE)","v":true},"Single Point",null,null,null,null,null,null,null,null,null,null,null,null,null,null,null,null,null,null,null,null,null,null,null,null,null,null,null,null,null,"Yes"]
[null,null,true,"Single Point with Roundabout",null,null,null,null,null,null,null,null,null,null,null,null,null,null,null,null,null,null,null,null,null,null,null,null,null,null,null,null,null,"Yes"]

{"sheet":"LanesDefaults","index":5,"n_rows":141,"n_cols":57,"rows_kept":141,"cut":false,"hidden":true,"merged":[[138,4,141,20],[138,21,139,25],[138,26,141,57],[140,21,141,25],[128,26,129,27],[128,28,129,29],[128,30,129,31],[128,32,129,33],[128,34,129,35],[128,36,129,37],[128,38,129,39],[128,40,129,41],[128,42,129,43],[130,4,133,20],[130,21,131,25],[130,26,131,27],[130,28,131,29],[130,30,131,31],[130,32,131,33],[130,34,131,35],[130,36,131,37],[132,48,133,49],[132,50,133,51],[132,52,133,53],[100,42,101,43],[100,44,101,45],[100,46,101,47],[100,48,101,49],[100,50,101,51],[100,52,101,53],[100,54,101,55],[100,56,101,57],[126,4,129,20],[126,21,127,25],[126,26,127,27],[126,28,127,29],[126,30,127,31],[126,32,127,33],[126,34,127,35],[126,36,127,37],[126,38,127,39],[126,40,127,41],[126,42,127,43],[126,44,127,45],[126,46,127,47],[126,48,127,49],[126,50,127,51],[126,52,127,53],[100,21,101,25],[100,26,101,27],[100,28,101,29],[100,30,101,31],[100,32,101,33],[100,34,101,35],[100,36,101,37],[100,38,101,39],[100,40,101,41],[98,40,99,41],[98,42,99,43],[98,44,99,45],[98,46,99,47],[98,48,99,49],[98,50,99,51],[98,52,99,53],[98,54,99,55],[98,56,99,57],[98,4,99,20],[98,21,99,25],[98,26,99,27],[98,28,99,29],[98,30,99,31],[98,32,99,33],[98,34,99,35],[98,36,99,37],[98,38,99,39],[96,40,97,41],[96,42,97,43],[96,44,97,45],[96,46,97,47],[96,48,97,49],[96,50,97,51],[96,52,97,53],[96,54,97,55],[96,56,97,57],[94,40,95,41],[94,42,95,43],[94,44,95,45],[94,46,95,47],[94,48,95,49],[94,50,95,51],[94,52,95,53],[94,54,95,55],[94,56,95,57],[94,4,97,20],[94,21,95,25],[94,26,95,27],[94,28,95,29],[94,30,95,31],[94,32,95,33],[94,34,95,35],[94,36,95,37],[94,38,95,39],[96,21,97,25],[96,26,97,27],[96,28,97,29],[96,30,97,31],[96,32,97,33],[96,34,97,35],[96,36,97,37],[96,38,97,39],[88,4,89,57],[90,4,93,20],[90,21,93,25],[90,26,91,33],[90,34,91,41],[90,42,91,49],[90,50,91,57],[92,26,93,27],[92,28,93,29],[92,30,93,31],[92,32,93,33],[92,34,93,35],[92,36,93,37],[92,38,93,39],[92,40,93,41],[92,42,93,43],[92,44,93,45],[92,46,93,47],[92,48,93,49],[92,50,93,51],[92,52,93,53],[92,54,93,55],[92,56,93,57],[71,46,72,47],[71,48,72,49],[71,50,72,51],[71,52,72,53],[71,54,72,55],[71,56,72,57],[73,40,74,41],[73,42,74,43],[73,44,74,45],[73,46,74,47],[73,48,74,49],[73,50,74,51],[73,52,74,53],[73,54,74,55],[73,56,74,57],[71,4,74,20],[75,4,78,20],[71,26,72,27],[71,28,72,29],[71,30,72,31],[71,32,72,33],[71,34,72,35],[71,36,72,37],[71,38,72,39],[73,26,74,27],[73,28,74,29],[73,30,74,31],[73,32,74,33],[73,34,74,35],[73,36,74,37],[73,38,74,39],[75,26,78,57],[71,21,72,25],[73,21,74,25],[75,21,76,25],[77,21,78,25],[71,40,72,41],[71,42,72,43],[71,44,72,45],[61,40,62,41],[61,42,62,43],[61,44,62,45],[61,46,62,47],[61,48,62,49],[61,50,62,51],[61,52,62,53],[61,54,62,55],[61,56,62,57],[59,40,60,41],[59,42,60,43],[59,44,60,45],[59,46,60,47],[59,48,60,49],[59,50,60,51],[59,52,60,53],[59,54,60,55],[59,56,60,57],[59,4,62,20],[59,21,60,25],[59,26,60,27],[59,28,60,29],[59,30,60,31],[59,32,60,33],[59,34,60,35],[59,36,60,37],[59,38,60,39],[61,21,62,25],[61,26,62,27],[61,28,62,29],[61,30,62,31],[61,32,62,33],[61,34,62,35],[61,36,62,37],[61,38,62,39],[21,56,22,57],[21,44,22,45],[21,46,22,47],[21,48,22,49],[21,50,22,51],[21,52,22,53],[21,54,22,55],[0,1,1,60],[2,1,3,60],[7,4,8,11],[7,12,8,57],[9,4,10,11],[9,12,10,57],[11,4,12,11],[11,12,12,57],[13,4,14,11],[13,12,14,57],[23,21,24,25],[23,26,24,27],[23,28,24,29],[23,30,24,31],[23,32,24,33],[23,34,24,35],[23,36,24,37],[23,38,24,39],[17,4,18,57],[19,4,22,20],[19,21,22,25],[19,26,20,33],[19,34,20,41],[19,42,20,49],[19,50,20,57],[21,26,22,27],[21,28,22,29],[21,30,22,31],[21,32,22,33],[21,34,22,35],[21,36,22,37],[21,38,22,39],[21,40,22,41],[21,42,22,43],[23,52,24,53],[23,54,24,55],[23,56,24,57],[25,4,26,20],[25,21,26,25],[25,26,26,27],[25,28,26,29],[25,30,26,33],[25,34,26,35],[25,36,26,37],[23,40,24,41],[23,42,24,43],[23,44,24,45],[23,46,24,47],[23,48,24,49],[23,50,24,51],[25,54,26,57],[25,38,26,41],[25,42,26,43],[25,44,26,45],[25,46,26,49],[25,50,26,51],[25,52,26,53],[23,4,24,20],[33,4,40,20],[33,21,34,25],[33,26,34,27],[33,28,34,29],[33,30,34,31],[33,32,34,33],[33,34,34,35],[33,36,34,37],[33,38,34,39],[37,21,38,25],[37,26,38,27],[37,28,38,29],[37,30,38,31],[37,32,38,33],[37,34,38,35],[39,34,40,35],[39,36,40,37],[39,38,40,39],[33,52,34,53],[33,54,34,55],[33,56,34,57],[35,21,36,25],[35,26,36,27],[35,28,36,29],[35,30,36,31],[35,32,36,33],[35,34,36,35],[35,36,36,37],[33,40,34,41],[33,42,34,43],[33,44,34,45],[33,46,34,47],[33,48,34,49],[33,50,34,51],[35,50,36,51],[35,52,36,53],[35,54,36,55],[35,56,36,57],[35,38,36,39],[35,40,36,41],[35,42,36,43],[35,44,36,45],[35,46,36,47],[35,48,36,49],[37,48,38,49],[37,50,38,51],[37,52,38,53],[37,54,38,55],[37,56,38,57],[39,21,40,25],[39,26,40,27],[39,28,40,29],[39,30,40,31],[39,32,40,33],[37,36,38,37],[37,38,38,39],[37,40,38,41],[37,42,38,43],[37,44,38,45],[37,46,38,47],[39,46,40,47],[39,48,40,49],[39,50,40,51],[39,52,40,53],[39,54,40,55],[39,56,40,57],[39,40,40,41],[39,42,40,43],[39,44,40,45],[41,26,48,57],[45,21,46,25],[43,21,44,25],[47,21,48,25],[49,4,52,20],[49,21,50,25],[49,26,50,27],[49,28,50,29],[49,30,50,31],[49,32,50,33],[49,34,50,35],[41,4,48,20],[41,21,42,25],[49,48,50,49],[49,50,50,51],[49,52,50,53],[49,54,50,55],[49,56,50,57],[51,21,52,25],[51,26,52,27],[51,28,52,29],[51,30,52,31],[51,32,52,33],[49,36,50,37],[49,38,50,39],[49,40,50,41],[49,42,50,43],[49,44,50,45],[49,46,50,47],[51,52,52,53],[51,54,52,55],[51,56,52,57],[51,34,52,35],[51,36,52,37],[51,38,52,39],[51,40,52,41],[51,42,52,43],[51,44,52,45],[53,4,54,20],[53,21,54,25],[53,26,54,27],[53,28,54,29],[53,30,54,31],[53,32,54,33],[51,46,52,47],[51,48,52,49],[51,50,52,51],[53,48,54,49],[53,50,54,51],[53,46,54,47],[53,52,54,53],[53,54,54,55],[53,56,54,57],[53,34,54,35],[53,36,54,37],[53,38,54,39],[53,40,54,41],[53,42,54,43],[53,44,54,45],[55,4,58,20],[55,21,56,25],[55,48,56,49],[55,50,56,51],[55,26,56,27],[55,28,56,29],[55,30,56,31],[55,32,56,33],[57,21,58,25],[57,26,58,27],[57,28,58,29],[57,30,58,31],[55,52,56,53],[55,54,56,55],[55,56,56,57],[55,34,56,35],[55,36,56,37],[55,38,56,39],[55,40,56,41],[55,42,56,43],[55,44,56,45],[55,46,56,47],[65,46,66,47],[65,48,66,49],[57,56,58,57],[63,4,66,20],[63,21,64,25],[63,26,64,27],[63,28,64,29],[63,30,64,31],[63,32,64,33],[63,34,64,35],[63,36,64,37],[63,38,64,39],[57,44,58,45],[57,46,58,47],[57,48,58,49],[57,50,58,51],[57,52,58,53],[57,54,58,55],[57,32,58,33],[57,34,58,35],[57,36,58,37],[57,38,58,39],[57,40,58,41],[57,42,58,43],[65,38,66,39],[65,40,66,41],[65,42,66,43],[63,52,64,53],[63,54,64,55],[63,56,64,57],[65,21,66,25],[65,26,66,27],[65,28,66,29],[65,30,66,31],[65,32,66,33],[65,34,66,35],[65,36,66,37],[63,40,64,41],[63,42,64,43],[63,44,64,45],[63,46,64,47],[63,48,64,49],[63,50,64,51],[65,50,66,51],[65,52,66,53],[65,54,66,55],[65,56,66,57],[65,44,66,45],[67,46,68,47],[67,48,68,49],[67,50,68,51],[67,52,68,53],[67,54,68,55],[67,56,68,57],[67,34,68,35],[67,36,68,37],[67,38,68,39],[67,40,68,41],[67,42,68,43],[67,44,68,45],[69,48,70,49],[69,50,70,51],[69,52,70,53],[69,54,70,55],[69,56,70,57],[82,1,83,60],[69,36,70,37],[69,38,70,39],[69,40,70,41],[69,42,70,43],[69,44,70,45],[69,46,70,47],[69,21,70,25],[69,26,70,27],[69,28,70,29],[69,30,70,31],[69,32,70,33],[69,34,70,35],[67,4,70,20],[67,21,68,25],[67,26,68,27],[67,28,68,29],[67,30,68,31],[67,32,68,33],[108,42,109,43],[108,30,109,31],[108,32,109,33],[108,34,109,35],[108,36,109,37],[108,38,109,39],[108,40,109,41],[84,1,85,60],[104,4,105,57],[106,4,109,20],[106,21,109,25],[106,26,107,33],[106,34,107,41],[106,42,107,49],[106,50,107,57],[108,26,109,27],[108,28,109,29],[108,54,109,55],[108,56,109,57],[108,44,109,45],[108,46,109,47],[108,48,109,49],[108,50,109,51],[108,52,109,53],[112,56,113,57],[112,44,113,45],[112,46,113,47],[110,4,113,20],[110,21,111,25],[110,26,111,27],[110,28,111,29],[110,30,111,31],[110,32,111,33],[110,34,111,35],[110,36,111,37],[112,36,113,37],[112,38,113,39],[112,40,113,41],[112,42,113,43],[110,50,111,51],[110,52,111,53],[110,54,111,55],[110,56,111,57],[112,21,113,25],[112,26,113,27],[112,28,113,29],[112,30,113,31],[112,32,113,33],[112,34,113,35],[110,38,111,39],[110,40,111,41],[110,42,111,43],[110,44,111,45],[110,46,111,47],[110,48,111,49],[112,48,113,49],[112,50,113,51],[112,52,113,53],[112,54,113,55],[114,56,115,57],[116,21,117,25],[116,26,117,27],[116,28,117,29],[116,30,117,31],[116,32,117,33],[116,34,117,35],[116,36,117,37],[116,38,117,39],[116,40,117,41],[114,44,115,45],[114,46,115,47],[114,48,115,49],[114,50,115,51],[114,52,115,53],[114,54,115,55],[114,32,115,33],[114,34,115,35],[114,36,115,37],[114,38,115,39],[114,40,115,41],[114,42,115,43],[116,56,117,57],[118,4,121,20],[118,21,119,25],[118,26,119,27],[118,28,119,29],[118,30,119,31],[118,32,119,33],[118,34,119,35],[118,36,119,37],[116,42,117,43],[120,21,121,25],[120,26,121,27],[120,28,121,29],[120,30,121,31],[120,32,121,33],[120,34,121,35],[118,38,119,39],[118,40,119,41],[118,42,119,43],[114,4,117,20],[114,21,115,25],[114,26,115,27],[114,28,115,29],[114,30,115,31],[116,44,117,45],[116,46,117,47],[116,48,117,49],[116,50,117,51],[116,52,117,53],[118,50,119,51],[118,52,119,53],[118,54,119,55],[116,54,117,55],[120,36,121,37],[120,38,121,39],[120,40,121,41],[120,42,121,43],[118,56,119,57],[118,44,119,45],[118,46,119,47],[118,48,119,49],[120,48,121,49],[120,50,121,51],[120,52,121,53],[120,54,121,55],[120,56,121,57],[120,44,121,45],[120,46,121,47],[122,56,123,57],[124,21,125,25],[124,26,125,27],[124,28,125,29],[124,30,125,31],[124,32,125,33],[124,34,125,35],[124,36,125,37],[124,38,125,39],[124,40,125,41],[122,44,123,45],[122,46,123,47],[122,48,123,49],[122,50,123,51],[122,52,123,53],[122,54,123,55],[122,32,123,33],[122,34,123,35],[122,36,123,37],[122,38,123,39],[122,40,123,41],[122,42,123,43],[124,54,125,55],[124,56,125,57],[132,21,133,25],[132,26,133,27],[132,28,133,29],[132,30,133,31],[132,32,133,33],[132,34,133,35],[130,38,131,39],[130,40,131,41],[130,42,131,43],[122,4,125,20],[122,21,123,25],[122,26,123,27],[122,28,123,29],[122,30,123,31],[128,21,129,25],[124,44,125,45],[124,46,125,47],[124,48,125,49],[124,42,125,43],[124,50,125,51],[124,52,125,53],[130,50,131,51],[130,52,131,53],[130,54,131,55],[130,56,131,57],[130,44,131,45],[130,46,131,47],[130,48,131,49],[126,54,127,55],[126,56,127,57],[128,44,129,45],[128,46,129,47],[128,48,129,49],[128,50,129,51],[128,52,129,53],[128,54,129,55],[128,56,129,57],[132,54,133,55],[132,56,133,57],[134,4,137,20],[134,21,135,25],[134,26,135,27],[134,28,135,29],[134,30,135,31],[132,36,133,37],[132,38,133,39],[132,40,133,41],[132,42,133,43],[132,44,133,45],[132,46,133,47],[134,56,135,57],[136,21,137,25],[136,26,137,27],[136,28,137,29],[136,30,137,31],[136,32,137,33],[136,34,137,35],[136,36,137,37],[134,44,135,45],[134,46,135,47],[134,48,135,49],[134,50,135,51],[134,52,135,53],[134,54,135,55],[134,32,135,33],[134,34,135,35],[134,36,135,37],[134,38,135,39],[134,40,135,41],[134,42,135,43],[146,22,147,23],[148,22,149,23],[150,22,151,23],[136,54,137,55],[136,56,137,57],[142,22,143,23],[144,22,145,23],[136,42,137,43],[136,44,137,45],[136,46,137,47],[136,48,137,49],[136,50,137,51],[136,52,137,53],[136,38,137,39],[136,40,137,41],[27,40,28,41],[27,42,28,43],[27,44,28,45],[27,46,28,47],[27,48,28,49],[27,50,28,51],[27,52,28,53],[27,54,28,55],[27,56,28,57],[29,21,30,25],[29,26,30,27],[29,28,30,29],[29,30,30,31],[29,32,30,33],[29,34,30,35],[29,36,30,37],[29,38,30,39],[27,4,30,20],[27,21,28,25],[27,26,28,27],[27,28,28,29],[27,30,28,31],[27,32,28,33],[27,34,28,35],[27,36,28,37],[27,38,28,39],[29,40,30,41],[29,42,30,43],[29,44,30,45],[29,46,30,47],[29,48,30,49],[29,50,30,51],[29,52,30,53],[29,54,30,55],[29,56,30,57],[31,4,32,20],[31,21,32,25],[31,26,32,27],[31,28,32,29],[31,30,32,31],[31,32,32,33],[31,34,32,35],[31,36,32,37],[31,38,32,39],[31,40,32,41],[31,42,32,43],[31,44,32,45],[31,46,32,47],[31,48,32,49],[31,50,32,51],[31,52,32,53],[31,54,32,55],[31,56,32,57]]}
[null,"Capacity Analysis for Planning of Junctions\nCapacity Analysis for Planning of Junctions"]
[]
[null,"Input Worksheet 2"]
[]
[]
[]
[]
[null,null,null,null,"Project Name:",null,null,null,null,null,null,null,"Defaults for No Lanes Inputs"]
[]
[null,null,null,null,"Project Number:",null,null,null,null,null,null,null,"--"]
[]
[null,null,null,null,"Location",null,null,null,null,null,null,null,"--"]
[]
[null,null,null,null,"Date",null,null,null,null,null,null,null,"--"]
[]
[]
[]
[null,null,null,null,"Number of Lanes for Non-roundabout Intersections"]
[]
[null,null,null,null,"TYPE OF INTERSECTION",null,null,null,null,null,null,null,null,null,null,null,null,null,null,null,null,"Sheet",null,null,null,null,"Northbound",null,null,null,null,null,null,null,"Southbound",null,null,null,null,null,null,null,"Eastbound",null,null,null,null,null,null,null,"Westbound"]
[]
[null,null,null,null,null,null,null,null,null,null,null,null,null,null,null,null,null,null,null,null,null,null,null,null,null,null,"U",null,"L",null,"T",null,"R",null,"U",null,"L",null,"T",null,"R",null,"U",null,"L",null,"T",null,"R",null,"U",null,"L",null,"T",null,"R"]
[]
[null,null,null,null,"Traffic Signal",null,null,null,null,null,null,null,null,null,null,null,null,null,null,null,null,"FULL",null,null,null,null,null,null,1,null,2,null,1,null,null,null,1,null,2,null,1,null,null,null,1,null,2,null,1,null,null,null,1,null,2,null,1]
[]
[null,null,null,null,"Conventional Shared RT LN",null,null,null,null,null,null,null,null,null,null,null,null,null,null,null,null,"CSRL",null,null,null,null,null,null,1,null,2,null,null,null,null,null,1,null,2,null,null,null,null,null,1,null,2,null,null,null,null,null,1,null,2]
[]
[null,null,null,null,"Two-Way Stop Control",null,null,null,null,null,null,null,null,null,null,null,null,null,null,null,null,"FULL",null,null,null,null,null,null,1,null,2,null,1,null,null,null,1,null,2,null,1,null,null,null,1,null,1,null,0,null,null,null,1,null,1,null,0]
[]
[null,null,null,null,null,null,null,null,null,null,null,null,null,null,null,null,null,null,null,null,null,"N-S",null,null,null,null,null,null,1,null,1,null,0,null,null,null,1,null,1,null,0,null,null,null,1,null,2,null,1,null,null,null,1,null,2,null,1]
[]
[null,null,null,null,"All-Way Stop Control",null,null,null,null,null,null,null,null,null,null,null,null,null,null,null,null,"E-W",null,null,null,null,null,null,1,null,2,null,1,null,null,null,1,null,2,null,1,null,null,null,1,null,2,null,1,null,null,null,1,null,2,null,1]
[]
[null,null,null,null,"Continuous Green T",null,null,null,null,null,null,null,null,null,null,null,null,null,null,null,null,"W",null,null,null,null,null,null,1,null,2,null,null,null,null,null,null,null,2,null,1,null,null,null,1,null,null,null,1]
[]
[null,null,null,null,null,null,null,null,null,null,null,null,null,null,null,null,null,null,null,null,null,"N",null,null,null,null,null,null,null,null,null,null,null,null,null,null,1,null,null,null,1,null,null,null,1,null,2,null,null,null,null,null,null,null,2,null,1]
[]
[null,null,null,null,null,null,null,null,null,null,null,null,null,null,null,null,null,null,null,null,null,"E",null,null,null,null,null,null,null,null,2,null,1,null,null,null,1,null,2,null,null,null,null,null,null,null,null,null,null,null,null,null,1,null,null,null,1]
[]
[null,null,null,null,null,null,null,null,null,null,null,null,null,null,null,null,null,null,null,null,null,"S",null,null,null,null,null,null,1,null,null,null,1,null,null,null,null,null,null,null,null,null,null,null,null,null,2,null,1,null,null,null,1,null,2]
[]
[null,null,null,null,"Quadrant Roadway",null,null,null,null,null,null,null,null,null,null,null,null,null,null,null,null,"S-W",null,null,null,null,"Use the respective intersection tab(s) to specify the # of lanes inputs."]
[]
[null,null,null,null,null,null,null,null,null,null,null,null,null,null,null,null,null,null,null,null,null,"N-E"]
[]
[null,null,null,null,null,null,null,null,null,null,null,null,null,null,null,null,null,null,null,null,null,"S-E"]
[]
[null,null,null,null,null,null,null,null,null,null,null,null,null,null,null,null,null,null,null,null,null,"N-W"]
[]
[null,null,null,null,"Partial Displaced Left Turn",null,null,null,null,null,null,null,null,null,null,null,null,null,null,null,null,"N-S",null,null,null,null,null,null,1,null,2,null,1,null,null,null,1,null,2,null,1,null,null,null,1,null,2,null,1,null,null,null,1,null,2,null,1]
[]
[null,null,null,null,null,null,null,null,null,null,null,null,null,null,null,null,null,null,null,null,null,"E-W",null,null,null,null,null,null,1,null,2,null,1,null,null,null,1,null,2,null,1,null,null,null,1,null,2,null,1,null,null,null,1,null,2,null,1]
[]
[null,null,null,null,"Displaced Left Turn",null,null,null,null,null,null,null,null,null,null,null,null,null,null,null,null,"FULL",null,null,null,null,null,null,1,null,2,null,1,null,null,null,1,null,2,null,1,null,null,null,1,null,2,null,1,null,null,null,1,null,2,null,1]
[]
[null,null,null,null,"Signalized Restricted Crossing U-Turn",null,null,null,null,null,null,null,null,null,null,null,null,null,null,null,null,"N-S",null,null,null,null,1,null,1,null,2,null,1,null,1,null,1,null,2,null,1,null,null,null,null,null,null,null,1,null,null,null,null,null,null,null,1]
[]
[null,null,null,null,null,null,null,null,null,null,null,null,null,null,null,null,null,null,null,null,null,"E-W",null,null,null,null,null,null,null,null,null,null,1,null,null,null,null,null,null,null,1,null,1,null,1,null,2,null,1,null,1,null,1,null,2,null,1]
[]
[null,null,null,null,"Unsignalized Restricted Crossing U-Turn",null,null,null,null,null,null,null,null,null,null,null,null,null,null,null,null,"N-S",null,null,null,null,1,null,1,null,2,null,1,null,1,null,1,null,2,null,1,null,null,null,null,null,null,null,1,null,null,null,null,null,null,null,1]
[]
[null,null,null,null,null,null,null,null,null,null,null,null,null,null,null,null,null,null,null,null,null,"E-W",null,null,null,null,null,null,null,null,null,null,1,null,null,null,null,null,null,null,1,null,1,null,1,null,2,null,1,null,1,null,1,null,2,null,1]
[]
[null,null,null,null,"Median U-Turn",null,null,null,null,null,null,null,null,null,null,null,null,null,null,null,null,"N-S",null,null,null,null,1,null,null,null,2,null,1,null,1,null,null,null,2,null,1,null,null,null,null,null,2,null,1,null,null,null,null,null,2,null,1]
[]
[null,null,null,null,null,null,null,null,null,null,null,null,null,null,null,null,null,null,null,null,null,"E-W",null,null,null,null,null,null,null,null,2,null,1,null,null,null,null,null,2,null,1,null,1,null,null,null,2,null,1,null,1,null,null,null,2,null,1]
[]
[null,null,null,null,"Partial Median U-Turn",null,null,null,null,null,null,null,null,null,null,null,null,null,null,null,null,"N-S",null,null,null,null,1,null,null,null,2,null,1,null,1,null,null,null,2,null,1,null,null,null,1,null,2,null,1,null,null,null,1,null,2,null,1]
[]
[null,null,null,null,null,null,null,null,null,null,null,null,null,null,null,null,null,null,null,null,null,"E-W",null,null,null,null,null,null,1,null,2,null,1,null,null,null,1,null,2,null,1,null,1,null,null,null,2,null,1,null,1,null,null,null,2,null,1]
[]
[null,null,null,null,"Bowtie",null,null,null,null,null,null,null,null,null,null,null,null,null,null,null,null,"N-S",null,null,null,null,null,null,null,null,1,null,1,null,null,null,null,null,1,null,1,null,null,null,null,null,1,null,1,null,null,null,null,null,1,null,1]
[]
[null,null,null,null,null,null,null,null,null,null,null,null,null,null,null,null,null,null,null,null,null,"E-W",null,null,null,null,null,null,null,null,1,null,1,null,null,null,null,null,1,null,1,null,null,null,null,null,1,null,1,null,null,null,null,null,1,null,1]
[]
[null,null,null,null,"Split Intersection",null,null,null,null,null,null,null,null,null,null,null,null,null,null,null,null,"N-S",null,null,null,null,"Use the respective intersection tab(s) to specify the # of lanes inputs."]
[]
[null,null,null,null,null,null,null,null,null,null,null,null,null,null,null,null,null,null,null,null,null,"E-W"]
[]
[]
[null,null,null,null,"For shared lanes, enter \"0\" in L or R "]
[null,null,null,null,"For AWSC enter number of approach lanes (1 or 2) for each approach."]
[null,"Capacity Analysis for Planning of Junctions\n\nCapacity Analysis for Planning of Junctions"]
[]
[null,"Input Worksheet 2"]
[]
[]
[]
[null,null,null,null,"Number of Lanes for Grade Seperated Intersections"]
[]
[null,null,null,null,"TYPE OF INTERSECTION",null,null,null,null,null,null,null,null,null,null,null,null,null,null,null,null,"Sheet",null,null,null,null,"Northbound",null,null,null,null,null,null,null,"Southbound",null,null,null,null,null,null,null,"Eastbound",null,null,null,null,null,null,null,"Westbound"]
[]
[null,null,null,null,null,null,null,null,null,null,null,null,null,null,null,null,null,null,null,null,null,null,null,null,null,null,"U",null,"L",null,"T",null,"R",null,"U",null,"L",null,"T",null,"R",null,"U",null,"L",null,"T",null,"R",null,"U",null,"L",null,"T",null,"R"]
[]
[null,null,null,null,"Echelon",null,null,null,null,null,null,null,null,null,null,null,null,null,null,null,null,"N-S",null,null,null,null,null,null,1,null,2,null,1,null,null,null,1,null,2,null,1,null,null,null,1,null,2,null,1,null,null,null,1,null,2,null,1]
[]
[null,null,null,null,null,null,null,null,null,null,null,null,null,null,null,null,null,null,null,null,null,"E-W",null,null,null,null,null,null,1,null,2,null,1,null,null,null,1,null,2,null,1,null,null,null,1,null,2,null,1,null,null,null,1,null,2,null,1]
[]
[null,null,null,null,"Center Turn Overpass",null,null,null,null,null,null,null,null,null,null,null,null,null,null,null,null,"Full",null,null,null,null,null,null,1,null,2,null,1,null,null,null,1,null,2,null,1,null,null,null,1,null,2,null,1,null,null,null,1,null,2,null,1]
[]
[null,null,null,null,null,null,null,null,null,null,null,null,null,null,null,null,null,null,null,null,null,"E-W"]
[]
[]
[]
[null,null,null,null,"Number of Lanes for Interchanges"]
[]
[null,null,null,null,"TYPE OF INTERCHANGE",null,null,null,null,null,null,null,null,null,null,null,null,null,null,null,null,"Sheet",null,null,null,null,"Northbound",null,null,null,null,null,null,null,"Southbound",null,null,null,null,null,null,null,"Eastbound",null,null,null,null,null,null,null,"Westbound"]
[]
[null,null,null,null,null,null,null,null,null,null,null,null,null,null,null,null,null,null,null,null,null,null,null,null,null,null,"U",null,"L",null,"T",null,"R",null,"U",null,"L",null,"T",null,"R",null,"U",null,"L",null,"T",null,"R",null,"U",null,"L",null,"T",null,"R"]
[]
[null,null,null,null,"Diamond",null,null,null,null,null,null,null,null,null,null,null,null,null,null,null,null,"N-S",null,null,null,null,null,null,1,null,2,null,1,null,null,null,1,null,2,null,1,null,null,null,1,null,2,null,1,null,null,null,1,null,2,null,1]
[]
[null,null,null,null,null,null,null,null,null,null,null,null,null,null,null,null,null,null,null,null,null,"E-W",null,null,null,null,null,null,1,null,2,null,1,null,null,null,1,null,2,null,1,null,null,null,1,null,2,null,1,null,null,null,1,null,2,null,1]
[]
[null,null,null,null,"Partial Cloverleaf A",null,null,null,null,null,null,null,null,null,null,null,null,null,null,null,null,"N-S",null,null,null,null,null,null,null,null,2,null,null,null,null,null,null,null,2,null,null,null,null,null,1,null,null,null,1,null,null,null,1,null,null,null,1]
[]
[null,null,null,null,null,null,null,null,null,null,null,null,null,null,null,null,null,null,null,null,null,"E-W",null,null,null,null,null,null,1,null,null,null,1,null,null,null,1,null,null,null,1,null,null,null,null,null,2,null,null,null,null,null,null,null,2]
[]
[null,null,null,null,"Partial Cloverleaf B",null,null,null,null,null,null,null,null,null,null,null,null,null,null,null,null,"N-S",null,null,null,null,null,null,1,null,2,null,1,null,null,null,1,null,2,null,1,null,null,null,1,null,null,null,1,null,null,null,1,null,null,null,1]
[]
[null,null,null,null,null,null,null,null,null,null,null,null,null,null,null,null,null,null,null,null,null,"E-W",null,null,null,null,null,null,1,null,null,null,1,null,null,null,1,null,null,null,1,null,null,null,1,null,2,null,1,null,null,null,1,null,2,null,1]
[]
[null,null,null,null,"Displaced Left Turn",null,null,null,null,null,null,null,null,null,null,null,null,null,null,null,null,"N-S",null,null,null,null,null,null,1,null,2,null,1,null,null,null,1,null,2,null,1,null,null,null,1,null,2,null,1,null,null,null,1,null,2,null,1]
[]
[null,null,null,null,null,null,null,null,null,null,null,null,null,null,null,null,null,null,null,null,null,"E-W",null,null,null,null,null,null,1,null,2,null,1,null,null,null,1,null,2,null,1,null,null,null,1,null,2,null,1,null,null,null,1,null,2,null,1]
[]
[null,null,null,null,"Contraflow Left Interchange",null,null,null,null,null,null,null,null,null,null,null,null,null,null,null,null,"N-S",null,null,null,null,null,null,1,null,2,null,1,null,null,null,1,null,2,null,1,null,null,null,1,null,null,null,1,null,null,null,1,null,null,null,1]
[]
[null,null,null,null,null,null,null,null,null,null,null,null,null,null,null,null,null,null,null,null,null,"E-W",null,null,null,null,null,null,1,null,null,null,1,null,null,null,1,null,null,null,1,null,null,null,1,null,2,null,1,null,null,null,1,null,2,null,1]
[]
[null,null,null,null,"Diverging Diamond Interchange",null,null,null,null,null,null,null,null,null,null,null,null,null,null,null,null,"N-S",null,null,null,null,null,null,1,null,2,null,1,null,null,null,1,null,2,null,1,null,null,null,1,null,null,null,1,null,null,null,1,null,null,null,1]
[]
[null,null,null,null,null,null,null,null,null,null,null,null,null,null,null,null,null,null,null,null,null,"E-W",null,null,null,null,null,null,1,null,null,null,1,null,null,null,1,null,null,null,1,null,null,null,1,null,2,null,1,null,null,null,1,null,2,null,1]
[]
[null,null,null,null,"Single Point ",null,null,null,null,null,null,null,null,null,null,null,null,null,null,null,null,"N-S",null,null,null,null,null,null,1,null,2,null,1,null,null,null,1,null,2,null,1,null,null,null,1,null,2,null,1,null,null,null,1,null,2,null,1]
[]
[null,null,null,null,null,null,null,null,null,null,null,null,null,null,null,null,null,null,null,null,null,"E-W",null,null,null,null,null,null,1,null,2,null,1,null,null,null,1,null,2,null,1,null,null,null,1,null,2,null,1,null,null,null,1,null,2,null,1]
[]
[null,null,null,null,"Single Point with Roundabout",null,null,null,null,null,null,null,null,null,null,null,null,null,null,null,null,"N-S",null,null,null,null,"Use the respective intersection tab(s) to specify the # of lanes inputs."]
[]
[null,null,null,null,null,null,null,null,null,null,null,null,null,null,null,null,null,null,null,null,null,"E-W"]

{"sheet":"3 - Alt Num Lanes Input","index":6,"n_rows":141,"n_cols":119,"rows_kept":141,"cut":false,"hidden":false,"merged":[[98,66,99,82],[138,26,141,57],[90,66,93,82],[90,83,93,87],[90,88,91,95],[90,96,91,103],[90,104,91,111],[90,112,91,119],[92,88,93,89],[92,90,93,91],[92,92,93,93],[92,94,93,95],[92,96,93,97],[92,98,93,99],[92,100,93,101],[92,102,93,103],[92,104,93,105],[92,106,93,107],[92,108,93,109],[92,110,93,111],[92,112,93,113],[92,114,93,115],[92,116,93,117],[92,118,93,119],[128,32,129,33],[128,34,129,35],[128,36,129,37],[128,38,129,39],[128,40,129,41],[128,42,129,43],[128,44,129,45],[96,106,97,107],[82,1,83,60],[84,1,85,60],[88,4,89,57],[90,4,93,20],[90,21,93,25],[90,26,91,33],[90,34,91,41],[90,42,91,49],[90,50,91,57],[92,26,93,27],[92,28,93,29],[92,30,93,31],[92,32,93,33],[92,34,93,35],[92,36,93,37],[128,26,129,27],[128,28,129,29],[128,30,129,31],[100,54,101,55],[100,56,101,57],[98,21,99,25],[98,26,99,27],[98,28,99,29],[98,30,99,31],[98,32,99,33],[98,42,99,43],[98,4,99,20],[98,44,99,45],[98,46,99,47],[98,48,99,49],[98,50,99,51],[98,52,99,53],[138,4,141,20],[138,21,139,25],[140,21,141,25],[100,100,101,101],[100,102,101,103],[100,104,101,105],[100,106,101,107],[100,108,101,109],[100,110,101,111],[100,112,101,113],[100,114,101,115],[100,116,101,117],[100,118,101,119],[126,4,129,20],[126,21,127,25],[126,26,127,27],[126,28,127,29],[126,30,127,31],[126,32,127,33],[126,34,127,35],[126,36,127,37],[126,38,127,39],[126,40,127,41],[126,42,127,43],[126,44,127,45],[126,46,127,47],[126,48,127,49],[126,50,127,51],[126,52,127,53],[126,54,127,55],[126,56,127,57],[128,21,129,25],[96,108,97,109],[96,110,97,111],[96,112,97,113],[96,114,97,115],[96,116,97,117],[96,118,97,119],[98,83,99,87],[98,88,99,89],[98,90,99,91],[98,92,99,93],[98,94,99,95],[98,96,99,97],[98,98,99,99],[98,100,99,101],[98,102,99,103],[98,104,99,105],[98,106,99,107],[98,108,99,109],[98,110,99,111],[98,112,99,113],[98,114,99,115],[98,116,99,117],[98,118,99,119],[96,92,97,93],[96,94,97,95],[96,96,97,97],[96,98,97,99],[96,100,97,101],[96,102,97,103],[96,104,97,105],[100,83,101,87],[100,88,101,89],[100,90,101,91],[100,92,101,93],[100,94,101,95],[100,96,101,97],[100,98,101,99],[77,112,78,113],[77,114,78,115],[77,116,78,117],[77,118,78,119],[94,66,97,82],[94,83,95,87],[94,88,95,89],[94,90,95,91],[94,92,95,93],[94,94,95,95],[94,96,95,97],[94,98,95,99],[94,100,95,101],[94,102,95,103],[94,104,95,105],[94,106,95,107],[94,108,95,109],[94,110,95,111],[94,112,95,113],[94,114,95,115],[94,116,95,117],[94,118,95,119],[96,83,97,87],[96,88,97,89],[96,90,97,91],[73,118,74,119],[75,66,78,82],[75,83,76,87],[75,88,76,89],[75,90,76,91],[75,92,76,93],[75,94,76,95],[75,96,76,97],[75,98,76,99],[75,100,76,101],[75,102,76,103],[75,104,76,105],[75,106,76,107],[75,108,76,109],[75,110,76,111],[75,112,76,113],[75,114,76,115],[75,116,76,117],[75,118,76,119],[77,83,78,87],[77,88,78,89],[77,90,78,91],[77,92,78,93],[77,94,78,95],[77,96,78,97],[77,98,78,99],[77,100,78,101],[77,102,78,103],[77,104,78,105],[77,106,78,107],[77,108,78,109],[77,110,78,111],[71,88,72,89],[71,90,72,91],[71,92,72,93],[71,94,72,95],[71,96,72,97],[71,98,72,99],[71,100,72,101],[71,102,72,103],[71,104,72,105],[71,106,72,107],[71,108,72,109],[71,110,72,111],[71,112,72,113],[71,114,72,115],[71,116,72,117],[71,118,72,119],[73,83,74,87],[73,88,74,89],[73,90,74,91],[73,92,74,93],[73,94,74,95],[73,96,74,97],[73,98,74,99],[73,100,74,101],[73,102,74,103],[73,104,74,105],[73,106,74,107],[73,108,74,109],[73,110,74,111],[73,112,74,113],[73,114,74,115],[73,116,74,117],[71,66,74,82],[71,83,72,87],[96,34,97,35],[96,36,97,37],[96,38,97,39],[96,40,97,41],[96,42,97,43],[96,44,97,45],[96,46,97,47],[96,48,97,49],[96,50,97,51],[96,52,97,53],[96,54,97,55],[96,56,97,57],[98,56,99,57],[92,38,93,39],[92,40,93,41],[92,42,93,43],[92,44,93,45],[92,46,93,47],[92,48,93,49],[92,50,93,51],[92,52,93,53],[92,54,93,55],[92,56,93,57],[82,63,83,122],[84,63,85,122],[88,66,89,119],[98,34,99,35],[98,36,99,37],[98,38,99,39],[98,40,99,41],[98,54,99,55],[100,21,101,25],[100,26,101,27],[100,28,101,29],[100,30,101,31],[100,32,101,33],[100,34,101,35],[100,36,101,37],[100,38,101,39],[100,40,101,41],[100,42,101,43],[100,44,101,45],[100,46,101,47],[100,48,101,49],[100,50,101,51],[100,52,101,53],[94,4,97,20],[94,21,95,25],[94,26,95,27],[94,28,95,29],[94,30,95,31],[94,32,95,33],[94,34,95,35],[94,36,95,37],[94,38,95,39],[94,40,95,41],[94,42,95,43],[94,44,95,45],[94,46,95,47],[94,48,95,49],[94,50,95,51],[94,52,95,53],[94,54,95,55],[94,56,95,57],[96,21,97,25],[96,26,97,27],[96,28,97,29],[96,30,97,31],[96,32,97,33],[75,26,78,57],[73,56,74,57],[75,4,78,20],[75,21,76,25],[77,21,78,25],[71,21,72,25],[71,26,72,27],[71,28,72,29],[71,30,72,31],[71,32,72,33],[71,34,72,35],[71,36,72,37],[71,38,72,39],[71,40,72,41],[71,42,72,43],[71,44,72,45],[71,46,72,47],[71,48,72,49],[71,50,72,51],[71,4,74,20],[71,52,72,53],[71,54,72,55],[73,46,74,47],[73,48,74,49],[73,50,74,51],[73,52,74,53],[73,54,74,55],[71,56,72,57],[73,21,74,25],[73,26,74,27],[73,28,74,29],[73,30,74,31],[73,32,74,33],[73,34,74,35],[73,36,74,37],[73,38,74,39],[73,40,74,41],[73,42,74,43],[73,44,74,45],[59,114,60,115],[59,116,60,117],[59,118,60,119],[61,83,62,87],[61,88,62,89],[61,90,62,91],[61,92,62,93],[61,94,62,95],[61,96,62,97],[61,98,62,99],[61,100,62,101],[61,102,62,103],[61,104,62,105],[61,106,62,107],[61,108,62,109],[61,110,62,111],[61,112,62,113],[61,114,62,115],[61,116,62,117],[61,118,62,119],[61,54,62,55],[61,56,62,57],[59,66,62,82],[59,83,60,87],[59,88,60,89],[59,90,60,91],[59,92,60,93],[59,94,60,95],[59,96,60,97],[59,98,60,99],[59,100,60,101],[59,102,60,103],[59,104,60,105],[59,106,60,107],[59,108,60,109],[59,110,60,111],[59,112,60,113],[67,112,68,113],[67,114,68,115],[67,116,68,117],[67,118,68,119],[69,102,70,103],[69,104,70,105],[69,106,70,107],[69,108,70,109],[69,110,70,111],[69,112,70,113],[69,114,70,115],[69,116,70,117],[69,118,70,119],[59,4,62,20],[59,21,60,25],[59,26,60,27],[59,28,60,29],[59,30,60,31],[59,32,60,33],[59,34,60,35],[59,36,60,37],[59,38,60,39],[59,40,60,41],[59,42,60,43],[59,44,60,45],[59,46,60,47],[59,48,60,49],[59,50,60,51],[59,52,60,53],[59,54,60,55],[59,56,60,57],[61,21,62,25],[63,118,64,119],[65,102,66,103],[65,104,66,105],[65,106,66,107],[65,108,66,109],[65,110,66,111],[65,112,66,113],[65,114,66,115],[65,116,66,117],[65,118,66,119],[67,66,70,82],[67,83,68,87],[67,88,68,89],[67,90,68,91],[67,92,68,93],[67,94,68,95],[67,96,68,97],[67,98,68,99],[67,100,68,101],[69,83,70,87],[69,88,70,89],[69,90,70,91],[69,92,70,93],[69,94,70,95],[69,96,70,97],[69,98,70,99],[69,100,70,101],[67,102,68,103],[67,104,68,105],[67,106,68,107],[67,108,68,109],[67,110,68,111],[57,106,58,107],[57,108,58,109],[57,110,58,111],[57,112,58,113],[57,114,58,115],[57,116,58,117],[57,118,58,119],[63,66,66,82],[63,83,64,87],[63,88,64,89],[63,90,64,91],[63,92,64,93],[63,94,64,95],[63,96,64,97],[63,98,64,99],[63,100,64,101],[65,83,66,87],[65,88,66,89],[65,90,66,91],[65,92,66,93],[65,94,66,95],[65,96,66,97],[65,98,66,99],[65,100,66,101],[63,102,64,103],[63,104,64,105],[63,106,64,107],[63,108,64,109],[63,110,64,111],[63,112,64,113],[63,114,64,115],[63,116,64,117],[53,118,54,119],[51,96,52,97],[51,98,52,99],[51,100,52,101],[55,66,58,82],[55,83,56,87],[55,88,56,89],[55,90,56,91],[55,92,56,93],[55,94,56,95],[55,96,56,97],[55,98,56,99],[55,100,56,101],[57,83,58,87],[57,88,58,89],[57,90,58,91],[57,92,58,93],[57,94,58,95],[57,96,58,97],[57,98,58,99],[57,100,58,101],[55,102,56,103],[55,104,56,105],[55,106,56,107],[55,108,56,109],[55,110,56,111],[55,112,56,113],[55,114,56,115],[55,116,56,117],[55,118,56,119],[57,102,58,103],[57,104,58,105],[53,66,54,82],[53,83,54,87],[53,88,54,89],[53,90,54,91],[53,92,54,93],[53,94,54,95],[53,96,54,97],[53,98,54,99],[53,100,54,101],[53,102,54,103],[53,104,54,105],[53,106,54,107],[53,108,54,109],[53,110,54,111],[53,112,54,113],[53,114,54,115],[53,116,54,117],[49,66,52,82],[49,83,50,87],[49,88,50,89],[49,90,50,91],[49,92,50,93],[49,94,50,95],[49,96,50,97],[49,98,50,99],[49,100,50,101],[49,102,50,103],[49,104,50,105],[49,106,50,107],[49,108,50,109],[49,110,50,111],[49,112,50,113],[49,114,50,115],[49,116,50,117],[51,114,52,115],[51,116,52,117],[49,118,50,119],[51,83,52,87],[51,88,52,89],[51,90,52,91],[51,92,52,93],[51,94,52,95],[45,104,46,105],[45,106,46,107],[45,108,46,109],[45,110,46,111],[45,112,46,113],[45,114,46,115],[45,116,46,117],[45,118,46,119],[47,83,48,87],[47,88,48,89],[47,90,48,91],[47,92,48,93],[47,94,48,95],[47,96,48,97],[47,98,48,99],[47,100,48,101],[47,102,48,103],[47,104,48,105],[51,102,52,103],[51,104,52,105],[51,106,52,107],[51,108,52,109],[51,110,52,111],[51,112,52,113],[47,118,48,119],[51,118,52,119],[41,118,42,119],[43,83,44,87],[43,88,44,89],[43,90,44,91],[43,92,44,93],[43,94,44,95],[43,96,44,97],[43,98,44,99],[43,100,44,101],[43,102,44,103],[43,104,44,105],[43,106,44,107],[43,108,44,109],[43,110,44,111],[43,112,44,113],[43,114,44,115],[43,116,44,117],[43,118,44,119],[41,66,48,82],[41,83,42,87],[41,88,42,89],[41,90,42,91],[41,92,42,93],[41,94,42,95],[41,96,42,97],[41,98,42,99],[41,100,42,101],[41,102,42,103],[41,104,42,105],[41,106,42,107],[41,108,42,109],[41,110,42,111],[41,112,42,113],[41,114,42,115],[41,116,42,117],[47,106,48,107],[47,108,48,109],[47,110,48,111],[47,112,48,113],[47,114,48,115],[47,116,48,117],[45,83,46,87],[45,88,46,89],[45,90,46,91],[45,92,46,93],[45,94,46,95],[45,96,46,97],[45,98,46,99],[45,100,46,101],[45,102,46,103],[39,83,40,87],[39,88,40,89],[39,90,40,91],[39,92,40,93],[39,94,40,95],[39,96,40,97],[39,98,40,99],[39,100,40,101],[39,102,40,103],[39,104,40,105],[39,106,40,107],[39,108,40,109],[39,110,40,111],[39,112,40,113],[39,114,40,115],[39,116,40,117],[39,118,40,119],[37,83,38,87],[37,88,38,89],[37,90,38,91],[37,92,38,93],[37,94,38,95],[37,96,38,97],[37,98,38,99],[37,100,38,101],[37,102,38,103],[37,104,38,105],[37,106,38,107],[37,108,38,109],[37,110,38,111],[37,112,38,113],[37,114,38,115],[37,116,38,117],[37,118,38,119],[33,118,34,119],[35,83,36,87],[35,88,36,89],[35,90,36,91],[35,92,36,93],[35,94,36,95],[35,96,36,97],[35,98,36,99],[35,100,36,101],[35,102,36,103],[35,104,36,105],[35,106,36,107],[35,108,36,109],[35,110,36,111],[35,112,36,113],[35,114,36,115],[35,116,36,117],[35,118,36,119],[23,118,24,119],[25,66,26,82],[25,83,26,87],[25,88,26,89],[25,90,26,91],[25,92,26,95],[25,96,26,97],[25,98,26,99],[25,100,26,103],[25,104,26,105],[25,106,26,107],[25,108,26,111],[25,112,26,113],[25,114,26,115],[25,116,26,119],[33,66,40,82],[33,83,34,87],[33,88,34,89],[33,90,34,91],[33,92,34,93],[33,94,34,95],[33,96,34,97],[33,98,34,99],[33,100,34,101],[33,102,34,103],[33,104,34,105],[33,106,34,107],[33,108,34,109],[33,110,34,111],[33,112,34,113],[33,114,34,115],[33,116,34,117],[23,66,24,82],[23,83,24,87],[23,88,24,89],[23,90,24,91],[23,92,24,93],[23,94,24,95],[23,96,24,97],[23,98,24,99],[23,100,24,101],[23,102,24,103],[23,104,24,105],[23,106,24,107],[23,108,24,109],[23,110,24,111],[23,112,24,113],[23,114,24,115],[23,116,24,117],[19,66,22,82],[19,83,22,87],[19,88,20,95],[19,96,20,103],[19,104,20,111],[19,112,20,119],[21,88,22,89],[21,90,22,91],[21,92,22,93],[21,94,22,95],[21,96,22,97],[21,98,22,99],[21,100,22,101],[21,102,22,103],[21,104,22,105],[21,106,22,107],[21,108,22,109],[21,110,22,111],[21,112,22,113],[21,114,22,115],[21,116,22,117],[21,118,22,119],[11,4,12,11],[11,12,12,57],[13,4,14,11],[13,12,14,57],[17,4,18,57],[0,1,1,60],[2,1,3,60],[7,4,8,11],[7,12,8,57],[9,4,10,11],[9,12,10,57],[15,4,15,11],[15,12,15,57],[0,63,1,122],[2,63,3,122],[7,66,8,73],[7,74,8,119],[9,66,10,73],[9,74,10,119],[11,66,12,73],[11,74,12,119],[13,66,14,73],[13,74,14,119],[15,66,15,73],[15,74,15,119],[17,66,18,119],[37,50,38,51],[37,52,38,53],[23,26,24,27],[108,34,109,35],[108,36,109,37],[108,38,109,39],[108,40,109,41],[108,42,109,43],[108,44,109,45],[108,46,109,47],[108,48,109,49],[37,26,38,27],[37,28,38,29],[23,48,24,49],[33,28,34,29],[33,30,34,31],[33,32,34,33],[33,34,34,35],[33,36,34,37],[33,38,34,39],[25,42,26,43],[25,44,26,45],[61,26,62,27],[61,28,62,29],[61,30,62,31],[61,32,62,33],[61,34,62,35],[61,36,62,37],[25,28,26,29],[33,40,34,41],[33,42,34,43],[33,44,34,45],[19,4,22,20],[19,21,22,25],[21,44,22,45],[21,46,22,47],[21,48,22,49],[69,56,70,57],[69,42,70,43],[69,44,70,45],[69,46,70,47],[69,48,70,49],[67,46,68,47],[67,48,68,49],[67,50,68,51],[67,52,68,53],[65,48,66,49],[65,50,66,51],[65,52,66,53],[65,54,66,55],[63,50,64,51],[63,52,64,53],[63,54,64,55],[57,44,58,45],[57,46,58,47],[57,48,58,49],[37,54,38,55],[35,48,36,49],[35,50,36,51],[35,52,36,53],[35,54,36,55],[33,52,34,53],[33,54,34,55],[25,50,26,51],[21,50,22,51],[21,52,22,53],[21,54,22,55],[23,28,24,29],[23,30,24,31],[23,32,24,33],[23,34,24,35],[23,40,24,41],[23,42,24,43],[23,44,24,45],[23,46,24,47],[23,36,24,37],[23,38,24,39],[25,34,26,35],[25,36,26,37],[21,26,22,27],[21,28,22,29],[21,30,22,31],[21,32,22,33],[21,34,22,35],[21,36,22,37],[21,38,22,39],[21,40,22,41],[21,42,22,43],[25,52,26,53],[33,46,34,47],[35,42,36,43],[35,44,36,45],[35,46,36,47],[23,50,24,51],[23,52,24,53],[23,54,24,55],[27,48,28,49],[27,50,28,51],[27,52,28,53],[27,54,28,55],[29,48,30,49],[29,50,30,51],[29,52,30,53],[29,54,30,55],[31,48,32,49],[31,50,32,51],[31,52,32,53],[31,54,32,55],[33,48,34,49],[33,50,34,51],[27,42,28,43],[27,44,28,45],[27,46,28,47],[29,42,30,43],[29,44,30,45],[29,46,30,47],[37,42,38,43],[37,44,38,45],[37,46,38,47],[37,48,38,49],[37,30,38,31],[37,32,38,33],[37,34,38,35],[37,36,38,37],[37,38,38,39],[37,40,38,41],[35,36,36,37],[35,38,36,39],[35,40,36,41],[35,26,36,27],[35,28,36,29],[35,30,36,31],[35,32,36,33],[35,34,36,35],[39,50,40,51],[39,52,40,53],[39,54,40,55],[39,36,40,37],[39,38,40,39],[39,40,40,41],[39,42,40,43],[39,44,40,45],[39,46,40,47],[41,26,48,57],[49,26,50,27],[49,28,50,29],[49,30,50,31],[49,32,50,33],[49,48,50,49],[49,50,50,51],[49,52,50,53],[39,26,40,27],[39,28,40,29],[39,30,40,31],[39,32,40,33],[39,34,40,35],[39,48,40,49],[51,52,52,53],[51,54,52,55],[53,28,54,29],[53,30,54,31],[53,32,54,33],[53,34,54,35],[53,36,54,37],[53,50,54,51],[53,52,54,53],[53,54,54,55],[57,52,58,53],[57,54,58,55],[49,54,50,55],[51,28,52,29],[51,30,52,31],[51,32,52,33],[51,34,52,35],[51,36,52,37],[51,38,52,39],[51,40,52,41],[49,34,50,35],[49,36,50,37],[49,38,50,39],[49,40,50,41],[49,42,50,43],[49,44,50,45],[51,44,52,45],[51,46,52,47],[51,48,52,49],[51,50,52,51],[51,42,52,43],[49,46,50,47],[55,52,56,53],[61,38,62,39],[61,40,62,41],[61,42,62,43],[61,44,62,45],[61,46,62,47],[61,48,62,49],[55,26,56,27],[55,28,56,29],[55,30,56,31],[55,32,56,33],[57,21,58,25],[53,38,54,39],[53,40,54,41],[53,42,54,43],[53,44,54,45],[57,42,58,43],[53,46,54,47],[53,48,54,49],[61,50,62,51],[61,52,62,53],[57,28,58,29],[57,30,58,31],[57,32,58,33],[57,34,58,35],[57,36,58,37],[57,38,58,39],[57,40,58,41],[55,34,56,35],[55,36,56,37],[55,38,56,39],[55,40,56,41],[55,42,56,43],[55,44,56,45],[57,50,58,51],[55,46,56,47],[55,48,56,49],[55,50,56,51],[67,4,70,20],[67,21,68,25],[67,26,68,27],[67,28,68,29],[67,30,68,31],[67,32,68,33],[69,21,70,25],[65,36,66,37],[65,38,66,39]],"merged_total":1410,"flags":["merged_cut"]}
[null,"Capacity Analysis for Planning of Junctions",null,null,null,null,null,null,null,null,null,null,null,null,null,null,null,null,null,null,null,null,null,null,null,null,null,null,null,null,null,null,null,null,null,null,null,null,null,null,null,null,null,null,null,null,null,null,null,null,null,null,null,null,null,null,null,null,null,null,null,null,null,"Capacity Analysis for Planning of Junctions\nCapacity Analysis for Planning of Junctions"]
[]
[null,"Step 3",null,null,null,null,null,null,null,null,null,null,null,null,null,null,null,null,null,null,null,null,null,null,null,null,null,null,null,null,null,null,null,null,null,null,null,null,null,null,null,null,null,null,null,null,null,null,null,null,null,null,null,null,null,null,null,null,null,null,null,null,null,"Input Worksheet 2"]
[]
[]
[]
[]
[null,null,null,null,"Project Name:",null,null,null,null,null,null,null,{"$f":"'1 - Volume Input'!M8","v":"Cap-X Sample Street"},null,null,null,null,null,null,null,null,null,null,null,null,null,null,null,null,null,null,null,null,null,null,null,null,null,null,null,null,null,null,null,null,null,null,null,null,null,null,null,null,null,null,null,null,null,null,null,null,null,null,null,null,null,"Project Name:",null,null,null,null,null,null,null,{"$f":"M8","v":"Cap-X Sample Street"}]
[]
[null,null,null,null,"Project Number:",null,null,null,null,null,null,null,{"$f":"'1 - Volume Input'!M10","v":10000},null,null,null,null,null,null,null,null,null,null,null,null,null,null,null,null,null,null,null,null,null,null,null,null,null,null,null,null,null,null,null,null,null,null,null,null,null,null,null,null,null,null,null,null,null,null,null,null,null,null,null,null,null,"Project Number:",null,null,null,null,null,null,null,{"$f":"M10","v":10000}]
[]
[null,null,null,null,"Location:",null,null,null,null,null,null,null,{"$f":"'1 - Volume Input'!M12","v":"Anywhere, USA"},null,null,null,null,null,null,null,null,null,null,null,null,null,null,null,null,null,null,null,null,null,null,null,null,null,null,null,null,null,null,null,null,null,null,null,null,null,null,null,null,null,null,null,null,null,null,null,null,null,null,null,null,null,"Location:",null,null,null,null,null,null,null,{"$f":"M12","v":"Anywhere, USA"}]
[]
[null,null,null,null,"Date:",null,null,null,null,null,null,null,{"$f":"'1 - Volume Input'!M14","v":"2017 AM"},null,null,null,null,null,null,null,null,null,null,null,null,null,null,null,null,null,null,null,null,null,null,null,null,null,null,null,null,null,null,null,null,null,null,null,null,null,null,null,null,null,null,null,null,null,null,null,null,null,null,null,null,null,"Date:",null,null,null,null,null,null,null,{"$f":"M14","v":"2017 AM"}]
[]
[null,null,null,null,"Analysis Type:",null,null,null,null,null,null,null,"Intersections and Interchanges",null,null,null,null,null,null,null,null,null,null,null,null,null,null,null,null,null,null,null,null,null,null,null,null,null,null,null,null,null,null,null,null,null,null,null,null,null,null,null,null,null,null,null,null,null,null,"Intersections and Interchanges",1,null,null,null,null,null,"Analysis Type:",null,null,null,null,null,null,null,{"$f":"AnalysisType","v":"Intersections and Interchanges"}]
[null,null,null,null,null,null,null,null,null,null,null,null,null,null,null,null,null,null,null,null,null,null,null,null,null,null,null,null,null,null,null,null,null,null,null,null,null,null,null,null,null,null,null,null,null,null,null,null,null,null,null,null,null,null,null,null,null,null,null,"Intersections Only"]
[null,null,null,null,"Number of Lanes for Non-roundabout Intersections",null,null,null,null,null,null,null,null,null,null,null,null,null,null,null,null,null,null,null,null,null,null,null,null,null,null,null,null,null,null,null,null,null,null,null,null,null,null,null,null,null,null,null,null,null,null,null,null,null,null,null,null,null,null,null,null,null,null,null,null,null,"Volume Echo with Shared Lane Adjustment for Non-roundabout Intersections"]
[]
[null,null,null,null,"TYPE OF INTERSECTION",null,null,null,null,null,null,null,null,null,null,null,null,null,null,null,null,"Sheet",null,null,null,null,"Northbound",null,null,null,null,null,null,null,"Southbound",null,null,null,null,null,null,null,"Eastbound",null,null,null,null,null,null,null,"Westbound",null,null,null,null,null,null,null,null,null,null,null,null,null,null,null,"TYPE OF INTERSECTION",null,null,null,null,null,null,null,null,null,null,null,null,null,null,null,null,"Sheet",null,null,null,null,"Northbound",null,null,null,null,null,null,null,"Southbound",null,null,null,null,null,null,null,"Eastbound",null,null,null,null,null,null,null,"Westbound"]
[]
[null,null,null,null,null,null,null,null,null,null,null,null,null,null,null,null,null,null,null,null,null,null,null,null,null,null,"U",null,"L",null,"T",null,"R",null,"U",null,"L",null,"T",null,"R",null,"U",null,"L",null,"T",null,"R",null,"U",null,"L",null,"T",null,"R",null,null,null,null,null,null,null,null,null,null,null,null,null,null,null,null,null,null,null,null,null,null,null,null,null,null,null,null,null,null,null,"U",null,"L",null,"T",null,"R",null,"U",null,"L",null,"T",null,"R",null,"U",null,"L",null,"T",null,"R",null,"U",null,"L",null,"T",null,"R"]
[]
[null,null,null,null,"Traffic Signal",null,null,null,null,null,null,null,null,null,null,null,null,null,null,null,null,"FULL",null,null,null,null,null,null,1,null,1,null,1,null,null,null,1,null,1,null,1,null,null,null,1,null,1,null,1,null,null,null,1,null,1,null,1,null,null,null,null,null,null,null,null,null,{"$f":"'3 - Alt Num Lanes Input'!E24","v":"Traffic Signal"},null,null,null,null,null,null,null,null,null,null,null,null,null,null,null,null,"FULL",null,null,null,null,null,null,{"$f":"IF(AND(AC24=0,AE24=1,AG24=0),0,IF(AND(AC24=0,AE24=2,AG24=0),0,IF(AND(AC24=0,AE24=1,AG24=1),0,NBL_Master)))","v":102},null,{"$f":"NBT_Master + IF(AC24=0,NBL_Master,0) + IF(AG24=0,NBR_Master)","v":510},null,{"$f":"IF(AND(AC24=0,AE24=1,AG24=0),0,IF(AND(AC24=0,AE24=2,AG24=0),0,IF(AND(AC24=1,AE24=1,AG24=0),0,NBR_Master)))","v":204},null,null,null,{"$f":"IF(AND(AK24=0,AM24=1,AO24=0),0,IF(AND(AK24=0,AM24=2,AO24=0),0,IF(AND(AK24=0,AM24=1,AO24=1),0,SBL_Master)))","v":31},null,{"$f":"SBT_Master + IF(AK24=0,SBL_Master,0) + IF(AO24=0,SBR_Master)","v":204},null,{"$f":"IF(AND(AK24=0,AM24=1,AO24=0),0,IF(AND(AK24=0,AM24=2,AO24=0),0,IF(AND(AK24=1,AM24=1,AO24=0),0,SBR_Master)))","v":51},null,null,null,{"$f":"IF(AND(AS24=0,AU24=1,AW24=0),0,IF(AND(AS24=0,AU24=2,AW24=0),0,IF(AND(AS24=0,AU24=1,AW24=1),0,EBL_Master)))","v":31},null,{"$f":"EBT_Master + IF(AS24=0,EBL_Master,0) + IF(AW24=0,EBR_Master)","v":204},null,{"$f":"IF(AND(AS24=0,AU24=1,AW24=0),0,IF(AND(AS24=0,AU24=2,AW24=0),0,IF(AND(AS24=1,AU24=1,AW24=0),0,EBR_Master)))","v":51},null,null,null,{"$f":"IF(AND(BA24=0,BC24=1,BE24=0),0,IF(AND(BA24=0,BC24=2,BE24=0),0,IF(AND(BA24=0,BC24=1,BE24=1),0,WBL_Master)))","v":31},null,{"$f":"WBT_Master + IF(BA24=0,WBL_Master,0) + IF(BE24=0,WBR_Master)","v":204},null,{"$f":"IF(AND(BA24=0,BC24=1,BE24=0),0,IF(AND(BA24=0,BC24=2,BE24=0),0,IF(AND(BA24=1,BC24=1,BE24=0),0,WBR_Master)))","v":51}]
[]
[null,null,null,null,"Conventional Shared RT LN",null,null,null,null,null,null,null,null,null,null,null,null,null,null,null,null,"CSRL",null,null,null,null,null,null,1,null,2,null,null,null,null,null,1,null,2,null,null,null,null,null,1,null,2,null,null,null,null,null,1,null,2,null,null,null,null,null,null,null,null,null,null,null,"Conventional Shared RT LN",null,null,null,null,null,null,null,null,null,null,null,null,null,null,null,null,"CSRL",null,null,null,null,null,null,{"$f":"IF(AC26>0,NBL_Master,0)","v":102},null,{"$f":"NBT_Master + NBR_Master","v":714},null,null,null,null,null,{"$f":"IF(AK26>0,SBL_Master,0)","v":31},null,{"$f":"SBT_Master + SBR_Master","v":255},null,null,null,null,null,{"$f":"IF(AS26>0,EBL_Master,0)","v":31},null,{"$f":"EBT_Master + EBR_Master","v":255},null,null,null,null,null,{"$f":"IF(BA26>0,WBL_Master,0)","v":31},null,{"$f":"WBT_Master + WBR_Master","v":255}]
[]
[null,null,null,null,"Two-Way Stop Control",null,null,null,null,null,null,null,null,null,null,null,null,null,null,null,null,"N-S",null,null,null,null,null,null,1,null,1,null,1,null,null,null,1,null,1,null,1,null,null,null,1,null,1,null,1,null,null,null,1,null,1,null,1,null,null,null,null,null,null,null,null,null,{"$f":"E28","v":"Two-Way Stop Control"},null,null,null,null,null,null,null,null,null,null,null,null,null,null,null,null,"N-S",null,null,null,null,null,null,{"$f":"IF(AC28>0,NBL_Master,0)","v":102},null,{"$f":"NBT_Master + IF(AC28=0,NBL_Master,0) + IF(AG28=0,NBR_Master)","v":510},null,{"$f":"IF(AG28>0,NBR_Master,0)","v":204},null,null,null,{"$f":"IF(AK28>0,SBL_Master,0)","v":31},null,{"$f":"SBT_Master + IF(AK28=0,SBL_Master,0) + IF(AO28=0,SBR_Master)","v":204},null,{"$f":"IF(AO28>0,SBR_Master,0)","v":51},null,null,null,{"$f":"IF(AS28>0,EBL_Master,0)","v":31},null,{"$f":"EBT_Master + IF(AS28=0,EBL_Master,0) + IF(AW28=0,EBR_Master)","v":204},null,{"$f":"IF(AW28>0,EBR_Master,0)","v":51},null,null,null,{"$f":"IF(BA28>0,WBL_Master,0)","v":31},null,{"$f":"WBT_Master + IF(BA28=0,WBL_Master,0) + IF(BE28=0,WBR_Master)","v":204},null,{"$f":"IF(BE28>0,WBR_Master,0)","v":51}]
[]
[null,null,null,null,null,null,null,null,null,null,null,null,null,null,null,null,null,null,null,null,null,"E-W",null,null,null,null,null,null,1,null,1,null,1,null,null,null,1,null,1,null,1,null,null,null,1,null,1,null,1,null,null,null,1,null,1,null,1,null,null,null,null,null,null,null,null,null,null,null,null,null,null,null,null,null,null,null,null,null,null,null,null,null,null,"E-W",null,null,null,null,null,null,{"$f":"IF(AC30>0,NBL_Master,0)","v":102},null,{"$f":"NBT_Master + IF(AC30=0,NBL_Master,0) + IF(AG30=0,NBR_Master)","v":510},null,{"$f":"IF(AG30>0,NBR_Master,0)","v":204},null,null,null,{"$f":"IF(AK30>0,SBL_Master,0)","v":31},null,{"$f":"SBT_Master + IF(AK30=0,SBL_Master,0) + IF(AO30=0,SBR_Master)","v":204},null,{"$f":"IF(AO30>0,SBR_Master,0)","v":51},null,null,null,{"$f":"IF(AS30>0,EBL_Master,0)","v":31},null,{"$f":"EBT_Master + IF(AS30=0,EBL_Master,0) + IF(AW30=0,EBR_Master)","v":204},null,{"$f":"IF(AW30>0,EBR_Master,0)","v":51},null,null,null,{"$f":"IF(BA30>0,WBL_Master,0)","v":31},null,{"$f":"WBT_Master + IF(BA30=0,WBL_Master,0) + IF(BE30=0,WBR_Master)","v":204},null,{"$f":"IF(BE30>0,WBR_Master,0)","v":51}]
[]
[null,null,null,null,"All-Way Stop Control",null,null,null,null,null,null,null,null,null,null,null,null,null,null,null,null,"FULL",null,null,null,null,null,null,0,null,1,null,0,null,null,null,0,null,1,null,0,null,null,null,0,null,1,null,0,null,null,null,0,null,1,null,0,null,null,null,null,null,null,null,null,null,{"$f":"E32","v":"All-Way Stop Control"},null,null,null,null,null,null,null,null,null,null,null,null,null,null,null,null,"FULL",null,null,null,null,null,null,{"$f":"IF(AC32>0,NBL_Master,0)","v":0},null,{"$f":"NBT_Master + IF(AC32=0,NBL_Master,0) + IF(AG32=0,NBR_Master)","v":816},null,{"$f":"IF(AG32>0,NBR_Master,0)","v":0},null,null,null,{"$f":"IF(AK32>0,SBL_Master,0)","v":0},null,{"$f":"SBT_Master + IF(AK32=0,SBL_Master,0) + IF(AO32=0,SBR_Master)","v":286},null,{"$f":"IF(AO32>0,SBR_Master,0)","v":0},null,null,null,{"$f":"IF(AS32>0,EBL_Master,0)","v":0},null,{"$f":"EBT_Master + IF(AS32=0,EBL_Master,0) + IF(AW32=0,EBR_Master)","v":286},null,{"$f":"IF(AW32>0,EBR_Master,0)","v":0},null,null,null,{"$f":"IF(BA32>0,WBL_Master,0)","v":0},null,{"$f":"WBT_Master + IF(BA32=0,WBL_Master,0) + IF(BE32=0,WBR_Master)","v":286},null,{"$f":"IF(BE32>0,WBR_Master,0)","v":0}]
[]
[null,null,null,null,"Continuous Green T",null,null,null,null,null,null,null,null,null,null,null,null,null,null,null,null,"W",null,null,null,null,null,null,1,null,1,null,null,null,null,null,null,null,2,null,1,null,null,null,1,null,null,null,1,null,null,null,null,null,null,null,null,null,null,null,null,null,null,null,null,null,"Continuous Green T",null,null,null,null,null,null,null,null,null,null,null,null,null,null,null,null,"W",null,null,null,null,null,null,{"$f":"IF(AC34>0,NBL_Master,0)","v":102},null,{"$f":"NBT_Master + IF(AC34=0,NBL_Master,0)","v":510},null,null,null,null,null,null,null,{"$f":"SBT_Master + IF(AO34=0,SBR_Master)","v":204},null,{"$f":"IF(AO34>0,SBR_Master,0)","v":51},null,null,null,{"$f":"IF(AS34>0,EBL_Master,0)","v":31},null,null,null,{"$f":"IF(AW34>0,EBR_Master,0)","v":51}]
[]
[null,null,null,null,null,null,null,null,null,null,null,null,null,null,null,null,null,null,null,null,null,"N",null,null,null,null,null,null,null,null,null,null,null,null,null,null,1,null,null,null,1,null,null,null,1,null,2,null,null,null,null,null,null,null,2,null,1,null,null,null,null,null,null,null,null,null,null,null,null,null,null,null,null,null,null,null,null,null,null,null,null,null,null,"N",null,null,null,null,null,null,null,null,null,null,null,null,null,null,{"$f":"IF(AK36>0,SBL_Master,0)","v":31},null,null,null,{"$f":"IF(AO36>0,SBR_Master,0)","v":51},null,null,null,{"$f":"IF(AS36>0,EBL_Master,0)","v":31},null,{"$f":"EBT_Master + IF(AS36=0,EBL_Master,0)","v":204},null,null,null,null,null,null,null,{"$f":"WBT_Master + IF(BE36=0,WBR_Master)","v":204},null,{"$f":"IF(BE36>0,WBL_Master,0)","v":31}]
[]
[null,null,null,null,null,null,null,null,null,null,null,null,null,null,null,null,null,null,null,null,null,"E",null,null,null,null,null,null,null,null,2,null,1,null,null,null,1,null,2,null,null,null,null,null,null,null,null,null,null,null,null,null,1,null,null,null,1,null,null,null,null,null,null,null,null,null,null,null,null,null,null,null,null,null,null,null,null,null,null,null,null,null,null,"E",null,null,null,null,null,null,null,null,{"$f":"NBT_Master + IF(AG38=0,NBR_Master)","v":510},null,{"$f":"IF(AG38>0,NBR_Master,0)","v":204},null,null,null,{"$f":"IF(AK38>0,SBL_Master,0)","v":31},null,{"$f":"SBT_Master + IF(AK38=0,SBL_Master,0)","v":204},null,null,null,null,null,null,null,null,null,null,null,null,null,{"$f":"IF(BA38>0,WBL_Master,0)","v":31},null,null,null,{"$f":"IF(BE38>0,WBL_Master,0)","v":31}]
[]
[null,null,null,null,null,null,null,null,null,null,null,null,null,null,null,null,null,null,null,null,null,"S",null,null,null,null,null,null,1,null,null,null,1,null,null,null,null,null,null,null,null,null,null,null,null,null,2,null,1,null,null,null,1,null,2,null,null,null,null,null,null,null,null,null,null,null,null,null,null,null,null,null,null,null,null,null,null,null,null,null,null,null,null,"S",null,null,null,null,null,null,{"$f":"IF(AC40>0,NBL_Master,0)","v":102},null,null,null,{"$f":"IF(AG40>0,NBR_Master,0)","v":204},null,null,null,null,null,null,null,null,null,null,null,null,null,{"$f":"EBT_Master+ IF(AW40=0,EBR_Master)","v":204},null,{"$f":"IF(AW40>0,EBR_Master,0)","v":51},null,null,null,{"$f":"IF(BA40>0,WBL_Master,0)","v":31},null,{"$f":"WBT_Master + IF(BA40=0,WBL_Master,0)","v":204}]
[]
[null,null,null,null,"Quadrant Roadway",null,null,null,null,null,null,null,null,null,null,null,null,null,null,null,null,"S-W",null,null,null,null,"Use the respective intersection tab(s) to specify the # of lanes inputs.",null,null,null,null,null,null,null,null,null,null,null,null,null,null,null,null,null,null,null,null,null,null,null,null,null,null,null,null,null,null,null,null,null,null,null,null,null,null,null,"Quadrant Roadway",null,null,null,null,null,null,null,null,null,null,null,null,null,null,null,null,"S-W",null,null,null,null,null,null,{"$f":"NBL_Master","v":102},null,{"$f":"NBT_Master","v":510},null,{"$f":"NBR_Master","v":204},null,null,null,null,null,{"$f":"SBT_Master","v":204},null,{"$f":"SBR_Master","v":51},null,null,null,{"$f":"EBL_Master","v":31},null,{"$f":"EBT_Master","v":204},null,{"$f":"EBR_Master","v":51},null,null,null,{"$f":"WBL_Master","v":31},null,{"$f":"WBT_Master","v":204},null,{"$f":"WBR_Master","v":51}]
[]
[null,null,null,null,null,null,null,null,null,null,null,null,null,null,null,null,null,null,null,null,null,"N-E",null,null,null,null,null,null,null,null,null,null,null,null,null,null,null,null,null,null,null,null,null,null,null,null,null,null,null,null,null,null,null,null,null,null,null,null,null,null,null,null,null,null,null,null,null,null,null,null,null,null,null,null,null,null,null,null,null,null,null,null,null,"N-E",null,null,null,null,null,null,null,null,{"$f":"NBT_Master","v":510},null,{"$f":"NBR_Master","v":204},null,null,null,{"$f":"SBL_Master","v":31},null,{"$f":"SBT_Master","v":204},null,{"$f":"SBR_Master","v":51},null,null,null,{"$f":"EBL_Master","v":31},null,{"$f":"EBT_Master","v":204},null,{"$f":"EBR_Master","v":51},null,null,null,{"$f":"WBL_Master","v":31},null,{"$f":"WBT_Master","v":204},null,{"$f":"WBR_Master","v":51}]
[]
[null,null,null,null,null,null,null,null,null,null,null,null,null,null,null,null,null,null,null,null,null,"S-E",null,null,null,null,null,null,null,null,null,null,null,null,null,null,null,null,null,null,null,null,null,null,null,null,null,null,null,null,null,null,null,null,null,null,null,null,null,null,null,null,null,null,null,null,null,null,null,null,null,null,null,null,null,null,null,null,null,null,null,null,null,"S-E",null,null,null,null,null,null,{"$f":"NBL_Master","v":102},null,{"$f":"NBT_Master","v":510},null,{"$f":"NBR_Master","v":204},null,null,null,{"$f":"SBL_Master","v":31},null,{"$f":"SBT_Master","v":204},null,{"$f":"SBR_Master","v":51},null,null,null,null,null,{"$f":"EBT_Master","v":204},null,{"$f":"EBR_Master","v":51},null,null,null,{"$f":"WBL_Master","v":31},null,{"$f":"WBT_Master","v":204},null,{"$f":"WBR_Master","v":51}]
[]
[null,null,null,null,null,null,null,null,null,null,null,null,null,null,null,null,null,null,null,null,null,"N-W",null,null,null,null,null,null,null,null,null,null,null,null,null,null,null,null,null,null,null,null,null,null,null,null,null,null,null,null,null,null,null,null,null,null,null,null,null,null,null,null,null,null,null,null,null,null,null,null,null,null,null,null,null,null,null,null,null,null,null,null,null,"N-W",null,null,null,null,null,null,{"$f":"NBL_Master","v":102},null,{"$f":"NBT_Master","v":510},null,{"$f":"NBR_Master","v":204},null,null,null,{"$f":"SBL_Master","v":31},null,{"$f":"SBT_Master","v":204},null,{"$f":"SBR_Master","v":51},null,null,null,{"$f":"EBL_Master","v":31},null,{"$f":"EBT_Master","v":204},null,{"$f":"EBR_Master","v":51},null,null,null,null,null,{"$f":"WBT_Master","v":204},null,{"$f":"WBR_Master","v":51}]
[]
[null,null,null,null,"Partial Displaced Left Turn",null,null,null,null,null,null,null,null,null,null,null,null,null,null,null,null,"N-S",null,null,null,null,null,null,1,null,1,null,1,null,null,null,1,null,1,null,1,null,null,null,1,null,2,null,1,null,null,null,1,null,2,null,1,null,null,null,null,null,null,null,null,null,"Partial Displaced Left Turn",null,null,null,null,null,null,null,null,null,null,null,null,null,null,null,null,"N-S",null,null,null,null,null,null,{"$f":"NBL_Master","v":102},null,{"$f":"NBT_Master + IF(AG50=0,NBR_Master)","v":510},null,{"$f":"IF(AG50>0,NBR_Master,0)","v":204},null,null,null,{"$f":"SBL_Master","v":31},null,{"$f":"SBT_Master + IF(AO50=0,SBR_Master)","v":204},null,{"$f":"IF(AO50>0,SBR_Master,0)","v":51},null,null,null,{"$f":"IF(AS50>0,EBL_Master,0)","v":31},null,{"$f":"EBT_Master + IF(AS50=0,EBL_Master,0) + IF(AW50=0,EBR_Master)","v":204},null,{"$f":"IF(AW50>0,EBR_Master,0)","v":51},null,null,null,{"$f":"IF(BA50>0,WBL_Master,0)","v":31},null,{"$f":"WBT_Master + IF(BA50=0,WBL_Master,0) + IF(BE50=0,WBR_Master)","v":204},null,{"$f":"IF(BE50>0,WBR_Master,0)","v":51}]
[]
[null,null,null,null,null,null,null,null,null,null,null,null,null,null,null,null,null,null,null,null,null,"E-W",null,null,null,null,null,null,1,null,2,null,1,null,null,null,1,null,2,null,1,null,null,null,1,null,1,null,1,null,null,null,1,null,1,null,1,null,null,null,null,null,null,null,null,null,null,null,null,null,null,null,null,null,null,null,null,null,null,null,null,null,null,"E-W",null,null,null,null,null,null,{"$f":"IF(AC52>0,NBL_Master,0)","v":102},null,{"$f":"NBT_Master + IF(AC52=0,NBL_Master,0) + IF(AG52=0,NBR_Master)","v":510},null,{"$f":"IF(AG52>0,NBR_Master,0)","v":204},null,null,null,{"$f":"IF(AK52>0,SBL_Master,0)","v":31},null,{"$f":"SBT_Master + IF(AK52=0,SBL_Master,0) + IF(AO52=0,SBR_Master)","v":204},null,{"$f":"IF(AO52>0,SBR_Master,0)","v":51},null,null,null,{"$f":"EBL_Master","v":31},null,{"$f":"EBT_Master+ IF(AW52=0,EBR_Master)","v":204},null,{"$f":"IF(AW52>0,EBR_Master,0)","v":51},null,null,null,{"$f":"WBL_Master","v":31},null,{"$f":"WBT_Master + IF(BE52=0,WBR_Master)","v":204},null,{"$f":"IF(BE52>0,WBR_Master,0)","v":51}]
[]
[null,null,null,null,"Displaced Left Turn",null,null,null,null,null,null,null,null,null,null,null,null,null,null,null,null,"FULL",null,null,null,null,null,null,1,null,2,null,1,null,null,null,1,null,2,null,1,null,null,null,1,null,2,null,1,null,null,null,1,null,2,null,1,null,null,null,null,null,null,null,null,null,"Displaced Left Turn",null,null,null,null,null,null,null,null,null,null,null,null,null,null,null,null,"FULL",null,null,null,null,null,null,{"$f":"NBL_Master","v":102},null,{"$f":"NBT_Master + IF(AG54=0,NBR_Master)","v":510},null,{"$f":"IF(AG54>0,NBR_Master,0)","v":204},null,null,null,{"$f":"SBL_Master","v":31},null,{"$f":"SBT_Master + IF(AO54=0,SBR_Master)","v":204},null,{"$f":"IF(AO54>0,SBR_Master,0)","v":51},null,null,null,{"$f":"EBL_Master","v":31},null,{"$f":"EBT_Master + IF(AW54=0,EBR_Master)","v":204},null,{"$f":"IF(AW54>0,EBR_Master,0)","v":51},null,null,null,{"$f":"WBL_Master","v":31},null,{"$f":"WBT_Master + IF(BE54=0,WBR_Master)","v":204},null,{"$f":"IF(BE54>0,WBR_Master,0)","v":51}]
[]
[null,null,null,null,"Signalized Restricted Crossing U-Turn",null,null,null,null,null,null,null,null,null,null,null,null,null,null,null,null,"N-S",null,null,null,null,1,null,1,null,2,null,1,null,1,null,1,null,2,null,1,null,null,null,null,null,null,null,1,null,null,null,null,null,null,null,1,null,null,null,null,null,null,null,null,null,{"$f":"E56","v":"Signalized Restricted Crossing U-Turn"},null,null,null,null,null,null,null,null,null,null,null,null,null,null,null,null,"N-S",null,null,null,null,{"$f":"IF(AA56>0,NBU_Master,0)","v":0},null,{"$f":"NBL_Master","v":102},null,{"$f":"NBT_Master + IF(AG56=0,NBR_Master)","v":510},null,{"$f":"IF(AG56>0,NBR_Master,0)","v":204},null,{"$f":"IF(AI56>0,SBU_Master,0)","v":0},null,{"$f":"IF(AK56>0,SBL_Master,0)","v":31},null,{"$f":"SBT_Master + IF(AK56=0,SBL_Master,0) + IF(AO56=0,SBR_Master)+ IF(AI56=0,SBU_Master)","v":204},null,{"$f":"IF(AO56>0,SBR_Master,0)","v":51},null,null,null,null,null,null,null,{"$f":"IF(AW56>0,EBR_Master,0)","v":51},null,null,null,null,null,null,null,{"$f":"IF(BE56>0,WBR_Master,0)","v":51}]
[]
[null,null,null,null,null,null,null,null,null,null,null,null,null,null,null,null,null,null,null,null,null,"E-W",null,null,null,null,null,null,null,null,null,null,1,null,null,null,null,null,null,null,1,null,1,null,1,null,2,null,1,null,1,null,1,null,2,null,1,null,null,null,null,null,null,null,null,null,null,null,null,null,null,null,null,null,null,null,null,null,null,null,null,null,null,"E-W",null,null,null,null,null,null,null,null,null,null,{"$f":"IF(AG58>0,NBR_Master,0)","v":204},null,null,null,null,null,null,null,{"$f":"IF(AO58>0,SBR_Master,0)","v":51},null,{"$f":"IF(AQ58>0,EBU_Master,0)","v":0},null,{"$f":"IF(AS58>0,EBL_Master,0)","v":31},null,{"$f":"EBT_Master + IF(AS58=0,EBL_Master,0) + IF(AW58=0,EBR_Master)+ IF(AQ58=0,EBU_Master)","v":204},null,{"$f":"IF(AW58>0,EBR_Master,0)","v":51},null,{"$f":"IF(AY58>0,WBU_Master,0)","v":0},null,{"$f":"IF(BA58>0,WBL_Master,0)","v":31},null,{"$f":"WBT_Master + IF(BA58=0,WBL_Master,0) + IF(BE58=0,WBR_Master)+ IF(AY58=0,WBU_Master)","v":204},null,{"$f":"IF(BE58>0,WBR_Master,0)","v":51}]
[]
[null,null,null,null,"Unsignalized Restricted Crossing U-Turn",null,null,null,null,null,null,null,null,null,null,null,null,null,null,null,null,"N-S",null,null,null,null,1,null,1,null,2,null,1,null,1,null,1,null,2,null,1,null,null,null,null,null,null,null,1,null,null,null,null,null,null,null,1,null,null,null,null,null,null,null,null,null,{"$f":"E60","v":"Unsignalized Restricted Crossing U-Turn"},null,null,null,null,null,null,null,null,null,null,null,null,null,null,null,null,"N-S",null,null,null,null,{"$f":"IF(AA60>0,NBU_Master,0)","v":0},null,{"$f":"NBL_Master","v":102},null,{"$f":"NBT_Master + IF(AG60=0,NBR_Master)","v":510},null,{"$f":"IF(AG60>0,NBR_Master,0)","v":204},null,{"$f":"IF(AI60>0,SBU_Master,0)","v":0},null,{"$f":"IF(AK60>0,SBL_Master,0)","v":31},null,{"$f":"SBT_Master + IF(AK60=0,SBL_Master,0) + IF(AO60=0,SBR_Master)+ IF(AI60=0,SBU_Master)","v":204},null,{"$f":"IF(AO60>0,SBR_Master,0)","v":51},null,null,null,null,null,null,null,{"$f":"IF(AW60>0,EBR_Master,0)","v":51},null,null,null,null,null,null,null,{"$f":"IF(BE60>0,WBR_Master,0)","v":51}]
[]
[null,null,null,null,null,null,null,null,null,null,null,null,null,null,null,null,null,null,null,null,null,"E-W",null,null,null,null,null,null,null,null,null,null,1,null,null,null,null,null,null,null,1,null,1,null,1,null,2,null,1,null,1,null,1,null,2,null,1,null,null,null,null,null,null,null,null,null,null,null,null,null,null,null,null,null,null,null,null,null,null,null,null,null,null,"E-W",null,null,null,null,null,null,null,null,null,null,{"$f":"IF(AG62>0,NBR_Master,0)","v":204},null,null,null,null,null,null,null,{"$f":"IF(AO62>0,SBR_Master,0)","v":51},null,{"$f":"IF(AQ62>0,EBU_Master,0)","v":0},null,{"$f":"IF(AS62>0,EBL_Master,0)","v":31},null,{"$f":"EBT_Master + IF(AS62=0,EBL_Master,0) + IF(AW62=0,EBR_Master)+ IF(AQ62=0,EBU_Master)","v":204},null,{"$f":"IF(AW62>0,EBR_Master,0)","v":51},null,{"$f":"IF(AY62>0,WBU_Master,0)","v":0},null,{"$f":"IF(BA62>0,WBL_Master,0)","v":31},null,{"$f":"WBT_Master + IF(BA62=0,WBL_Master,0) + IF(BE62=0,WBR_Master)+ IF(AY62=0,WBU_Master)","v":204},null,{"$f":"IF(BE62>0,WBR_Master,0)","v":51}]
[]
[null,null,null,null,"Median U-Turn",null,null,null,null,null,null,null,null,null,null,null,null,null,null,null,null,"N-S",null,null,null,null,1,null,null,null,2,null,1,null,1,null,null,null,2,null,1,null,null,null,null,null,2,null,1,null,null,null,null,null,2,null,1,null,null,null,null,null,null,null,null,null,"Median U-Turn",null,null,null,null,null,null,null,null,null,null,null,null,null,null,null,null,"N-S",null,null,null,null,{"$f":"IF(AA64>0,NBU_Master,0)","v":0},null,null,null,{"$f":"NBT_Master + IF(AG64=0,NBR_Master)+ IF(AA56=0,NBU_Master)","v":510},null,{"$f":"IF(AG64>0,NBR_Master,0)","v":204},null,{"$f":"IF(AI64>0,SBU_Master,0)","v":0},null,null,null,{"$f":"SBT_Master + IF(AO64=0,SBR_Master)+ IF(AI56=0,SBU_Master)","v":204},null,{"$f":"IF(AO64>0,SBR_Master,0)","v":51},null,null,null,null,null,{"$f":"EBT_Master+ IF(AW64=0,EBR_Master)","v":204},null,{"$f":"IF(AW64>0,EBR_Master,0)","v":51},null,null,null,null,null,{"$f":"WBT_Master + IF(BE64=0,WBR_Master)","v":204},null,{"$f":"IF(BE64>0,WBR_Master,0)","v":51}]
[]
[null,null,null,null,null,null,null,null,null,null,null,null,null,null,null,null,null,null,null,null,null,"E-W",null,null,null,null,null,null,null,null,2,null,1,null,null,null,null,null,2,null,1,null,1,null,null,null,2,null,1,null,1,null,null,null,2,null,1,null,null,null,null,null,null,null,null,null,null,null,null,null,null,null,null,null,null,null,null,null,null,null,null,null,null,"E-W",null,null,null,null,null,null,null,null,{"$f":"NBT_Master + IF(AG66=0,NBR_Master)","v":510},null,{"$f":"IF(AG66>0,NBR_Master,0)","v":204},null,null,null,null,null,{"$f":"SBT_Master + IF(AO66=0,SBR_Master)","v":204},null,{"$f":"IF(AO66>0,SBR_Master,0)","v":51},null,{"$f":"IF(AQ66>0,EBU_Master,0)","v":0},null,null,null,{"$f":"EBT_Master+ IF(AW66=0,EBR_Master)+ IF(AQ58=0,EBU_Master)","v":204},null,{"$f":"IF(AW66>0,EBR_Master,0)","v":51},null,{"$f":"IF(AY66>0,WBU_Master,0)","v":0},null,null,null,{"$f":"WBT_Master + IF(BE66=0,WBR_Master)+ IF(AY58=0,WBU_Master)","v":204},null,{"$f":"IF(BE66>0,WBR_Master,0)","v":51}]
[]
[null,null,null,null,"Partial Median U-Turn",null,null,null,null,null,null,null,null,null,null,null,null,null,null,null,null,"N-S",null,null,null,null,1,null,null,null,2,null,1,null,1,null,null,null,2,null,1,null,null,null,1,null,2,null,1,null,null,null,1,null,2,null,1,null,null,null,null,null,null,null,null,null,"Partial Median U-Turn",null,null,null,null,null,null,null,null,null,null,null,null,null,null,null,null,"N-S",null,null,null,null,{"$f":"IF(AA68>0,NBU_Master,0)","v":0},null,null,null,{"$f":"NBT_Master + IF(AG68=0,NBR_Master)+ IF(AA56=0,NBU_Master)","v":510},null,{"$f":"IF(AG68>0,NBR_Master,0)","v":204},null,{"$f":"IF(AI68>0,SBU_Master,0)","v":0},null,null,null,{"$f":"SBT_Master + IF(AO68=0,SBR_Master)+ IF(AI56=0,SBU_Master)","v":204},null,{"$f":"IF(AO68>0,SBR_Master,0)","v":51},null,null,null,{"$f":"IF(AS68>0,EBL_Master,0)","v":31},null,{"$f":"EBT_Master + IF(AS68=0,EBL_Master,0) + IF(AW68=0,EBR_Master)","v":204},null,{"$f":"IF(AW68>0,EBR_Master,0)","v":51},null,null,null,{"$f":"IF(BA68>0,WBL_Master,0)","v":31},null,{"$f":"WBT_Master + IF(BA68=0,WBL_Master,0) + IF(BE68=0,WBR_Master)","v":204},null,{"$f":"IF(BE68>0,WBR_Master,0)","v":51}]
[]
[null,null,null,null,null,null,null,null,null,null,null,null,null,null,null,null,null,null,null,null,null,"E-W",null,null,null,null,null,null,1,null,2,null,1,null,null,null,1,null,2,null,1,null,1,null,null,null,2,null,1,null,1,null,null,null,2,null,1,null,null,null,null,null,null,null,null,null,null,null,null,null,null,null,null,null,null,null,null,null,null,null,null,null,null,"E-W",null,null,null,null,null,null,{"$f":"IF(AC70>0,NBL_Master,0)","v":102},null,{"$f":"NBT_Master + IF(AC70=0,NBL_Master,0) + IF(AG70=0,NBR_Master)","v":510},null,{"$f":"IF(AG70>0,NBR_Master,0)","v":204},null,null,null,{"$f":"IF(AK70>0,SBL_Master,0)","v":31},null,{"$f":"SBT_Master + IF(AK70=0,SBL_Master,0) + IF(AO70=0,SBR_Master)","v":204},null,{"$f":"IF(AO70>0,SBR_Master,0)","v":51},null,{"$f":"IF(AQ70>0,EBU_Master,0)","v":0},null,null,null,{"$f":"EBT_Master+ IF(AW70=0,EBR_Master)+ IF(AQ58=0,EBU_Master)","v":204},null,{"$f":"IF(AW70>0,EBR_Master,0)","v":51},null,{"$f":"IF(AY70>0,WBU_Master,0)","v":0},null,null,null,{"$f":"WBT_Master + IF(BE70=0,WBR_Master)+ IF(AY58=0,WBU_Master)","v":204},null,{"$f":"IF(BE70>0,WBR_Master,0)","v":51}]
[]
[null,null,null,null,"Bowtie",null,null,null,null,null,null,null,null,null,null,null,null,null,null,null,null,"N-S",null,null,null,null,null,null,null,null,1,null,1,null,null,null,null,null,1,null,1,null,null,null,null,null,1,null,1,null,null,null,null,null,1,null,1,null,null,null,null,null,null,null,null,null,{"$f":"E72","v":"Bowtie"},null,null,null,null,null,null,null,null,null,null,null,null,null,null,null,null,"N-S",null,null,null,null,null,null,{"$f":"NBL_Master","v":102},null,{"$f":"NBT_Master","v":510},null,{"$f":"NBR_Master","v":204},null,null,null,null,null,{"$f":"SBT_Master","v":204},null,{"$f":"SBR_Master","v":51},null,null,null,{"$f":"EBL_Master","v":31},null,{"$f":"EBT_Master","v":204},null,{"$f":"EBR_Master","v":51},null,null,null,{"$f":"WBL_Master","v":31},null,{"$f":"WBT_Master","v":204},null,{"$f":"WBR_Master","v":51}]
[]
[null,null,null,null,null,null,null,null,null,null,null,null,null,null,null,null,null,null,null,null,null,"E-W",null,null,null,null,null,null,null,null,1,null,1,null,null,null,null,null,1,null,1,null,null,null,null,null,1,null,1,null,null,null,null,null,1,null,1,null,null,null,null,null,null,null,null,null,null,null,null,null,null,null,null,null,null,null,null,null,null,null,null,null,null,"E-W",null,null,null,null,null,null,{"$f":"NBL_Master","v":102},null,{"$f":"NBT_Master","v":510},null,{"$f":"NBR_Master","v":204},null,null,null,null,null,{"$f":"SBT_Master","v":204},null,{"$f":"SBR_Master","v":51},null,null,null,{"$f":"EBL_Master","v":31},null,{"$f":"EBT_Master","v":204},null,{"$f":"EBR_Master","v":51},null,null,null,{"$f":"WBL_Master","v":31},null,{"$f":"WBT_Master","v":204},null,{"$f":"WBR_Master","v":51}]
[]
[null,null,null,null,"Split Intersection",null,null,null,null,null,null,null,null,null,null,null,null,null,null,null,null,"N-S",null,null,null,null,"Use the respective intersection tab(s) to specify the # of lanes inputs.",null,null,null,null,null,null,null,null,null,null,null,null,null,null,null,null,null,null,null,null,null,null,null,null,null,null,null,null,null,null,null,null,null,null,null,null,null,null,null,{"$f":"E76","v":"Split Intersection"},null,null,null,null,null,null,null,null,null,null,null,null,null,null,null,null,"N-S",null,null,null,null,null,null,{"$f":"NBL_Master","v":102},null,{"$f":"NBT_Master","v":510},null,{"$f":"NBR_Master","v":204},null,null,null,null,null,{"$f":"SBT_Master","v":204},null,{"$f":"SBR_Master","v":51},null,null,null,{"$f":"EBL_Master","v":31},null,{"$f":"EBT_Master","v":204},null,{"$f":"EBR_Master","v":51},null,null,null,{"$f":"WBL_Master","v":31},null,{"$f":"WBT_Master","v":204},null,{"$f":"WBR_Master","v":51}]
[]
[null,null,null,null,null,null,null,null,null,null,null,null,null,null,null,null,null,null,null,null,null,"E-W",null,null,null,null,null,null,null,null,null,null,null,null,null,null,null,null,null,null,null,null,null,null,null,null,null,null,null,null,null,null,null,null,null,null,null,null,null,null,null,null,null,null,null,null,null,null,null,null,null,null,null,null,null,null,null,null,null,null,null,null,null,"E-W",null,null,null,null,null,null,{"$f":"NBL_Master","v":102},null,{"$f":"NBT_Master","v":510},null,{"$f":"NBR_Master","v":204},null,null,null,null,null,{"$f":"SBT_Master","v":204},null,{"$f":"SBR_Master","v":51},null,null,null,{"$f":"EBL_Master","v":31},null,{"$f":"EBT_Master","v":204},null,{"$f":"EBR_Master","v":51},null,null,null,{"$f":"WBL_Master","v":31},null,{"$f":"WBT_Master","v":204},null,{"$f":"WBR_Master","v":51}]
[]
[]
[null,null,null,null,"For shared lanes, enter \"0\" in L or R "]
[null,null,null,null,"For AWSC enter number of approach lanes (1 or 2) for each approach."]
[null,"Capacity Analysis for Planning of Junctions\n\nCapacity Analysis for Planning of Junctions",null,null,null,null,null,null,null,null,null,null,null,null,null,null,null,null,null,null,null,null,null,null,null,null,null,null,null,null,null,null,null,null,null,null,null,null,null,null,null,null,null,null,null,null,null,null,null,null,null,null,null,null,null,null,null,null,null,null,null,null,null,"Capacity Analysis for Planning of Junctions\n\nCapacity Analysis for Planning of Junctions"]
[]
[null,"Step 3 (Cont.)",null,null,null,null,null,null,null,null,null,null,null,null,null,null,null,null,null,null,null,null,null,null,null,null,null,null,null,null,null,null,null,null,null,null,null,null,null,null,null,null,null,null,null,null,null,null,null,null,null,null,null,null,null,null,null,null,null,null,null,null,null,"Input Worksheet 2"]
[]
[]
[]
[null,null,null,null,"Number of Lanes for Grade Separated Intersections",null,null,null,null,null,null,null,null,null,null,null,null,null,null,null,null,null,null,null,null,null,null,null,null,null,null,null,null,null,null,null,null,null,null,null,null,null,null,null,null,null,null,null,null,null,null,null,null,null,null,null,null,null,null,null,null,null,null,null,null,null,"Number of Lanes for Grade Separated Intersections"]
[]
[null,null,null,null,"TYPE OF INTERSECTION",null,null,null,null,null,null,null,null,null,null,null,null,null,null,null,null,"Sheet",null,null,null,null,"Northbound",null,null,null,null,null,null,null,"Southbound",null,null,null,null,null,null,null,"Eastbound",null,null,null,null,null,null,null,"Westbound",null,null,null,null,null,null,null,null,null,null,null,null,null,null,null,"TYPE OF INTERSECTION",null,null,null,null,null,null,null,null,null,null,null,null,null,null,null,null,"Sheet",null,null,null,null,"Northbound",null,null,null,null,null,null,null,"Southbound",null,null,null,null,null,null,null,"Eastbound",null,null,null,null,null,null,null,"Westbound"]
[]
[null,null,null,null,null,null,null,null,null,null,null,null,null,null,null,null,null,null,null,null,null,null,null,null,null,null,"U",null,"L",null,"T",null,"R",null,"U",null,"L",null,"T",null,"R",null,"U",null,"L",null,"T",null,"R",null,"U",null,"L",null,"T",null,"R",null,null,null,null,null,null,null,null,null,null,null,null,null,null,null,null,null,null,null,null,null,null,null,null,null,null,null,null,null,null,null,"U",null,"L",null,"T",null,"R",null,"U",null,"L",null,"T",null,"R",null,"U",null,"L",null,"T",null,"R",null,"U",null,"L",null,"T",null,"R"]
[]
[null,null,null,null,"Echelon",null,null,null,null,null,null,null,null,null,null,null,null,null,null,null,null,"N-S",null,null,null,null,null,null,1,null,2,null,1,null,null,null,1,null,2,null,1,null,null,null,1,null,2,null,1,null,null,null,1,null,2,null,1,null,null,null,null,null,null,null,null,null,{"$f":"E95","v":"Echelon"},null,null,null,null,null,null,null,null,null,null,null,null,null,null,null,null,"N-S",null,null,null,null,null,null,{"$f":"NBL_Master","v":102},null,{"$f":"NBT_Master + IF(AG95=0, NBR_Master,0)","v":510},null,{"$f":"IF(AG95<>0, NBR_Master,0)","v":204},null,null,null,{"$f":"SBL_Master","v":31},null,{"$f":"SBT_Master + IF(AO95=0,SBR_Master,0)","v":204},null,{"$f":"IF(AO95<>0,SBR_Master,0)","v":51},null,null,null,{"$f":"EBL_Master","v":31},null,{"$f":"EBT_Master + IF(AW95=0,EBR_Master,0)","v":204},null,{"$f":"IF(AW95<>0,EBR_Master,0)","v":51},null,null,null,{"$f":"WBL_Master","v":31},null,{"$f":"WBT_Master + IF(BE95=0,WBR_Master,0)","v":204},null,{"$f":" IF(BE95<>0,WBR_Master,0)","v":51}]
[]
[null,null,null,null,null,null,null,null,null,null,null,null,null,null,null,null,null,null,null,null,null,"E-W",null,null,null,null,null,null,1,null,2,null,1,null,null,null,1,null,2,null,1,null,null,null,1,null,2,null,1,null,null,null,1,null,2,null,1,null,null,null,null,null,null,null,null,null,null,null,null,null,null,null,null,null,null,null,null,null,null,null,null,null,null,"E-W",null,null,null,null,null,null,{"$f":"NBL_Master","v":102},null,{"$f":"NBT_Master + IF(AG97=0, NBR_Master,0)","v":510},null,{"$f":"IF(AG97<>0, NBR_Master,0)","v":204},null,null,null,{"$f":"SBL_Master","v":31},null,{"$f":"SBT_Master + IF(AO97=0,SBR_Master,0)","v":204},null,{"$f":"IF(AO97<>0,SBR_Master,0)","v":51},null,null,null,{"$f":"EBL_Master","v":31},null,{"$f":"EBT_Master + IF(AW97=0,EBR_Master,0)","v":204},null,{"$f":"IF(AW97<>0,EBR_Master,0)","v":51},null,null,null,{"$f":"WBL_Master","v":31},null,{"$f":"WBT_Master + IF(BE97=0,WBR_Master,0)","v":204},null,{"$f":" IF(BE97<>0,WBR_Master,0)","v":51}]
[]
[null,null,null,null,"Center Turn Overpass",null,null,null,null,null,null,null,null,null,null,null,null,null,null,null,null,"Full",null,null,null,null,null,null,1,null,2,null,1,null,null,null,1,null,2,null,1,null,null,null,1,null,2,null,1,null,null,null,1,null,2,null,1,null,null,null,null,null,null,null,null,null,{"$f":"E99","v":"Center Turn Overpass"},null,null,null,null,null,null,null,null,null,null,null,null,null,null,null,null,"Full",null,null,null,null,null,null,{"$f":"NBL_Master","v":102},null,{"$f":"NBT_Master + IF(AG99=0, NBR_Master,0)","v":510},null,{"$f":"IF(AG99<>0, NBR_Master,0)","v":204},null,null,null,{"$f":"SBL_Master","v":31},null,{"$f":"SBT_Master + IF(AO99=0,SBR_Master,0)","v":204},null,{"$f":"IF(AO99<>0,SBR_Master,0)","v":51},null,null,null,{"$f":"EBL_Master","v":31},null,{"$f":"EBT_Master + IF(AW99=0,EBR_Master,0)","v":204},null,{"$f":"IF(AW99<>0,EBR_Master,0)","v":51},null,null,null,{"$f":"WBL_Master","v":31},null,{"$f":"WBT_Master + IF(BE99=0,WBR_Master,0)","v":204},null,{"$f":" IF(BE99<>0,WBR_Master,0)","v":51}]
[]
[null,null,null,null,null,null,null,null,null,null,null,null,null,null,null,null,null,null,null,null,null,"E-W",null,null,null,null,null,null,null,null,null,null,null,null,null,null,null,null,null,null,null,null,null,null,null,null,null,null,null,null,null,null,null,null,null,null,null,null,null,null,null,null,null,null,null,null,null,null,null,null,null,null,null,null,null,null,null,null,null,null,null,null,null,"E-W"]
[]
[]
[]
[null,null,null,null,"Number of Lanes for Interchanges"]
[]
[null,null,null,null,"TYPE OF INTERCHANGE",null,null,null,null,null,null,null,null,null,null,null,null,null,null,null,null,"Sheet",null,null,null,null,"Northbound",null,null,null,null,null,null,null,"Southbound",null,null,null,null,null,null,null,"Eastbound",null,null,null,null,null,null,null,"Westbound"]
[]
[null,null,null,null,null,null,null,null,null,null,null,null,null,null,null,null,null,null,null,null,null,null,null,null,null,null,"U",null,"L",null,"T",null,"R",null,"U",null,"L",null,"T",null,"R",null,"U",null,"L",null,"T",null,"R",null,"U",null,"L",null,"T",null,"R"]
[]
[null,null,null,null,"Diamond",null,null,null,null,null,null,null,null,null,null,null,null,null,null,null,null,"N-S",null,null,null,null,null,null,1,null,2,null,1,null,null,null,1,null,2,null,1,null,null,null,1,null,2,null,1,null,null,null,1,null,2,null,1]
[]
[null,null,null,null,null,null,null,null,null,null,null,null,null,null,null,null,null,null,null,null,null,"E-W",null,null,null,null,null,null,1,null,2,null,1,null,null,null,1,null,2,null,1,null,null,null,1,null,2,null,1,null,null,null,1,null,2,null,1]
[]
[null,null,null,null,"Partial Cloverleaf A",null,null,null,null,null,null,null,null,null,null,null,null,null,null,null,null,"N-S",null,null,null,null,null,null,null,null,2,null,null,null,null,null,null,null,2,null,null,null,null,null,1,null,null,null,1,null,null,null,1,null,null,null,1]
[]
[null,null,null,null,null,null,null,null,null,null,null,null,null,null,null,null,null,null,null,null,null,"E-W",null,null,null,null,null,null,1,null,null,null,1,null,null,null,1,null,null,null,1,null,null,null,null,null,2,null,null,null,null,null,null,null,2]
[]
[null,null,null,null,"Partial Cloverleaf B",null,null,null,null,null,null,null,null,null,null,null,null,null,null,null,null,"N-S",null,null,null,null,null,null,1,null,2,null,1,null,null,null,1,null,2,null,1,null,null,null,1,null,null,null,1,null,null,null,1,null,null,null,1]
[]
[null,null,null,null,null,null,null,null,null,null,null,null,null,null,null,null,null,null,null,null,null,"E-W",null,null,null,null,null,null,1,null,null,null,1,null,null,null,1,null,null,null,1,null,null,null,1,null,2,null,1,null,null,null,1,null,2,null,1]
[]
[null,null,null,null,"Displaced Left Turn",null,null,null,null,null,null,null,null,null,null,null,null,null,null,null,null,"N-S",null,null,null,null,null,null,1,null,2,null,1,null,null,null,1,null,2,null,1,null,null,null,1,null,2,null,1,null,null,null,1,null,2,null,1]
[]
[null,null,null,null,null,null,null,null,null,null,null,null,null,null,null,null,null,null,null,null,null,"E-W",null,null,null,null,null,null,1,null,2,null,1,null,null,null,1,null,2,null,1,null,null,null,1,null,2,null,1,null,null,null,1,null,2,null,1]
[]
[null,null,null,null,"Contraflow Left Interchange",null,null,null,null,null,null,null,null,null,null,null,null,null,null,null,null,"N-S",null,null,null,null,null,null,1,null,2,null,1,null,null,null,1,null,2,null,1,null,null,null,1,null,null,null,1,null,null,null,1,null,null,null,1]
[]
[null,null,null,null,null,null,null,null,null,null,null,null,null,null,null,null,null,null,null,null,null,"E-W",null,null,null,null,null,null,1,null,null,null,1,null,null,null,1,null,null,null,1,null,null,null,1,null,2,null,1,null,null,null,1,null,2,null,1]
[]
[null,null,null,null,"Diverging Diamond Interchange",null,null,null,null,null,null,null,null,null,null,null,null,null,null,null,null,"N-S",null,null,null,null,null,null,1,null,2,null,1,null,null,null,1,null,2,null,1,null,null,null,1,null,null,null,1,null,null,null,1,null,null,null,1]
[]
[null,null,null,null,null,null,null,null,null,null,null,null,null,null,null,null,null,null,null,null,null,"E-W",null,null,null,null,null,null,1,null,null,null,1,null,null,null,1,null,null,null,1,null,null,null,1,null,2,null,1,null,null,null,1,null,2,null,1]
[]
[null,null,null,null,"Single Point ",null,null,null,null,null,null,null,null,null,null,null,null,null,null,null,null,"N-S",null,null,null,null,null,null,1,null,2,null,1,null,null,null,1,null,2,null,1,null,null,null,1,null,2,null,1,null,null,null,1,null,2,null,1]
[]
[null,null,null,null,null,null,null,null,null,null,null,null,null,null,null,null,null,null,null,null,null,"E-W",null,null,null,null,null,null,1,null,2,null,1,null,null,null,1,null,2,null,1,null,null,null,1,null,2,null,1,null,null,null,1,null,2,null,1]
[]
[null,null,null,null,"Single Point with Roundabout",null,null,null,null,null,null,null,null,null,null,null,null,null,null,null,null,"N-S",null,null,null,null,"Use the respective intersection tab(s) to specify the # of lanes inputs."]
[]
[null,null,null,null,null,null,null,null,null,null,null,null,null,null,null,null,null,null,null,null,null,"E-W"]

{"sheet":"Multimodal Ped","index":7,"n_rows":161,"n_cols":359,"rows_kept":161,"cut":false,"hidden":false,"merged":[[158,193,159,197],[160,193,161,197],[111,193,112,197],[113,193,114,197],[115,193,116,197],[117,193,118,197],[119,193,120,197],[121,193,122,197],[88,193,89,197],[90,193,91,197],[16,193,17,366],[80,193,81,367],[103,193,104,367],[124,193,125,367],[109,193,110,197],[86,193,87,197],[105,193,106,207],[130,193,131,197],[128,193,129,197],[126,193,127,207],[107,193,108,197],[132,193,133,197],[134,193,135,197],[136,193,137,197],[138,193,139,197],[140,193,141,197],[142,193,143,197],[144,193,145,197],[146,193,147,197],[148,193,149,197],[150,193,151,197],[49,193,50,197],[57,193,58,197],[59,193,60,197],[61,193,62,197],[63,193,64,197],[65,193,66,197],[67,193,68,197],[69,193,70,197],[71,193,72,197],[73,193,74,197],[75,193,76,197],[77,193,78,197],[84,193,85,197],[82,193,83,207],[23,193,24,197],[35,198,36,202],[35,203,36,207],[37,203,38,207],[53,203,54,207],[61,203,62,207],[69,203,70,207],[77,198,78,202],[77,203,78,207],[7,77,7,78],[8,77,8,78],[9,77,9,78],[10,77,10,78],[25,193,26,197],[27,193,28,197],[29,193,30,197],[31,193,32,197],[33,193,34,197],[35,193,36,197],[37,193,38,197],[39,193,40,197],[41,193,42,197],[43,193,44,197],[45,193,46,197],[47,193,48,197],[16,0,17,71],[23,19,24,24],[25,19,26,24],[27,19,28,24],[29,19,30,24],[31,19,32,24],[33,19,34,24],[35,19,36,24],[37,19,38,24],[31,25,32,28],[19,99,20,108],[21,99,22,103],[21,104,22,108],[23,25,24,28],[23,29,24,33],[23,34,24,38],[80,0,81,71],[63,19,64,24],[65,19,66,24],[67,19,68,24],[69,19,70,24],[71,19,72,24],[73,19,74,24],[51,19,52,24],[53,19,54,24],[55,19,56,24],[57,19,58,24],[59,19,60,24],[61,19,62,24],[39,19,40,24],[41,19,42,24],[43,19,44,24],[45,19,46,24],[47,19,48,24],[49,19,50,24],[71,0,74,18],[75,0,78,18],[49,0,52,18],[53,0,54,18],[39,59,40,63],[39,64,40,68],[39,69,40,73],[41,64,42,68],[41,69,42,73],[45,25,46,28],[45,29,46,33],[45,34,46,38],[45,39,46,43],[126,19,129,24],[130,19,131,24],[132,19,133,24],[134,19,135,24],[136,19,137,24],[124,0,125,71],[113,64,114,68],[113,69,114,73],[115,49,116,53],[115,54,116,58],[19,0,22,18],[19,19,22,24],[103,0,104,71],[82,19,85,24],[86,19,87,24],[88,19,89,24],[90,19,91,24],[75,19,76,24],[77,19,78,24],[55,0,58,18],[59,0,62,18],[63,0,66,18],[67,0,70,18],[23,0,24,18],[25,0,26,18],[27,0,30,18],[31,0,32,18],[33,0,40,18],[41,0,48,18],[25,25,26,28],[27,25,28,28],[29,25,30,28],[154,19,155,24],[156,19,157,24],[158,19,159,24],[160,19,161,24],[154,0,157,18],[158,0,161,18],[146,19,147,24],[148,19,149,24],[150,19,151,24],[152,19,153,24],[146,0,149,18],[150,0,153,18],[138,19,139,24],[140,19,141,24],[142,19,143,24],[144,19,145,24],[142,0,145,18],[23,59,24,63],[23,64,24,68],[23,69,24,73],[23,74,24,78],[19,79,20,88],[21,79,22,83],[21,84,22,88],[19,89,20,98],[21,89,22,93],[21,94,22,98],[21,54,22,58],[19,59,20,68],[21,59,22,63],[21,64,22,68],[19,69,20,78],[21,69,22,73],[21,74,22,78],[19,25,22,28],[21,29,22,33],[21,34,22,38],[19,29,20,38],[19,39,20,48],[31,49,32,53],[29,64,30,68],[29,69,30,73],[25,114,26,118],[25,59,26,63],[25,64,26,68],[25,69,26,73],[25,74,26,78],[25,79,26,83],[25,84,26,88],[19,109,20,118],[21,109,22,113],[21,114,22,118],[23,109,24,113],[23,114,24,118],[25,29,26,33],[25,34,26,38],[25,39,26,43],[25,44,26,48],[25,49,26,53],[23,79,24,83],[23,84,24,88],[23,89,24,93],[23,94,24,98],[23,99,24,103],[23,104,24,108],[23,39,24,43],[23,44,24,48],[23,49,24,53],[23,54,24,58],[25,54,26,58],[21,39,22,43],[21,44,22,48],[19,49,20,58],[21,49,22,53],[29,74,30,78],[29,79,30,83],[29,84,30,88],[29,89,30,93],[27,104,28,108],[27,109,28,113],[27,114,28,118],[29,29,30,33],[29,34,30,38],[29,39,30,43],[29,44,30,48],[29,49,30,53],[29,54,30,58],[29,59,30,63],[27,74,28,78],[27,79,28,83],[27,84,28,88],[27,89,28,93],[27,94,28,98],[27,99,28,103],[27,44,28,48],[27,49,28,53],[27,54,28,58],[27,59,28,63],[27,64,28,68],[27,69,28,73],[27,29,28,33],[27,34,28,38],[27,39,28,43],[31,114,32,118],[19,119,20,128],[19,129,20,138],[19,139,20,148],[19,149,20,158],[19,159,20,168],[21,149,22,153],[21,154,22,158],[21,159,22,163],[21,164,22,168],[31,84,32,88],[31,89,32,93],[31,94,32,98],[31,99,32,103],[31,104,32,108],[31,109,32,113],[31,54,32,58],[31,59,32,63],[31,64,32,68],[31,69,32,73],[31,74,32,78],[31,79,32,83],[29,94,30,98],[29,99,30,103],[29,104,30,108],[29,109,30,113],[29,114,30,118],[25,179,26,183],[25,184,26,188],[25,149,26,153],[25,154,26,158],[25,159,26,163],[25,164,26,168],[25,169,26,173],[25,174,26,178],[25,119,26,123],[25,124,26,128],[25,129,26,133],[25,89,26,93],[25,94,26,98],[25,99,26,103],[25,104,26,108],[25,109,26,113],[23,159,24,163],[23,164,24,168],[23,169,24,173],[23,174,24,178],[23,179,24,183],[23,184,24,188],[23,119,24,123],[23,124,24,128],[23,129,24,133],[23,134,24,138],[23,139,24,143],[23,144,24,148],[23,149,24,153],[23,154,24,158],[25,134,26,138],[25,139,26,143],[21,119,22,123],[21,124,22,128],[21,129,22,133],[21,134,22,138],[21,139,22,143],[21,144,22,148],[27,154,28,158],[27,159,28,163],[27,164,28,168],[27,169,28,173],[27,174,28,178],[27,119,28,123],[27,124,28,128],[27,129,28,133],[27,134,28,138],[27,139,28,143],[27,144,28,148],[25,144,26,148],[18,74,18,78],[31,179,32,183],[31,184,32,188],[31,149,32,153],[31,154,32,158],[31,159,32,163],[31,164,32,168],[31,169,32,173],[31,174,32,178],[31,119,32,123],[31,124,32,128],[31,129,32,133],[31,134,32,138],[31,139,32,143],[31,144,32,148],[29,179,30,183],[29,184,30,188],[29,149,30,153],[29,154,30,158],[29,159,30,163],[29,164,30,168],[29,169,30,173],[29,174,30,178],[29,119,30,123],[29,124,30,128],[29,129,30,133],[29,134,30,138],[29,139,30,143],[29,144,30,148],[27,179,28,183],[27,184,28,188],[27,149,28,153],[21,198,22,202],[21,203,22,207],[18,159,18,163],[18,164,18,168],[18,169,18,173],[18,174,18,178],[18,179,18,183],[18,184,18,188],[18,129,18,133],[18,134,18,138],[18,139,18,143],[18,144,18,148],[18,149,18,153],[18,154,18,158],[18,79,18,83],[18,84,18,88],[18,89,18,93],[18,94,18,98],[18,99,18,103],[18,104,18,108],[18,109,18,113],[18,114,18,118],[18,119,18,123],[18,124,18,128],[19,169,20,178],[19,179,20,188],[21,193,22,197],[19,193,20,207],[21,169,22,173],[21,174,22,178],[21,179,22,183],[21,184,22,188],[21,308,22,317],[23,288,24,297],[23,298,24,307],[23,308,24,317],[23,228,24,237],[23,238,24,247],[23,248,24,257],[23,258,24,267],[23,268,24,277],[23,278,24,287],[7,81,7,86],[10,87,10,88],[21,218,22,227],[21,228,22,237],[21,238,22,247],[21,248,22,257],[19,208,20,367],[8,87,8,88],[9,87,9,88],[8,81,8,86],[9,81,9,86],[10,81,10,86],[7,99,7,100],[8,99,8,100],[9,99,9,100],[7,87,7,88],[21,208,22,217],[23,208,24,217],[21,258,22,267],[21,268,22,277],[21,278,22,287],[23,218,24,227],[25,308,26,317],[25,318,26,327],[25,328,26,337],[25,338,26,347],[25,348,26,357],[25,358,26,367],[25,248,26,257],[25,258,26,267],[25,268,26,277],[25,278,26,287],[25,288,26,297],[25,298,26,307],[21,358,22,367],[23,358,24,367],[23,198,24,202],[23,203,24,207],[25,198,26,202],[25,203,26,207],[25,208,26,217],[25,218,26,227],[25,228,26,237],[25,238,26,247],[21,318,22,327],[21,328,22,337],[21,338,22,347],[21,348,22,357],[23,318,24,327],[23,328,24,337],[23,338,24,347],[23,348,24,357],[21,288,22,297],[21,298,22,307],[27,308,28,317],[27,318,28,327],[27,328,28,337],[27,338,28,347],[27,348,28,357],[27,358,28,367],[27,248,28,257],[27,258,28,267],[27,268,28,277],[27,278,28,287],[27,288,28,297],[27,298,28,307],[27,198,28,202],[27,203,28,207],[27,208,28,217],[27,218,28,227],[27,228,28,237],[27,238,28,247],[29,308,30,317],[29,318,30,327],[29,328,30,337],[29,338,30,347],[29,348,30,357],[29,358,30,367],[29,248,30,257],[29,258,30,267],[29,268,30,277],[29,278,30,287],[29,288,30,297],[29,298,30,307],[29,198,30,202],[29,203,30,207],[29,208,30,217],[29,218,30,227],[29,228,30,237],[29,238,30,247],[31,308,32,317],[31,318,32,327],[31,328,32,337],[31,338,32,347],[31,348,32,357],[31,358,32,367],[31,248,32,257],[31,258,32,267],[31,268,32,277],[31,278,32,287],[31,288,32,297],[31,298,32,307],[31,198,32,202],[31,203,32,207],[31,208,32,217],[31,218,32,227],[31,228,32,237],[31,238,32,247],[33,44,34,48],[33,49,34,53],[33,54,34,58],[33,59,34,63],[33,64,34,68],[33,69,34,73],[10,69,10,74],[10,75,10,76],[33,25,34,28],[33,29,34,33],[33,34,34,38],[33,39,34,43],[7,69,7,74],[7,75,7,76],[8,69,8,74],[8,75,8,76],[9,69,9,74],[9,75,9,76],[18,0,18,28],[18,29,18,33],[18,34,18,38],[18,39,18,43],[18,44,18,48],[18,49,18,53],[18,54,18,58],[18,59,18,63],[18,64,18,68],[18,69,18,73],[31,29,32,33],[31,34,32,38],[31,39,32,43],[31,44,32,48],[35,25,36,28],[35,29,36,33],[35,34,36,38],[35,39,36,43],[35,44,36,48],[33,258,34,267],[33,268,34,277],[33,278,34,287],[33,288,34,297],[33,298,34,307],[33,308,34,317],[33,203,34,207],[33,208,34,217],[33,218,34,227],[33,228,34,237],[33,238,34,247],[33,248,34,257],[33,164,34,168],[33,169,34,173],[33,174,34,178],[33,179,34,183],[33,184,34,188],[33,198,34,202],[33,134,34,138],[33,139,34,143],[33,144,34,148],[33,149,34,153],[33,154,34,158],[33,159,34,163],[33,104,34,108],[33,109,34,113],[33,114,34,118],[33,318,34,327],[33,328,34,337],[33,338,34,347],[33,348,34,357],[33,358,34,367],[33,119,34,123],[33,124,34,128],[33,129,34,133],[33,74,34,78],[33,79,34,83],[33,84,34,88],[33,89,34,93],[33,94,34,98],[33,99,34,103],[35,248,36,257],[35,258,36,267],[35,169,36,173],[35,174,36,178],[35,179,36,183],[35,184,36,188],[35,154,36,158],[35,159,36,163],[35,164,36,168],[35,109,36,113],[35,114,36,118],[35,119,36,123],[35,79,36,83],[35,84,36,88],[35,89,36,93],[35,94,36,98],[35,99,36,103],[35,104,36,108],[37,54,38,58],[37,59,38,63],[37,64,38,68],[37,69,38,73],[37,74,38,78],[37,79,38,83],[35,49,36,53],[35,54,36,58],[35,59,36,63],[35,64,36,68],[35,69,36,73],[35,74,36,78],[35,328,36,337],[35,338,36,347],[35,348,36,357],[35,358,36,367],[37,25,38,28],[37,29,38,33],[37,34,38,38],[37,39,38,43],[37,44,38,48],[37,49,38,53],[35,268,36,277],[35,278,36,287],[35,288,36,297],[35,298,36,307],[35,308,36,317],[35,318,36,327],[35,208,36,217],[35,218,36,227],[35,228,36,237],[35,238,36,247],[37,179,38,183],[37,184,38,188],[37,198,38,202],[35,139,36,143],[35,144,36,148],[35,149,36,153],[35,124,36,128],[35,129,36,133],[35,134,36,138],[37,84,38,88],[37,89,38,93],[37,94,38,98],[39,208,40,217],[39,218,40,227],[39,149,40,153],[37,208,38,217],[37,144,38,148],[37,149,38,153],[37,154,38,158],[37,159,38,163],[37,164,38,168],[37,169,38,173],[37,114,38,118],[37,119,38,123],[37,124,38,128],[37,129,38,133],[37,134,38,138],[37,139,38,143],[39,89,40,93],[39,94,40,98],[39,99,40,103],[39,104,40,108],[39,109,40,113],[39,114,40,118],[39,203,40,207],[37,99,38,103],[37,104,38,108],[37,109,38,113],[39,74,40,78],[39,79,40,83],[39,84,40,88],[37,338,38,347],[37,348,38,357],[37,358,38,367],[39,25,40,28],[39,29,40,33],[39,34,40,38],[39,39,40,43],[39,44,40,48],[39,49,40,53],[39,54,40,58],[37,278,38,287],[37,288,38,297],[37,298,38,307],[37,308,38,317],[37,318,38,327],[37,328,38,337],[37,218,38,227],[37,228,38,237],[37,238,38,247],[37,248,38,257],[37,258,38,267],[37,268,38,277],[37,174,38,178],[39,258,40,267],[39,268,40,277],[39,278,40,287],[39,179,40,183],[39,184,40,188],[39,198,40,202],[41,164,42,168],[39,154,40,158],[39,159,40,163],[39,164,40,168],[39,169,40,173],[39,174,40,178],[39,119,40,123],[39,124,40,128],[39,129,40,133],[39,134,40,138],[39,139,40,143],[39,144,40,148],[41,203,42,207],[41,208,42,217],[41,218,42,227],[41,228,42,237],[41,154,42,158],[41,159,42,163],[41,94,42,98],[41,99,42,103],[41,104,42,108],[41,109,42,113],[41,114,42,118],[41,119,42,123],[43,89,44,93],[43,94,44,98],[41,74,42,78],[41,79,42,83],[41,84,42,88],[41,89,42,93],[39,348,40,357],[39,358,40,367],[41,25,42,28],[41,29,42,33],[41,34,42,38],[41,39,42,43],[41,44,42,48],[41,49,42,53],[41,54,42,58],[41,59,42,63],[39,288,40,297],[39,298,40,307],[39,308,40,317],[39,318,40,327],[39,328,40,337],[39,338,40,347],[39,228,40,237],[39,238,40,247],[39,248,40,257],[41,198,42,202],[43,358,44,367],[43,248,44,257],[43,258,44,267],[41,169,42,173],[41,174,42,178],[41,179,42,183],[41,124,42,128],[41,129,42,133],[41,134,42,138],[41,139,42,143],[41,144,42,148],[41,149,42,153],[45,129,46,133],[45,134,46,138],[45,139,46,143],[45,84,46,88],[45,89,46,93],[45,94,46,98],[45,99,46,103],[45,104,46,108],[45,109,46,113],[41,358,42,367],[45,203,46,207],[45,208,46,217],[45,144,46,148],[45,149,46,153],[45,154,46,158],[45,159,46,163],[45,164,46,168],[45,169,46,173],[45,114,46,118],[45,119,46,123],[43,25,44,28],[43,29,44,33],[43,34,44,38],[43,39,44,43],[43,44,44,48],[43,49,44,53],[43,54,44,58],[43,59,44,63],[43,64,44,68],[41,298,42,307],[41,308,42,317],[41,318,42,327],[41,328,42,337],[41,338,42,347],[41,348,42,357],[41,238,42,247],[41,248,42,257],[41,258,42,267],[41,268,42,277],[41,278,42,287],[41,288,42,297],[41,184,42,188],[43,69,44,73],[43,74,44,78],[43,79,44,83],[43,268,44,277],[43,278,44,287],[43,288,44,297],[43,298,44,307],[43,198,44,202],[43,203,44,207],[43,208,44,217],[43,218,44,227],[43,228,44,237],[43,238,44,247],[43,159,44,163],[43,164,44,168],[43,169,44,173],[43,174,44,178],[43,179,44,183],[43,184,44,188],[45,69,46,73],[45,74,46,78],[45,79,46,83],[43,308,44,317],[43,318,44,327],[43,328,44,337],[43,338,44,347],[43,348,44,357],[43,129,44,133],[43,134,44,138],[43,139,44,143],[43,144,44,148],[43,149,44,153],[43,154,44,158],[43,99,44,103],[43,104,44,108],[43,109,44,113],[43,114,44,118],[43,119,44,123],[43,124,44,128],[45,338,46,347],[45,348,46,357],[43,84,44,88],[45,358,46,367],[47,25,48,28],[47,29,48,33],[47,34,48,38],[47,39,48,43],[47,44,48,48],[47,49,48,53],[47,54,48,58],[45,278,46,287],[45,288,46,297],[45,298,46,307],[45,308,46,317],[45,318,46,327],[45,328,46,337],[45,218,46,227],[45,228,46,237],[45,238,46,247],[45,248,46,257],[45,258,46,267],[45,268,46,277],[45,174,46,178],[45,179,46,183],[45,184,46,188],[45,198,46,202],[45,44,46,48],[45,49,46,53],[45,54,46,58],[45,59,46,63],[45,64,46,68],[45,124,46,128],[47,169,48,173],[47,174,48,178],[47,119,48,123],[47,124,48,128],[47,129,48,133],[47,134,48,138],[47,139,48,143],[47,144,48,148],[47,89,48,93],[47,94,48,98],[47,99,48,103],[47,104,48,108],[47,109,48,113],[47,114,48,118],[47,59,48,63],[47,64,48,68],[47,69,48,73],[47,74,48,78],[47,79,48,83],[47,84,48,88],[47,348,48,357],[47,358,48,367],[49,25,50,28],[49,29,50,33],[49,34,50,38],[49,39,50,43],[49,44,50,48],[49,49,50,53],[49,54,50,58],[49,59,50,63],[47,288,48,297],[47,298,48,307],[47,308,48,317],[47,318,48,327],[47,328,48,337],[47,338,48,347],[47,228,48,237],[47,238,48,247],[47,248,48,257],[47,258,48,267],[47,268,48,277],[47,278,48,287],[47,179,48,183],[47,184,48,188],[47,198,48,202],[47,203,48,207],[47,208,48,217],[47,218,48,227],[47,149,48,153],[47,154,48,158],[47,159,48,163],[47,164,48,168],[49,174,50,178],[49,179,50,183],[49,124,50,128],[49,129,50,133],[49,134,50,138],[49,139,50,143],[49,144,50,148],[49,149,50,153],[49,94,50,98],[49,99,50,103],[49,104,50,108],[49,109,50,113],[49,114,50,118],[49,119,50,123],[49,64,50,68],[49,69,50,73],[49,74,50,78],[49,79,50,83],[49,84,50,88],[49,89,50,93],[49,358,50,367],[51,25,52,28],[51,29,52,33],[51,34,52,38],[51,39,52,43],[51,44,52,48],[51,49,52,53],[51,54,52,58],[51,59,52,63],[51,64,52,68],[49,298,50,307],[49,308,50,317],[49,318,50,327],[49,328,50,337],[49,338,50,347],[49,348,50,357],[49,238,50,247],[49,248,50,257],[49,258,50,267],[49,268,50,277],[49,278,50,287],[49,288,50,297],[49,184,50,188],[49,198,50,202],[49,203,50,207],[49,208,50,217],[49,218,50,227],[49,228,50,237],[49,154,50,158],[49,159,50,163],[49,164,50,168],[49,169,50,173],[51,358,52,367],[51,248,52,257],[51,258,52,267],[51,268,52,277],[51,278,52,287],[51,288,52,297],[51,298,52,307],[51,198,52,202],[51,203,52,207],[51,208,52,217]],"merged_total":3253,"flags":["merged_cut"]}
[]
["Capacity Analysis for Planning of Junctions"]
[]
["Multimodal Intersection Configuration for Pedestrian Crossings"]
[]
[]
[null,null,null,null,null,null,null,null,null,null,null,null,null,null,null,null,null,null,null,null,null,null,null,null,null,null,null,null,null,null,null,null,null,null,null,null,null,null,null,null,null,null,null,null,null,null,null,null,null,null,null,null,null,null,null,null,null,null,null,null,null,null,null,null,null,null,null,null,null,"Scoring Ranges",null,null,null,null,null,null,null,null,null,null,null,"Veh Speed",null,null,null,null,null,null,null,null,null,"# Lanes Crossed"]
[null,null,null,null,null,null,null,null,null,null,null,null,null,null,null,null,null,null,null,null,null,null,null,null,null,null,null,null,null,null,null,null,null,null,null,null,null,null,null,null,null,null,null,null,null,null,null,null,null,null,null,null,null,null,null,null,null,null,null,null,null,null,null,null,null,null,null,null,null,"Excellent",null,null,null,null,null,100,null,80,null,null,null,"Stop / Signal",null,null,null,null,null,10,null,null,null,"1 Lane",null,null,null,null,null,null,null,10]
[null,null,null,null,null,null,null,null,null,null,null,null,null,null,null,null,null,null,null,null,null,null,null,null,null,null,null,null,null,null,null,null,null,null,null,null,null,null,null,null,null,null,null,null,null,null,null,null,null,null,null,null,null,null,null,null,null,null,null,null,null,null,null,null,null,null,null,null,null,"Good",null,null,null,null,null,79,null,60,null,null,null,"<20mph",null,null,null,null,null,8,null,null,null,"2 Lanes",null,null,null,null,null,null,null,8]
[null,null,null,null,null,null,null,null,null,null,null,null,null,null,null,null,null,null,null,null,null,null,null,null,null,null,null,null,null,null,null,null,null,null,null,null,null,null,null,null,null,null,null,null,null,null,null,null,null,null,null,null,null,null,null,null,null,null,null,null,null,null,null,null,null,null,null,null,null,"Fair",null,null,null,null,null,59,null,40,null,null,null,"20-30mph",null,null,null,null,null,6,null,null,null,"3+ Lanes",null,null,null,null,null,null,null,6]
[null,null,null,null,null,null,null,null,null,null,null,null,null,null,null,null,null,null,null,null,null,null,null,null,null,null,null,null,null,null,null,null,null,null,null,null,null,null,null,null,null,null,null,null,null,null,null,null,null,null,null,null,null,null,null,null,null,null,null,null,null,null,null,null,null,null,null,null,null,"Poor",null,null,null,null,null,39,null,0,null,null,null,">30mph",null,null,null,null,null,4]
[]
[]
[]
[]
[]
["Pedestrian Crossing Configurations for Non-roundabout Intersections",null,null,null,null,null,null,null,null,null,null,null,null,null,null,null,null,null,null,null,null,null,null,null,null,null,null,null,null,null,null,null,null,null,null,null,null,null,null,null,null,null,null,null,null,null,null,null,null,null,null,null,null,null,null,null,null,null,null,null,null,null,null,null,null,null,null,null,null,null,null,null,null,null,null,null,null,null,null,null,null,null,null,null,null,null,null,null,null,null,null,null,null,null,null,null,null,null,null,null,null,null,null,null,null,null,null,null,null,null,null,null,null,null,null,null,null,null,null,null,null,null,null,null,null,null,null,null,null,null,null,null,null,null,null,null,null,null,null,null,null,null,null,null,null,null,null,null,null,null,null,null,null,null,null,null,null,null,null,null,null,null,null,null,null,null,null,null,null,null,null,null,null,null,null,null,null,null,null,null,null,null,null,null,null,null,null,null,null,null,null,null,null,"Pedestrian Multimodal Scoring for Non-Roundabout Intersections"]
[]
["DO NOT MODIFY THIS ROW",null,null,null,null,null,null,null,null,null,null,null,null,null,null,null,null,null,null,null,null,null,null,null,null,null,null,null,null,1,null,null,null,null,{"$f":"AD19","v":1},null,null,null,null,2,null,null,null,null,{"$f":"AN19","v":2},null,null,null,null,3,null,null,null,null,{"$f":"AX19","v":3},null,null,null,null,4,null,null,null,null,{"$f":"BH19","v":4},null,null,null,null,5,null,null,null,null,{"$f":"BR19","v":5},null,null,null,null,6,null,null,null,null,{"$f":"CB19","v":6},null,null,null,null,7,null,null,null,null,{"$f":"CL19","v":7},null,null,null,null,8,null,null,null,null,{"$f":"CV19","v":8},null,null,null,null,9,null,null,null,null,{"$f":"DF19","v":9},null,null,null,null,10,null,null,null,null,{"$f":"DP19","v":10},null,null,null,null,11,null,null,null,null,{"$f":"DZ19","v":11},null,null,null,null,12,null,null,null,null,{"$f":"EJ19","v":12},null,null,null,null,13,null,null,null,null,{"$f":"ET19","v":13},null,null,null,null,14,null,null,null,null,{"$f":"FD19","v":14},null,null,null,null,15,null,null,null,null,{"$f":"FN19","v":15},null,null,null,null,16,null,null,null,null,{"$f":"FX19","v":16}]
["TYPE OF INTERSECTION",null,null,null,null,null,null,null,null,null,null,null,null,null,null,null,null,null,null,"Sheet",null,null,null,null,null,"# Of\n X-ings",null,null,null,"Crossing #1",null,null,null,null,null,null,null,null,null,"Crossing #2",null,null,null,null,null,null,null,null,null,"Crossing #3",null,null,null,null,null,null,null,null,null,"Crossing #4",null,null,null,null,null,null,null,null,null,"Crossing #5",null,null,null,null,null,null,null,null,null,"Crossing #6",null,null,null,null,null,null,null,null,null,"Crossing #7",null,null,null,null,null,null,null,null,null,"Crossing #8",null,null,null,null,null,null,null,null,null,"Crossing #9",null,null,null,null,null,null,null,null,null,"Crossing #10",null,null,null,null,null,null,null,null,null,"Crossing #11",null,null,null,null,null,null,null,null,null,"Crossing #12",null,null,null,null,null,null,null,null,null,"Crossing #13",null,null,null,null,null,null,null,null,null,"Crossing #14",null,null,null,null,null,null,null,null,null,"Crossing #15",null,null,null,null,null,null,null,null,null,"Crossing #16",null,null,null,null,null,null,null,null,null,null,null,null,null,"Intx Scores",null,null,null,null,null,null,null,null,null,null,null,null,null,null,"Individual Crossing Scores"]
[]
[null,null,null,null,null,null,null,null,null,null,null,null,null,null,null,null,null,null,null,null,null,null,null,null,null,null,null,null,null,"# Lanes",null,null,null,null,"Veh Speed",null,null,null,null,"# Lanes",null,null,null,null,"Veh Speed",null,null,null,null,"# Lanes",null,null,null,null,"Veh Speed",null,null,null,null,"# Lanes",null,null,null,null,"Veh Speed",null,null,null,null,"# Lanes",null,null,null,null,"Veh Speed",null,null,null,null,"# Lanes",null,null,null,null,"Veh Speed",null,null,null,null,"# Lanes",null,null,null,null,"Veh Speed",null,null,null,null,"# Lanes",null,null,null,null,"Veh Speed",null,null,null,null,"# Lanes",null,null,null,null,"Veh Speed",null,null,null,null,"# Lanes",null,null,null,null,"Veh Speed",null,null,null,null,"# Lanes",null,null,null,null,"Veh Speed",null,null,null,null,"# Lanes",null,null,null,null,"Veh Speed",null,null,null,null,"# Lanes",null,null,null,null,"Veh Speed",null,null,null,null,"# Lanes",null,null,null,null,"Veh Speed",null,null,null,null,"# Lanes",null,null,null,null,"Veh Speed",null,null,null,null,"# Lanes",null,null,null,null,"Veh Speed",null,null,null,null,null,null,null,null,"Report",null,null,null,null,"Worst",null,null,null,null,"Avg",null,null,null,null,"#1",null,null,null,null,null,null,null,null,null,"#2",null,null,null,null,null,null,null,null,null,"#3",null,null,null,null,null,null,null,null,null,"#4",null,null,null,null,null,null,null,null,null,"#5",null,null,null,null,null,null,null,null,null,"#6",null,null,null,null,null,null,null,null,null,"#7",null,null,null,null,null,null,null,null,null,"#8",null,null,null,null,null,null,null,null,null,"#9",null,null,null,null,null,null,null,null,null,"#10",null,null,null,null,null,null,null,null,null,"#11",null,null,null,null,null,null,null,null,null,"#12",null,null,null,null,null,null,null,null,null,"#13",null,null,null,null,null,null,null,null,null,"#14",null,null,null,null,null,null,null,null,null,"#15",null,null,null,null,null,null,null,null,null,"#16"]
[]
[{"$f":"'3 - Alt Num Lanes Input'!E24","v":"Traffic Signal"},null,null,null,null,null,null,null,null,null,null,null,null,null,null,null,null,null,null,"FULL",null,null,null,null,null,6,null,null,null,"2 Lanes",null,null,null,null,"Stop / Signal",null,null,null,null,"3+ Lanes",null,null,null,null,"Stop / Signal",null,null,null,null,"2 Lanes",null,null,null,null,"Stop / Signal",null,null,null,null,"2 Lanes",null,null,null,null,"Stop / Signal",null,null,null,null,"2 Lanes",null,null,null,null,"Stop / Signal",null,null,null,null,"2 Lanes",null,null,null,null,"Stop / Signal",null,null,null,null,"2 Lanes",null,null,null,null,"<20mph",null,null,null,null,"2 Lanes",null,null,null,null,"<20mph",null,null,null,null,"2 Lanes",null,null,null,null,"<20mph",null,null,null,null,"2 Lanes",null,null,null,null,"<20mph",null,null,null,null,"2 Lanes",null,null,null,null,"<20mph",null,null,null,null,"2 Lanes",null,null,null,null,"<20mph",null,null,null,null,"2 Lanes",null,null,null,null,"<20mph",null,null,null,null,"2 Lanes",null,null,null,null,"<20mph",null,null,null,null,"2 Lanes",null,null,null,null,"<20mph",null,null,null,null,"2 Lanes",null,null,null,null,"<20mph",null,null,null,null,null,null,null,null,{"$f":"IF(GV24<=$BX$11,$BR$11,IF(GV24<=$BX$10,$BR$10,IF(GV24<=$BX$9,$BR$9,$BR$8)))","v":"Good"},null,null,null,null,{"$f":"MIN(HA24:ND25)","v":60},null,null,null,null,{"$f":"AVERAGE(HA24:ND25)","v":76.666666666666671},null,null,null,null,{"$f":"IF(AD$19>$Z24,\"--\",IF(AD24=$CN$8,$CV$8,IF(AD24=$CN$9,$CV$9,$CV$10))*IF(AI24=$CD$8,$CJ$8,IF(AI24=$CD$9,$CJ$9,IF(AI24=$CD$10,$CJ$10,$CJ$11))))","v":80},null,null,null,null,null,null,null,null,null,{"$f":"IF(AN$19>$Z24,\"--\",IF(AN24=$CN$8,$CV$8,IF(AN24=$CN$9,$CV$9,$CV$10))*IF(AS24=$CD$8,$CJ$8,IF(AS24=$CD$9,$CJ$9,IF(AS24=$CD$10,$CJ$10,$CJ$11))))","v":60},null,null,null,null,null,null,null,null,null,{"$f":"IF(AX$19>$Z24,\"--\",IF(AX24=$CN$8,$CV$8,IF(AX24=$CN$9,$CV$9,$CV$10))*IF(BC24=$CD$8,$CJ$8,IF(BC24=$CD$9,$CJ$9,IF(BC24=$CD$10,$CJ$10,$CJ$11))))","v":80},null,null,null,null,null,null,null,null,null,{"$f":"IF(BH$19>$Z24,\"--\",IF(BH24=$CN$8,$CV$8,IF(BH24=$CN$9,$CV$9,$CV$10))*IF(BM24=$CD$8,$CJ$8,IF(BM24=$CD$9,$CJ$9,IF(BM24=$CD$10,$CJ$10,$CJ$11))))","v":80},null,null,null,null,null,null,null,null,null,{"$f":"IF(BR$19>$Z24,\"--\",IF(BR24=$CN$8,$CV$8,IF(BR24=$CN$9,$CV$9,$CV$10))*IF(BW24=$CD$8,$CJ$8,IF(BW24=$CD$9,$CJ$9,IF(BW24=$CD$10,$CJ$10,$CJ$11))))","v":80},null,null,null,null,null,null,null,null,null,{"$f":"IF(CB$19>$Z24,\"--\",IF(CB24=$CN$8,$CV$8,IF(CB24=$CN$9,$CV$9,$CV$10))*IF(CG24=$CD$8,$CJ$8,IF(CG24=$CD$9,$CJ$9,IF(CG24=$CD$10,$CJ$10,$CJ$11))))","v":80},null,null,null,null,null,null,null,null,null,{"$f":"IF(CL$19>$Z24,\"--\",IF(CL24=$CN$8,$CV$8,IF(CL24=$CN$9,$CV$9,$CV$10))*IF(CQ24=$CD$8,$CJ$8,IF(CQ24=$CD$9,$CJ$9,IF(CQ24=$CD$10,$CJ$10,$CJ$11))))","v":"--"},null,null,null,null,null,null,null,null,null,{"$f":"IF(CV$19>$Z24,\"--\",IF(CV24=$CN$8,$CV$8,IF(CV24=$CN$9,$CV$9,$CV$10))*IF(DA24=$CD$8,$CJ$8,IF(DA24=$CD$9,$CJ$9,IF(DA24=$CD$10,$CJ$10,$CJ$11))))","v":"--"},null,null,null,null,null,null,null,null,null,{"$f":"IF(DF$19>$Z24,\"--\",IF(DF24=$CN$8,$CV$8,IF(DF24=$CN$9,$CV$9,$CV$10))*IF(DK24=$CD$8,$CJ$8,IF(DK24=$CD$9,$CJ$9,IF(DK24=$CD$10,$CJ$10,$CJ$11))))","v":"--"},null,null,null,null,null,null,null,null,null,{"$f":"IF(DP$19>$Z24,\"--\",IF(DP24=$CN$8,$CV$8,IF(DP24=$CN$9,$CV$9,$CV$10))*IF(DU24=$CD$8,$CJ$8,IF(DU24=$CD$9,$CJ$9,IF(DU24=$CD$10,$CJ$10,$CJ$11))))","v":"--"},null,null,null,null,null,null,null,null,null,{"$f":"IF(DZ$19>$Z24,\"--\",IF(DZ24=$CN$8,$CV$8,IF(DZ24=$CN$9,$CV$9,$CV$10))*IF(EE24=$CD$8,$CJ$8,IF(EE24=$CD$9,$CJ$9,IF(EE24=$CD$10,$CJ$10,$CJ$11))))","v":"--"},null,null,null,null,null,null,null,null,null,{"$f":"IF(EJ$19>$Z24,\"--\",IF(EJ24=$CN$8,$CV$8,IF(EJ24=$CN$9,$CV$9,$CV$10))*IF(EO24=$CD$8,$CJ$8,IF(EO24=$CD$9,$CJ$9,IF(EO24=$CD$10,$CJ$10,$CJ$11))))","v":"--"},null,null,null,null,null,null,null,null,null,{"$f":"IF(ET$19>$Z24,\"--\",IF(ET24=$CN$8,$CV$8,IF(ET24=$CN$9,$CV$9,$CV$10))*IF(EY24=$CD$8,$CJ$8,IF(EY24=$CD$9,$CJ$9,IF(EY24=$CD$10,$CJ$10,$CJ$11))))","v":"--"},null,null,null,null,null,null,null,null,null,{"$f":"IF(FD$19>$Z24,\"--\",IF(FD24=$CN$8,$CV$8,IF(FD24=$CN$9,$CV$9,$CV$10))*IF(FI24=$CD$8,$CJ$8,IF(FI24=$CD$9,$CJ$9,IF(FI24=$CD$10,$CJ$10,$CJ$11))))","v":"--"},null,null,null,null,null,null,null,null,null,{"$f":"IF(FN$19>$Z24,\"--\",IF(FN24=$CN$8,$CV$8,IF(FN24=$CN$9,$CV$9,$CV$10))*IF(FS24=$CD$8,$CJ$8,IF(FS24=$CD$9,$CJ$9,IF(FS24=$CD$10,$CJ$10,$CJ$11))))","v":"--"},null,null,null,null,null,null,null,null,null,{"$f":"IF(FX$19>$Z24,\"--\",IF(FX24=$CN$8,$CV$8,IF(FX24=$CN$9,$CV$9,$CV$10))*IF(GC24=$CD$8,$CJ$8,IF(GC24=$CD$9,$CJ$9,IF(GC24=$CD$10,$CJ$10,$CJ$11))))","v":"--"}]
[]
["Conventional Shared RT LN",null,null,null,null,null,null,null,null,null,null,null,null,null,null,null,null,null,null,"CSRL",null,null,null,null,null,4,null,null,null,"2 Lanes",null,null,null,null,"Stop / Signal",null,null,null,null,"2 Lanes",null,null,null,null,"Stop / Signal",null,null,null,null,"2 Lanes",null,null,null,null,"Stop / Signal",null,null,null,null,"2 Lanes",null,null,null,null,"Stop / Signal",null,null,null,null,"2 Lanes",null,null,null,null,"<20mph",null,null,null,null,"2 Lanes",null,null,null,null,"<20mph",null,null,null,null,"2 Lanes",null,null,null,null,"<20mph",null,null,null,null,"2 Lanes",null,null,null,null,"<20mph",null,null,null,null,"2 Lanes",null,null,null,null,"<20mph",null,null,null,null,"2 Lanes",null,null,null,null,"<20mph",null,null,null,null,"2 Lanes",null,null,null,null,"<20mph",null,null,null,null,"2 Lanes",null,null,null,null,"<20mph",null,null,null,null,"2 Lanes",null,null,null,null,"<20mph",null,null,null,null,"2 Lanes",null,null,null,null,"<20mph",null,null,null,null,"2 Lanes",null,null,null,null,"<20mph",null,null,null,null,"2 Lanes",null,null,null,null,"<20mph",null,null,null,null,null,null,null,null,{"$f":"IF(GV26<=$BX$11,$BR$11,IF(GV26<=$BX$10,$BR$10,IF(GV26<=$BX$9,$BR$9,$BR$8)))","v":"Excellent"},null,null,null,null,{"$f":"MIN(HA26:ND27)","v":80},null,null,null,null,{"$f":"AVERAGE(HA26:ND27)","v":80},null,null,null,null,{"$f":"IF(AD$19>$Z26,\"--\",IF(AD26=$CN$8,$CV$8,IF(AD26=$CN$9,$CV$9,$CV$10))*IF(AI26=$CD$8,$CJ$8,IF(AI26=$CD$9,$CJ$9,IF(AI26=$CD$10,$CJ$10,$CJ$11))))","v":80},null,null,null,null,null,null,null,null,null,{"$f":"IF(AN$19>$Z26,\"--\",IF(AN26=$CN$8,$CV$8,IF(AN26=$CN$9,$CV$9,$CV$10))*IF(AS26=$CD$8,$CJ$8,IF(AS26=$CD$9,$CJ$9,IF(AS26=$CD$10,$CJ$10,$CJ$11))))","v":80},null,null,null,null,null,null,null,null,null,{"$f":"IF(AX$19>$Z26,\"--\",IF(AX26=$CN$8,$CV$8,IF(AX26=$CN$9,$CV$9,$CV$10))*IF(BC26=$CD$8,$CJ$8,IF(BC26=$CD$9,$CJ$9,IF(BC26=$CD$10,$CJ$10,$CJ$11))))","v":80},null,null,null,null,null,null,null,null,null,{"$f":"IF(BH$19>$Z26,\"--\",IF(BH26=$CN$8,$CV$8,IF(BH26=$CN$9,$CV$9,$CV$10))*IF(BM26=$CD$8,$CJ$8,IF(BM26=$CD$9,$CJ$9,IF(BM26=$CD$10,$CJ$10,$CJ$11))))","v":80},null,null,null,null,null,null,null,null,null,{"$f":"IF(BR$19>$Z26,\"--\",IF(BR26=$CN$8,$CV$8,IF(BR26=$CN$9,$CV$9,$CV$10))*IF(BW26=$CD$8,$CJ$8,IF(BW26=$CD$9,$CJ$9,IF(BW26=$CD$10,$CJ$10,$CJ$11))))","v":"--"},null,null,null,null,null,null,null,null,null,{"$f":"IF(CB$19>$Z26,\"--\",IF(CB26=$CN$8,$CV$8,IF(CB26=$CN$9,$CV$9,$CV$10))*IF(CG26=$CD$8,$CJ$8,IF(CG26=$CD$9,$CJ$9,IF(CG26=$CD$10,$CJ$10,$CJ$11))))","v":"--"},null,null,null,null,null,null,null,null,null,{"$f":"IF(CL$19>$Z26,\"--\",IF(CL26=$CN$8,$CV$8,IF(CL26=$CN$9,$CV$9,$CV$10))*IF(CQ26=$CD$8,$CJ$8,IF(CQ26=$CD$9,$CJ$9,IF(CQ26=$CD$10,$CJ$10,$CJ$11))))","v":"--"},null,null,null,null,null,null,null,null,null,{"$f":"IF(CV$19>$Z26,\"--\",IF(CV26=$CN$8,$CV$8,IF(CV26=$CN$9,$CV$9,$CV$10))*IF(DA26=$CD$8,$CJ$8,IF(DA26=$CD$9,$CJ$9,IF(DA26=$CD$10,$CJ$10,$CJ$11))))","v":"--"},null,null,null,null,null,null,null,null,null,{"$f":"IF(DF$19>$Z26,\"--\",IF(DF26=$CN$8,$CV$8,IF(DF26=$CN$9,$CV$9,$CV$10))*IF(DK26=$CD$8,$CJ$8,IF(DK26=$CD$9,$CJ$9,IF(DK26=$CD$10,$CJ$10,$CJ$11))))","v":"--"},null,null,null,null,null,null,null,null,null,{"$f":"IF(DP$19>$Z26,\"--\",IF(DP26=$CN$8,$CV$8,IF(DP26=$CN$9,$CV$9,$CV$10))*IF(DU26=$CD$8,$CJ$8,IF(DU26=$CD$9,$CJ$9,IF(DU26=$CD$10,$CJ$10,$CJ$11))))","v":"--"},null,null,null,null,null,null,null,null,null,{"$f":"IF(DZ$19>$Z26,\"--\",IF(DZ26=$CN$8,$CV$8,IF(DZ26=$CN$9,$CV$9,$CV$10))*IF(EE26=$CD$8,$CJ$8,IF(EE26=$CD$9,$CJ$9,IF(EE26=$CD$10,$CJ$10,$CJ$11))))","v":"--"},null,null,null,null,null,null,null,null,null,{"$f":"IF(EJ$19>$Z26,\"--\",IF(EJ26=$CN$8,$CV$8,IF(EJ26=$CN$9,$CV$9,$CV$10))*IF(EO26=$CD$8,$CJ$8,IF(EO26=$CD$9,$CJ$9,IF(EO26=$CD$10,$CJ$10,$CJ$11))))","v":"--"},null,null,null,null,null,null,null,null,null,{"$f":"IF(ET$19>$Z26,\"--\",IF(ET26=$CN$8,$CV$8,IF(ET26=$CN$9,$CV$9,$CV$10))*IF(EY26=$CD$8,$CJ$8,IF(EY26=$CD$9,$CJ$9,IF(EY26=$CD$10,$CJ$10,$CJ$11))))","v":"--"},null,null,null,null,null,null,null,null,null,{"$f":"IF(FD$19>$Z26,\"--\",IF(FD26=$CN$8,$CV$8,IF(FD26=$CN$9,$CV$9,$CV$10))*IF(FI26=$CD$8,$CJ$8,IF(FI26=$CD$9,$CJ$9,IF(FI26=$CD$10,$CJ$10,$CJ$11))))","v":"--"},null,null,null,null,null,null,null,null,null,{"$f":"IF(FN$19>$Z26,\"--\",IF(FN26=$CN$8,$CV$8,IF(FN26=$CN$9,$CV$9,$CV$10))*IF(FS26=$CD$8,$CJ$8,IF(FS26=$CD$9,$CJ$9,IF(FS26=$CD$10,$CJ$10,$CJ$11))))","v":"--"},null,null,null,null,null,null,null,null,null,{"$f":"IF(FX$19>$Z26,\"--\",IF(FX26=$CN$8,$CV$8,IF(FX26=$CN$9,$CV$9,$CV$10))*IF(GC26=$CD$8,$CJ$8,IF(GC26=$CD$9,$CJ$9,IF(GC26=$CD$10,$CJ$10,$CJ$11))))","v":"--"}]
[]
[{"$f":"'3 - Alt Num Lanes Input'!E28","v":"Two-Way Stop Control"},null,null,null,null,null,null,null,null,null,null,null,null,null,null,null,null,null,null,"N-S",null,null,null,null,null,4,null,null,null,"3+ Lanes",null,null,null,null,">30mph",null,null,null,null,"3+ Lanes",null,null,null,null,">30mph",null,null,null,null,"2 Lanes",null,null,null,null,"Stop / Signal",null,null,null,null,"2 Lanes",null,null,null,null,"Stop / Signal",null,null,null,null,"2 Lanes",null,null,null,null,"<20mph",null,null,null,null,"2 Lanes",null,null,null,null,"<20mph",null,null,null,null,"2 Lanes",null,null,null,null,"<20mph",null,null,null,null,"2 Lanes",null,null,null,null,"<20mph",null,null,null,null,"2 Lanes",null,null,null,null,"<20mph",null,null,null,null,"2 Lanes",null,null,null,null,"<20mph",null,null,null,null,"2 Lanes",null,null,null,null,"<20mph",null,null,null,null,"2 Lanes",null,null,null,null,"<20mph",null,null,null,null,"2 Lanes",null,null,null,null,"<20mph",null,null,null,null,"2 Lanes",null,null,null,null,"<20mph",null,null,null,null,"2 Lanes",null,null,null,null,"<20mph",null,null,null,null,"2 Lanes",null,null,null,null,"<20mph",null,null,null,null,null,null,null,null,{"$f":"IF(GV28<=$BX$11,$BR$11,IF(GV28<=$BX$10,$BR$10,IF(GV28<=$BX$9,$BR$9,$BR$8)))","v":"Fair"},null,null,null,null,{"$f":"MIN(HA28:ND29)","v":24},null,null,null,null,{"$f":"AVERAGE(HA28:ND29)","v":52},null,null,null,null,{"$f":"IF(AD$19>$Z28,\"--\",IF(AD28=$CN$8,$CV$8,IF(AD28=$CN$9,$CV$9,$CV$10))*IF(AI28=$CD$8,$CJ$8,IF(AI28=$CD$9,$CJ$9,IF(AI28=$CD$10,$CJ$10,$CJ$11))))","v":24},null,null,null,null,null,null,null,null,null,{"$f":"IF(AN$19>$Z28,\"--\",IF(AN28=$CN$8,$CV$8,IF(AN28=$CN$9,$CV$9,$CV$10))*IF(AS28=$CD$8,$CJ$8,IF(AS28=$CD$9,$CJ$9,IF(AS28=$CD$10,$CJ$10,$CJ$11))))","v":24},null,null,null,null,null,null,null,null,null,{"$f":"IF(AX$19>$Z28,\"--\",IF(AX28=$CN$8,$CV$8,IF(AX28=$CN$9,$CV$9,$CV$10))*IF(BC28=$CD$8,$CJ$8,IF(BC28=$CD$9,$CJ$9,IF(BC28=$CD$10,$CJ$10,$CJ$11))))","v":80},null,null,null,null,null,null,null,null,null,{"$f":"IF(BH$19>$Z28,\"--\",IF(BH28=$CN$8,$CV$8,IF(BH28=$CN$9,$CV$9,$CV$10))*IF(BM28=$CD$8,$CJ$8,IF(BM28=$CD$9,$CJ$9,IF(BM28=$CD$10,$CJ$10,$CJ$11))))","v":80},null,null,null,null,null,null,null,null,null,{"$f":"IF(BR$19>$Z28,\"--\",IF(BR28=$CN$8,$CV$8,IF(BR28=$CN$9,$CV$9,$CV$10))*IF(BW28=$CD$8,$CJ$8,IF(BW28=$CD$9,$CJ$9,IF(BW28=$CD$10,$CJ$10,$CJ$11))))","v":"--"},null,null,null,null,null,null,null,null,null,{"$f":"IF(CB$19>$Z28,\"--\",IF(CB28=$CN$8,$CV$8,IF(CB28=$CN$9,$CV$9,$CV$10))*IF(CG28=$CD$8,$CJ$8,IF(CG28=$CD$9,$CJ$9,IF(CG28=$CD$10,$CJ$10,$CJ$11))))","v":"--"},null,null,null,null,null,null,null,null,null,{"$f":"IF(CL$19>$Z28,\"--\",IF(CL28=$CN$8,$CV$8,IF(CL28=$CN$9,$CV$9,$CV$10))*IF(CQ28=$CD$8,$CJ$8,IF(CQ28=$CD$9,$CJ$9,IF(CQ28=$CD$10,$CJ$10,$CJ$11))))","v":"--"},null,null,null,null,null,null,null,null,null,{"$f":"IF(CV$19>$Z28,\"--\",IF(CV28=$CN$8,$CV$8,IF(CV28=$CN$9,$CV$9,$CV$10))*IF(DA28=$CD$8,$CJ$8,IF(DA28=$CD$9,$CJ$9,IF(DA28=$CD$10,$CJ$10,$CJ$11))))","v":"--"},null,null,null,null,null,null,null,null,null,{"$f":"IF(DF$19>$Z28,\"--\",IF(DF28=$CN$8,$CV$8,IF(DF28=$CN$9,$CV$9,$CV$10))*IF(DK28=$CD$8,$CJ$8,IF(DK28=$CD$9,$CJ$9,IF(DK28=$CD$10,$CJ$10,$CJ$11))))","v":"--"},null,null,null,null,null,null,null,null,null,{"$f":"IF(DP$19>$Z28,\"--\",IF(DP28=$CN$8,$CV$8,IF(DP28=$CN$9,$CV$9,$CV$10))*IF(DU28=$CD$8,$CJ$8,IF(DU28=$CD$9,$CJ$9,IF(DU28=$CD$10,$CJ$10,$CJ$11))))","v":"--"},null,null,null,null,null,null,null,null,null,{"$f":"IF(DZ$19>$Z28,\"--\",IF(DZ28=$CN$8,$CV$8,IF(DZ28=$CN$9,$CV$9,$CV$10))*IF(EE28=$CD$8,$CJ$8,IF(EE28=$CD$9,$CJ$9,IF(EE28=$CD$10,$CJ$10,$CJ$11))))","v":"--"},null,null,null,null,null,null,null,null,null,{"$f":"IF(EJ$19>$Z28,\"--\",IF(EJ28=$CN$8,$CV$8,IF(EJ28=$CN$9,$CV$9,$CV$10))*IF(EO28=$CD$8,$CJ$8,IF(EO28=$CD$9,$CJ$9,IF(EO28=$CD$10,$CJ$10,$CJ$11))))","v":"--"},null,null,null,null,null,null,null,null,null,{"$f":"IF(ET$19>$Z28,\"--\",IF(ET28=$CN$8,$CV$8,IF(ET28=$CN$9,$CV$9,$CV$10))*IF(EY28=$CD$8,$CJ$8,IF(EY28=$CD$9,$CJ$9,IF(EY28=$CD$10,$CJ$10,$CJ$11))))","v":"--"},null,null,null,null,null,null,null,null,null,{"$f":"IF(FD$19>$Z28,\"--\",IF(FD28=$CN$8,$CV$8,IF(FD28=$CN$9,$CV$9,$CV$10))*IF(FI28=$CD$8,$CJ$8,IF(FI28=$CD$9,$CJ$9,IF(FI28=$CD$10,$CJ$10,$CJ$11))))","v":"--"},null,null,null,null,null,null,null,null,null,{"$f":"IF(FN$19>$Z28,\"--\",IF(FN28=$CN$8,$CV$8,IF(FN28=$CN$9,$CV$9,$CV$10))*IF(FS28=$CD$8,$CJ$8,IF(FS28=$CD$9,$CJ$9,IF(FS28=$CD$10,$CJ$10,$CJ$11))))","v":"--"},null,null,null,null,null,null,null,null,null,{"$f":"IF(FX$19>$Z28,\"--\",IF(FX28=$CN$8,$CV$8,IF(FX28=$CN$9,$CV$9,$CV$10))*IF(GC28=$CD$8,$CJ$8,IF(GC28=$CD$9,$CJ$9,IF(GC28=$CD$10,$CJ$10,$CJ$11))))","v":"--"}]
[]
[null,null,null,null,null,null,null,null,null,null,null,null,null,null,null,null,null,null,null,"E-W",null,null,null,null,null,4,null,null,null,"3+ Lanes",null,null,null,null,">30mph",null,null,null,null,"3+ Lanes",null,null,null,null,">30mph",null,null,null,null,"2 Lanes",null,null,null,null,"Stop / Signal",null,null,null,null,"2 Lanes",null,null,null,null,"Stop / Signal",null,null,null,null,"2 Lanes",null,null,null,null,"<20mph",null,null,null,null,"2 Lanes",null,null,null,null,"<20mph",null,null,null,null,"2 Lanes",null,null,null,null,"<20mph",null,null,null,null,"2 Lanes",null,null,null,null,"<20mph",null,null,null,null,"2 Lanes",null,null,null,null,"<20mph",null,null,null,null,"2 Lanes",null,null,null,null,"<20mph",null,null,null,null,"2 Lanes",null,null,null,null,"<20mph",null,null,null,null,"2 Lanes",null,null,null,null,"<20mph",null,null,null,null,"2 Lanes",null,null,null,null,"<20mph",null,null,null,null,"2 Lanes",null,null,null,null,"<20mph",null,null,null,null,"2 Lanes",null,null,null,null,"<20mph",null,null,null,null,"2 Lanes",null,null,null,null,"<20mph",null,null,null,null,null,null,null,null,{"$f":"IF(GV30<=$BX$11,$BR$11,IF(GV30<=$BX$10,$BR$10,IF(GV30<=$BX$9,$BR$9,$BR$8)))","v":"Fair"},null,null,null,null,{"$f":"MIN(HA30:ND31)","v":24},null,null,null,null,{"$f":"AVERAGE(HA30:ND31)","v":52},null,null,null,null,{"$f":"IF(AD$19>$Z30,\"--\",IF(AD30=$CN$8,$CV$8,IF(AD30=$CN$9,$CV$9,$CV$10))*IF(AI30=$CD$8,$CJ$8,IF(AI30=$CD$9,$CJ$9,IF(AI30=$CD$10,$CJ$10,$CJ$11))))","v":24},null,null,null,null,null,null,null,null,null,{"$f":"IF(AN$19>$Z30,\"--\",IF(AN30=$CN$8,$CV$8,IF(AN30=$CN$9,$CV$9,$CV$10))*IF(AS30=$CD$8,$CJ$8,IF(AS30=$CD$9,$CJ$9,IF(AS30=$CD$10,$CJ$10,$CJ$11))))","v":24},null,null,null,null,null,null,null,null,null,{"$f":"IF(AX$19>$Z30,\"--\",IF(AX30=$CN$8,$CV$8,IF(AX30=$CN$9,$CV$9,$CV$10))*IF(BC30=$CD$8,$CJ$8,IF(BC30=$CD$9,$CJ$9,IF(BC30=$CD$10,$CJ$10,$CJ$11))))","v":80},null,null,null,null,null,null,null,null,null,{"$f":"IF(BH$19>$Z30,\"--\",IF(BH30=$CN$8,$CV$8,IF(BH30=$CN$9,$CV$9,$CV$10))*IF(BM30=$CD$8,$CJ$8,IF(BM30=$CD$9,$CJ$9,IF(BM30=$CD$10,$CJ$10,$CJ$11))))","v":80},null,null,null,null,null,null,null,null,null,{"$f":"IF(BR$19>$Z30,\"--\",IF(BR30=$CN$8,$CV$8,IF(BR30=$CN$9,$CV$9,$CV$10))*IF(BW30=$CD$8,$CJ$8,IF(BW30=$CD$9,$CJ$9,IF(BW30=$CD$10,$CJ$10,$CJ$11))))","v":"--"},null,null,null,null,null,null,null,null,null,{"$f":"IF(CB$19>$Z30,\"--\",IF(CB30=$CN$8,$CV$8,IF(CB30=$CN$9,$CV$9,$CV$10))*IF(CG30=$CD$8,$CJ$8,IF(CG30=$CD$9,$CJ$9,IF(CG30=$CD$10,$CJ$10,$CJ$11))))","v":"--"},null,null,null,null,null,null,null,null,null,{"$f":"IF(CL$19>$Z30,\"--\",IF(CL30=$CN$8,$CV$8,IF(CL30=$CN$9,$CV$9,$CV$10))*IF(CQ30=$CD$8,$CJ$8,IF(CQ30=$CD$9,$CJ$9,IF(CQ30=$CD$10,$CJ$10,$CJ$11))))","v":"--"},null,null,null,null,null,null,null,null,null,{"$f":"IF(CV$19>$Z30,\"--\",IF(CV30=$CN$8,$CV$8,IF(CV30=$CN$9,$CV$9,$CV$10))*IF(DA30=$CD$8,$CJ$8,IF(DA30=$CD$9,$CJ$9,IF(DA30=$CD$10,$CJ$10,$CJ$11))))","v":"--"},null,null,null,null,null,null,null,null,null,{"$f":"IF(DF$19>$Z30,\"--\",IF(DF30=$CN$8,$CV$8,IF(DF30=$CN$9,$CV$9,$CV$10))*IF(DK30=$CD$8,$CJ$8,IF(DK30=$CD$9,$CJ$9,IF(DK30=$CD$10,$CJ$10,$CJ$11))))","v":"--"},null,null,null,null,null,null,null,null,null,{"$f":"IF(DP$19>$Z30,\"--\",IF(DP30=$CN$8,$CV$8,IF(DP30=$CN$9,$CV$9,$CV$10))*IF(DU30=$CD$8,$CJ$8,IF(DU30=$CD$9,$CJ$9,IF(DU30=$CD$10,$CJ$10,$CJ$11))))","v":"--"},null,null,null,null,null,null,null,null,null,{"$f":"IF(DZ$19>$Z30,\"--\",IF(DZ30=$CN$8,$CV$8,IF(DZ30=$CN$9,$CV$9,$CV$10))*IF(EE30=$CD$8,$CJ$8,IF(EE30=$CD$9,$CJ$9,IF(EE30=$CD$10,$CJ$10,$CJ$11))))","v":"--"},null,null,null,null,null,null,null,null,null,{"$f":"IF(EJ$19>$Z30,\"--\",IF(EJ30=$CN$8,$CV$8,IF(EJ30=$CN$9,$CV$9,$CV$10))*IF(EO30=$CD$8,$CJ$8,IF(EO30=$CD$9,$CJ$9,IF(EO30=$CD$10,$CJ$10,$CJ$11))))","v":"--"},null,null,null,null,null,null,null,null,null,{"$f":"IF(ET$19>$Z30,\"--\",IF(ET30=$CN$8,$CV$8,IF(ET30=$CN$9,$CV$9,$CV$10))*IF(EY30=$CD$8,$CJ$8,IF(EY30=$CD$9,$CJ$9,IF(EY30=$CD$10,$CJ$10,$CJ$11))))","v":"--"},null,null,null,null,null,null,null,null,null,{"$f":"IF(FD$19>$Z30,\"--\",IF(FD30=$CN$8,$CV$8,IF(FD30=$CN$9,$CV$9,$CV$10))*IF(FI30=$CD$8,$CJ$8,IF(FI30=$CD$9,$CJ$9,IF(FI30=$CD$10,$CJ$10,$CJ$11))))","v":"--"},null,null,null,null,null,null,null,null,null,{"$f":"IF(FN$19>$Z30,\"--\",IF(FN30=$CN$8,$CV$8,IF(FN30=$CN$9,$CV$9,$CV$10))*IF(FS30=$CD$8,$CJ$8,IF(FS30=$CD$9,$CJ$9,IF(FS30=$CD$10,$CJ$10,$CJ$11))))","v":"--"},null,null,null,null,null,null,null,null,null,{"$f":"IF(FX$19>$Z30,\"--\",IF(FX30=$CN$8,$CV$8,IF(FX30=$CN$9,$CV$9,$CV$10))*IF(GC30=$CD$8,$CJ$8,IF(GC30=$CD$9,$CJ$9,IF(GC30=$CD$10,$CJ$10,$CJ$11))))","v":"--"}]
[]
["All-Way Stop Control",null,null,null,null,null,null,null,null,null,null,null,null,null,null,null,null,null,null,"FULL",null,null,null,null,null,4,null,null,null,"2 Lanes",null,null,null,null,"<20mph",null,null,null,null,"2 Lanes",null,null,null,null,"<20mph",null,null,null,null,"2 Lanes",null,null,null,null,"<20mph",null,null,null,null,"2 Lanes",null,null,null,null,"<20mph",null,null,null,null,"2 Lanes",null,null,null,null,"<20mph",null,null,null,null,"2 Lanes",null,null,null,null,"<20mph",null,null,null,null,"2 Lanes",null,null,null,null,"<20mph",null,null,null,null,"2 Lanes",null,null,null,null,"<20mph",null,null,null,null,"2 Lanes",null,null,null,null,"<20mph",null,null,null,null,"2 Lanes",null,null,null,null,"<20mph",null,null,null,null,"2 Lanes",null,null,null,null,"<20mph",null,null,null,null,"2 Lanes",null,null,null,null,"<20mph",null,null,null,null,"2 Lanes",null,null,null,null,"<20mph",null,null,null,null,"2 Lanes",null,null,null,null,"<20mph",null,null,null,null,"2 Lanes",null,null,null,null,"<20mph",null,null,null,null,"2 Lanes",null,null,null,null,"<20mph",null,null,null,null,null,null,null,null,{"$f":"IF(GV32<=$BX$11,$BR$11,IF(GV32<=$BX$10,$BR$10,IF(GV32<=$BX$9,$BR$9,$BR$8)))","v":"Good"},null,null,null,null,{"$f":"MIN(HA32:ND33)","v":64},null,null,null,null,{"$f":"AVERAGE(HA32:ND33)","v":64},null,null,null,null,{"$f":"IF(AD$19>$Z32,\"--\",IF(AD32=$CN$8,$CV$8,IF(AD32=$CN$9,$CV$9,$CV$10))*IF(AI32=$CD$8,$CJ$8,IF(AI32=$CD$9,$CJ$9,IF(AI32=$CD$10,$CJ$10,$CJ$11))))","v":64},null,null,null,null,null,null,null,null,null,{"$f":"IF(AN$19>$Z32,\"--\",IF(AN32=$CN$8,$CV$8,IF(AN32=$CN$9,$CV$9,$CV$10))*IF(AS32=$CD$8,$CJ$8,IF(AS32=$CD$9,$CJ$9,IF(AS32=$CD$10,$CJ$10,$CJ$11))))","v":64},null,null,null,null,null,null,null,null,null,{"$f":"IF(AX$19>$Z32,\"--\",IF(AX32=$CN$8,$CV$8,IF(AX32=$CN$9,$CV$9,$CV$10))*IF(BC32=$CD$8,$CJ$8,IF(BC32=$CD$9,$CJ$9,IF(BC32=$CD$10,$CJ$10,$CJ$11))))","v":64},null,null,null,null,null,null,null,null,null,{"$f":"IF(BH$19>$Z32,\"--\",IF(BH32=$CN$8,$CV$8,IF(BH32=$CN$9,$CV$9,$CV$10))*IF(BM32=$CD$8,$CJ$8,IF(BM32=$CD$9,$CJ$9,IF(BM32=$CD$10,$CJ$10,$CJ$11))))","v":64},null,null,null,null,null,null,null,null,null,{"$f":"IF(BR$19>$Z32,\"--\",IF(BR32=$CN$8,$CV$8,IF(BR32=$CN$9,$CV$9,$CV$10))*IF(BW32=$CD$8,$CJ$8,IF(BW32=$CD$9,$CJ$9,IF(BW32=$CD$10,$CJ$10,$CJ$11))))","v":"--"},null,null,null,null,null,null,null,null,null,{"$f":"IF(CB$19>$Z32,\"--\",IF(CB32=$CN$8,$CV$8,IF(CB32=$CN$9,$CV$9,$CV$10))*IF(CG32=$CD$8,$CJ$8,IF(CG32=$CD$9,$CJ$9,IF(CG32=$CD$10,$CJ$10,$CJ$11))))","v":"--"},null,null,null,null,null,null,null,null,null,{"$f":"IF(CL$19>$Z32,\"--\",IF(CL32=$CN$8,$CV$8,IF(CL32=$CN$9,$CV$9,$CV$10))*IF(CQ32=$CD$8,$CJ$8,IF(CQ32=$CD$9,$CJ$9,IF(CQ32=$CD$10,$CJ$10,$CJ$11))))","v":"--"},null,null,null,null,null,null,null,null,null,{"$f":"IF(CV$19>$Z32,\"--\",IF(CV32=$CN$8,$CV$8,IF(CV32=$CN$9,$CV$9,$CV$10))*IF(DA32=$CD$8,$CJ$8,IF(DA32=$CD$9,$CJ$9,IF(DA32=$CD$10,$CJ$10,$CJ$11))))","v":"--"},null,null,null,null,null,null,null,null,null,{"$f":"IF(DF$19>$Z32,\"--\",IF(DF32=$CN$8,$CV$8,IF(DF32=$CN$9,$CV$9,$CV$10))*IF(DK32=$CD$8,$CJ$8,IF(DK32=$CD$9,$CJ$9,IF(DK32=$CD$10,$CJ$10,$CJ$11))))","v":"--"},null,null,null,null,null,null,null,null,null,{"$f":"IF(DP$19>$Z32,\"--\",IF(DP32=$CN$8,$CV$8,IF(DP32=$CN$9,$CV$9,$CV$10))*IF(DU32=$CD$8,$CJ$8,IF(DU32=$CD$9,$CJ$9,IF(DU32=$CD$10,$CJ$10,$CJ$11))))","v":"--"},null,null,null,null,null,null,null,null,null,{"$f":"IF(DZ$19>$Z32,\"--\",IF(DZ32=$CN$8,$CV$8,IF(DZ32=$CN$9,$CV$9,$CV$10))*IF(EE32=$CD$8,$CJ$8,IF(EE32=$CD$9,$CJ$9,IF(EE32=$CD$10,$CJ$10,$CJ$11))))","v":"--"},null,null,null,null,null,null,null,null,null,{"$f":"IF(EJ$19>$Z32,\"--\",IF(EJ32=$CN$8,$CV$8,IF(EJ32=$CN$9,$CV$9,$CV$10))*IF(EO32=$CD$8,$CJ$8,IF(EO32=$CD$9,$CJ$9,IF(EO32=$CD$10,$CJ$10,$CJ$11))))","v":"--"},null,null,null,null,null,null,null,null,null,{"$f":"IF(ET$19>$Z32,\"--\",IF(ET32=$CN$8,$CV$8,IF(ET32=$CN$9,$CV$9,$CV$10))*IF(EY32=$CD$8,$CJ$8,IF(EY32=$CD$9,$CJ$9,IF(EY32=$CD$10,$CJ$10,$CJ$11))))","v":"--"},null,null,null,null,null,null,null,null,null,{"$f":"IF(FD$19>$Z32,\"--\",IF(FD32=$CN$8,$CV$8,IF(FD32=$CN$9,$CV$9,$CV$10))*IF(FI32=$CD$8,$CJ$8,IF(FI32=$CD$9,$CJ$9,IF(FI32=$CD$10,$CJ$10,$CJ$11))))","v":"--"},null,null,null,null,null,null,null,null,null,{"$f":"IF(FN$19>$Z32,\"--\",IF(FN32=$CN$8,$CV$8,IF(FN32=$CN$9,$CV$9,$CV$10))*IF(FS32=$CD$8,$CJ$8,IF(FS32=$CD$9,$CJ$9,IF(FS32=$CD$10,$CJ$10,$CJ$11))))","v":"--"},null,null,null,null,null,null,null,null,null,{"$f":"IF(FX$19>$Z32,\"--\",IF(FX32=$CN$8,$CV$8,IF(FX32=$CN$9,$CV$9,$CV$10))*IF(GC32=$CD$8,$CJ$8,IF(GC32=$CD$9,$CJ$9,IF(GC32=$CD$10,$CJ$10,$CJ$11))))","v":"--"}]
[]
["Continuous Green T",null,null,null,null,null,null,null,null,null,null,null,null,null,null,null,null,null,null,"W",null,null,null,null,null,6,null,null,null,"2 Lanes",null,null,null,null,"<20mph",null,null,null,null,"2 Lanes",null,null,null,null,"<20mph",null,null,null,null,"2 Lanes",null,null,null,null,"<20mph",null,null,null,null,"2 Lanes",null,null,null,null,"<20mph",null,null,null,null,"2 Lanes",null,null,null,null,"<20mph",null,null,null,null,"2 Lanes",null,null,null,null,"<20mph",null,null,null,null,"2 Lanes",null,null,null,null,"<20mph",null,null,null,null,"2 Lanes",null,null,null,null,"<20mph",null,null,null,null,"2 Lanes",null,null,null,null,"<20mph",null,null,null,null,"2 Lanes",null,null,null,null,"<20mph",null,null,null,null,"2 Lanes",null,null,null,null,"<20mph",null,null,null,null,"2 Lanes",null,null,null,null,"<20mph",null,null,null,null,"2 Lanes",null,null,null,null,"<20mph",null,null,null,null,"2 Lanes",null,null,null,null,"<20mph",null,null,null,null,"2 Lanes",null,null,null,null,"<20mph",null,null,null,null,"2 Lanes",null,null,null,null,"<20mph",null,null,null,null,null,null,null,null,{"$f":"IF(GV34<=$BX$11,$BR$11,IF(GV34<=$BX$10,$BR$10,IF(GV34<=$BX$9,$BR$9,$BR$8)))","v":"Good"},null,null,null,null,{"$f":"MIN(HA34:ND35)","v":64},null,null,null,null,{"$f":"AVERAGE(HA34:ND35)","v":64},null,null,null,null,{"$f":"IF(AD$19>$Z34,\"--\",IF(AD34=$CN$8,$CV$8,IF(AD34=$CN$9,$CV$9,$CV$10))*IF(AI34=$CD$8,$CJ$8,IF(AI34=$CD$9,$CJ$9,IF(AI34=$CD$10,$CJ$10,$CJ$11))))","v":64},null,null,null,null,null,null,null,null,null,{"$f":"IF(AN$19>$Z34,\"--\",IF(AN34=$CN$8,$CV$8,IF(AN34=$CN$9,$CV$9,$CV$10))*IF(AS34=$CD$8,$CJ$8,IF(AS34=$CD$9,$CJ$9,IF(AS34=$CD$10,$CJ$10,$CJ$11))))","v":64},null,null,null,null,null,null,null,null,null,{"$f":"IF(AX$19>$Z34,\"--\",IF(AX34=$CN$8,$CV$8,IF(AX34=$CN$9,$CV$9,$CV$10))*IF(BC34=$CD$8,$CJ$8,IF(BC34=$CD$9,$CJ$9,IF(BC34=$CD$10,$CJ$10,$CJ$11))))","v":64},null,null,null,null,null,null,null,null,null,{"$f":"IF(BH$19>$Z34,\"--\",IF(BH34=$CN$8,$CV$8,IF(BH34=$CN$9,$CV$9,$CV$10))*IF(BM34=$CD$8,$CJ$8,IF(BM34=$CD$9,$CJ$9,IF(BM34=$CD$10,$CJ$10,$CJ$11))))","v":64},null,null,null,null,null,null,null,null,null,{"$f":"IF(BR$19>$Z34,\"--\",IF(BR34=$CN$8,$CV$8,IF(BR34=$CN$9,$CV$9,$CV$10))*IF(BW34=$CD$8,$CJ$8,IF(BW34=$CD$9,$CJ$9,IF(BW34=$CD$10,$CJ$10,$CJ$11))))","v":64},null,null,null,null,null,null,null,null,null,{"$f":"IF(CB$19>$Z34,\"--\",IF(CB34=$CN$8,$CV$8,IF(CB34=$CN$9,$CV$9,$CV$10))*IF(CG34=$CD$8,$CJ$8,IF(CG34=$CD$9,$CJ$9,IF(CG34=$CD$10,$CJ$10,$CJ$11))))","v":64},null,null,null,null,null,null,null,null,null,{"$f":"IF(CL$19>$Z34,\"--\",IF(CL34=$CN$8,$CV$8,IF(CL34=$CN$9,$CV$9,$CV$10))*IF(CQ34=$CD$8,$CJ$8,IF(CQ34=$CD$9,$CJ$9,IF(CQ34=$CD$10,$CJ$10,$CJ$11))))","v":"--"},null,null,null,null,null,null,null,null,null,{"$f":"IF(CV$19>$Z34,\"--\",IF(CV34=$CN$8,$CV$8,IF(CV34=$CN$9,$CV$9,$CV$10))*IF(DA34=$CD$8,$CJ$8,IF(DA34=$CD$9,$CJ$9,IF(DA34=$CD$10,$CJ$10,$CJ$11))))","v":"--"},null,null,null,null,null,null,null,null,null,{"$f":"IF(DF$19>$Z34,\"--\",IF(DF34=$CN$8,$CV$8,IF(DF34=$CN$9,$CV$9,$CV$10))*IF(DK34=$CD$8,$CJ$8,IF(DK34=$CD$9,$CJ$9,IF(DK34=$CD$10,$CJ$10,$CJ$11))))","v":"--"},null,null,null,null,null,null,null,null,null,{"$f":"IF(DP$19>$Z34,\"--\",IF(DP34=$CN$8,$CV$8,IF(DP34=$CN$9,$CV$9,$CV$10))*IF(DU34=$CD$8,$CJ$8,IF(DU34=$CD$9,$CJ$9,IF(DU34=$CD$10,$CJ$10,$CJ$11))))","v":"--"},null,null,null,null,null,null,null,null,null,{"$f":"IF(DZ$19>$Z34,\"--\",IF(DZ34=$CN$8,$CV$8,IF(DZ34=$CN$9,$CV$9,$CV$10))*IF(EE34=$CD$8,$CJ$8,IF(EE34=$CD$9,$CJ$9,IF(EE34=$CD$10,$CJ$10,$CJ$11))))","v":"--"},null,null,null,null,null,null,null,null,null,{"$f":"IF(EJ$19>$Z34,\"--\",IF(EJ34=$CN$8,$CV$8,IF(EJ34=$CN$9,$CV$9,$CV$10))*IF(EO34=$CD$8,$CJ$8,IF(EO34=$CD$9,$CJ$9,IF(EO34=$CD$10,$CJ$10,$CJ$11))))","v":"--"},null,null,null,null,null,null,null,null,null,{"$f":"IF(ET$19>$Z34,\"--\",IF(ET34=$CN$8,$CV$8,IF(ET34=$CN$9,$CV$9,$CV$10))*IF(EY34=$CD$8,$CJ$8,IF(EY34=$CD$9,$CJ$9,IF(EY34=$CD$10,$CJ$10,$CJ$11))))","v":"--"},null,null,null,null,null,null,null,null,null,{"$f":"IF(FD$19>$Z34,\"--\",IF(FD34=$CN$8,$CV$8,IF(FD34=$CN$9,$CV$9,$CV$10))*IF(FI34=$CD$8,$CJ$8,IF(FI34=$CD$9,$CJ$9,IF(FI34=$CD$10,$CJ$10,$CJ$11))))","v":"--"},null,null,null,null,null,null,null,null,null,{"$f":"IF(FN$19>$Z34,\"--\",IF(FN34=$CN$8,$CV$8,IF(FN34=$CN$9,$CV$9,$CV$10))*IF(FS34=$CD$8,$CJ$8,IF(FS34=$CD$9,$CJ$9,IF(FS34=$CD$10,$CJ$10,$CJ$11))))","v":"--"},null,null,null,null,null,null,null,null,null,{"$f":"IF(FX$19>$Z34,\"--\",IF(FX34=$CN$8,$CV$8,IF(FX34=$CN$9,$CV$9,$CV$10))*IF(GC34=$CD$8,$CJ$8,IF(GC34=$CD$9,$CJ$9,IF(GC34=$CD$10,$CJ$10,$CJ$11))))","v":"--"}]
[]
[null,null,null,null,null,null,null,null,null,null,null,null,null,null,null,null,null,null,null,"N",null,null,null,null,null,6,null,null,null,"2 Lanes",null,null,null,null,"<20mph",null,null,null,null,"2 Lanes",null,null,null,null,"<20mph",null,null,null,null,"2 Lanes",null,null,null,null,"<20mph",null,null,null,null,"2 Lanes",null,null,null,null,"<20mph",null,null,null,null,"2 Lanes",null,null,null,null,"<20mph",null,null,null,null,"2 Lanes",null,null,null,null,"<20mph",null,null,null,null,"2 Lanes",null,null,null,null,"<20mph",null,null,null,null,"2 Lanes",null,null,null,null,"<20mph",null,null,null,null,"2 Lanes",null,null,null,null,"<20mph",null,null,null,null,"2 Lanes",null,null,null,null,"<20mph",null,null,null,null,"2 Lanes",null,null,null,null,"<20mph",null,null,null,null,"2 Lanes",null,null,null,null,"<20mph",null,null,null,null,"2 Lanes",null,null,null,null,"<20mph",null,null,null,null,"2 Lanes",null,null,null,null,"<20mph",null,null,null,null,"2 Lanes",null,null,null,null,"<20mph",null,null,null,null,"2 Lanes",null,null,null,null,"<20mph",null,null,null,null,null,null,null,null,{"$f":"IF(GV36<=$BX$11,$BR$11,IF(GV36<=$BX$10,$BR$10,IF(GV36<=$BX$9,$BR$9,$BR$8)))","v":"Good"},null,null,null,null,{"$f":"MIN(HA36:ND37)","v":64},null,null,null,null,{"$f":"AVERAGE(HA36:ND37)","v":64},null,null,null,null,{"$f":"IF(AD$19>$Z36,\"--\",IF(AD36=$CN$8,$CV$8,IF(AD36=$CN$9,$CV$9,$CV$10))*IF(AI36=$CD$8,$CJ$8,IF(AI36=$CD$9,$CJ$9,IF(AI36=$CD$10,$CJ$10,$CJ$11))))","v":64},null,null,null,null,null,null,null,null,null,{"$f":"IF(AN$19>$Z36,\"--\",IF(AN36=$CN$8,$CV$8,IF(AN36=$CN$9,$CV$9,$CV$10))*IF(AS36=$CD$8,$CJ$8,IF(AS36=$CD$9,$CJ$9,IF(AS36=$CD$10,$CJ$10,$CJ$11))))","v":64},null,null,null,null,null,null,null,null,null,{"$f":"IF(AX$19>$Z36,\"--\",IF(AX36=$CN$8,$CV$8,IF(AX36=$CN$9,$CV$9,$CV$10))*IF(BC36=$CD$8,$CJ$8,IF(BC36=$CD$9,$CJ$9,IF(BC36=$CD$10,$CJ$10,$CJ$11))))","v":64},null,null,null,null,null,null,null,null,null,{"$f":"IF(BH$19>$Z36,\"--\",IF(BH36=$CN$8,$CV$8,IF(BH36=$CN$9,$CV$9,$CV$10))*IF(BM36=$CD$8,$CJ$8,IF(BM36=$CD$9,$CJ$9,IF(BM36=$CD$10,$CJ$10,$CJ$11))))","v":64},null,null,null,null,null,null,null,null,null,{"$f":"IF(BR$19>$Z36,\"--\",IF(BR36=$CN$8,$CV$8,IF(BR36=$CN$9,$CV$9,$CV$10))*IF(BW36=$CD$8,$CJ$8,IF(BW36=$CD$9,$CJ$9,IF(BW36=$CD$10,$CJ$10,$CJ$11))))","v":64},null,null,null,null,null,null,null,null,null,{"$f":"IF(CB$19>$Z36,\"--\",IF(CB36=$CN$8,$CV$8,IF(CB36=$CN$9,$CV$9,$CV$10))*IF(CG36=$CD$8,$CJ$8,IF(CG36=$CD$9,$CJ$9,IF(CG36=$CD$10,$CJ$10,$CJ$11))))","v":64},null,null,null,null,null,null,null,null,null,{"$f":"IF(CL$19>$Z36,\"--\",IF(CL36=$CN$8,$CV$8,IF(CL36=$CN$9,$CV$9,$CV$10))*IF(CQ36=$CD$8,$CJ$8,IF(CQ36=$CD$9,$CJ$9,IF(CQ36=$CD$10,$CJ$10,$CJ$11))))","v":"--"},null,null,null,null,null,null,null,null,null,{"$f":"IF(CV$19>$Z36,\"--\",IF(CV36=$CN$8,$CV$8,IF(CV36=$CN$9,$CV$9,$CV$10))*IF(DA36=$CD$8,$CJ$8,IF(DA36=$CD$9,$CJ$9,IF(DA36=$CD$10,$CJ$10,$CJ$11))))","v":"--"},null,null,null,null,null,null,null,null,null,{"$f":"IF(DF$19>$Z36,\"--\",IF(DF36=$CN$8,$CV$8,IF(DF36=$CN$9,$CV$9,$CV$10))*IF(DK36=$CD$8,$CJ$8,IF(DK36=$CD$9,$CJ$9,IF(DK36=$CD$10,$CJ$10,$CJ$11))))","v":"--"},null,null,null,null,null,null,null,null,null,{"$f":"IF(DP$19>$Z36,\"--\",IF(DP36=$CN$8,$CV$8,IF(DP36=$CN$9,$CV$9,$CV$10))*IF(DU36=$CD$8,$CJ$8,IF(DU36=$CD$9,$CJ$9,IF(DU36=$CD$10,$CJ$10,$CJ$11))))","v":"--"},null,null,null,null,null,null,null,null,null,{"$f":"IF(DZ$19>$Z36,\"--\",IF(DZ36=$CN$8,$CV$8,IF(DZ36=$CN$9,$CV$9,$CV$10))*IF(EE36=$CD$8,$CJ$8,IF(EE36=$CD$9,$CJ$9,IF(EE36=$CD$10,$CJ$10,$CJ$11))))","v":"--"},null,null,null,null,null,null,null,null,null,{"$f":"IF(EJ$19>$Z36,\"--\",IF(EJ36=$CN$8,$CV$8,IF(EJ36=$CN$9,$CV$9,$CV$10))*IF(EO36=$CD$8,$CJ$8,IF(EO36=$CD$9,$CJ$9,IF(EO36=$CD$10,$CJ$10,$CJ$11))))","v":"--"},null,null,null,null,null,null,null,null,null,{"$f":"IF(ET$19>$Z36,\"--\",IF(ET36=$CN$8,$CV$8,IF(ET36=$CN$9,$CV$9,$CV$10))*IF(EY36=$CD$8,$CJ$8,IF(EY36=$CD$9,$CJ$9,IF(EY36=$CD$10,$CJ$10,$CJ$11))))","v":"--"},null,null,null,null,null,null,null,null,null,{"$f":"IF(FD$19>$Z36,\"--\",IF(FD36=$CN$8,$CV$8,IF(FD36=$CN$9,$CV$9,$CV$10))*IF(FI36=$CD$8,$CJ$8,IF(FI36=$CD$9,$CJ$9,IF(FI36=$CD$10,$CJ$10,$CJ$11))))","v":"--"},null,null,null,null,null,null,null,null,null,{"$f":"IF(FN$19>$Z36,\"--\",IF(FN36=$CN$8,$CV$8,IF(FN36=$CN$9,$CV$9,$CV$10))*IF(FS36=$CD$8,$CJ$8,IF(FS36=$CD$9,$CJ$9,IF(FS36=$CD$10,$CJ$10,$CJ$11))))","v":"--"},null,null,null,null,null,null,null,null,null,{"$f":"IF(FX$19>$Z36,\"--\",IF(FX36=$CN$8,$CV$8,IF(FX36=$CN$9,$CV$9,$CV$10))*IF(GC36=$CD$8,$CJ$8,IF(GC36=$CD$9,$CJ$9,IF(GC36=$CD$10,$CJ$10,$CJ$11))))","v":"--"}]
[]
[null,null,null,null,null,null,null,null,null,null,null,null,null,null,null,null,null,null,null,"E",null,null,null,null,null,6,null,null,null,"2 Lanes",null,null,null,null,"<20mph",null,null,null,null,"2 Lanes",null,null,null,null,"<20mph",null,null,null,null,"2 Lanes",null,null,null,null,"<20mph",null,null,null,null,"2 Lanes",null,null,null,null,"<20mph",null,null,null,null,"2 Lanes",null,null,null,null,"<20mph",null,null,null,null,"2 Lanes",null,null,null,null,"<20mph",null,null,null,null,"2 Lanes",null,null,null,null,"<20mph",null,null,null,null,"2 Lanes",null,null,null,null,"<20mph",null,null,null,null,"2 Lanes",null,null,null,null,"<20mph",null,null,null,null,"2 Lanes",null,null,null,null,"<20mph",null,null,null,null,"2 Lanes",null,null,null,null,"<20mph",null,null,null,null,"2 Lanes",null,null,null,null,"<20mph",null,null,null,null,"2 Lanes",null,null,null,null,"<20mph",null,null,null,null,"2 Lanes",null,null,null,null,"<20mph",null,null,null,null,"2 Lanes",null,null,null,null,"<20mph",null,null,null,null,"2 Lanes",null,null,null,null,"<20mph",null,null,null,null,null,null,null,null,{"$f":"IF(GV38<=$BX$11,$BR$11,IF(GV38<=$BX$10,$BR$10,IF(GV38<=$BX$9,$BR$9,$BR$8)))","v":"Good"},null,null,null,null,{"$f":"MIN(HA38:ND39)","v":64},null,null,null,null,{"$f":"AVERAGE(HA38:ND39)","v":64},null,null,null,null,{"$f":"IF(AD$19>$Z38,\"--\",IF(AD38=$CN$8,$CV$8,IF(AD38=$CN$9,$CV$9,$CV$10))*IF(AI38=$CD$8,$CJ$8,IF(AI38=$CD$9,$CJ$9,IF(AI38=$CD$10,$CJ$10,$CJ$11))))","v":64},null,null,null,null,null,null,null,null,null,{"$f":"IF(AN$19>$Z38,\"--\",IF(AN38=$CN$8,$CV$8,IF(AN38=$CN$9,$CV$9,$CV$10))*IF(AS38=$CD$8,$CJ$8,IF(AS38=$CD$9,$CJ$9,IF(AS38=$CD$10,$CJ$10,$CJ$11))))","v":64},null,null,null,null,null,null,null,null,null,{"$f":"IF(AX$19>$Z38,\"--\",IF(AX38=$CN$8,$CV$8,IF(AX38=$CN$9,$CV$9,$CV$10))*IF(BC38=$CD$8,$CJ$8,IF(BC38=$CD$9,$CJ$9,IF(BC38=$CD$10,$CJ$10,$CJ$11))))","v":64},null,null,null,null,null,null,null,null,null,{"$f":"IF(BH$19>$Z38,\"--\",IF(BH38=$CN$8,$CV$8,IF(BH38=$CN$9,$CV$9,$CV$10))*IF(BM38=$CD$8,$CJ$8,IF(BM38=$CD$9,$CJ$9,IF(BM38=$CD$10,$CJ$10,$CJ$11))))","v":64},null,null,null,null,null,null,null,null,null,{"$f":"IF(BR$19>$Z38,\"--\",IF(BR38=$CN$8,$CV$8,IF(BR38=$CN$9,$CV$9,$CV$10))*IF(BW38=$CD$8,$CJ$8,IF(BW38=$CD$9,$CJ$9,IF(BW38=$CD$10,$CJ$10,$CJ$11))))","v":64},null,null,null,null,null,null,null,null,null,{"$f":"IF(CB$19>$Z38,\"--\",IF(CB38=$CN$8,$CV$8,IF(CB38=$CN$9,$CV$9,$CV$10))*IF(CG38=$CD$8,$CJ$8,IF(CG38=$CD$9,$CJ$9,IF(CG38=$CD$10,$CJ$10,$CJ$11))))","v":64},null,null,null,null,null,null,null,null,null,{"$f":"IF(CL$19>$Z38,\"--\",IF(CL38=$CN$8,$CV$8,IF(CL38=$CN$9,$CV$9,$CV$10))*IF(CQ38=$CD$8,$CJ$8,IF(CQ38=$CD$9,$CJ$9,IF(CQ38=$CD$10,$CJ$10,$CJ$11))))","v":"--"},null,null,null,null,null,null,null,null,null,{"$f":"IF(CV$19>$Z38,\"--\",IF(CV38=$CN$8,$CV$8,IF(CV38=$CN$9,$CV$9,$CV$10))*IF(DA38=$CD$8,$CJ$8,IF(DA38=$CD$9,$CJ$9,IF(DA38=$CD$10,$CJ$10,$CJ$11))))","v":"--"},null,null,null,null,null,null,null,null,null,{"$f":"IF(DF$19>$Z38,\"--\",IF(DF38=$CN$8,$CV$8,IF(DF38=$CN$9,$CV$9,$CV$10))*IF(DK38=$CD$8,$CJ$8,IF(DK38=$CD$9,$CJ$9,IF(DK38=$CD$10,$CJ$10,$CJ$11))))","v":"--"},null,null,null,null,null,null,null,null,null,{"$f":"IF(DP$19>$Z38,\"--\",IF(DP38=$CN$8,$CV$8,IF(DP38=$CN$9,$CV$9,$CV$10))*IF(DU38=$CD$8,$CJ$8,IF(DU38=$CD$9,$CJ$9,IF(DU38=$CD$10,$CJ$10,$CJ$11))))","v":"--"},null,null,null,null,null,null,null,null,null,{"$f":"IF(DZ$19>$Z38,\"--\",IF(DZ38=$CN$8,$CV$8,IF(DZ38=$CN$9,$CV$9,$CV$10))*IF(EE38=$CD$8,$CJ$8,IF(EE38=$CD$9,$CJ$9,IF(EE38=$CD$10,$CJ$10,$CJ$11))))","v":"--"},null,null,null,null,null,null,null,null,null,{"$f":"IF(EJ$19>$Z38,\"--\",IF(EJ38=$CN$8,$CV$8,IF(EJ38=$CN$9,$CV$9,$CV$10))*IF(EO38=$CD$8,$CJ$8,IF(EO38=$CD$9,$CJ$9,IF(EO38=$CD$10,$CJ$10,$CJ$11))))","v":"--"},null,null,null,null,null,null,null,null,null,{"$f":"IF(ET$19>$Z38,\"--\",IF(ET38=$CN$8,$CV$8,IF(ET38=$CN$9,$CV$9,$CV$10))*IF(EY38=$CD$8,$CJ$8,IF(EY38=$CD$9,$CJ$9,IF(EY38=$CD$10,$CJ$10,$CJ$11))))","v":"--"},null,null,null,null,null,null,null,null,null,{"$f":"IF(FD$19>$Z38,\"--\",IF(FD38=$CN$8,$CV$8,IF(FD38=$CN$9,$CV$9,$CV$10))*IF(FI38=$CD$8,$CJ$8,IF(FI38=$CD$9,$CJ$9,IF(FI38=$CD$10,$CJ$10,$CJ$11))))","v":"--"},null,null,null,null,null,null,null,null,null,{"$f":"IF(FN$19>$Z38,\"--\",IF(FN38=$CN$8,$CV$8,IF(FN38=$CN$9,$CV$9,$CV$10))*IF(FS38=$CD$8,$CJ$8,IF(FS38=$CD$9,$CJ$9,IF(FS38=$CD$10,$CJ$10,$CJ$11))))","v":"--"},null,null,null,null,null,null,null,null,null,{"$f":"IF(FX$19>$Z38,\"--\",IF(FX38=$CN$8,$CV$8,IF(FX38=$CN$9,$CV$9,$CV$10))*IF(GC38=$CD$8,$CJ$8,IF(GC38=$CD$9,$CJ$9,IF(GC38=$CD$10,$CJ$10,$CJ$11))))","v":"--"}]
[]
[null,null,null,null,null,null,null,null,null,null,null,null,null,null,null,null,null,null,null,"S",null,null,null,null,null,6,null,null,null,"2 Lanes",null,null,null,null,"<20mph",null,null,null,null,"2 Lanes",null,null,null,null,"<20mph",null,null,null,null,"2 Lanes",null,null,null,null,"<20mph",null,null,null,null,"2 Lanes",null,null,null,null,"<20mph",null,null,null,null,"2 Lanes",null,null,null,null,"<20mph",null,null,null,null,"2 Lanes",null,null,null,null,"<20mph",null,null,null,null,"2 Lanes",null,null,null,null,"<20mph",null,null,null,null,"2 Lanes",null,null,null,null,"<20mph",null,null,null,null,"2 Lanes",null,null,null,null,"<20mph",null,null,null,null,"2 Lanes",null,null,null,null,"<20mph",null,null,null,null,"2 Lanes",null,null,null,null,"<20mph",null,null,null,null,"2 Lanes",null,null,null,null,"<20mph",null,null,null,null,"2 Lanes",null,null,null,null,"<20mph",null,null,null,null,"2 Lanes",null,null,null,null,"<20mph",null,null,null,null,"2 Lanes",null,null,null,null,"<20mph",null,null,null,null,"2 Lanes",null,null,null,null,"<20mph",null,null,null,null,null,null,null,null,{"$f":"IF(GV40<=$BX$11,$BR$11,IF(GV40<=$BX$10,$BR$10,IF(GV40<=$BX$9,$BR$9,$BR$8)))","v":"Good"},null,null,null,null,{"$f":"MIN(HA40:ND41)","v":64},null,null,null,null,{"$f":"AVERAGE(HA40:ND41)","v":64},null,null,null,null,{"$f":"IF(AD$19>$Z40,\"--\",IF(AD40=$CN$8,$CV$8,IF(AD40=$CN$9,$CV$9,$CV$10))*IF(AI40=$CD$8,$CJ$8,IF(AI40=$CD$9,$CJ$9,IF(AI40=$CD$10,$CJ$10,$CJ$11))))","v":64},null,null,null,null,null,null,null,null,null,{"$f":"IF(AN$19>$Z40,\"--\",IF(AN40=$CN$8,$CV$8,IF(AN40=$CN$9,$CV$9,$CV$10))*IF(AS40=$CD$8,$CJ$8,IF(AS40=$CD$9,$CJ$9,IF(AS40=$CD$10,$CJ$10,$CJ$11))))","v":64},null,null,null,null,null,null,null,null,null,{"$f":"IF(AX$19>$Z40,\"--\",IF(AX40=$CN$8,$CV$8,IF(AX40=$CN$9,$CV$9,$CV$10))*IF(BC40=$CD$8,$CJ$8,IF(BC40=$CD$9,$CJ$9,IF(BC40=$CD$10,$CJ$10,$CJ$11))))","v":64},null,null,null,null,null,null,null,null,null,{"$f":"IF(BH$19>$Z40,\"--\",IF(BH40=$CN$8,$CV$8,IF(BH40=$CN$9,$CV$9,$CV$10))*IF(BM40=$CD$8,$CJ$8,IF(BM40=$CD$9,$CJ$9,IF(BM40=$CD$10,$CJ$10,$CJ$11))))","v":64},null,null,null,null,null,null,null,null,null,{"$f":"IF(BR$19>$Z40,\"--\",IF(BR40=$CN$8,$CV$8,IF(BR40=$CN$9,$CV$9,$CV$10))*IF(BW40=$CD$8,$CJ$8,IF(BW40=$CD$9,$CJ$9,IF(BW40=$CD$10,$CJ$10,$CJ$11))))","v":64},null,null,null,null,null,null,null,null,null,{"$f":"IF(CB$19>$Z40,\"--\",IF(CB40=$CN$8,$CV$8,IF(CB40=$CN$9,$CV$9,$CV$10))*IF(CG40=$CD$8,$CJ$8,IF(CG40=$CD$9,$CJ$9,IF(CG40=$CD$10,$CJ$10,$CJ$11))))","v":64},null,null,null,null,null,null,null,null,null,{"$f":"IF(CL$19>$Z40,\"--\",IF(CL40=$CN$8,$CV$8,IF(CL40=$CN$9,$CV$9,$CV$10))*IF(CQ40=$CD$8,$CJ$8,IF(CQ40=$CD$9,$CJ$9,IF(CQ40=$CD$10,$CJ$10,$CJ$11))))","v":"--"},null,null,null,null,null,null,null,null,null,{"$f":"IF(CV$19>$Z40,\"--\",IF(CV40=$CN$8,$CV$8,IF(CV40=$CN$9,$CV$9,$CV$10))*IF(DA40=$CD$8,$CJ$8,IF(DA40=$CD$9,$CJ$9,IF(DA40=$CD$10,$CJ$10,$CJ$11))))","v":"--"},null,null,null,null,null,null,null,null,null,{"$f":"IF(DF$19>$Z40,\"--\",IF(DF40=$CN$8,$CV$8,IF(DF40=$CN$9,$CV$9,$CV$10))*IF(DK40=$CD$8,$CJ$8,IF(DK40=$CD$9,$CJ$9,IF(DK40=$CD$10,$CJ$10,$CJ$11))))","v":"--"},null,null,null,null,null,null,null,null,null,{"$f":"IF(DP$19>$Z40,\"--\",IF(DP40=$CN$8,$CV$8,IF(DP40=$CN$9,$CV$9,$CV$10))*IF(DU40=$CD$8,$CJ$8,IF(DU40=$CD$9,$CJ$9,IF(DU40=$CD$10,$CJ$10,$CJ$11))))","v":"--"},null,null,null,null,null,null,null,null,null,{"$f":"IF(DZ$19>$Z40,\"--\",IF(DZ40=$CN$8,$CV$8,IF(DZ40=$CN$9,$CV$9,$CV$10))*IF(EE40=$CD$8,$CJ$8,IF(EE40=$CD$9,$CJ$9,IF(EE40=$CD$10,$CJ$10,$CJ$11))))","v":"--"},null,null,null,null,null,null,null,null,null,{"$f":"IF(EJ$19>$Z40,\"--\",IF(EJ40=$CN$8,$CV$8,IF(EJ40=$CN$9,$CV$9,$CV$10))*IF(EO40=$CD$8,$CJ$8,IF(EO40=$CD$9,$CJ$9,IF(EO40=$CD$10,$CJ$10,$CJ$11))))","v":"--"},null,null,null,null,null,null,null,null,null,{"$f":"IF(ET$19>$Z40,\"--\",IF(ET40=$CN$8,$CV$8,IF(ET40=$CN$9,$CV$9,$CV$10))*IF(EY40=$CD$8,$CJ$8,IF(EY40=$CD$9,$CJ$9,IF(EY40=$CD$10,$CJ$10,$CJ$11))))","v":"--"},null,null,null,null,null,null,null,null,null,{"$f":"IF(FD$19>$Z40,\"--\",IF(FD40=$CN$8,$CV$8,IF(FD40=$CN$9,$CV$9,$CV$10))*IF(FI40=$CD$8,$CJ$8,IF(FI40=$CD$9,$CJ$9,IF(FI40=$CD$10,$CJ$10,$CJ$11))))","v":"--"},null,null,null,null,null,null,null,null,null,{"$f":"IF(FN$19>$Z40,\"--\",IF(FN40=$CN$8,$CV$8,IF(FN40=$CN$9,$CV$9,$CV$10))*IF(FS40=$CD$8,$CJ$8,IF(FS40=$CD$9,$CJ$9,IF(FS40=$CD$10,$CJ$10,$CJ$11))))","v":"--"},null,null,null,null,null,null,null,null,null,{"$f":"IF(FX$19>$Z40,\"--\",IF(FX40=$CN$8,$CV$8,IF(FX40=$CN$9,$CV$9,$CV$10))*IF(GC40=$CD$8,$CJ$8,IF(GC40=$CD$9,$CJ$9,IF(GC40=$CD$10,$CJ$10,$CJ$11))))","v":"--"}]
[]
["Quadrant Roadway",null,null,null,null,null,null,null,null,null,null,null,null,null,null,null,null,null,null,"S-W",null,null,null,null,null,6,null,null,null,"2 Lanes",null,null,null,null,"<20mph",null,null,null,null,"2 Lanes",null,null,null,null,"<20mph",null,null,null,null,"2 Lanes",null,null,null,null,"<20mph",null,null,null,null,"2 Lanes",null,null,null,null,"<20mph",null,null,null,null,"2 Lanes",null,null,null,null,"<20mph",null,null,null,null,"2 Lanes",null,null,null,null,"<20mph",null,null,null,null,"2 Lanes",null,null,null,null,"<20mph",null,null,null,null,"2 Lanes",null,null,null,null,"<20mph",null,null,null,null,"2 Lanes",null,null,null,null,"<20mph",null,null,null,null,"2 Lanes",null,null,null,null,"<20mph",null,null,null,null,"2 Lanes",null,null,null,null,"<20mph",null,null,null,null,"2 Lanes",null,null,null,null,"<20mph",null,null,null,null,"2 Lanes",null,null,null,null,"<20mph",null,null,null,null,"2 Lanes",null,null,null,null,"<20mph",null,null,null,null,"2 Lanes",null,null,null,null,"<20mph",null,null,null,null,"2 Lanes",null,null,null,null,"<20mph",null,null,null,null,null,null,null,null,{"$f":"IF(GV42<=$BX$11,$BR$11,IF(GV42<=$BX$10,$BR$10,IF(GV42<=$BX$9,$BR$9,$BR$8)))","v":"Good"},null,null,null,null,{"$f":"MIN(HA42:ND43)","v":64},null,null,null,null,{"$f":"AVERAGE(HA42:ND43)","v":64},null,null,null,null,{"$f":"IF(AD$19>$Z42,\"--\",IF(AD42=$CN$8,$CV$8,IF(AD42=$CN$9,$CV$9,$CV$10))*IF(AI42=$CD$8,$CJ$8,IF(AI42=$CD$9,$CJ$9,IF(AI42=$CD$10,$CJ$10,$CJ$11))))","v":64},null,null,null,null,null,null,null,null,null,{"$f":"IF(AN$19>$Z42,\"--\",IF(AN42=$CN$8,$CV$8,IF(AN42=$CN$9,$CV$9,$CV$10))*IF(AS42=$CD$8,$CJ$8,IF(AS42=$CD$9,$CJ$9,IF(AS42=$CD$10,$CJ$10,$CJ$11))))","v":64},null,null,null,null,null,null,null,null,null,{"$f":"IF(AX$19>$Z42,\"--\",IF(AX42=$CN$8,$CV$8,IF(AX42=$CN$9,$CV$9,$CV$10))*IF(BC42=$CD$8,$CJ$8,IF(BC42=$CD$9,$CJ$9,IF(BC42=$CD$10,$CJ$10,$CJ$11))))","v":64},null,null,null,null,null,null,null,null,null,{"$f":"IF(BH$19>$Z42,\"--\",IF(BH42=$CN$8,$CV$8,IF(BH42=$CN$9,$CV$9,$CV$10))*IF(BM42=$CD$8,$CJ$8,IF(BM42=$CD$9,$CJ$9,IF(BM42=$CD$10,$CJ$10,$CJ$11))))","v":64},null,null,null,null,null,null,null,null,null,{"$f":"IF(BR$19>$Z42,\"--\",IF(BR42=$CN$8,$CV$8,IF(BR42=$CN$9,$CV$9,$CV$10))*IF(BW42=$CD$8,$CJ$8,IF(BW42=$CD$9,$CJ$9,IF(BW42=$CD$10,$CJ$10,$CJ$11))))","v":64},null,null,null,null,null,null,null,null,null,{"$f":"IF(CB$19>$Z42,\"--\",IF(CB42=$CN$8,$CV$8,IF(CB42=$CN$9,$CV$9,$CV$10))*IF(CG42=$CD$8,$CJ$8,IF(CG42=$CD$9,$CJ$9,IF(CG42=$CD$10,$CJ$10,$CJ$11))))","v":64},null,null,null,null,null,null,null,null,null,{"$f":"IF(CL$19>$Z42,\"--\",IF(CL42=$CN$8,$CV$8,IF(CL42=$CN$9,$CV$9,$CV$10))*IF(CQ42=$CD$8,$CJ$8,IF(CQ42=$CD$9,$CJ$9,IF(CQ42=$CD$10,$CJ$10,$CJ$11))))","v":"--"},null,null,null,null,null,null,null,null,null,{"$f":"IF(CV$19>$Z42,\"--\",IF(CV42=$CN$8,$CV$8,IF(CV42=$CN$9,$CV$9,$CV$10))*IF(DA42=$CD$8,$CJ$8,IF(DA42=$CD$9,$CJ$9,IF(DA42=$CD$10,$CJ$10,$CJ$11))))","v":"--"},null,null,null,null,null,null,null,null,null,{"$f":"IF(DF$19>$Z42,\"--\",IF(DF42=$CN$8,$CV$8,IF(DF42=$CN$9,$CV$9,$CV$10))*IF(DK42=$CD$8,$CJ$8,IF(DK42=$CD$9,$CJ$9,IF(DK42=$CD$10,$CJ$10,$CJ$11))))","v":"--"},null,null,null,null,null,null,null,null,null,{"$f":"IF(DP$19>$Z42,\"--\",IF(DP42=$CN$8,$CV$8,IF(DP42=$CN$9,$CV$9,$CV$10))*IF(DU42=$CD$8,$CJ$8,IF(DU42=$CD$9,$CJ$9,IF(DU42=$CD$10,$CJ$10,$CJ$11))))","v":"--"},null,null,null,null,null,null,null,null,null,{"$f":"IF(DZ$19>$Z42,\"--\",IF(DZ42=$CN$8,$CV$8,IF(DZ42=$CN$9,$CV$9,$CV$10))*IF(EE42=$CD$8,$CJ$8,IF(EE42=$CD$9,$CJ$9,IF(EE42=$CD$10,$CJ$10,$CJ$11))))","v":"--"},null,null,null,null,null,null,null,null,null,{"$f":"IF(EJ$19>$Z42,\"--\",IF(EJ42=$CN$8,$CV$8,IF(EJ42=$CN$9,$CV$9,$CV$10))*IF(EO42=$CD$8,$CJ$8,IF(EO42=$CD$9,$CJ$9,IF(EO42=$CD$10,$CJ$10,$CJ$11))))","v":"--"},null,null,null,null,null,null,null,null,null,{"$f":"IF(ET$19>$Z42,\"--\",IF(ET42=$CN$8,$CV$8,IF(ET42=$CN$9,$CV$9,$CV$10))*IF(EY42=$CD$8,$CJ$8,IF(EY42=$CD$9,$CJ$9,IF(EY42=$CD$10,$CJ$10,$CJ$11))))","v":"--"},null,null,null,null,null,null,null,null,null,{"$f":"IF(FD$19>$Z42,\"--\",IF(FD42=$CN$8,$CV$8,IF(FD42=$CN$9,$CV$9,$CV$10))*IF(FI42=$CD$8,$CJ$8,IF(FI42=$CD$9,$CJ$9,IF(FI42=$CD$10,$CJ$10,$CJ$11))))","v":"--"},null,null,null,null,null,null,null,null,null,{"$f":"IF(FN$19>$Z42,\"--\",IF(FN42=$CN$8,$CV$8,IF(FN42=$CN$9,$CV$9,$CV$10))*IF(FS42=$CD$8,$CJ$8,IF(FS42=$CD$9,$CJ$9,IF(FS42=$CD$10,$CJ$10,$CJ$11))))","v":"--"},null,null,null,null,null,null,null,null,null,{"$f":"IF(FX$19>$Z42,\"--\",IF(FX42=$CN$8,$CV$8,IF(FX42=$CN$9,$CV$9,$CV$10))*IF(GC42=$CD$8,$CJ$8,IF(GC42=$CD$9,$CJ$9,IF(GC42=$CD$10,$CJ$10,$CJ$11))))","v":"--"}]
[]
[null,null,null,null,null,null,null,null,null,null,null,null,null,null,null,null,null,null,null,"N-E",null,null,null,null,null,6,null,null,null,"2 Lanes",null,null,null,null,"<20mph",null,null,null,null,"2 Lanes",null,null,null,null,"<20mph",null,null,null,null,"2 Lanes",null,null,null,null,"<20mph",null,null,null,null,"2 Lanes",null,null,null,null,"<20mph",null,null,null,null,"2 Lanes",null,null,null,null,"<20mph",null,null,null,null,"2 Lanes",null,null,null,null,"<20mph",null,null,null,null,"2 Lanes",null,null,null,null,"<20mph",null,null,null,null,"2 Lanes",null,null,null,null,"<20mph",null,null,null,null,"2 Lanes",null,null,null,null,"<20mph",null,null,null,null,"2 Lanes",null,null,null,null,"<20mph",null,null,null,null,"2 Lanes",null,null,null,null,"<20mph",null,null,null,null,"2 Lanes",null,null,null,null,"<20mph",null,null,null,null,"2 Lanes",null,null,null,null,"<20mph",null,null,null,null,"2 Lanes",null,null,null,null,"<20mph",null,null,null,null,"2 Lanes",null,null,null,null,"<20mph",null,null,null,null,"2 Lanes",null,null,null,null,"<20mph",null,null,null,null,null,null,null,null,{"$f":"IF(GV44<=$BX$11,$BR$11,IF(GV44<=$BX$10,$BR$10,IF(GV44<=$BX$9,$BR$9,$BR$8)))","v":"Good"},null,null,null,null,{"$f":"MIN(HA44:ND45)","v":64},null,null,null,null,{"$f":"AVERAGE(HA44:ND45)","v":64},null,null,null,null,{"$f":"IF(AD$19>$Z44,\"--\",IF(AD44=$CN$8,$CV$8,IF(AD44=$CN$9,$CV$9,$CV$10))*IF(AI44=$CD$8,$CJ$8,IF(AI44=$CD$9,$CJ$9,IF(AI44=$CD$10,$CJ$10,$CJ$11))))","v":64},null,null,null,null,null,null,null,null,null,{"$f":"IF(AN$19>$Z44,\"--\",IF(AN44=$CN$8,$CV$8,IF(AN44=$CN$9,$CV$9,$CV$10))*IF(AS44=$CD$8,$CJ$8,IF(AS44=$CD$9,$CJ$9,IF(AS44=$CD$10,$CJ$10,$CJ$11))))","v":64},null,null,null,null,null,null,null,null,null,{"$f":"IF(AX$19>$Z44,\"--\",IF(AX44=$CN$8,$CV$8,IF(AX44=$CN$9,$CV$9,$CV$10))*IF(BC44=$CD$8,$CJ$8,IF(BC44=$CD$9,$CJ$9,IF(BC44=$CD$10,$CJ$10,$CJ$11))))","v":64},null,null,null,null,null,null,null,null,null,{"$f":"IF(BH$19>$Z44,\"--\",IF(BH44=$CN$8,$CV$8,IF(BH44=$CN$9,$CV$9,$CV$10))*IF(BM44=$CD$8,$CJ$8,IF(BM44=$CD$9,$CJ$9,IF(BM44=$CD$10,$CJ$10,$CJ$11))))","v":64},null,null,null,null,null,null,null,null,null,{"$f":"IF(BR$19>$Z44,\"--\",IF(BR44=$CN$8,$CV$8,IF(BR44=$CN$9,$CV$9,$CV$10))*IF(BW44=$CD$8,$CJ$8,IF(BW44=$CD$9,$CJ$9,IF(BW44=$CD$10,$CJ$10,$CJ$11))))","v":64},null,null,null,null,null,null,null,null,null,{"$f":"IF(CB$19>$Z44,\"--\",IF(CB44=$CN$8,$CV$8,IF(CB44=$CN$9,$CV$9,$CV$10))*IF(CG44=$CD$8,$CJ$8,IF(CG44=$CD$9,$CJ$9,IF(CG44=$CD$10,$CJ$10,$CJ$11))))","v":64},null,null,null,null,null,null,null,null,null,{"$f":"IF(CL$19>$Z44,\"--\",IF(CL44=$CN$8,$CV$8,IF(CL44=$CN$9,$CV$9,$CV$10))*IF(CQ44=$CD$8,$CJ$8,IF(CQ44=$CD$9,$CJ$9,IF(CQ44=$CD$10,$CJ$10,$CJ$11))))","v":"--"},null,null,null,null,null,null,null,null,null,{"$f":"IF(CV$19>$Z44,\"--\",IF(CV44=$CN$8,$CV$8,IF(CV44=$CN$9,$CV$9,$CV$10))*IF(DA44=$CD$8,$CJ$8,IF(DA44=$CD$9,$CJ$9,IF(DA44=$CD$10,$CJ$10,$CJ$11))))","v":"--"},null,null,null,null,null,null,null,null,null,{"$f":"IF(DF$19>$Z44,\"--\",IF(DF44=$CN$8,$CV$8,IF(DF44=$CN$9,$CV$9,$CV$10))*IF(DK44=$CD$8,$CJ$8,IF(DK44=$CD$9,$CJ$9,IF(DK44=$CD$10,$CJ$10,$CJ$11))))","v":"--"},null,null,null,null,null,null,null,null,null,{"$f":"IF(DP$19>$Z44,\"--\",IF(DP44=$CN$8,$CV$8,IF(DP44=$CN$9,$CV$9,$CV$10))*IF(DU44=$CD$8,$CJ$8,IF(DU44=$CD$9,$CJ$9,IF(DU44=$CD$10,$CJ$10,$CJ$11))))","v":"--"},null,null,null,null,null,null,null,null,null,{"$f":"IF(DZ$19>$Z44,\"--\",IF(DZ44=$CN$8,$CV$8,IF(DZ44=$CN$9,$CV$9,$CV$10))*IF(EE44=$CD$8,$CJ$8,IF(EE44=$CD$9,$CJ$9,IF(EE44=$CD$10,$CJ$10,$CJ$11))))","v":"--"},null,null,null,null,null,null,null,null,null,{"$f":"IF(EJ$19>$Z44,\"--\",IF(EJ44=$CN$8,$CV$8,IF(EJ44=$CN$9,$CV$9,$CV$10))*IF(EO44=$CD$8,$CJ$8,IF(EO44=$CD$9,$CJ$9,IF(EO44=$CD$10,$CJ$10,$CJ$11))))","v":"--"},null,null,null,null,null,null,null,null,null,{"$f":"IF(ET$19>$Z44,\"--\",IF(ET44=$CN$8,$CV$8,IF(ET44=$CN$9,$CV$9,$CV$10))*IF(EY44=$CD$8,$CJ$8,IF(EY44=$CD$9,$CJ$9,IF(EY44=$CD$10,$CJ$10,$CJ$11))))","v":"--"},null,null,null,null,null,null,null,null,null,{"$f":"IF(FD$19>$Z44,\"--\",IF(FD44=$CN$8,$CV$8,IF(FD44=$CN$9,$CV$9,$CV$10))*IF(FI44=$CD$8,$CJ$8,IF(FI44=$CD$9,$CJ$9,IF(FI44=$CD$10,$CJ$10,$CJ$11))))","v":"--"},null,null,null,null,null,null,null,null,null,{"$f":"IF(FN$19>$Z44,\"--\",IF(FN44=$CN$8,$CV$8,IF(FN44=$CN$9,$CV$9,$CV$10))*IF(FS44=$CD$8,$CJ$8,IF(FS44=$CD$9,$CJ$9,IF(FS44=$CD$10,$CJ$10,$CJ$11))))","v":"--"},null,null,null,null,null,null,null,null,null,{"$f":"IF(FX$19>$Z44,\"--\",IF(FX44=$CN$8,$CV$8,IF(FX44=$CN$9,$CV$9,$CV$10))*IF(GC44=$CD$8,$CJ$8,IF(GC44=$CD$9,$CJ$9,IF(GC44=$CD$10,$CJ$10,$CJ$11))))","v":"--"}]
[]
[null,null,null,null,null,null,null,null,null,null,null,null,null,null,null,null,null,null,null,"S-E",null,null,null,null,null,6,null,null,null,"2 Lanes",null,null,null,null,"<20mph",null,null,null,null,"2 Lanes",null,null,null,null,"<20mph",null,null,null,null,"2 Lanes",null,null,null,null,"<20mph",null,null,null,null,"2 Lanes",null,null,null,null,"<20mph",null,null,null,null,"2 Lanes",null,null,null,null,"<20mph",null,null,null,null,"2 Lanes",null,null,null,null,"<20mph",null,null,null,null,"2 Lanes",null,null,null,null,"<20mph",null,null,null,null,"2 Lanes",null,null,null,null,"<20mph",null,null,null,null,"2 Lanes",null,null,null,null,"<20mph",null,null,null,null,"2 Lanes",null,null,null,null,"<20mph",null,null,null,null,"2 Lanes",null,null,null,null,"<20mph",null,null,null,null,"2 Lanes",null,null,null,null,"<20mph",null,null,null,null,"2 Lanes",null,null,null,null,"<20mph",null,null,null,null,"2 Lanes",null,null,null,null,"<20mph",null,null,null,null,"2 Lanes",null,null,null,null,"<20mph",null,null,null,null,"2 Lanes",null,null,null,null,"<20mph",null,null,null,null,null,null,null,null,{"$f":"IF(GV46<=$BX$11,$BR$11,IF(GV46<=$BX$10,$BR$10,IF(GV46<=$BX$9,$BR$9,$BR$8)))","v":"Good"},null,null,null,null,{"$f":"MIN(HA46:ND47)","v":64},null,null,null,null,{"$f":"AVERAGE(HA46:ND47)","v":64},null,null,null,null,{"$f":"IF(AD$19>$Z46,\"--\",IF(AD46=$CN$8,$CV$8,IF(AD46=$CN$9,$CV$9,$CV$10))*IF(AI46=$CD$8,$CJ$8,IF(AI46=$CD$9,$CJ$9,IF(AI46=$CD$10,$CJ$10,$CJ$11))))","v":64},null,null,null,null,null,null,null,null,null,{"$f":"IF(AN$19>$Z46,\"--\",IF(AN46=$CN$8,$CV$8,IF(AN46=$CN$9,$CV$9,$CV$10))*IF(AS46=$CD$8,$CJ$8,IF(AS46=$CD$9,$CJ$9,IF(AS46=$CD$10,$CJ$10,$CJ$11))))","v":64},null,null,null,null,null,null,null,null,null,{"$f":"IF(AX$19>$Z46,\"--\",IF(AX46=$CN$8,$CV$8,IF(AX46=$CN$9,$CV$9,$CV$10))*IF(BC46=$CD$8,$CJ$8,IF(BC46=$CD$9,$CJ$9,IF(BC46=$CD$10,$CJ$10,$CJ$11))))","v":64},null,null,null,null,null,null,null,null,null,{"$f":"IF(BH$19>$Z46,\"--\",IF(BH46=$CN$8,$CV$8,IF(BH46=$CN$9,$CV$9,$CV$10))*IF(BM46=$CD$8,$CJ$8,IF(BM46=$CD$9,$CJ$9,IF(BM46=$CD$10,$CJ$10,$CJ$11))))","v":64},null,null,null,null,null,null,null,null,null,{"$f":"IF(BR$19>$Z46,\"--\",IF(BR46=$CN$8,$CV$8,IF(BR46=$CN$9,$CV$9,$CV$10))*IF(BW46=$CD$8,$CJ$8,IF(BW46=$CD$9,$CJ$9,IF(BW46=$CD$10,$CJ$10,$CJ$11))))","v":64},null,null,null,null,null,null,null,null,null,{"$f":"IF(CB$19>$Z46,\"--\",IF(CB46=$CN$8,$CV$8,IF(CB46=$CN$9,$CV$9,$CV$10))*IF(CG46=$CD$8,$CJ$8,IF(CG46=$CD$9,$CJ$9,IF(CG46=$CD$10,$CJ$10,$CJ$11))))","v":64},null,null,null,null,null,null,null,null,null,{"$f":"IF(CL$19>$Z46,\"--\",IF(CL46=$CN$8,$CV$8,IF(CL46=$CN$9,$CV$9,$CV$10))*IF(CQ46=$CD$8,$CJ$8,IF(CQ46=$CD$9,$CJ$9,IF(CQ46=$CD$10,$CJ$10,$CJ$11))))","v":"--"},null,null,null,null,null,null,null,null,null,{"$f":"IF(CV$19>$Z46,\"--\",IF(CV46=$CN$8,$CV$8,IF(CV46=$CN$9,$CV$9,$CV$10))*IF(DA46=$CD$8,$CJ$8,IF(DA46=$CD$9,$CJ$9,IF(DA46=$CD$10,$CJ$10,$CJ$11))))","v":"--"},null,null,null,null,null,null,null,null,null,{"$f":"IF(DF$19>$Z46,\"--\",IF(DF46=$CN$8,$CV$8,IF(DF46=$CN$9,$CV$9,$CV$10))*IF(DK46=$CD$8,$CJ$8,IF(DK46=$CD$9,$CJ$9,IF(DK46=$CD$10,$CJ$10,$CJ$11))))","v":"--"},null,null,null,null,null,null,null,null,null,{"$f":"IF(DP$19>$Z46,\"--\",IF(DP46=$CN$8,$CV$8,IF(DP46=$CN$9,$CV$9,$CV$10))*IF(DU46=$CD$8,$CJ$8,IF(DU46=$CD$9,$CJ$9,IF(DU46=$CD$10,$CJ$10,$CJ$11))))","v":"--"},null,null,null,null,null,null,null,null,null,{"$f":"IF(DZ$19>$Z46,\"--\",IF(DZ46=$CN$8,$CV$8,IF(DZ46=$CN$9,$CV$9,$CV$10))*IF(EE46=$CD$8,$CJ$8,IF(EE46=$CD$9,$CJ$9,IF(EE46=$CD$10,$CJ$10,$CJ$11))))","v":"--"},null,null,null,null,null,null,null,null,null,{"$f":"IF(EJ$19>$Z46,\"--\",IF(EJ46=$CN$8,$CV$8,IF(EJ46=$CN$9,$CV$9,$CV$10))*IF(EO46=$CD$8,$CJ$8,IF(EO46=$CD$9,$CJ$9,IF(EO46=$CD$10,$CJ$10,$CJ$11))))","v":"--"},null,null,null,null,null,null,null,null,null,{"$f":"IF(ET$19>$Z46,\"--\",IF(ET46=$CN$8,$CV$8,IF(ET46=$CN$9,$CV$9,$CV$10))*IF(EY46=$CD$8,$CJ$8,IF(EY46=$CD$9,$CJ$9,IF(EY46=$CD$10,$CJ$10,$CJ$11))))","v":"--"},null,null,null,null,null,null,null,null,null,{"$f":"IF(FD$19>$Z46,\"--\",IF(FD46=$CN$8,$CV$8,IF(FD46=$CN$9,$CV$9,$CV$10))*IF(FI46=$CD$8,$CJ$8,IF(FI46=$CD$9,$CJ$9,IF(FI46=$CD$10,$CJ$10,$CJ$11))))","v":"--"},null,null,null,null,null,null,null,null,null,{"$f":"IF(FN$19>$Z46,\"--\",IF(FN46=$CN$8,$CV$8,IF(FN46=$CN$9,$CV$9,$CV$10))*IF(FS46=$CD$8,$CJ$8,IF(FS46=$CD$9,$CJ$9,IF(FS46=$CD$10,$CJ$10,$CJ$11))))","v":"--"},null,null,null,null,null,null,null,null,null,{"$f":"IF(FX$19>$Z46,\"--\",IF(FX46=$CN$8,$CV$8,IF(FX46=$CN$9,$CV$9,$CV$10))*IF(GC46=$CD$8,$CJ$8,IF(GC46=$CD$9,$CJ$9,IF(GC46=$CD$10,$CJ$10,$CJ$11))))","v":"--"}]
[]
[null,null,null,null,null,null,null,null,null,null,null,null,null,null,null,null,null,null,null,"N-W",null,null,null,null,null,6,null,null,null,"2 Lanes",null,null,null,null,"<20mph",null,null,null,null,"2 Lanes",null,null,null,null,"<20mph",null,null,null,null,"2 Lanes",null,null,null,null,"<20mph",null,null,null,null,"2 Lanes",null,null,null,null,"<20mph",null,null,null,null,"2 Lanes",null,null,null,null,"<20mph",null,null,null,null,"2 Lanes",null,null,null,null,"<20mph",null,null,null,null,"2 Lanes",null,null,null,null,"<20mph",null,null,null,null,"2 Lanes",null,null,null,null,"<20mph",null,null,null,null,"2 Lanes",null,null,null,null,"<20mph",null,null,null,null,"2 Lanes",null,null,null,null,"<20mph",null,null,null,null,"2 Lanes",null,null,null,null,"<20mph",null,null,null,null,"2 Lanes",null,null,null,null,"<20mph",null,null,null,null,"2 Lanes",null,null,null,null,"<20mph",null,null,null,null,"2 Lanes",null,null,null,null,"<20mph",null,null,null,null,"2 Lanes",null,null,null,null,"<20mph",null,null,null,null,"2 Lanes",null,null,null,null,"<20mph",null,null,null,null,null,null,null,null,{"$f":"IF(GV48<=$BX$11,$BR$11,IF(GV48<=$BX$10,$BR$10,IF(GV48<=$BX$9,$BR$9,$BR$8)))","v":"Good"},null,null,null,null,{"$f":"MIN(HA48:ND49)","v":64},null,null,null,null,{"$f":"AVERAGE(HA48:ND49)","v":64},null,null,null,null,{"$f":"IF(AD$19>$Z48,\"--\",IF(AD48=$CN$8,$CV$8,IF(AD48=$CN$9,$CV$9,$CV$10))*IF(AI48=$CD$8,$CJ$8,IF(AI48=$CD$9,$CJ$9,IF(AI48=$CD$10,$CJ$10,$CJ$11))))","v":64},null,null,null,null,null,null,null,null,null,{"$f":"IF(AN$19>$Z48,\"--\",IF(AN48=$CN$8,$CV$8,IF(AN48=$CN$9,$CV$9,$CV$10))*IF(AS48=$CD$8,$CJ$8,IF(AS48=$CD$9,$CJ$9,IF(AS48=$CD$10,$CJ$10,$CJ$11))))","v":64},null,null,null,null,null,null,null,null,null,{"$f":"IF(AX$19>$Z48,\"--\",IF(AX48=$CN$8,$CV$8,IF(AX48=$CN$9,$CV$9,$CV$10))*IF(BC48=$CD$8,$CJ$8,IF(BC48=$CD$9,$CJ$9,IF(BC48=$CD$10,$CJ$10,$CJ$11))))","v":64},null,null,null,null,null,null,null,null,null,{"$f":"IF(BH$19>$Z48,\"--\",IF(BH48=$CN$8,$CV$8,IF(BH48=$CN$9,$CV$9,$CV$10))*IF(BM48=$CD$8,$CJ$8,IF(BM48=$CD$9,$CJ$9,IF(BM48=$CD$10,$CJ$10,$CJ$11))))","v":64},null,null,null,null,null,null,null,null,null,{"$f":"IF(BR$19>$Z48,\"--\",IF(BR48=$CN$8,$CV$8,IF(BR48=$CN$9,$CV$9,$CV$10))*IF(BW48=$CD$8,$CJ$8,IF(BW48=$CD$9,$CJ$9,IF(BW48=$CD$10,$CJ$10,$CJ$11))))","v":64},null,null,null,null,null,null,null,null,null,{"$f":"IF(CB$19>$Z48,\"--\",IF(CB48=$CN$8,$CV$8,IF(CB48=$CN$9,$CV$9,$CV$10))*IF(CG48=$CD$8,$CJ$8,IF(CG48=$CD$9,$CJ$9,IF(CG48=$CD$10,$CJ$10,$CJ$11))))","v":64},null,null,null,null,null,null,null,null,null,{"$f":"IF(CL$19>$Z48,\"--\",IF(CL48=$CN$8,$CV$8,IF(CL48=$CN$9,$CV$9,$CV$10))*IF(CQ48=$CD$8,$CJ$8,IF(CQ48=$CD$9,$CJ$9,IF(CQ48=$CD$10,$CJ$10,$CJ$11))))","v":"--"},null,null,null,null,null,null,null,null,null,{"$f":"IF(CV$19>$Z48,\"--\",IF(CV48=$CN$8,$CV$8,IF(CV48=$CN$9,$CV$9,$CV$10))*IF(DA48=$CD$8,$CJ$8,IF(DA48=$CD$9,$CJ$9,IF(DA48=$CD$10,$CJ$10,$CJ$11))))","v":"--"},null,null,null,null,null,null,null,null,null,{"$f":"IF(DF$19>$Z48,\"--\",IF(DF48=$CN$8,$CV$8,IF(DF48=$CN$9,$CV$9,$CV$10))*IF(DK48=$CD$8,$CJ$8,IF(DK48=$CD$9,$CJ$9,IF(DK48=$CD$10,$CJ$10,$CJ$11))))","v":"--"},null,null,null,null,null,null,null,null,null,{"$f":"IF(DP$19>$Z48,\"--\",IF(DP48=$CN$8,$CV$8,IF(DP48=$CN$9,$CV$9,$CV$10))*IF(DU48=$CD$8,$CJ$8,IF(DU48=$CD$9,$CJ$9,IF(DU48=$CD$10,$CJ$10,$CJ$11))))","v":"--"},null,null,null,null,null,null,null,null,null,{"$f":"IF(DZ$19>$Z48,\"--\",IF(DZ48=$CN$8,$CV$8,IF(DZ48=$CN$9,$CV$9,$CV$10))*IF(EE48=$CD$8,$CJ$8,IF(EE48=$CD$9,$CJ$9,IF(EE48=$CD$10,$CJ$10,$CJ$11))))","v":"--"},null,null,null,null,null,null,null,null,null,{"$f":"IF(EJ$19>$Z48,\"--\",IF(EJ48=$CN$8,$CV$8,IF(EJ48=$CN$9,$CV$9,$CV$10))*IF(EO48=$CD$8,$CJ$8,IF(EO48=$CD$9,$CJ$9,IF(EO48=$CD$10,$CJ$10,$CJ$11))))","v":"--"},null,null,null,null,null,null,null,null,null,{"$f":"IF(ET$19>$Z48,\"--\",IF(ET48=$CN$8,$CV$8,IF(ET48=$CN$9,$CV$9,$CV$10))*IF(EY48=$CD$8,$CJ$8,IF(EY48=$CD$9,$CJ$9,IF(EY48=$CD$10,$CJ$10,$CJ$11))))","v":"--"},null,null,null,null,null,null,null,null,null,{"$f":"IF(FD$19>$Z48,\"--\",IF(FD48=$CN$8,$CV$8,IF(FD48=$CN$9,$CV$9,$CV$10))*IF(FI48=$CD$8,$CJ$8,IF(FI48=$CD$9,$CJ$9,IF(FI48=$CD$10,$CJ$10,$CJ$11))))","v":"--"},null,null,null,null,null,null,null,null,null,{"$f":"IF(FN$19>$Z48,\"--\",IF(FN48=$CN$8,$CV$8,IF(FN48=$CN$9,$CV$9,$CV$10))*IF(FS48=$CD$8,$CJ$8,IF(FS48=$CD$9,$CJ$9,IF(FS48=$CD$10,$CJ$10,$CJ$11))))","v":"--"},null,null,null,null,null,null,null,null,null,{"$f":"IF(FX$19>$Z48,\"--\",IF(FX48=$CN$8,$CV$8,IF(FX48=$CN$9,$CV$9,$CV$10))*IF(GC48=$CD$8,$CJ$8,IF(GC48=$CD$9,$CJ$9,IF(GC48=$CD$10,$CJ$10,$CJ$11))))","v":"--"}]
[]
["Partial Displaced Left Turn",null,null,null,null,null,null,null,null,null,null,null,null,null,null,null,null,null,null,"N-S",null,null,null,null,null,6,null,null,null,"2 Lanes",null,null,null,null,"<20mph",null,null,null,null,"2 Lanes",null,null,null,null,"<20mph",null,null,null,null,"2 Lanes",null,null,null,null,"<20mph",null,null,null,null,"2 Lanes",null,null,null,null,"<20mph",null,null,null,null,"2 Lanes",null,null,null,null,"<20mph",null,null,null,null,"2 Lanes",null,null,null,null,"<20mph",null,null,null,null,"2 Lanes",null,null,null,null,"<20mph",null,null,null,null,"2 Lanes",null,null,null,null,"<20mph",null,null,null,null,"2 Lanes",null,null,null,null,"<20mph",null,null,null,null,"2 Lanes",null,null,null,null,"<20mph",null,null,null,null,"2 Lanes",null,null,null,null,"<20mph",null,null,null,null,"2 Lanes",null,null,null,null,"<20mph",null,null,null,null,"2 Lanes",null,null,null,null,"<20mph",null,null,null,null,"2 Lanes",null,null,null,null,"<20mph",null,null,null,null,"2 Lanes",null,null,null,null,"<20mph",null,null,null,null,"2 Lanes",null,null,null,null,"<20mph",null,null,null,null,null,null,null,null,{"$f":"IF(GV50<=$BX$11,$BR$11,IF(GV50<=$BX$10,$BR$10,IF(GV50<=$BX$9,$BR$9,$BR$8)))","v":"Good"},null,null,null,null,{"$f":"MIN(HA50:ND51)","v":64},null,null,null,null,{"$f":"AVERAGE(HA50:ND51)","v":64},null,null,null,null,{"$f":"IF(AD$19>$Z50,\"--\",IF(AD50=$CN$8,$CV$8,IF(AD50=$CN$9,$CV$9,$CV$10))*IF(AI50=$CD$8,$CJ$8,IF(AI50=$CD$9,$CJ$9,IF(AI50=$CD$10,$CJ$10,$CJ$11))))","v":64},null,null,null,null,null,null,null,null,null,{"$f":"IF(AN$19>$Z50,\"--\",IF(AN50=$CN$8,$CV$8,IF(AN50=$CN$9,$CV$9,$CV$10))*IF(AS50=$CD$8,$CJ$8,IF(AS50=$CD$9,$CJ$9,IF(AS50=$CD$10,$CJ$10,$CJ$11))))","v":64},null,null,null,null,null,null,null,null,null,{"$f":"IF(AX$19>$Z50,\"--\",IF(AX50=$CN$8,$CV$8,IF(AX50=$CN$9,$CV$9,$CV$10))*IF(BC50=$CD$8,$CJ$8,IF(BC50=$CD$9,$CJ$9,IF(BC50=$CD$10,$CJ$10,$CJ$11))))","v":64},null,null,null,null,null,null,null,null,null,{"$f":"IF(BH$19>$Z50,\"--\",IF(BH50=$CN$8,$CV$8,IF(BH50=$CN$9,$CV$9,$CV$10))*IF(BM50=$CD$8,$CJ$8,IF(BM50=$CD$9,$CJ$9,IF(BM50=$CD$10,$CJ$10,$CJ$11))))","v":64},null,null,null,null,null,null,null,null,null,{"$f":"IF(BR$19>$Z50,\"--\",IF(BR50=$CN$8,$CV$8,IF(BR50=$CN$9,$CV$9,$CV$10))*IF(BW50=$CD$8,$CJ$8,IF(BW50=$CD$9,$CJ$9,IF(BW50=$CD$10,$CJ$10,$CJ$11))))","v":64},null,null,null,null,null,null,null,null,null,{"$f":"IF(CB$19>$Z50,\"--\",IF(CB50=$CN$8,$CV$8,IF(CB50=$CN$9,$CV$9,$CV$10))*IF(CG50=$CD$8,$CJ$8,IF(CG50=$CD$9,$CJ$9,IF(CG50=$CD$10,$CJ$10,$CJ$11))))","v":64},null,null,null,null,null,null,null,null,null,{"$f":"IF(CL$19>$Z50,\"--\",IF(CL50=$CN$8,$CV$8,IF(CL50=$CN$9,$CV$9,$CV$10))*IF(CQ50=$CD$8,$CJ$8,IF(CQ50=$CD$9,$CJ$9,IF(CQ50=$CD$10,$CJ$10,$CJ$11))))","v":"--"},null,null,null,null,null,null,null,null,null,{"$f":"IF(CV$19>$Z50,\"--\",IF(CV50=$CN$8,$CV$8,IF(CV50=$CN$9,$CV$9,$CV$10))*IF(DA50=$CD$8,$CJ$8,IF(DA50=$CD$9,$CJ$9,IF(DA50=$CD$10,$CJ$10,$CJ$11))))","v":"--"},null,null,null,null,null,null,null,null,null,{"$f":"IF(DF$19>$Z50,\"--\",IF(DF50=$CN$8,$CV$8,IF(DF50=$CN$9,$CV$9,$CV$10))*IF(DK50=$CD$8,$CJ$8,IF(DK50=$CD$9,$CJ$9,IF(DK50=$CD$10,$CJ$10,$CJ$11))))","v":"--"},null,null,null,null,null,null,null,null,null,{"$f":"IF(DP$19>$Z50,\"--\",IF(DP50=$CN$8,$CV$8,IF(DP50=$CN$9,$CV$9,$CV$10))*IF(DU50=$CD$8,$CJ$8,IF(DU50=$CD$9,$CJ$9,IF(DU50=$CD$10,$CJ$10,$CJ$11))))","v":"--"},null,null,null,null,null,null,null,null,null,{"$f":"IF(DZ$19>$Z50,\"--\",IF(DZ50=$CN$8,$CV$8,IF(DZ50=$CN$9,$CV$9,$CV$10))*IF(EE50=$CD$8,$CJ$8,IF(EE50=$CD$9,$CJ$9,IF(EE50=$CD$10,$CJ$10,$CJ$11))))","v":"--"},null,null,null,null,null,null,null,null,null,{"$f":"IF(EJ$19>$Z50,\"--\",IF(EJ50=$CN$8,$CV$8,IF(EJ50=$CN$9,$CV$9,$CV$10))*IF(EO50=$CD$8,$CJ$8,IF(EO50=$CD$9,$CJ$9,IF(EO50=$CD$10,$CJ$10,$CJ$11))))","v":"--"},null,null,null,null,null,null,null,null,null,{"$f":"IF(ET$19>$Z50,\"--\",IF(ET50=$CN$8,$CV$8,IF(ET50=$CN$9,$CV$9,$CV$10))*IF(EY50=$CD$8,$CJ$8,IF(EY50=$CD$9,$CJ$9,IF(EY50=$CD$10,$CJ$10,$CJ$11))))","v":"--"},null,null,null,null,null,null,null,null,null,{"$f":"IF(FD$19>$Z50,\"--\",IF(FD50=$CN$8,$CV$8,IF(FD50=$CN$9,$CV$9,$CV$10))*IF(FI50=$CD$8,$CJ$8,IF(FI50=$CD$9,$CJ$9,IF(FI50=$CD$10,$CJ$10,$CJ$11))))","v":"--"},null,null,null,null,null,null,null,null,null,{"$f":"IF(FN$19>$Z50,\"--\",IF(FN50=$CN$8,$CV$8,IF(FN50=$CN$9,$CV$9,$CV$10))*IF(FS50=$CD$8,$CJ$8,IF(FS50=$CD$9,$CJ$9,IF(FS50=$CD$10,$CJ$10,$CJ$11))))","v":"--"},null,null,null,null,null,null,null,null,null,{"$f":"IF(FX$19>$Z50,\"--\",IF(FX50=$CN$8,$CV$8,IF(FX50=$CN$9,$CV$9,$CV$10))*IF(GC50=$CD$8,$CJ$8,IF(GC50=$CD$9,$CJ$9,IF(GC50=$CD$10,$CJ$10,$CJ$11))))","v":"--"}]
[]
[null,null,null,null,null,null,null,null,null,null,null,null,null,null,null,null,null,null,null,"E-W",null,null,null,null,null,6,null,null,null,"2 Lanes",null,null,null,null,"<20mph",null,null,null,null,"2 Lanes",null,null,null,null,"<20mph",null,null,null,null,"2 Lanes",null,null,null,null,"<20mph",null,null,null,null,"2 Lanes",null,null,null,null,"<20mph",null,null,null,null,"2 Lanes",null,null,null,null,"<20mph",null,null,null,null,"2 Lanes",null,null,null,null,"<20mph",null,null,null,null,"2 Lanes",null,null,null,null,"<20mph",null,null,null,null,"2 Lanes",null,null,null,null,"<20mph",null,null,null,null,"2 Lanes",null,null,null,null,"<20mph",null,null,null,null,"2 Lanes",null,null,null,null,"<20mph",null,null,null,null,"2 Lanes",null,null,null,null,"<20mph",null,null,null,null,"2 Lanes",null,null,null,null,"<20mph",null,null,null,null,"2 Lanes",null,null,null,null,"<20mph",null,null,null,null,"2 Lanes",null,null,null,null,"<20mph",null,null,null,null,"2 Lanes",null,null,null,null,"<20mph",null,null,null,null,"2 Lanes",null,null,null,null,"<20mph",null,null,null,null,null,null,null,null,{"$f":"IF(GV52<=$BX$11,$BR$11,IF(GV52<=$BX$10,$BR$10,IF(GV52<=$BX$9,$BR$9,$BR$8)))","v":"Good"},null,null,null,null,{"$f":"MIN(HA52:ND53)","v":64},null,null,null,null,{"$f":"AVERAGE(HA52:ND53)","v":64},null,null,null,null,{"$f":"IF(AD$19>$Z52,\"--\",IF(AD52=$CN$8,$CV$8,IF(AD52=$CN$9,$CV$9,$CV$10))*IF(AI52=$CD$8,$CJ$8,IF(AI52=$CD$9,$CJ$9,IF(AI52=$CD$10,$CJ$10,$CJ$11))))","v":64},null,null,null,null,null,null,null,null,null,{"$f":"IF(AN$19>$Z52,\"--\",IF(AN52=$CN$8,$CV$8,IF(AN52=$CN$9,$CV$9,$CV$10))*IF(AS52=$CD$8,$CJ$8,IF(AS52=$CD$9,$CJ$9,IF(AS52=$CD$10,$CJ$10,$CJ$11))))","v":64},null,null,null,null,null,null,null,null,null,{"$f":"IF(AX$19>$Z52,\"--\",IF(AX52=$CN$8,$CV$8,IF(AX52=$CN$9,$CV$9,$CV$10))*IF(BC52=$CD$8,$CJ$8,IF(BC52=$CD$9,$CJ$9,IF(BC52=$CD$10,$CJ$10,$CJ$11))))","v":64},null,null,null,null,null,null,null,null,null,{"$f":"IF(BH$19>$Z52,\"--\",IF(BH52=$CN$8,$CV$8,IF(BH52=$CN$9,$CV$9,$CV$10))*IF(BM52=$CD$8,$CJ$8,IF(BM52=$CD$9,$CJ$9,IF(BM52=$CD$10,$CJ$10,$CJ$11))))","v":64},null,null,null,null,null,null,null,null,null,{"$f":"IF(BR$19>$Z52,\"--\",IF(BR52=$CN$8,$CV$8,IF(BR52=$CN$9,$CV$9,$CV$10))*IF(BW52=$CD$8,$CJ$8,IF(BW52=$CD$9,$CJ$9,IF(BW52=$CD$10,$CJ$10,$CJ$11))))","v":64},null,null,null,null,null,null,null,null,null,{"$f":"IF(CB$19>$Z52,\"--\",IF(CB52=$CN$8,$CV$8,IF(CB52=$CN$9,$CV$9,$CV$10))*IF(CG52=$CD$8,$CJ$8,IF(CG52=$CD$9,$CJ$9,IF(CG52=$CD$10,$CJ$10,$CJ$11))))","v":64},null,null,null,null,null,null,null,null,null,{"$f":"IF(CL$19>$Z52,\"--\",IF(CL52=$CN$8,$CV$8,IF(CL52=$CN$9,$CV$9,$CV$10))*IF(CQ52=$CD$8,$CJ$8,IF(CQ52=$CD$9,$CJ$9,IF(CQ52=$CD$10,$CJ$10,$CJ$11))))","v":"--"},null,null,null,null,null,null,null,null,null,{"$f":"IF(CV$19>$Z52,\"--\",IF(CV52=$CN$8,$CV$8,IF(CV52=$CN$9,$CV$9,$CV$10))*IF(DA52=$CD$8,$CJ$8,IF(DA52=$CD$9,$CJ$9,IF(DA52=$CD$10,$CJ$10,$CJ$11))))","v":"--"},null,null,null,null,null,null,null,null,null,{"$f":"IF(DF$19>$Z52,\"--\",IF(DF52=$CN$8,$CV$8,IF(DF52=$CN$9,$CV$9,$CV$10))*IF(DK52=$CD$8,$CJ$8,IF(DK52=$CD$9,$CJ$9,IF(DK52=$CD$10,$CJ$10,$CJ$11))))","v":"--"},null,null,null,null,null,null,null,null,null,{"$f":"IF(DP$19>$Z52,\"--\",IF(DP52=$CN$8,$CV$8,IF(DP52=$CN$9,$CV$9,$CV$10))*IF(DU52=$CD$8,$CJ$8,IF(DU52=$CD$9,$CJ$9,IF(DU52=$CD$10,$CJ$10,$CJ$11))))","v":"--"},null,null,null,null,null,null,null,null,null,{"$f":"IF(DZ$19>$Z52,\"--\",IF(DZ52=$CN$8,$CV$8,IF(DZ52=$CN$9,$CV$9,$CV$10))*IF(EE52=$CD$8,$CJ$8,IF(EE52=$CD$9,$CJ$9,IF(EE52=$CD$10,$CJ$10,$CJ$11))))","v":"--"},null,null,null,null,null,null,null,null,null,{"$f":"IF(EJ$19>$Z52,\"--\",IF(EJ52=$CN$8,$CV$8,IF(EJ52=$CN$9,$CV$9,$CV$10))*IF(EO52=$CD$8,$CJ$8,IF(EO52=$CD$9,$CJ$9,IF(EO52=$CD$10,$CJ$10,$CJ$11))))","v":"--"},null,null,null,null,null,null,null,null,null,{"$f":"IF(ET$19>$Z52,\"--\",IF(ET52=$CN$8,$CV$8,IF(ET52=$CN$9,$CV$9,$CV$10))*IF(EY52=$CD$8,$CJ$8,IF(EY52=$CD$9,$CJ$9,IF(EY52=$CD$10,$CJ$10,$CJ$11))))","v":"--"},null,null,null,null,null,null,null,null,null,{"$f":"IF(FD$19>$Z52,\"--\",IF(FD52=$CN$8,$CV$8,IF(FD52=$CN$9,$CV$9,$CV$10))*IF(FI52=$CD$8,$CJ$8,IF(FI52=$CD$9,$CJ$9,IF(FI52=$CD$10,$CJ$10,$CJ$11))))","v":"--"},null,null,null,null,null,null,null,null,null,{"$f":"IF(FN$19>$Z52,\"--\",IF(FN52=$CN$8,$CV$8,IF(FN52=$CN$9,$CV$9,$CV$10))*IF(FS52=$CD$8,$CJ$8,IF(FS52=$CD$9,$CJ$9,IF(FS52=$CD$10,$CJ$10,$CJ$11))))","v":"--"},null,null,null,null,null,null,null,null,null,{"$f":"IF(FX$19>$Z52,\"--\",IF(FX52=$CN$8,$CV$8,IF(FX52=$CN$9,$CV$9,$CV$10))*IF(GC52=$CD$8,$CJ$8,IF(GC52=$CD$9,$CJ$9,IF(GC52=$CD$10,$CJ$10,$CJ$11))))","v":"--"}]
[]
["Displaced Left Turn",null,null,null,null,null,null,null,null,null,null,null,null,null,null,null,null,null,null,"FULL",null,null,null,null,null,6,null,null,null,"2 Lanes",null,null,null,null,"<20mph",null,null,null,null,"2 Lanes",null,null,null,null,"<20mph",null,null,null,null,"2 Lanes",null,null,null,null,"<20mph",null,null,null,null,"2 Lanes",null,null,null,null,"<20mph",null,null,null,null,"2 Lanes",null,null,null,null,"<20mph",null,null,null,null,"2 Lanes",null,null,null,null,"<20mph",null,null,null,null,"2 Lanes",null,null,null,null,"<20mph",null,null,null,null,"2 Lanes",null,null,null,null,"<20mph",null,null,null,null,"2 Lanes",null,null,null,null,"<20mph",null,null,null,null,"2 Lanes",null,null,null,null,"<20mph",null,null,null,null,"2 Lanes",null,null,null,null,"<20mph",null,null,null,null,"2 Lanes",null,null,null,null,"<20mph",null,null,null,null,"2 Lanes",null,null,null,null,"<20mph",null,null,null,null,"2 Lanes",null,null,null,null,"<20mph",null,null,null,null,"2 Lanes",null,null,null,null,"<20mph",null,null,null,null,"2 Lanes",null,null,null,null,"<20mph",null,null,null,null,null,null,null,null,{"$f":"IF(GV54<=$BX$11,$BR$11,IF(GV54<=$BX$10,$BR$10,IF(GV54<=$BX$9,$BR$9,$BR$8)))","v":"Good"},null,null,null,null,{"$f":"MIN(HA54:ND55)","v":64},null,null,null,null,{"$f":"AVERAGE(HA54:ND55)","v":64},null,null,null,null,{"$f":"IF(AD$19>$Z54,\"--\",IF(AD54=$CN$8,$CV$8,IF(AD54=$CN$9,$CV$9,$CV$10))*IF(AI54=$CD$8,$CJ$8,IF(AI54=$CD$9,$CJ$9,IF(AI54=$CD$10,$CJ$10,$CJ$11))))","v":64},null,null,null,null,null,null,null,null,null,{"$f":"IF(AN$19>$Z54,\"--\",IF(AN54=$CN$8,$CV$8,IF(AN54=$CN$9,$CV$9,$CV$10))*IF(AS54=$CD$8,$CJ$8,IF(AS54=$CD$9,$CJ$9,IF(AS54=$CD$10,$CJ$10,$CJ$11))))","v":64},null,null,null,null,null,null,null,null,null,{"$f":"IF(AX$19>$Z54,\"--\",IF(AX54=$CN$8,$CV$8,IF(AX54=$CN$9,$CV$9,$CV$10))*IF(BC54=$CD$8,$CJ$8,IF(BC54=$CD$9,$CJ$9,IF(BC54=$CD$10,$CJ$10,$CJ$11))))","v":64},null,null,null,null,null,null,null,null,null,{"$f":"IF(BH$19>$Z54,\"--\",IF(BH54=$CN$8,$CV$8,IF(BH54=$CN$9,$CV$9,$CV$10))*IF(BM54=$CD$8,$CJ$8,IF(BM54=$CD$9,$CJ$9,IF(BM54=$CD$10,$CJ$10,$CJ$11))))","v":64},null,null,null,null,null,null,null,null,null,{"$f":"IF(BR$19>$Z54,\"--\",IF(BR54=$CN$8,$CV$8,IF(BR54=$CN$9,$CV$9,$CV$10))*IF(BW54=$CD$8,$CJ$8,IF(BW54=$CD$9,$CJ$9,IF(BW54=$CD$10,$CJ$10,$CJ$11))))","v":64},null,null,null,null,null,null,null,null,null,{"$f":"IF(CB$19>$Z54,\"--\",IF(CB54=$CN$8,$CV$8,IF(CB54=$CN$9,$CV$9,$CV$10))*IF(CG54=$CD$8,$CJ$8,IF(CG54=$CD$9,$CJ$9,IF(CG54=$CD$10,$CJ$10,$CJ$11))))","v":64},null,null,null,null,null,null,null,null,null,{"$f":"IF(CL$19>$Z54,\"--\",IF(CL54=$CN$8,$CV$8,IF(CL54=$CN$9,$CV$9,$CV$10))*IF(CQ54=$CD$8,$CJ$8,IF(CQ54=$CD$9,$CJ$9,IF(CQ54=$CD$10,$CJ$10,$CJ$11))))","v":"--"},null,null,null,null,null,null,null,null,null,{"$f":"IF(CV$19>$Z54,\"--\",IF(CV54=$CN$8,$CV$8,IF(CV54=$CN$9,$CV$9,$CV$10))*IF(DA54=$CD$8,$CJ$8,IF(DA54=$CD$9,$CJ$9,IF(DA54=$CD$10,$CJ$10,$CJ$11))))","v":"--"},null,null,null,null,null,null,null,null,null,{"$f":"IF(DF$19>$Z54,\"--\",IF(DF54=$CN$8,$CV$8,IF(DF54=$CN$9,$CV$9,$CV$10))*IF(DK54=$CD$8,$CJ$8,IF(DK54=$CD$9,$CJ$9,IF(DK54=$CD$10,$CJ$10,$CJ$11))))","v":"--"},null,null,null,null,null,null,null,null,null,{"$f":"IF(DP$19>$Z54,\"--\",IF(DP54=$CN$8,$CV$8,IF(DP54=$CN$9,$CV$9,$CV$10))*IF(DU54=$CD$8,$CJ$8,IF(DU54=$CD$9,$CJ$9,IF(DU54=$CD$10,$CJ$10,$CJ$11))))","v":"--"},null,null,null,null,null,null,null,null,null,{"$f":"IF(DZ$19>$Z54,\"--\",IF(DZ54=$CN$8,$CV$8,IF(DZ54=$CN$9,$CV$9,$CV$10))*IF(EE54=$CD$8,$CJ$8,IF(EE54=$CD$9,$CJ$9,IF(EE54=$CD$10,$CJ$10,$CJ$11))))","v":"--"},null,null,null,null,null,null,null,null,null,{"$f":"IF(EJ$19>$Z54,\"--\",IF(EJ54=$CN$8,$CV$8,IF(EJ54=$CN$9,$CV$9,$CV$10))*IF(EO54=$CD$8,$CJ$8,IF(EO54=$CD$9,$CJ$9,IF(EO54=$CD$10,$CJ$10,$CJ$11))))","v":"--"},null,null,null,null,null,null,null,null,null,{"$f":"IF(ET$19>$Z54,\"--\",IF(ET54=$CN$8,$CV$8,IF(ET54=$CN$9,$CV$9,$CV$10))*IF(EY54=$CD$8,$CJ$8,IF(EY54=$CD$9,$CJ$9,IF(EY54=$CD$10,$CJ$10,$CJ$11))))","v":"--"},null,null,null,null,null,null,null,null,null,{"$f":"IF(FD$19>$Z54,\"--\",IF(FD54=$CN$8,$CV$8,IF(FD54=$CN$9,$CV$9,$CV$10))*IF(FI54=$CD$8,$CJ$8,IF(FI54=$CD$9,$CJ$9,IF(FI54=$CD$10,$CJ$10,$CJ$11))))","v":"--"},null,null,null,null,null,null,null,null,null,{"$f":"IF(FN$19>$Z54,\"--\",IF(FN54=$CN$8,$CV$8,IF(FN54=$CN$9,$CV$9,$CV$10))*IF(FS54=$CD$8,$CJ$8,IF(FS54=$CD$9,$CJ$9,IF(FS54=$CD$10,$CJ$10,$CJ$11))))","v":"--"},null,null,null,null,null,null,null,null,null,{"$f":"IF(FX$19>$Z54,\"--\",IF(FX54=$CN$8,$CV$8,IF(FX54=$CN$9,$CV$9,$CV$10))*IF(GC54=$CD$8,$CJ$8,IF(GC54=$CD$9,$CJ$9,IF(GC54=$CD$10,$CJ$10,$CJ$11))))","v":"--"}]
[]
[{"$f":"'3 - Alt Num Lanes Input'!E56","v":"Signalized Restricted Crossing U-Turn"},null,null,null,null,null,null,null,null,null,null,null,null,null,null,null,null,null,null,"N-S",null,null,null,null,null,6,null,null,null,"2 Lanes",null,null,null,null,"<20mph",null,null,null,null,"2 Lanes",null,null,null,null,"<20mph",null,null,null,null,"2 Lanes",null,null,null,null,"<20mph",null,null,null,null,"2 Lanes",null,null,null,null,"<20mph",null,null,null,null,"2 Lanes",null,null,null,null,"<20mph",null,null,null,null,"2 Lanes",null,null,null,null,"<20mph",null,null,null,null,"2 Lanes",null,null,null,null,"<20mph",null,null,null,null,"2 Lanes",null,null,null,null,"<20mph",null,null,null,null,"2 Lanes",null,null,null,null,"<20mph",null,null,null,null,"2 Lanes",null,null,null,null,"<20mph",null,null,null,null,"2 Lanes",null,null,null,null,"<20mph",null,null,null,null,"2 Lanes",null,null,null,null,"<20mph",null,null,null,null,"2 Lanes",null,null,null,null,"<20mph",null,null,null,null,"2 Lanes",null,null,null,null,"<20mph",null,null,null,null,"2 Lanes",null,null,null,null,"<20mph",null,null,null,null,"2 Lanes",null,null,null,null,"<20mph",null,null,null,null,null,null,null,null,{"$f":"IF(GV56<=$BX$11,$BR$11,IF(GV56<=$BX$10,$BR$10,IF(GV56<=$BX$9,$BR$9,$BR$8)))","v":"Good"},null,null,null,null,{"$f":"MIN(HA56:ND57)","v":64},null,null,null,null,{"$f":"AVERAGE(HA56:ND57)","v":64},null,null,null,null,{"$f":"IF(AD$19>$Z56,\"--\",IF(AD56=$CN$8,$CV$8,IF(AD56=$CN$9,$CV$9,$CV$10))*IF(AI56=$CD$8,$CJ$8,IF(AI56=$CD$9,$CJ$9,IF(AI56=$CD$10,$CJ$10,$CJ$11))))","v":64},null,null,null,null,null,null,null,null,null,{"$f":"IF(AN$19>$Z56,\"--\",IF(AN56=$CN$8,$CV$8,IF(AN56=$CN$9,$CV$9,$CV$10))*IF(AS56=$CD$8,$CJ$8,IF(AS56=$CD$9,$CJ$9,IF(AS56=$CD$10,$CJ$10,$CJ$11))))","v":64},null,null,null,null,null,null,null,null,null,{"$f":"IF(AX$19>$Z56,\"--\",IF(AX56=$CN$8,$CV$8,IF(AX56=$CN$9,$CV$9,$CV$10))*IF(BC56=$CD$8,$CJ$8,IF(BC56=$CD$9,$CJ$9,IF(BC56=$CD$10,$CJ$10,$CJ$11))))","v":64},null,null,null,null,null,null,null,null,null,{"$f":"IF(BH$19>$Z56,\"--\",IF(BH56=$CN$8,$CV$8,IF(BH56=$CN$9,$CV$9,$CV$10))*IF(BM56=$CD$8,$CJ$8,IF(BM56=$CD$9,$CJ$9,IF(BM56=$CD$10,$CJ$10,$CJ$11))))","v":64},null,null,null,null,null,null,null,null,null,{"$f":"IF(BR$19>$Z56,\"--\",IF(BR56=$CN$8,$CV$8,IF(BR56=$CN$9,$CV$9,$CV$10))*IF(BW56=$CD$8,$CJ$8,IF(BW56=$CD$9,$CJ$9,IF(BW56=$CD$10,$CJ$10,$CJ$11))))","v":64},null,null,null,null,null,null,null,null,null,{"$f":"IF(CB$19>$Z56,\"--\",IF(CB56=$CN$8,$CV$8,IF(CB56=$CN$9,$CV$9,$CV$10))*IF(CG56=$CD$8,$CJ$8,IF(CG56=$CD$9,$CJ$9,IF(CG56=$CD$10,$CJ$10,$CJ$11))))","v":64},null,null,null,null,null,null,null,null,null,{"$f":"IF(CL$19>$Z56,\"--\",IF(CL56=$CN$8,$CV$8,IF(CL56=$CN$9,$CV$9,$CV$10))*IF(CQ56=$CD$8,$CJ$8,IF(CQ56=$CD$9,$CJ$9,IF(CQ56=$CD$10,$CJ$10,$CJ$11))))","v":"--"},null,null,null,null,null,null,null,null,null,{"$f":"IF(CV$19>$Z56,\"--\",IF(CV56=$CN$8,$CV$8,IF(CV56=$CN$9,$CV$9,$CV$10))*IF(DA56=$CD$8,$CJ$8,IF(DA56=$CD$9,$CJ$9,IF(DA56=$CD$10,$CJ$10,$CJ$11))))","v":"--"},null,null,null,null,null,null,null,null,null,{"$f":"IF(DF$19>$Z56,\"--\",IF(DF56=$CN$8,$CV$8,IF(DF56=$CN$9,$CV$9,$CV$10))*IF(DK56=$CD$8,$CJ$8,IF(DK56=$CD$9,$CJ$9,IF(DK56=$CD$10,$CJ$10,$CJ$11))))","v":"--"},null,null,null,null,null,null,null,null,null,{"$f":"IF(DP$19>$Z56,\"--\",IF(DP56=$CN$8,$CV$8,IF(DP56=$CN$9,$CV$9,$CV$10))*IF(DU56=$CD$8,$CJ$8,IF(DU56=$CD$9,$CJ$9,IF(DU56=$CD$10,$CJ$10,$CJ$11))))","v":"--"},null,null,null,null,null,null,null,null,null,{"$f":"IF(DZ$19>$Z56,\"--\",IF(DZ56=$CN$8,$CV$8,IF(DZ56=$CN$9,$CV$9,$CV$10))*IF(EE56=$CD$8,$CJ$8,IF(EE56=$CD$9,$CJ$9,IF(EE56=$CD$10,$CJ$10,$CJ$11))))","v":"--"},null,null,null,null,null,null,null,null,null,{"$f":"IF(EJ$19>$Z56,\"--\",IF(EJ56=$CN$8,$CV$8,IF(EJ56=$CN$9,$CV$9,$CV$10))*IF(EO56=$CD$8,$CJ$8,IF(EO56=$CD$9,$CJ$9,IF(EO56=$CD$10,$CJ$10,$CJ$11))))","v":"--"},null,null,null,null,null,null,null,null,null,{"$f":"IF(ET$19>$Z56,\"--\",IF(ET56=$CN$8,$CV$8,IF(ET56=$CN$9,$CV$9,$CV$10))*IF(EY56=$CD$8,$CJ$8,IF(EY56=$CD$9,$CJ$9,IF(EY56=$CD$10,$CJ$10,$CJ$11))))","v":"--"},null,null,null,null,null,null,null,null,null,{"$f":"IF(FD$19>$Z56,\"--\",IF(FD56=$CN$8,$CV$8,IF(FD56=$CN$9,$CV$9,$CV$10))*IF(FI56=$CD$8,$CJ$8,IF(FI56=$CD$9,$CJ$9,IF(FI56=$CD$10,$CJ$10,$CJ$11))))","v":"--"},null,null,null,null,null,null,null,null,null,{"$f":"IF(FN$19>$Z56,\"--\",IF(FN56=$CN$8,$CV$8,IF(FN56=$CN$9,$CV$9,$CV$10))*IF(FS56=$CD$8,$CJ$8,IF(FS56=$CD$9,$CJ$9,IF(FS56=$CD$10,$CJ$10,$CJ$11))))","v":"--"},null,null,null,null,null,null,null,null,null,{"$f":"IF(FX$19>$Z56,\"--\",IF(FX56=$CN$8,$CV$8,IF(FX56=$CN$9,$CV$9,$CV$10))*IF(GC56=$CD$8,$CJ$8,IF(GC56=$CD$9,$CJ$9,IF(GC56=$CD$10,$CJ$10,$CJ$11))))","v":"--"}]
[]
[null,null,null,null,null,null,null,null,null,null,null,null,null,null,null,null,null,null,null,"E-W",null,null,null,null,null,6,null,null,null,"2 Lanes",null,null,null,null,"<20mph",null,null,null,null,"2 Lanes",null,null,null,null,"<20mph",null,null,null,null,"2 Lanes",null,null,null,null,"<20mph",null,null,null,null,"2 Lanes",null,null,null,null,"<20mph",null,null,null,null,"2 Lanes",null,null,null,null,"<20mph",null,null,null,null,"2 Lanes",null,null,null,null,"<20mph",null,null,null,null,"2 Lanes",null,null,null,null,"<20mph",null,null,null,null,"2 Lanes",null,null,null,null,"<20mph",null,null,null,null,"2 Lanes",null,null,null,null,"<20mph",null,null,null,null,"2 Lanes",null,null,null,null,"<20mph",null,null,null,null,"2 Lanes",null,null,null,null,"<20mph",null,null,null,null,"2 Lanes",null,null,null,null,"<20mph",null,null,null,null,"2 Lanes",null,null,null,null,"<20mph",null,null,null,null,"2 Lanes",null,null,null,null,"<20mph",null,null,null,null,"2 Lanes",null,null,null,null,"<20mph",null,null,null,null,"2 Lanes",null,null,null,null,"<20mph",null,null,null,null,null,null,null,null,{"$f":"IF(GV58<=$BX$11,$BR$11,IF(GV58<=$BX$10,$BR$10,IF(GV58<=$BX$9,$BR$9,$BR$8)))","v":"Good"},null,null,null,null,{"$f":"MIN(HA58:ND59)","v":64},null,null,null,null,{"$f":"AVERAGE(HA58:ND59)","v":64},null,null,null,null,{"$f":"IF(AD$19>$Z58,\"--\",IF(AD58=$CN$8,$CV$8,IF(AD58=$CN$9,$CV$9,$CV$10))*IF(AI58=$CD$8,$CJ$8,IF(AI58=$CD$9,$CJ$9,IF(AI58=$CD$10,$CJ$10,$CJ$11))))","v":64},null,null,null,null,null,null,null,null,null,{"$f":"IF(AN$19>$Z58,\"--\",IF(AN58=$CN$8,$CV$8,IF(AN58=$CN$9,$CV$9,$CV$10))*IF(AS58=$CD$8,$CJ$8,IF(AS58=$CD$9,$CJ$9,IF(AS58=$CD$10,$CJ$10,$CJ$11))))","v":64},null,null,null,null,null,null,null,null,null,{"$f":"IF(AX$19>$Z58,\"--\",IF(AX58=$CN$8,$CV$8,IF(AX58=$CN$9,$CV$9,$CV$10))*IF(BC58=$CD$8,$CJ$8,IF(BC58=$CD$9,$CJ$9,IF(BC58=$CD$10,$CJ$10,$CJ$11))))","v":64},null,null,null,null,null,null,null,null,null,{"$f":"IF(BH$19>$Z58,\"--\",IF(BH58=$CN$8,$CV$8,IF(BH58=$CN$9,$CV$9,$CV$10))*IF(BM58=$CD$8,$CJ$8,IF(BM58=$CD$9,$CJ$9,IF(BM58=$CD$10,$CJ$10,$CJ$11))))","v":64},null,null,null,null,null,null,null,null,null,{"$f":"IF(BR$19>$Z58,\"--\",IF(BR58=$CN$8,$CV$8,IF(BR58=$CN$9,$CV$9,$CV$10))*IF(BW58=$CD$8,$CJ$8,IF(BW58=$CD$9,$CJ$9,IF(BW58=$CD$10,$CJ$10,$CJ$11))))","v":64},null,null,null,null,null,null,null,null,null,{"$f":"IF(CB$19>$Z58,\"--\",IF(CB58=$CN$8,$CV$8,IF(CB58=$CN$9,$CV$9,$CV$10))*IF(CG58=$CD$8,$CJ$8,IF(CG58=$CD$9,$CJ$9,IF(CG58=$CD$10,$CJ$10,$CJ$11))))","v":64},null,null,null,null,null,null,null,null,null,{"$f":"IF(CL$19>$Z58,\"--\",IF(CL58=$CN$8,$CV$8,IF(CL58=$CN$9,$CV$9,$CV$10))*IF(CQ58=$CD$8,$CJ$8,IF(CQ58=$CD$9,$CJ$9,IF(CQ58=$CD$10,$CJ$10,$CJ$11))))","v":"--"},null,null,null,null,null,null,null,null,null,{"$f":"IF(CV$19>$Z58,\"--\",IF(CV58=$CN$8,$CV$8,IF(CV58=$CN$9,$CV$9,$CV$10))*IF(DA58=$CD$8,$CJ$8,IF(DA58=$CD$9,$CJ$9,IF(DA58=$CD$10,$CJ$10,$CJ$11))))","v":"--"},null,null,null,null,null,null,null,null,null,{"$f":"IF(DF$19>$Z58,\"--\",IF(DF58=$CN$8,$CV$8,IF(DF58=$CN$9,$CV$9,$CV$10))*IF(DK58=$CD$8,$CJ$8,IF(DK58=$CD$9,$CJ$9,IF(DK58=$CD$10,$CJ$10,$CJ$11))))","v":"--"},null,null,null,null,null,null,null,null,null,{"$f":"IF(DP$19>$Z58,\"--\",IF(DP58=$CN$8,$CV$8,IF(DP58=$CN$9,$CV$9,$CV$10))*IF(DU58=$CD$8,$CJ$8,IF(DU58=$CD$9,$CJ$9,IF(DU58=$CD$10,$CJ$10,$CJ$11))))","v":"--"},null,null,null,null,null,null,null,null,null,{"$f":"IF(DZ$19>$Z58,\"--\",IF(DZ58=$CN$8,$CV$8,IF(DZ58=$CN$9,$CV$9,$CV$10))*IF(EE58=$CD$8,$CJ$8,IF(EE58=$CD$9,$CJ$9,IF(EE58=$CD$10,$CJ$10,$CJ$11))))","v":"--"},null,null,null,null,null,null,null,null,null,{"$f":"IF(EJ$19>$Z58,\"--\",IF(EJ58=$CN$8,$CV$8,IF(EJ58=$CN$9,$CV$9,$CV$10))*IF(EO58=$CD$8,$CJ$8,IF(EO58=$CD$9,$CJ$9,IF(EO58=$CD$10,$CJ$10,$CJ$11))))","v":"--"},null,null,null,null,null,null,null,null,null,{"$f":"IF(ET$19>$Z58,\"--\",IF(ET58=$CN$8,$CV$8,IF(ET58=$CN$9,$CV$9,$CV$10))*IF(EY58=$CD$8,$CJ$8,IF(EY58=$CD$9,$CJ$9,IF(EY58=$CD$10,$CJ$10,$CJ$11))))","v":"--"},null,null,null,null,null,null,null,null,null,{"$f":"IF(FD$19>$Z58,\"--\",IF(FD58=$CN$8,$CV$8,IF(FD58=$CN$9,$CV$9,$CV$10))*IF(FI58=$CD$8,$CJ$8,IF(FI58=$CD$9,$CJ$9,IF(FI58=$CD$10,$CJ$10,$CJ$11))))","v":"--"},null,null,null,null,null,null,null,null,null,{"$f":"IF(FN$19>$Z58,\"--\",IF(FN58=$CN$8,$CV$8,IF(FN58=$CN$9,$CV$9,$CV$10))*IF(FS58=$CD$8,$CJ$8,IF(FS58=$CD$9,$CJ$9,IF(FS58=$CD$10,$CJ$10,$CJ$11))))","v":"--"},null,null,null,null,null,null,null,null,null,{"$f":"IF(FX$19>$Z58,\"--\",IF(FX58=$CN$8,$CV$8,IF(FX58=$CN$9,$CV$9,$CV$10))*IF(GC58=$CD$8,$CJ$8,IF(GC58=$CD$9,$CJ$9,IF(GC58=$CD$10,$CJ$10,$CJ$11))))","v":"--"}]
[]
[{"$f":"'3 - Alt Num Lanes Input'!E60","v":"Unsignalized Restricted Crossing U-Turn"},null,null,null,null,null,null,null,null,null,null,null,null,null,null,null,null,null,null,"N-S",null,null,null,null,null,6,null,null,null,"2 Lanes",null,null,null,null,"<20mph",null,null,null,null,"2 Lanes",null,null,null,null,"<20mph",null,null,null,null,"2 Lanes",null,null,null,null,"<20mph",null,null,null,null,"2 Lanes",null,null,null,null,"<20mph",null,null,null,null,"2 Lanes",null,null,null,null,"<20mph",null,null,null,null,"2 Lanes",null,null,null,null,"<20mph",null,null,null,null,"2 Lanes",null,null,null,null,"<20mph",null,null,null,null,"2 Lanes",null,null,null,null,"<20mph",null,null,null,null,"2 Lanes",null,null,null,null,"<20mph",null,null,null,null,"2 Lanes",null,null,null,null,"<20mph",null,null,null,null,"2 Lanes",null,null,null,null,"<20mph",null,null,null,null,"2 Lanes",null,null,null,null,"<20mph",null,null,null,null,"2 Lanes",null,null,null,null,"<20mph",null,null,null,null,"2 Lanes",null,null,null,null,"<20mph",null,null,null,null,"2 Lanes",null,null,null,null,"<20mph",null,null,null,null,"2 Lanes",null,null,null,null,"<20mph",null,null,null,null,null,null,null,null,{"$f":"IF(GV60<=$BX$11,$BR$11,IF(GV60<=$BX$10,$BR$10,IF(GV60<=$BX$9,$BR$9,$BR$8)))","v":"Good"},null,null,null,null,{"$f":"MIN(HA60:ND61)","v":64},null,null,null,null,{"$f":"AVERAGE(HA60:ND61)","v":64},null,null,null,null,{"$f":"IF(AD$19>$Z60,\"--\",IF(AD60=$CN$8,$CV$8,IF(AD60=$CN$9,$CV$9,$CV$10))*IF(AI60=$CD$8,$CJ$8,IF(AI60=$CD$9,$CJ$9,IF(AI60=$CD$10,$CJ$10,$CJ$11))))","v":64},null,null,null,null,null,null,null,null,null,{"$f":"IF(AN$19>$Z60,\"--\",IF(AN60=$CN$8,$CV$8,IF(AN60=$CN$9,$CV$9,$CV$10))*IF(AS60=$CD$8,$CJ$8,IF(AS60=$CD$9,$CJ$9,IF(AS60=$CD$10,$CJ$10,$CJ$11))))","v":64},null,null,null,null,null,null,null,null,null,{"$f":"IF(AX$19>$Z60,\"--\",IF(AX60=$CN$8,$CV$8,IF(AX60=$CN$9,$CV$9,$CV$10))*IF(BC60=$CD$8,$CJ$8,IF(BC60=$CD$9,$CJ$9,IF(BC60=$CD$10,$CJ$10,$CJ$11))))","v":64},null,null,null,null,null,null,null,null,null,{"$f":"IF(BH$19>$Z60,\"--\",IF(BH60=$CN$8,$CV$8,IF(BH60=$CN$9,$CV$9,$CV$10))*IF(BM60=$CD$8,$CJ$8,IF(BM60=$CD$9,$CJ$9,IF(BM60=$CD$10,$CJ$10,$CJ$11))))","v":64},null,null,null,null,null,null,null,null,null,{"$f":"IF(BR$19>$Z60,\"--\",IF(BR60=$CN$8,$CV$8,IF(BR60=$CN$9,$CV$9,$CV$10))*IF(BW60=$CD$8,$CJ$8,IF(BW60=$CD$9,$CJ$9,IF(BW60=$CD$10,$CJ$10,$CJ$11))))","v":64},null,null,null,null,null,null,null,null,null,{"$f":"IF(CB$19>$Z60,\"--\",IF(CB60=$CN$8,$CV$8,IF(CB60=$CN$9,$CV$9,$CV$10))*IF(CG60=$CD$8,$CJ$8,IF(CG60=$CD$9,$CJ$9,IF(CG60=$CD$10,$CJ$10,$CJ$11))))","v":64},null,null,null,null,null,null,null,null,null,{"$f":"IF(CL$19>$Z60,\"--\",IF(CL60=$CN$8,$CV$8,IF(CL60=$CN$9,$CV$9,$CV$10))*IF(CQ60=$CD$8,$CJ$8,IF(CQ60=$CD$9,$CJ$9,IF(CQ60=$CD$10,$CJ$10,$CJ$11))))","v":"--"},null,null,null,null,null,null,null,null,null,{"$f":"IF(CV$19>$Z60,\"--\",IF(CV60=$CN$8,$CV$8,IF(CV60=$CN$9,$CV$9,$CV$10))*IF(DA60=$CD$8,$CJ$8,IF(DA60=$CD$9,$CJ$9,IF(DA60=$CD$10,$CJ$10,$CJ$11))))","v":"--"},null,null,null,null,null,null,null,null,null,{"$f":"IF(DF$19>$Z60,\"--\",IF(DF60=$CN$8,$CV$8,IF(DF60=$CN$9,$CV$9,$CV$10))*IF(DK60=$CD$8,$CJ$8,IF(DK60=$CD$9,$CJ$9,IF(DK60=$CD$10,$CJ$10,$CJ$11))))","v":"--"},null,null,null,null,null,null,null,null,null,{"$f":"IF(DP$19>$Z60,\"--\",IF(DP60=$CN$8,$CV$8,IF(DP60=$CN$9,$CV$9,$CV$10))*IF(DU60=$CD$8,$CJ$8,IF(DU60=$CD$9,$CJ$9,IF(DU60=$CD$10,$CJ$10,$CJ$11))))","v":"--"},null,null,null,null,null,null,null,null,null,{"$f":"IF(DZ$19>$Z60,\"--\",IF(DZ60=$CN$8,$CV$8,IF(DZ60=$CN$9,$CV$9,$CV$10))*IF(EE60=$CD$8,$CJ$8,IF(EE60=$CD$9,$CJ$9,IF(EE60=$CD$10,$CJ$10,$CJ$11))))","v":"--"},null,null,null,null,null,null,null,null,null,{"$f":"IF(EJ$19>$Z60,\"--\",IF(EJ60=$CN$8,$CV$8,IF(EJ60=$CN$9,$CV$9,$CV$10))*IF(EO60=$CD$8,$CJ$8,IF(EO60=$CD$9,$CJ$9,IF(EO60=$CD$10,$CJ$10,$CJ$11))))","v":"--"},null,null,null,null,null,null,null,null,null,{"$f":"IF(ET$19>$Z60,\"--\",IF(ET60=$CN$8,$CV$8,IF(ET60=$CN$9,$CV$9,$CV$10))*IF(EY60=$CD$8,$CJ$8,IF(EY60=$CD$9,$CJ$9,IF(EY60=$CD$10,$CJ$10,$CJ$11))))","v":"--"},null,null,null,null,null,null,null,null,null,{"$f":"IF(FD$19>$Z60,\"--\",IF(FD60=$CN$8,$CV$8,IF(FD60=$CN$9,$CV$9,$CV$10))*IF(FI60=$CD$8,$CJ$8,IF(FI60=$CD$9,$CJ$9,IF(FI60=$CD$10,$CJ$10,$CJ$11))))","v":"--"},null,null,null,null,null,null,null,null,null,{"$f":"IF(FN$19>$Z60,\"--\",IF(FN60=$CN$8,$CV$8,IF(FN60=$CN$9,$CV$9,$CV$10))*IF(FS60=$CD$8,$CJ$8,IF(FS60=$CD$9,$CJ$9,IF(FS60=$CD$10,$CJ$10,$CJ$11))))","v":"--"},null,null,null,null,null,null,null,null,null,{"$f":"IF(FX$19>$Z60,\"--\",IF(FX60=$CN$8,$CV$8,IF(FX60=$CN$9,$CV$9,$CV$10))*IF(GC60=$CD$8,$CJ$8,IF(GC60=$CD$9,$CJ$9,IF(GC60=$CD$10,$CJ$10,$CJ$11))))","v":"--"}]
[]
[null,null,null,null,null,null,null,null,null,null,null,null,null,null,null,null,null,null,null,"E-W",null,null,null,null,null,6,null,null,null,"2 Lanes",null,null,null,null,"<20mph",null,null,null,null,"2 Lanes",null,null,null,null,"<20mph",null,null,null,null,"2 Lanes",null,null,null,null,"<20mph",null,null,null,null,"2 Lanes",null,null,null,null,"<20mph",null,null,null,null,"2 Lanes",null,null,null,null,"<20mph",null,null,null,null,"2 Lanes",null,null,null,null,"<20mph",null,null,null,null,"2 Lanes",null,null,null,null,"<20mph",null,null,null,null,"2 Lanes",null,null,null,null,"<20mph",null,null,null,null,"2 Lanes",null,null,null,null,"<20mph",null,null,null,null,"2 Lanes",null,null,null,null,"<20mph",null,null,null,null,"2 Lanes",null,null,null,null,"<20mph",null,null,null,null,"2 Lanes",null,null,null,null,"<20mph",null,null,null,null,"2 Lanes",null,null,null,null,"<20mph",null,null,null,null,"2 Lanes",null,null,null,null,"<20mph",null,null,null,null,"2 Lanes",null,null,null,null,"<20mph",null,null,null,null,"2 Lanes",null,null,null,null,"<20mph",null,null,null,null,null,null,null,null,{"$f":"IF(GV62<=$BX$11,$BR$11,IF(GV62<=$BX$10,$BR$10,IF(GV62<=$BX$9,$BR$9,$BR$8)))","v":"Good"},null,null,null,null,{"$f":"MIN(HA62:ND63)","v":64},null,null,null,null,{"$f":"AVERAGE(HA62:ND63)","v":64},null,null,null,null,{"$f":"IF(AD$19>$Z62,\"--\",IF(AD62=$CN$8,$CV$8,IF(AD62=$CN$9,$CV$9,$CV$10))*IF(AI62=$CD$8,$CJ$8,IF(AI62=$CD$9,$CJ$9,IF(AI62=$CD$10,$CJ$10,$CJ$11))))","v":64},null,null,null,null,null,null,null,null,null,{"$f":"IF(AN$19>$Z62,\"--\",IF(AN62=$CN$8,$CV$8,IF(AN62=$CN$9,$CV$9,$CV$10))*IF(AS62=$CD$8,$CJ$8,IF(AS62=$CD$9,$CJ$9,IF(AS62=$CD$10,$CJ$10,$CJ$11))))","v":64},null,null,null,null,null,null,null,null,null,{"$f":"IF(AX$19>$Z62,\"--\",IF(AX62=$CN$8,$CV$8,IF(AX62=$CN$9,$CV$9,$CV$10))*IF(BC62=$CD$8,$CJ$8,IF(BC62=$CD$9,$CJ$9,IF(BC62=$CD$10,$CJ$10,$CJ$11))))","v":64},null,null,null,null,null,null,null,null,null,{"$f":"IF(BH$19>$Z62,\"--\",IF(BH62=$CN$8,$CV$8,IF(BH62=$CN$9,$CV$9,$CV$10))*IF(BM62=$CD$8,$CJ$8,IF(BM62=$CD$9,$CJ$9,IF(BM62=$CD$10,$CJ$10,$CJ$11))))","v":64},null,null,null,null,null,null,null,null,null,{"$f":"IF(BR$19>$Z62,\"--\",IF(BR62=$CN$8,$CV$8,IF(BR62=$CN$9,$CV$9,$CV$10))*IF(BW62=$CD$8,$CJ$8,IF(BW62=$CD$9,$CJ$9,IF(BW62=$CD$10,$CJ$10,$CJ$11))))","v":64},null,null,null,null,null,null,null,null,null,{"$f":"IF(CB$19>$Z62,\"--\",IF(CB62=$CN$8,$CV$8,IF(CB62=$CN$9,$CV$9,$CV$10))*IF(CG62=$CD$8,$CJ$8,IF(CG62=$CD$9,$CJ$9,IF(CG62=$CD$10,$CJ$10,$CJ$11))))","v":64},null,null,null,null,null,null,null,null,null,{"$f":"IF(CL$19>$Z62,\"--\",IF(CL62=$CN$8,$CV$8,IF(CL62=$CN$9,$CV$9,$CV$10))*IF(CQ62=$CD$8,$CJ$8,IF(CQ62=$CD$9,$CJ$9,IF(CQ62=$CD$10,$CJ$10,$CJ$11))))","v":"--"},null,null,null,null,null,null,null,null,null,{"$f":"IF(CV$19>$Z62,\"--\",IF(CV62=$CN$8,$CV$8,IF(CV62=$CN$9,$CV$9,$CV$10))*IF(DA62=$CD$8,$CJ$8,IF(DA62=$CD$9,$CJ$9,IF(DA62=$CD$10,$CJ$10,$CJ$11))))","v":"--"},null,null,null,null,null,null,null,null,null,{"$f":"IF(DF$19>$Z62,\"--\",IF(DF62=$CN$8,$CV$8,IF(DF62=$CN$9,$CV$9,$CV$10))*IF(DK62=$CD$8,$CJ$8,IF(DK62=$CD$9,$CJ$9,IF(DK62=$CD$10,$CJ$10,$CJ$11))))","v":"--"},null,null,null,null,null,null,null,null,null,{"$f":"IF(DP$19>$Z62,\"--\",IF(DP62=$CN$8,$CV$8,IF(DP62=$CN$9,$CV$9,$CV$10))*IF(DU62=$CD$8,$CJ$8,IF(DU62=$CD$9,$CJ$9,IF(DU62=$CD$10,$CJ$10,$CJ$11))))","v":"--"},null,null,null,null,null,null,null,null,null,{"$f":"IF(DZ$19>$Z62,\"--\",IF(DZ62=$CN$8,$CV$8,IF(DZ62=$CN$9,$CV$9,$CV$10))*IF(EE62=$CD$8,$CJ$8,IF(EE62=$CD$9,$CJ$9,IF(EE62=$CD$10,$CJ$10,$CJ$11))))","v":"--"},null,null,null,null,null,null,null,null,null,{"$f":"IF(EJ$19>$Z62,\"--\",IF(EJ62=$CN$8,$CV$8,IF(EJ62=$CN$9,$CV$9,$CV$10))*IF(EO62=$CD$8,$CJ$8,IF(EO62=$CD$9,$CJ$9,IF(EO62=$CD$10,$CJ$10,$CJ$11))))","v":"--"},null,null,null,null,null,null,null,null,null,{"$f":"IF(ET$19>$Z62,\"--\",IF(ET62=$CN$8,$CV$8,IF(ET62=$CN$9,$CV$9,$CV$10))*IF(EY62=$CD$8,$CJ$8,IF(EY62=$CD$9,$CJ$9,IF(EY62=$CD$10,$CJ$10,$CJ$11))))","v":"--"},null,null,null,null,null,null,null,null,null,{"$f":"IF(FD$19>$Z62,\"--\",IF(FD62=$CN$8,$CV$8,IF(FD62=$CN$9,$CV$9,$CV$10))*IF(FI62=$CD$8,$CJ$8,IF(FI62=$CD$9,$CJ$9,IF(FI62=$CD$10,$CJ$10,$CJ$11))))","v":"--"},null,null,null,null,null,null,null,null,null,{"$f":"IF(FN$19>$Z62,\"--\",IF(FN62=$CN$8,$CV$8,IF(FN62=$CN$9,$CV$9,$CV$10))*IF(FS62=$CD$8,$CJ$8,IF(FS62=$CD$9,$CJ$9,IF(FS62=$CD$10,$CJ$10,$CJ$11))))","v":"--"},null,null,null,null,null,null,null,null,null,{"$f":"IF(FX$19>$Z62,\"--\",IF(FX62=$CN$8,$CV$8,IF(FX62=$CN$9,$CV$9,$CV$10))*IF(GC62=$CD$8,$CJ$8,IF(GC62=$CD$9,$CJ$9,IF(GC62=$CD$10,$CJ$10,$CJ$11))))","v":"--"}]
[]
["Median U-Turn",null,null,null,null,null,null,null,null,null,null,null,null,null,null,null,null,null,null,"N-S",null,null,null,null,null,6,null,null,null,"2 Lanes",null,null,null,null,"<20mph",null,null,null,null,"2 Lanes",null,null,null,null,"<20mph",null,null,null,null,"2 Lanes",null,null,null,null,"<20mph",null,null,null,null,"2 Lanes",null,null,null,null,"<20mph",null,null,null,null,"2 Lanes",null,null,null,null,"<20mph",null,null,null,null,"2 Lanes",null,null,null,null,"<20mph",null,null,null,null,"2 Lanes",null,null,null,null,"<20mph",null,null,null,null,"2 Lanes",null,null,null,null,"<20mph",null,null,null,null,"2 Lanes",null,null,null,null,"<20mph",null,null,null,null,"2 Lanes",null,null,null,null,"<20mph",null,null,null,null,"2 Lanes",null,null,null,null,"<20mph",null,null,null,null,"2 Lanes",null,null,null,null,"<20mph",null,null,null,null,"2 Lanes",null,null,null,null,"<20mph",null,null,null,null,"2 Lanes",null,null,null,null,"<20mph",null,null,null,null,"2 Lanes",null,null,null,null,"<20mph",null,null,null,null,"2 Lanes",null,null,null,null,"<20mph",null,null,null,null,null,null,null,null,{"$f":"IF(GV64<=$BX$11,$BR$11,IF(GV64<=$BX$10,$BR$10,IF(GV64<=$BX$9,$BR$9,$BR$8)))","v":"Good"},null,null,null,null,{"$f":"MIN(HA64:ND65)","v":64},null,null,null,null,{"$f":"AVERAGE(HA64:ND65)","v":64},null,null,null,null,{"$f":"IF(AD$19>$Z64,\"--\",IF(AD64=$CN$8,$CV$8,IF(AD64=$CN$9,$CV$9,$CV$10))*IF(AI64=$CD$8,$CJ$8,IF(AI64=$CD$9,$CJ$9,IF(AI64=$CD$10,$CJ$10,$CJ$11))))","v":64},null,null,null,null,null,null,null,null,null,{"$f":"IF(AN$19>$Z64,\"--\",IF(AN64=$CN$8,$CV$8,IF(AN64=$CN$9,$CV$9,$CV$10))*IF(AS64=$CD$8,$CJ$8,IF(AS64=$CD$9,$CJ$9,IF(AS64=$CD$10,$CJ$10,$CJ$11))))","v":64},null,null,null,null,null,null,null,null,null,{"$f":"IF(AX$19>$Z64,\"--\",IF(AX64=$CN$8,$CV$8,IF(AX64=$CN$9,$CV$9,$CV$10))*IF(BC64=$CD$8,$CJ$8,IF(BC64=$CD$9,$CJ$9,IF(BC64=$CD$10,$CJ$10,$CJ$11))))","v":64},null,null,null,null,null,null,null,null,null,{"$f":"IF(BH$19>$Z64,\"--\",IF(BH64=$CN$8,$CV$8,IF(BH64=$CN$9,$CV$9,$CV$10))*IF(BM64=$CD$8,$CJ$8,IF(BM64=$CD$9,$CJ$9,IF(BM64=$CD$10,$CJ$10,$CJ$11))))","v":64},null,null,null,null,null,null,null,null,null,{"$f":"IF(BR$19>$Z64,\"--\",IF(BR64=$CN$8,$CV$8,IF(BR64=$CN$9,$CV$9,$CV$10))*IF(BW64=$CD$8,$CJ$8,IF(BW64=$CD$9,$CJ$9,IF(BW64=$CD$10,$CJ$10,$CJ$11))))","v":64},null,null,null,null,null,null,null,null,null,{"$f":"IF(CB$19>$Z64,\"--\",IF(CB64=$CN$8,$CV$8,IF(CB64=$CN$9,$CV$9,$CV$10))*IF(CG64=$CD$8,$CJ$8,IF(CG64=$CD$9,$CJ$9,IF(CG64=$CD$10,$CJ$10,$CJ$11))))","v":64},null,null,null,null,null,null,null,null,null,{"$f":"IF(CL$19>$Z64,\"--\",IF(CL64=$CN$8,$CV$8,IF(CL64=$CN$9,$CV$9,$CV$10))*IF(CQ64=$CD$8,$CJ$8,IF(CQ64=$CD$9,$CJ$9,IF(CQ64=$CD$10,$CJ$10,$CJ$11))))","v":"--"},null,null,null,null,null,null,null,null,null,{"$f":"IF(CV$19>$Z64,\"--\",IF(CV64=$CN$8,$CV$8,IF(CV64=$CN$9,$CV$9,$CV$10))*IF(DA64=$CD$8,$CJ$8,IF(DA64=$CD$9,$CJ$9,IF(DA64=$CD$10,$CJ$10,$CJ$11))))","v":"--"},null,null,null,null,null,null,null,null,null,{"$f":"IF(DF$19>$Z64,\"--\",IF(DF64=$CN$8,$CV$8,IF(DF64=$CN$9,$CV$9,$CV$10))*IF(DK64=$CD$8,$CJ$8,IF(DK64=$CD$9,$CJ$9,IF(DK64=$CD$10,$CJ$10,$CJ$11))))","v":"--"},null,null,null,null,null,null,null,null,null,{"$f":"IF(DP$19>$Z64,\"--\",IF(DP64=$CN$8,$CV$8,IF(DP64=$CN$9,$CV$9,$CV$10))*IF(DU64=$CD$8,$CJ$8,IF(DU64=$CD$9,$CJ$9,IF(DU64=$CD$10,$CJ$10,$CJ$11))))","v":"--"},null,null,null,null,null,null,null,null,null,{"$f":"IF(DZ$19>$Z64,\"--\",IF(DZ64=$CN$8,$CV$8,IF(DZ64=$CN$9,$CV$9,$CV$10))*IF(EE64=$CD$8,$CJ$8,IF(EE64=$CD$9,$CJ$9,IF(EE64=$CD$10,$CJ$10,$CJ$11))))","v":"--"},null,null,null,null,null,null,null,null,null,{"$f":"IF(EJ$19>$Z64,\"--\",IF(EJ64=$CN$8,$CV$8,IF(EJ64=$CN$9,$CV$9,$CV$10))*IF(EO64=$CD$8,$CJ$8,IF(EO64=$CD$9,$CJ$9,IF(EO64=$CD$10,$CJ$10,$CJ$11))))","v":"--"},null,null,null,null,null,null,null,null,null,{"$f":"IF(ET$19>$Z64,\"--\",IF(ET64=$CN$8,$CV$8,IF(ET64=$CN$9,$CV$9,$CV$10))*IF(EY64=$CD$8,$CJ$8,IF(EY64=$CD$9,$CJ$9,IF(EY64=$CD$10,$CJ$10,$CJ$11))))","v":"--"},null,null,null,null,null,null,null,null,null,{"$f":"IF(FD$19>$Z64,\"--\",IF(FD64=$CN$8,$CV$8,IF(FD64=$CN$9,$CV$9,$CV$10))*IF(FI64=$CD$8,$CJ$8,IF(FI64=$CD$9,$CJ$9,IF(FI64=$CD$10,$CJ$10,$CJ$11))))","v":"--"},null,null,null,null,null,null,null,null,null,{"$f":"IF(FN$19>$Z64,\"--\",IF(FN64=$CN$8,$CV$8,IF(FN64=$CN$9,$CV$9,$CV$10))*IF(FS64=$CD$8,$CJ$8,IF(FS64=$CD$9,$CJ$9,IF(FS64=$CD$10,$CJ$10,$CJ$11))))","v":"--"},null,null,null,null,null,null,null,null,null,{"$f":"IF(FX$19>$Z64,\"--\",IF(FX64=$CN$8,$CV$8,IF(FX64=$CN$9,$CV$9,$CV$10))*IF(GC64=$CD$8,$CJ$8,IF(GC64=$CD$9,$CJ$9,IF(GC64=$CD$10,$CJ$10,$CJ$11))))","v":"--"}]
[]
[null,null,null,null,null,null,null,null,null,null,null,null,null,null,null,null,null,null,null,"E-W",null,null,null,null,null,6,null,null,null,"2 Lanes",null,null,null,null,"<20mph",null,null,null,null,"2 Lanes",null,null,null,null,"<20mph",null,null,null,null,"2 Lanes",null,null,null,null,"<20mph",null,null,null,null,"2 Lanes",null,null,null,null,"<20mph",null,null,null,null,"2 Lanes",null,null,null,null,"<20mph",null,null,null,null,"2 Lanes",null,null,null,null,"<20mph",null,null,null,null,"2 Lanes",null,null,null,null,"<20mph",null,null,null,null,"2 Lanes",null,null,null,null,"<20mph",null,null,null,null,"2 Lanes",null,null,null,null,"<20mph",null,null,null,null,"2 Lanes",null,null,null,null,"<20mph",null,null,null,null,"2 Lanes",null,null,null,null,"<20mph",null,null,null,null,"2 Lanes",null,null,null,null,"<20mph",null,null,null,null,"2 Lanes",null,null,null,null,"<20mph",null,null,null,null,"2 Lanes",null,null,null,null,"<20mph",null,null,null,null,"2 Lanes",null,null,null,null,"<20mph",null,null,null,null,"2 Lanes",null,null,null,null,"<20mph",null,null,null,null,null,null,null,null,{"$f":"IF(GV66<=$BX$11,$BR$11,IF(GV66<=$BX$10,$BR$10,IF(GV66<=$BX$9,$BR$9,$BR$8)))","v":"Good"},null,null,null,null,{"$f":"MIN(HA66:ND67)","v":64},null,null,null,null,{"$f":"AVERAGE(HA66:ND67)","v":64},null,null,null,null,{"$f":"IF(AD$19>$Z66,\"--\",IF(AD66=$CN$8,$CV$8,IF(AD66=$CN$9,$CV$9,$CV$10))*IF(AI66=$CD$8,$CJ$8,IF(AI66=$CD$9,$CJ$9,IF(AI66=$CD$10,$CJ$10,$CJ$11))))","v":64},null,null,null,null,null,null,null,null,null,{"$f":"IF(AN$19>$Z66,\"--\",IF(AN66=$CN$8,$CV$8,IF(AN66=$CN$9,$CV$9,$CV$10))*IF(AS66=$CD$8,$CJ$8,IF(AS66=$CD$9,$CJ$9,IF(AS66=$CD$10,$CJ$10,$CJ$11))))","v":64},null,null,null,null,null,null,null,null,null,{"$f":"IF(AX$19>$Z66,\"--\",IF(AX66=$CN$8,$CV$8,IF(AX66=$CN$9,$CV$9,$CV$10))*IF(BC66=$CD$8,$CJ$8,IF(BC66=$CD$9,$CJ$9,IF(BC66=$CD$10,$CJ$10,$CJ$11))))","v":64},null,null,null,null,null,null,null,null,null,{"$f":"IF(BH$19>$Z66,\"--\",IF(BH66=$CN$8,$CV$8,IF(BH66=$CN$9,$CV$9,$CV$10))*IF(BM66=$CD$8,$CJ$8,IF(BM66=$CD$9,$CJ$9,IF(BM66=$CD$10,$CJ$10,$CJ$11))))","v":64},null,null,null,null,null,null,null,null,null,{"$f":"IF(BR$19>$Z66,\"--\",IF(BR66=$CN$8,$CV$8,IF(BR66=$CN$9,$CV$9,$CV$10))*IF(BW66=$CD$8,$CJ$8,IF(BW66=$CD$9,$CJ$9,IF(BW66=$CD$10,$CJ$10,$CJ$11))))","v":64},null,null,null,null,null,null,null,null,null,{"$f":"IF(CB$19>$Z66,\"--\",IF(CB66=$CN$8,$CV$8,IF(CB66=$CN$9,$CV$9,$CV$10))*IF(CG66=$CD$8,$CJ$8,IF(CG66=$CD$9,$CJ$9,IF(CG66=$CD$10,$CJ$10,$CJ$11))))","v":64},null,null,null,null,null,null,null,null,null,{"$f":"IF(CL$19>$Z66,\"--\",IF(CL66=$CN$8,$CV$8,IF(CL66=$CN$9,$CV$9,$CV$10))*IF(CQ66=$CD$8,$CJ$8,IF(CQ66=$CD$9,$CJ$9,IF(CQ66=$CD$10,$CJ$10,$CJ$11))))","v":"--"},null,null,null,null,null,null,null,null,null,{"$f":"IF(CV$19>$Z66,\"--\",IF(CV66=$CN$8,$CV$8,IF(CV66=$CN$9,$CV$9,$CV$10))*IF(DA66=$CD$8,$CJ$8,IF(DA66=$CD$9,$CJ$9,IF(DA66=$CD$10,$CJ$10,$CJ$11))))","v":"--"},null,null,null,null,null,null,null,null,null,{"$f":"IF(DF$19>$Z66,\"--\",IF(DF66=$CN$8,$CV$8,IF(DF66=$CN$9,$CV$9,$CV$10))*IF(DK66=$CD$8,$CJ$8,IF(DK66=$CD$9,$CJ$9,IF(DK66=$CD$10,$CJ$10,$CJ$11))))","v":"--"},null,null,null,null,null,null,null,null,null,{"$f":"IF(DP$19>$Z66,\"--\",IF(DP66=$CN$8,$CV$8,IF(DP66=$CN$9,$CV$9,$CV$10))*IF(DU66=$CD$8,$CJ$8,IF(DU66=$CD$9,$CJ$9,IF(DU66=$CD$10,$CJ$10,$CJ$11))))","v":"--"},null,null,null,null,null,null,null,null,null,{"$f":"IF(DZ$19>$Z66,\"--\",IF(DZ66=$CN$8,$CV$8,IF(DZ66=$CN$9,$CV$9,$CV$10))*IF(EE66=$CD$8,$CJ$8,IF(EE66=$CD$9,$CJ$9,IF(EE66=$CD$10,$CJ$10,$CJ$11))))","v":"--"},null,null,null,null,null,null,null,null,null,{"$f":"IF(EJ$19>$Z66,\"--\",IF(EJ66=$CN$8,$CV$8,IF(EJ66=$CN$9,$CV$9,$CV$10))*IF(EO66=$CD$8,$CJ$8,IF(EO66=$CD$9,$CJ$9,IF(EO66=$CD$10,$CJ$10,$CJ$11))))","v":"--"},null,null,null,null,null,null,null,null,null,{"$f":"IF(ET$19>$Z66,\"--\",IF(ET66=$CN$8,$CV$8,IF(ET66=$CN$9,$CV$9,$CV$10))*IF(EY66=$CD$8,$CJ$8,IF(EY66=$CD$9,$CJ$9,IF(EY66=$CD$10,$CJ$10,$CJ$11))))","v":"--"},null,null,null,null,null,null,null,null,null,{"$f":"IF(FD$19>$Z66,\"--\",IF(FD66=$CN$8,$CV$8,IF(FD66=$CN$9,$CV$9,$CV$10))*IF(FI66=$CD$8,$CJ$8,IF(FI66=$CD$9,$CJ$9,IF(FI66=$CD$10,$CJ$10,$CJ$11))))","v":"--"},null,null,null,null,null,null,null,null,null,{"$f":"IF(FN$19>$Z66,\"--\",IF(FN66=$CN$8,$CV$8,IF(FN66=$CN$9,$CV$9,$CV$10))*IF(FS66=$CD$8,$CJ$8,IF(FS66=$CD$9,$CJ$9,IF(FS66=$CD$10,$CJ$10,$CJ$11))))","v":"--"},null,null,null,null,null,null,null,null,null,{"$f":"IF(FX$19>$Z66,\"--\",IF(FX66=$CN$8,$CV$8,IF(FX66=$CN$9,$CV$9,$CV$10))*IF(GC66=$CD$8,$CJ$8,IF(GC66=$CD$9,$CJ$9,IF(GC66=$CD$10,$CJ$10,$CJ$11))))","v":"--"}]
[]
["Partial Median U-Turn",null,null,null,null,null,null,null,null,null,null,null,null,null,null,null,null,null,null,"N-S",null,null,null,null,null,6,null,null,null,"2 Lanes",null,null,null,null,"<20mph",null,null,null,null,"2 Lanes",null,null,null,null,"<20mph",null,null,null,null,"2 Lanes",null,null,null,null,"<20mph",null,null,null,null,"2 Lanes",null,null,null,null,"<20mph",null,null,null,null,"2 Lanes",null,null,null,null,"<20mph",null,null,null,null,"2 Lanes",null,null,null,null,"<20mph",null,null,null,null,"2 Lanes",null,null,null,null,"<20mph",null,null,null,null,"2 Lanes",null,null,null,null,"<20mph",null,null,null,null,"2 Lanes",null,null,null,null,"<20mph",null,null,null,null,"2 Lanes",null,null,null,null,"<20mph",null,null,null,null,"2 Lanes",null,null,null,null,"<20mph",null,null,null,null,"2 Lanes",null,null,null,null,"<20mph",null,null,null,null,"2 Lanes",null,null,null,null,"<20mph",null,null,null,null,"2 Lanes",null,null,null,null,"<20mph",null,null,null,null,"2 Lanes",null,null,null,null,"<20mph",null,null,null,null,"2 Lanes",null,null,null,null,"<20mph",null,null,null,null,null,null,null,null,{"$f":"IF(GV68<=$BX$11,$BR$11,IF(GV68<=$BX$10,$BR$10,IF(GV68<=$BX$9,$BR$9,$BR$8)))","v":"Good"},null,null,null,null,{"$f":"MIN(HA68:ND69)","v":64},null,null,null,null,{"$f":"AVERAGE(HA68:ND69)","v":64},null,null,null,null,{"$f":"IF(AD$19>$Z68,\"--\",IF(AD68=$CN$8,$CV$8,IF(AD68=$CN$9,$CV$9,$CV$10))*IF(AI68=$CD$8,$CJ$8,IF(AI68=$CD$9,$CJ$9,IF(AI68=$CD$10,$CJ$10,$CJ$11))))","v":64},null,null,null,null,null,null,null,null,null,{"$f":"IF(AN$19>$Z68,\"--\",IF(AN68=$CN$8,$CV$8,IF(AN68=$CN$9,$CV$9,$CV$10))*IF(AS68=$CD$8,$CJ$8,IF(AS68=$CD$9,$CJ$9,IF(AS68=$CD$10,$CJ$10,$CJ$11))))","v":64},null,null,null,null,null,null,null,null,null,{"$f":"IF(AX$19>$Z68,\"--\",IF(AX68=$CN$8,$CV$8,IF(AX68=$CN$9,$CV$9,$CV$10))*IF(BC68=$CD$8,$CJ$8,IF(BC68=$CD$9,$CJ$9,IF(BC68=$CD$10,$CJ$10,$CJ$11))))","v":64},null,null,null,null,null,null,null,null,null,{"$f":"IF(BH$19>$Z68,\"--\",IF(BH68=$CN$8,$CV$8,IF(BH68=$CN$9,$CV$9,$CV$10))*IF(BM68=$CD$8,$CJ$8,IF(BM68=$CD$9,$CJ$9,IF(BM68=$CD$10,$CJ$10,$CJ$11))))","v":64},null,null,null,null,null,null,null,null,null,{"$f":"IF(BR$19>$Z68,\"--\",IF(BR68=$CN$8,$CV$8,IF(BR68=$CN$9,$CV$9,$CV$10))*IF(BW68=$CD$8,$CJ$8,IF(BW68=$CD$9,$CJ$9,IF(BW68=$CD$10,$CJ$10,$CJ$11))))","v":64},null,null,null,null,null,null,null,null,null,{"$f":"IF(CB$19>$Z68,\"--\",IF(CB68=$CN$8,$CV$8,IF(CB68=$CN$9,$CV$9,$CV$10))*IF(CG68=$CD$8,$CJ$8,IF(CG68=$CD$9,$CJ$9,IF(CG68=$CD$10,$CJ$10,$CJ$11))))","v":64},null,null,null,null,null,null,null,null,null,{"$f":"IF(CL$19>$Z68,\"--\",IF(CL68=$CN$8,$CV$8,IF(CL68=$CN$9,$CV$9,$CV$10))*IF(CQ68=$CD$8,$CJ$8,IF(CQ68=$CD$9,$CJ$9,IF(CQ68=$CD$10,$CJ$10,$CJ$11))))","v":"--"},null,null,null,null,null,null,null,null,null,{"$f":"IF(CV$19>$Z68,\"--\",IF(CV68=$CN$8,$CV$8,IF(CV68=$CN$9,$CV$9,$CV$10))*IF(DA68=$CD$8,$CJ$8,IF(DA68=$CD$9,$CJ$9,IF(DA68=$CD$10,$CJ$10,$CJ$11))))","v":"--"},null,null,null,null,null,null,null,null,null,{"$f":"IF(DF$19>$Z68,\"--\",IF(DF68=$CN$8,$CV$8,IF(DF68=$CN$9,$CV$9,$CV$10))*IF(DK68=$CD$8,$CJ$8,IF(DK68=$CD$9,$CJ$9,IF(DK68=$CD$10,$CJ$10,$CJ$11))))","v":"--"},null,null,null,null,null,null,null,null,null,{"$f":"IF(DP$19>$Z68,\"--\",IF(DP68=$CN$8,$CV$8,IF(DP68=$CN$9,$CV$9,$CV$10))*IF(DU68=$CD$8,$CJ$8,IF(DU68=$CD$9,$CJ$9,IF(DU68=$CD$10,$CJ$10,$CJ$11))))","v":"--"},null,null,null,null,null,null,null,null,null,{"$f":"IF(DZ$19>$Z68,\"--\",IF(DZ68=$CN$8,$CV$8,IF(DZ68=$CN$9,$CV$9,$CV$10))*IF(EE68=$CD$8,$CJ$8,IF(EE68=$CD$9,$CJ$9,IF(EE68=$CD$10,$CJ$10,$CJ$11))))","v":"--"},null,null,null,null,null,null,null,null,null,{"$f":"IF(EJ$19>$Z68,\"--\",IF(EJ68=$CN$8,$CV$8,IF(EJ68=$CN$9,$CV$9,$CV$10))*IF(EO68=$CD$8,$CJ$8,IF(EO68=$CD$9,$CJ$9,IF(EO68=$CD$10,$CJ$10,$CJ$11))))","v":"--"},null,null,null,null,null,null,null,null,null,{"$f":"IF(ET$19>$Z68,\"--\",IF(ET68=$CN$8,$CV$8,IF(ET68=$CN$9,$CV$9,$CV$10))*IF(EY68=$CD$8,$CJ$8,IF(EY68=$CD$9,$CJ$9,IF(EY68=$CD$10,$CJ$10,$CJ$11))))","v":"--"},null,null,null,null,null,null,null,null,null,{"$f":"IF(FD$19>$Z68,\"--\",IF(FD68=$CN$8,$CV$8,IF(FD68=$CN$9,$CV$9,$CV$10))*IF(FI68=$CD$8,$CJ$8,IF(FI68=$CD$9,$CJ$9,IF(FI68=$CD$10,$CJ$10,$CJ$11))))","v":"--"},null,null,null,null,null,null,null,null,null,{"$f":"IF(FN$19>$Z68,\"--\",IF(FN68=$CN$8,$CV$8,IF(FN68=$CN$9,$CV$9,$CV$10))*IF(FS68=$CD$8,$CJ$8,IF(FS68=$CD$9,$CJ$9,IF(FS68=$CD$10,$CJ$10,$CJ$11))))","v":"--"},null,null,null,null,null,null,null,null,null,{"$f":"IF(FX$19>$Z68,\"--\",IF(FX68=$CN$8,$CV$8,IF(FX68=$CN$9,$CV$9,$CV$10))*IF(GC68=$CD$8,$CJ$8,IF(GC68=$CD$9,$CJ$9,IF(GC68=$CD$10,$CJ$10,$CJ$11))))","v":"--"}]
[]
[null,null,null,null,null,null,null,null,null,null,null,null,null,null,null,null,null,null,null,"E-W",null,null,null,null,null,6,null,null,null,"2 Lanes",null,null,null,null,"<20mph",null,null,null,null,"2 Lanes",null,null,null,null,"<20mph",null,null,null,null,"2 Lanes",null,null,null,null,"<20mph",null,null,null,null,"2 Lanes",null,null,null,null,"<20mph",null,null,null,null,"2 Lanes",null,null,null,null,"<20mph",null,null,null,null,"2 Lanes",null,null,null,null,"<20mph",null,null,null,null,"2 Lanes",null,null,null,null,"<20mph",null,null,null,null,"2 Lanes",null,null,null,null,"<20mph",null,null,null,null,"2 Lanes",null,null,null,null,"<20mph",null,null,null,null,"2 Lanes",null,null,null,null,"<20mph",null,null,null,null,"2 Lanes",null,null,null,null,"<20mph",null,null,null,null,"2 Lanes",null,null,null,null,"<20mph",null,null,null,null,"2 Lanes",null,null,null,null,"<20mph",null,null,null,null,"2 Lanes",null,null,null,null,"<20mph",null,null,null,null,"2 Lanes",null,null,null,null,"<20mph",null,null,null,null,"2 Lanes",null,null,null,null,"<20mph",null,null,null,null,null,null,null,null,{"$f":"IF(GV70<=$BX$11,$BR$11,IF(GV70<=$BX$10,$BR$10,IF(GV70<=$BX$9,$BR$9,$BR$8)))","v":"Good"},null,null,null,null,{"$f":"MIN(HA70:ND71)","v":64},null,null,null,null,{"$f":"AVERAGE(HA70:ND71)","v":64},null,null,null,null,{"$f":"IF(AD$19>$Z70,\"--\",IF(AD70=$CN$8,$CV$8,IF(AD70=$CN$9,$CV$9,$CV$10))*IF(AI70=$CD$8,$CJ$8,IF(AI70=$CD$9,$CJ$9,IF(AI70=$CD$10,$CJ$10,$CJ$11))))","v":64},null,null,null,null,null,null,null,null,null,{"$f":"IF(AN$19>$Z70,\"--\",IF(AN70=$CN$8,$CV$8,IF(AN70=$CN$9,$CV$9,$CV$10))*IF(AS70=$CD$8,$CJ$8,IF(AS70=$CD$9,$CJ$9,IF(AS70=$CD$10,$CJ$10,$CJ$11))))","v":64},null,null,null,null,null,null,null,null,null,{"$f":"IF(AX$19>$Z70,\"--\",IF(AX70=$CN$8,$CV$8,IF(AX70=$CN$9,$CV$9,$CV$10))*IF(BC70=$CD$8,$CJ$8,IF(BC70=$CD$9,$CJ$9,IF(BC70=$CD$10,$CJ$10,$CJ$11))))","v":64},null,null,null,null,null,null,null,null,null,{"$f":"IF(BH$19>$Z70,\"--\",IF(BH70=$CN$8,$CV$8,IF(BH70=$CN$9,$CV$9,$CV$10))*IF(BM70=$CD$8,$CJ$8,IF(BM70=$CD$9,$CJ$9,IF(BM70=$CD$10,$CJ$10,$CJ$11))))","v":64},null,null,null,null,null,null,null,null,null,{"$f":"IF(BR$19>$Z70,\"--\",IF(BR70=$CN$8,$CV$8,IF(BR70=$CN$9,$CV$9,$CV$10))*IF(BW70=$CD$8,$CJ$8,IF(BW70=$CD$9,$CJ$9,IF(BW70=$CD$10,$CJ$10,$CJ$11))))","v":64},null,null,null,null,null,null,null,null,null,{"$f":"IF(CB$19>$Z70,\"--\",IF(CB70=$CN$8,$CV$8,IF(CB70=$CN$9,$CV$9,$CV$10))*IF(CG70=$CD$8,$CJ$8,IF(CG70=$CD$9,$CJ$9,IF(CG70=$CD$10,$CJ$10,$CJ$11))))","v":64},null,null,null,null,null,null,null,null,null,{"$f":"IF(CL$19>$Z70,\"--\",IF(CL70=$CN$8,$CV$8,IF(CL70=$CN$9,$CV$9,$CV$10))*IF(CQ70=$CD$8,$CJ$8,IF(CQ70=$CD$9,$CJ$9,IF(CQ70=$CD$10,$CJ$10,$CJ$11))))","v":"--"},null,null,null,null,null,null,null,null,null,{"$f":"IF(CV$19>$Z70,\"--\",IF(CV70=$CN$8,$CV$8,IF(CV70=$CN$9,$CV$9,$CV$10))*IF(DA70=$CD$8,$CJ$8,IF(DA70=$CD$9,$CJ$9,IF(DA70=$CD$10,$CJ$10,$CJ$11))))","v":"--"},null,null,null,null,null,null,null,null,null,{"$f":"IF(DF$19>$Z70,\"--\",IF(DF70=$CN$8,$CV$8,IF(DF70=$CN$9,$CV$9,$CV$10))*IF(DK70=$CD$8,$CJ$8,IF(DK70=$CD$9,$CJ$9,IF(DK70=$CD$10,$CJ$10,$CJ$11))))","v":"--"},null,null,null,null,null,null,null,null,null,{"$f":"IF(DP$19>$Z70,\"--\",IF(DP70=$CN$8,$CV$8,IF(DP70=$CN$9,$CV$9,$CV$10))*IF(DU70=$CD$8,$CJ$8,IF(DU70=$CD$9,$CJ$9,IF(DU70=$CD$10,$CJ$10,$CJ$11))))","v":"--"},null,null,null,null,null,null,null,null,null,{"$f":"IF(DZ$19>$Z70,\"--\",IF(DZ70=$CN$8,$CV$8,IF(DZ70=$CN$9,$CV$9,$CV$10))*IF(EE70=$CD$8,$CJ$8,IF(EE70=$CD$9,$CJ$9,IF(EE70=$CD$10,$CJ$10,$CJ$11))))","v":"--"},null,null,null,null,null,null,null,null,null,{"$f":"IF(EJ$19>$Z70,\"--\",IF(EJ70=$CN$8,$CV$8,IF(EJ70=$CN$9,$CV$9,$CV$10))*IF(EO70=$CD$8,$CJ$8,IF(EO70=$CD$9,$CJ$9,IF(EO70=$CD$10,$CJ$10,$CJ$11))))","v":"--"},null,null,null,null,null,null,null,null,null,{"$f":"IF(ET$19>$Z70,\"--\",IF(ET70=$CN$8,$CV$8,IF(ET70=$CN$9,$CV$9,$CV$10))*IF(EY70=$CD$8,$CJ$8,IF(EY70=$CD$9,$CJ$9,IF(EY70=$CD$10,$CJ$10,$CJ$11))))","v":"--"},null,null,null,null,null,null,null,null,null,{"$f":"IF(FD$19>$Z70,\"--\",IF(FD70=$CN$8,$CV$8,IF(FD70=$CN$9,$CV$9,$CV$10))*IF(FI70=$CD$8,$CJ$8,IF(FI70=$CD$9,$CJ$9,IF(FI70=$CD$10,$CJ$10,$CJ$11))))","v":"--"},null,null,null,null,null,null,null,null,null,{"$f":"IF(FN$19>$Z70,\"--\",IF(FN70=$CN$8,$CV$8,IF(FN70=$CN$9,$CV$9,$CV$10))*IF(FS70=$CD$8,$CJ$8,IF(FS70=$CD$9,$CJ$9,IF(FS70=$CD$10,$CJ$10,$CJ$11))))","v":"--"},null,null,null,null,null,null,null,null,null,{"$f":"IF(FX$19>$Z70,\"--\",IF(FX70=$CN$8,$CV$8,IF(FX70=$CN$9,$CV$9,$CV$10))*IF(GC70=$CD$8,$CJ$8,IF(GC70=$CD$9,$CJ$9,IF(GC70=$CD$10,$CJ$10,$CJ$11))))","v":"--"}]
[]
["Bowtie",null,null,null,null,null,null,null,null,null,null,null,null,null,null,null,null,null,null,"N-S",null,null,null,null,null,6,null,null,null,"2 Lanes",null,null,null,null,"<20mph",null,null,null,null,"2 Lanes",null,null,null,null,"<20mph",null,null,null,null,"2 Lanes",null,null,null,null,"<20mph",null,null,null,null,"2 Lanes",null,null,null,null,"<20mph",null,null,null,null,"2 Lanes",null,null,null,null,"<20mph",null,null,null,null,"2 Lanes",null,null,null,null,"<20mph",null,null,null,null,"2 Lanes",null,null,null,null,"<20mph",null,null,null,null,"2 Lanes",null,null,null,null,"<20mph",null,null,null,null,"2 Lanes",null,null,null,null,"<20mph",null,null,null,null,"2 Lanes",null,null,null,null,"<20mph",null,null,null,null,"2 Lanes",null,null,null,null,"<20mph",null,null,null,null,"2 Lanes",null,null,null,null,"<20mph",null,null,null,null,"2 Lanes",null,null,null,null,"<20mph",null,null,null,null,"2 Lanes",null,null,null,null,"<20mph",null,null,null,null,"2 Lanes",null,null,null,null,"<20mph",null,null,null,null,"2 Lanes",null,null,null,null,"<20mph",null,null,null,null,null,null,null,null,{"$f":"IF(GV72<=$BX$11,$BR$11,IF(GV72<=$BX$10,$BR$10,IF(GV72<=$BX$9,$BR$9,$BR$8)))","v":"Good"},null,null,null,null,{"$f":"MIN(HA72:ND73)","v":64},null,null,null,null,{"$f":"AVERAGE(HA72:ND73)","v":64},null,null,null,null,{"$f":"IF(AD$19>$Z72,\"--\",IF(AD72=$CN$8,$CV$8,IF(AD72=$CN$9,$CV$9,$CV$10))*IF(AI72=$CD$8,$CJ$8,IF(AI72=$CD$9,$CJ$9,IF(AI72=$CD$10,$CJ$10,$CJ$11))))","v":64},null,null,null,null,null,null,null,null,null,{"$f":"IF(AN$19>$Z72,\"--\",IF(AN72=$CN$8,$CV$8,IF(AN72=$CN$9,$CV$9,$CV$10))*IF(AS72=$CD$8,$CJ$8,IF(AS72=$CD$9,$CJ$9,IF(AS72=$CD$10,$CJ$10,$CJ$11))))","v":64},null,null,null,null,null,null,null,null,null,{"$f":"IF(AX$19>$Z72,\"--\",IF(AX72=$CN$8,$CV$8,IF(AX72=$CN$9,$CV$9,$CV$10))*IF(BC72=$CD$8,$CJ$8,IF(BC72=$CD$9,$CJ$9,IF(BC72=$CD$10,$CJ$10,$CJ$11))))","v":64},null,null,null,null,null,null,null,null,null,{"$f":"IF(BH$19>$Z72,\"--\",IF(BH72=$CN$8,$CV$8,IF(BH72=$CN$9,$CV$9,$CV$10))*IF(BM72=$CD$8,$CJ$8,IF(BM72=$CD$9,$CJ$9,IF(BM72=$CD$10,$CJ$10,$CJ$11))))","v":64},null,null,null,null,null,null,null,null,null,{"$f":"IF(BR$19>$Z72,\"--\",IF(BR72=$CN$8,$CV$8,IF(BR72=$CN$9,$CV$9,$CV$10))*IF(BW72=$CD$8,$CJ$8,IF(BW72=$CD$9,$CJ$9,IF(BW72=$CD$10,$CJ$10,$CJ$11))))","v":64},null,null,null,null,null,null,null,null,null,{"$f":"IF(CB$19>$Z72,\"--\",IF(CB72=$CN$8,$CV$8,IF(CB72=$CN$9,$CV$9,$CV$10))*IF(CG72=$CD$8,$CJ$8,IF(CG72=$CD$9,$CJ$9,IF(CG72=$CD$10,$CJ$10,$CJ$11))))","v":64},null,null,null,null,null,null,null,null,null,{"$f":"IF(CL$19>$Z72,\"--\",IF(CL72=$CN$8,$CV$8,IF(CL72=$CN$9,$CV$9,$CV$10))*IF(CQ72=$CD$8,$CJ$8,IF(CQ72=$CD$9,$CJ$9,IF(CQ72=$CD$10,$CJ$10,$CJ$11))))","v":"--"},null,null,null,null,null,null,null,null,null,{"$f":"IF(CV$19>$Z72,\"--\",IF(CV72=$CN$8,$CV$8,IF(CV72=$CN$9,$CV$9,$CV$10))*IF(DA72=$CD$8,$CJ$8,IF(DA72=$CD$9,$CJ$9,IF(DA72=$CD$10,$CJ$10,$CJ$11))))","v":"--"},null,null,null,null,null,null,null,null,null,{"$f":"IF(DF$19>$Z72,\"--\",IF(DF72=$CN$8,$CV$8,IF(DF72=$CN$9,$CV$9,$CV$10))*IF(DK72=$CD$8,$CJ$8,IF(DK72=$CD$9,$CJ$9,IF(DK72=$CD$10,$CJ$10,$CJ$11))))","v":"--"},null,null,null,null,null,null,null,null,null,{"$f":"IF(DP$19>$Z72,\"--\",IF(DP72=$CN$8,$CV$8,IF(DP72=$CN$9,$CV$9,$CV$10))*IF(DU72=$CD$8,$CJ$8,IF(DU72=$CD$9,$CJ$9,IF(DU72=$CD$10,$CJ$10,$CJ$11))))","v":"--"},null,null,null,null,null,null,null,null,null,{"$f":"IF(DZ$19>$Z72,\"--\",IF(DZ72=$CN$8,$CV$8,IF(DZ72=$CN$9,$CV$9,$CV$10))*IF(EE72=$CD$8,$CJ$8,IF(EE72=$CD$9,$CJ$9,IF(EE72=$CD$10,$CJ$10,$CJ$11))))","v":"--"},null,null,null,null,null,null,null,null,null,{"$f":"IF(EJ$19>$Z72,\"--\",IF(EJ72=$CN$8,$CV$8,IF(EJ72=$CN$9,$CV$9,$CV$10))*IF(EO72=$CD$8,$CJ$8,IF(EO72=$CD$9,$CJ$9,IF(EO72=$CD$10,$CJ$10,$CJ$11))))","v":"--"},null,null,null,null,null,null,null,null,null,{"$f":"IF(ET$19>$Z72,\"--\",IF(ET72=$CN$8,$CV$8,IF(ET72=$CN$9,$CV$9,$CV$10))*IF(EY72=$CD$8,$CJ$8,IF(EY72=$CD$9,$CJ$9,IF(EY72=$CD$10,$CJ$10,$CJ$11))))","v":"--"},null,null,null,null,null,null,null,null,null,{"$f":"IF(FD$19>$Z72,\"--\",IF(FD72=$CN$8,$CV$8,IF(FD72=$CN$9,$CV$9,$CV$10))*IF(FI72=$CD$8,$CJ$8,IF(FI72=$CD$9,$CJ$9,IF(FI72=$CD$10,$CJ$10,$CJ$11))))","v":"--"},null,null,null,null,null,null,null,null,null,{"$f":"IF(FN$19>$Z72,\"--\",IF(FN72=$CN$8,$CV$8,IF(FN72=$CN$9,$CV$9,$CV$10))*IF(FS72=$CD$8,$CJ$8,IF(FS72=$CD$9,$CJ$9,IF(FS72=$CD$10,$CJ$10,$CJ$11))))","v":"--"},null,null,null,null,null,null,null,null,null,{"$f":"IF(FX$19>$Z72,\"--\",IF(FX72=$CN$8,$CV$8,IF(FX72=$CN$9,$CV$9,$CV$10))*IF(GC72=$CD$8,$CJ$8,IF(GC72=$CD$9,$CJ$9,IF(GC72=$CD$10,$CJ$10,$CJ$11))))","v":"--"}]
[]
[null,null,null,null,null,null,null,null,null,null,null,null,null,null,null,null,null,null,null,"E-W",null,null,null,null,null,6,null,null,null,"2 Lanes",null,null,null,null,"<20mph",null,null,null,null,"2 Lanes",null,null,null,null,"<20mph",null,null,null,null,"2 Lanes",null,null,null,null,"<20mph",null,null,null,null,"2 Lanes",null,null,null,null,"<20mph",null,null,null,null,"2 Lanes",null,null,null,null,"<20mph",null,null,null,null,"2 Lanes",null,null,null,null,"<20mph",null,null,null,null,"2 Lanes",null,null,null,null,"<20mph",null,null,null,null,"2 Lanes",null,null,null,null,"<20mph",null,null,null,null,"2 Lanes",null,null,null,null,"<20mph",null,null,null,null,"2 Lanes",null,null,null,null,"<20mph",null,null,null,null,"2 Lanes",null,null,null,null,"<20mph",null,null,null,null,"2 Lanes",null,null,null,null,"<20mph",null,null,null,null,"2 Lanes",null,null,null,null,"<20mph",null,null,null,null,"2 Lanes",null,null,null,null,"<20mph",null,null,null,null,"2 Lanes",null,null,null,null,"<20mph",null,null,null,null,"2 Lanes",null,null,null,null,"<20mph",null,null,null,null,null,null,null,null,{"$f":"IF(GV74<=$BX$11,$BR$11,IF(GV74<=$BX$10,$BR$10,IF(GV74<=$BX$9,$BR$9,$BR$8)))","v":"Good"},null,null,null,null,{"$f":"MIN(HA74:ND75)","v":64},null,null,null,null,{"$f":"AVERAGE(HA74:ND75)","v":64},null,null,null,null,{"$f":"IF(AD$19>$Z74,\"--\",IF(AD74=$CN$8,$CV$8,IF(AD74=$CN$9,$CV$9,$CV$10))*IF(AI74=$CD$8,$CJ$8,IF(AI74=$CD$9,$CJ$9,IF(AI74=$CD$10,$CJ$10,$CJ$11))))","v":64},null,null,null,null,null,null,null,null,null,{"$f":"IF(AN$19>$Z74,\"--\",IF(AN74=$CN$8,$CV$8,IF(AN74=$CN$9,$CV$9,$CV$10))*IF(AS74=$CD$8,$CJ$8,IF(AS74=$CD$9,$CJ$9,IF(AS74=$CD$10,$CJ$10,$CJ$11))))","v":64},null,null,null,null,null,null,null,null,null,{"$f":"IF(AX$19>$Z74,\"--\",IF(AX74=$CN$8,$CV$8,IF(AX74=$CN$9,$CV$9,$CV$10))*IF(BC74=$CD$8,$CJ$8,IF(BC74=$CD$9,$CJ$9,IF(BC74=$CD$10,$CJ$10,$CJ$11))))","v":64},null,null,null,null,null,null,null,null,null,{"$f":"IF(BH$19>$Z74,\"--\",IF(BH74=$CN$8,$CV$8,IF(BH74=$CN$9,$CV$9,$CV$10))*IF(BM74=$CD$8,$CJ$8,IF(BM74=$CD$9,$CJ$9,IF(BM74=$CD$10,$CJ$10,$CJ$11))))","v":64},null,null,null,null,null,null,null,null,null,{"$f":"IF(BR$19>$Z74,\"--\",IF(BR74=$CN$8,$CV$8,IF(BR74=$CN$9,$CV$9,$CV$10))*IF(BW74=$CD$8,$CJ$8,IF(BW74=$CD$9,$CJ$9,IF(BW74=$CD$10,$CJ$10,$CJ$11))))","v":64},null,null,null,null,null,null,null,null,null,{"$f":"IF(CB$19>$Z74,\"--\",IF(CB74=$CN$8,$CV$8,IF(CB74=$CN$9,$CV$9,$CV$10))*IF(CG74=$CD$8,$CJ$8,IF(CG74=$CD$9,$CJ$9,IF(CG74=$CD$10,$CJ$10,$CJ$11))))","v":64},null,null,null,null,null,null,null,null,null,{"$f":"IF(CL$19>$Z74,\"--\",IF(CL74=$CN$8,$CV$8,IF(CL74=$CN$9,$CV$9,$CV$10))*IF(CQ74=$CD$8,$CJ$8,IF(CQ74=$CD$9,$CJ$9,IF(CQ74=$CD$10,$CJ$10,$CJ$11))))","v":"--"},null,null,null,null,null,null,null,null,null,{"$f":"IF(CV$19>$Z74,\"--\",IF(CV74=$CN$8,$CV$8,IF(CV74=$CN$9,$CV$9,$CV$10))*IF(DA74=$CD$8,$CJ$8,IF(DA74=$CD$9,$CJ$9,IF(DA74=$CD$10,$CJ$10,$CJ$11))))","v":"--"},null,null,null,null,null,null,null,null,null,{"$f":"IF(DF$19>$Z74,\"--\",IF(DF74=$CN$8,$CV$8,IF(DF74=$CN$9,$CV$9,$CV$10))*IF(DK74=$CD$8,$CJ$8,IF(DK74=$CD$9,$CJ$9,IF(DK74=$CD$10,$CJ$10,$CJ$11))))","v":"--"},null,null,null,null,null,null,null,null,null,{"$f":"IF(DP$19>$Z74,\"--\",IF(DP74=$CN$8,$CV$8,IF(DP74=$CN$9,$CV$9,$CV$10))*IF(DU74=$CD$8,$CJ$8,IF(DU74=$CD$9,$CJ$9,IF(DU74=$CD$10,$CJ$10,$CJ$11))))","v":"--"},null,null,null,null,null,null,null,null,null,{"$f":"IF(DZ$19>$Z74,\"--\",IF(DZ74=$CN$8,$CV$8,IF(DZ74=$CN$9,$CV$9,$CV$10))*IF(EE74=$CD$8,$CJ$8,IF(EE74=$CD$9,$CJ$9,IF(EE74=$CD$10,$CJ$10,$CJ$11))))","v":"--"},null,null,null,null,null,null,null,null,null,{"$f":"IF(EJ$19>$Z74,\"--\",IF(EJ74=$CN$8,$CV$8,IF(EJ74=$CN$9,$CV$9,$CV$10))*IF(EO74=$CD$8,$CJ$8,IF(EO74=$CD$9,$CJ$9,IF(EO74=$CD$10,$CJ$10,$CJ$11))))","v":"--"},null,null,null,null,null,null,null,null,null,{"$f":"IF(ET$19>$Z74,\"--\",IF(ET74=$CN$8,$CV$8,IF(ET74=$CN$9,$CV$9,$CV$10))*IF(EY74=$CD$8,$CJ$8,IF(EY74=$CD$9,$CJ$9,IF(EY74=$CD$10,$CJ$10,$CJ$11))))","v":"--"},null,null,null,null,null,null,null,null,null,{"$f":"IF(FD$19>$Z74,\"--\",IF(FD74=$CN$8,$CV$8,IF(FD74=$CN$9,$CV$9,$CV$10))*IF(FI74=$CD$8,$CJ$8,IF(FI74=$CD$9,$CJ$9,IF(FI74=$CD$10,$CJ$10,$CJ$11))))","v":"--"},null,null,null,null,null,null,null,null,null,{"$f":"IF(FN$19>$Z74,\"--\",IF(FN74=$CN$8,$CV$8,IF(FN74=$CN$9,$CV$9,$CV$10))*IF(FS74=$CD$8,$CJ$8,IF(FS74=$CD$9,$CJ$9,IF(FS74=$CD$10,$CJ$10,$CJ$11))))","v":"--"},null,null,null,null,null,null,null,null,null,{"$f":"IF(FX$19>$Z74,\"--\",IF(FX74=$CN$8,$CV$8,IF(FX74=$CN$9,$CV$9,$CV$10))*IF(GC74=$CD$8,$CJ$8,IF(GC74=$CD$9,$CJ$9,IF(GC74=$CD$10,$CJ$10,$CJ$11))))","v":"--"}]
[]
["Split Intersection",null,null,null,null,null,null,null,null,null,null,null,null,null,null,null,null,null,null,"N-S",null,null,null,null,null,6,null,null,null,"2 Lanes",null,null,null,null,"<20mph",null,null,null,null,"2 Lanes",null,null,null,null,"<20mph",null,null,null,null,"2 Lanes",null,null,null,null,"<20mph",null,null,null,null,"2 Lanes",null,null,null,null,"<20mph",null,null,null,null,"2 Lanes",null,null,null,null,"<20mph",null,null,null,null,"2 Lanes",null,null,null,null,"<20mph",null,null,null,null,"2 Lanes",null,null,null,null,"<20mph",null,null,null,null,"2 Lanes",null,null,null,null,"<20mph",null,null,null,null,"2 Lanes",null,null,null,null,"<20mph",null,null,null,null,"2 Lanes",null,null,null,null,"<20mph",null,null,null,null,"2 Lanes",null,null,null,null,"<20mph",null,null,null,null,"2 Lanes",null,null,null,null,"<20mph",null,null,null,null,"2 Lanes",null,null,null,null,"<20mph",null,null,null,null,"2 Lanes",null,null,null,null,"<20mph",null,null,null,null,"2 Lanes",null,null,null,null,"<20mph",null,null,null,null,"2 Lanes",null,null,null,null,"<20mph",null,null,null,null,null,null,null,null,{"$f":"IF(GV76<=$BX$11,$BR$11,IF(GV76<=$BX$10,$BR$10,IF(GV76<=$BX$9,$BR$9,$BR$8)))","v":"Good"},null,null,null,null,{"$f":"MIN(HA76:ND77)","v":64},null,null,null,null,{"$f":"AVERAGE(HA76:ND77)","v":64},null,null,null,null,{"$f":"IF(AD$19>$Z76,\"--\",IF(AD76=$CN$8,$CV$8,IF(AD76=$CN$9,$CV$9,$CV$10))*IF(AI76=$CD$8,$CJ$8,IF(AI76=$CD$9,$CJ$9,IF(AI76=$CD$10,$CJ$10,$CJ$11))))","v":64},null,null,null,null,null,null,null,null,null,{"$f":"IF(AN$19>$Z76,\"--\",IF(AN76=$CN$8,$CV$8,IF(AN76=$CN$9,$CV$9,$CV$10))*IF(AS76=$CD$8,$CJ$8,IF(AS76=$CD$9,$CJ$9,IF(AS76=$CD$10,$CJ$10,$CJ$11))))","v":64},null,null,null,null,null,null,null,null,null,{"$f":"IF(AX$19>$Z76,\"--\",IF(AX76=$CN$8,$CV$8,IF(AX76=$CN$9,$CV$9,$CV$10))*IF(BC76=$CD$8,$CJ$8,IF(BC76=$CD$9,$CJ$9,IF(BC76=$CD$10,$CJ$10,$CJ$11))))","v":64},null,null,null,null,null,null,null,null,null,{"$f":"IF(BH$19>$Z76,\"--\",IF(BH76=$CN$8,$CV$8,IF(BH76=$CN$9,$CV$9,$CV$10))*IF(BM76=$CD$8,$CJ$8,IF(BM76=$CD$9,$CJ$9,IF(BM76=$CD$10,$CJ$10,$CJ$11))))","v":64},null,null,null,null,null,null,null,null,null,{"$f":"IF(BR$19>$Z76,\"--\",IF(BR76=$CN$8,$CV$8,IF(BR76=$CN$9,$CV$9,$CV$10))*IF(BW76=$CD$8,$CJ$8,IF(BW76=$CD$9,$CJ$9,IF(BW76=$CD$10,$CJ$10,$CJ$11))))","v":64},null,null,null,null,null,null,null,null,null,{"$f":"IF(CB$19>$Z76,\"--\",IF(CB76=$CN$8,$CV$8,IF(CB76=$CN$9,$CV$9,$CV$10))*IF(CG76=$CD$8,$CJ$8,IF(CG76=$CD$9,$CJ$9,IF(CG76=$CD$10,$CJ$10,$CJ$11))))","v":64},null,null,null,null,null,null,null,null,null,{"$f":"IF(CL$19>$Z76,\"--\",IF(CL76=$CN$8,$CV$8,IF(CL76=$CN$9,$CV$9,$CV$10))*IF(CQ76=$CD$8,$CJ$8,IF(CQ76=$CD$9,$CJ$9,IF(CQ76=$CD$10,$CJ$10,$CJ$11))))","v":"--"},null,null,null,null,null,null,null,null,null,{"$f":"IF(CV$19>$Z76,\"--\",IF(CV76=$CN$8,$CV$8,IF(CV76=$CN$9,$CV$9,$CV$10))*IF(DA76=$CD$8,$CJ$8,IF(DA76=$CD$9,$CJ$9,IF(DA76=$CD$10,$CJ$10,$CJ$11))))","v":"--"},null,null,null,null,null,null,null,null,null,{"$f":"IF(DF$19>$Z76,\"--\",IF(DF76=$CN$8,$CV$8,IF(DF76=$CN$9,$CV$9,$CV$10))*IF(DK76=$CD$8,$CJ$8,IF(DK76=$CD$9,$CJ$9,IF(DK76=$CD$10,$CJ$10,$CJ$11))))","v":"--"},null,null,null,null,null,null,null,null,null,{"$f":"IF(DP$19>$Z76,\"--\",IF(DP76=$CN$8,$CV$8,IF(DP76=$CN$9,$CV$9,$CV$10))*IF(DU76=$CD$8,$CJ$8,IF(DU76=$CD$9,$CJ$9,IF(DU76=$CD$10,$CJ$10,$CJ$11))))","v":"--"},null,null,null,null,null,null,null,null,null,{"$f":"IF(DZ$19>$Z76,\"--\",IF(DZ76=$CN$8,$CV$8,IF(DZ76=$CN$9,$CV$9,$CV$10))*IF(EE76=$CD$8,$CJ$8,IF(EE76=$CD$9,$CJ$9,IF(EE76=$CD$10,$CJ$10,$CJ$11))))","v":"--"},null,null,null,null,null,null,null,null,null,{"$f":"IF(EJ$19>$Z76,\"--\",IF(EJ76=$CN$8,$CV$8,IF(EJ76=$CN$9,$CV$9,$CV$10))*IF(EO76=$CD$8,$CJ$8,IF(EO76=$CD$9,$CJ$9,IF(EO76=$CD$10,$CJ$10,$CJ$11))))","v":"--"},null,null,null,null,null,null,null,null,null,{"$f":"IF(ET$19>$Z76,\"--\",IF(ET76=$CN$8,$CV$8,IF(ET76=$CN$9,$CV$9,$CV$10))*IF(EY76=$CD$8,$CJ$8,IF(EY76=$CD$9,$CJ$9,IF(EY76=$CD$10,$CJ$10,$CJ$11))))","v":"--"},null,null,null,null,null,null,null,null,null,{"$f":"IF(FD$19>$Z76,\"--\",IF(FD76=$CN$8,$CV$8,IF(FD76=$CN$9,$CV$9,$CV$10))*IF(FI76=$CD$8,$CJ$8,IF(FI76=$CD$9,$CJ$9,IF(FI76=$CD$10,$CJ$10,$CJ$11))))","v":"--"},null,null,null,null,null,null,null,null,null,{"$f":"IF(FN$19>$Z76,\"--\",IF(FN76=$CN$8,$CV$8,IF(FN76=$CN$9,$CV$9,$CV$10))*IF(FS76=$CD$8,$CJ$8,IF(FS76=$CD$9,$CJ$9,IF(FS76=$CD$10,$CJ$10,$CJ$11))))","v":"--"},null,null,null,null,null,null,null,null,null,{"$f":"IF(FX$19>$Z76,\"--\",IF(FX76=$CN$8,$CV$8,IF(FX76=$CN$9,$CV$9,$CV$10))*IF(GC76=$CD$8,$CJ$8,IF(GC76=$CD$9,$CJ$9,IF(GC76=$CD$10,$CJ$10,$CJ$11))))","v":"--"}]
[]
[null,null,null,null,null,null,null,null,null,null,null,null,null,null,null,null,null,null,null,"E-W",null,null,null,null,null,6,null,null,null,"2 Lanes",null,null,null,null,"<20mph",null,null,null,null,"2 Lanes",null,null,null,null,"<20mph",null,null,null,null,"2 Lanes",null,null,null,null,"<20mph",null,null,null,null,"2 Lanes",null,null,null,null,"<20mph",null,null,null,null,"2 Lanes",null,null,null,null,"<20mph",null,null,null,null,"2 Lanes",null,null,null,null,"<20mph",null,null,null,null,"2 Lanes",null,null,null,null,"<20mph",null,null,null,null,"2 Lanes",null,null,null,null,"<20mph",null,null,null,null,"2 Lanes",null,null,null,null,"<20mph",null,null,null,null,"2 Lanes",null,null,null,null,"<20mph",null,null,null,null,"2 Lanes",null,null,null,null,"<20mph",null,null,null,null,"2 Lanes",null,null,null,null,"<20mph",null,null,null,null,"2 Lanes",null,null,null,null,"<20mph",null,null,null,null,"2 Lanes",null,null,null,null,"<20mph",null,null,null,null,"2 Lanes",null,null,null,null,"<20mph",null,null,null,null,"2 Lanes",null,null,null,null,"<20mph",null,null,null,null,null,null,null,null,{"$f":"IF(GV78<=$BX$11,$BR$11,IF(GV78<=$BX$10,$BR$10,IF(GV78<=$BX$9,$BR$9,$BR$8)))","v":"Good"},null,null,null,null,{"$f":"MIN(HA78:ND79)","v":64},null,null,null,null,{"$f":"AVERAGE(HA78:ND79)","v":64},null,null,null,null,{"$f":"IF(AD$19>$Z78,\"--\",IF(AD78=$CN$8,$CV$8,IF(AD78=$CN$9,$CV$9,$CV$10))*IF(AI78=$CD$8,$CJ$8,IF(AI78=$CD$9,$CJ$9,IF(AI78=$CD$10,$CJ$10,$CJ$11))))","v":64},null,null,null,null,null,null,null,null,null,{"$f":"IF(AN$19>$Z78,\"--\",IF(AN78=$CN$8,$CV$8,IF(AN78=$CN$9,$CV$9,$CV$10))*IF(AS78=$CD$8,$CJ$8,IF(AS78=$CD$9,$CJ$9,IF(AS78=$CD$10,$CJ$10,$CJ$11))))","v":64},null,null,null,null,null,null,null,null,null,{"$f":"IF(AX$19>$Z78,\"--\",IF(AX78=$CN$8,$CV$8,IF(AX78=$CN$9,$CV$9,$CV$10))*IF(BC78=$CD$8,$CJ$8,IF(BC78=$CD$9,$CJ$9,IF(BC78=$CD$10,$CJ$10,$CJ$11))))","v":64},null,null,null,null,null,null,null,null,null,{"$f":"IF(BH$19>$Z78,\"--\",IF(BH78=$CN$8,$CV$8,IF(BH78=$CN$9,$CV$9,$CV$10))*IF(BM78=$CD$8,$CJ$8,IF(BM78=$CD$9,$CJ$9,IF(BM78=$CD$10,$CJ$10,$CJ$11))))","v":64},null,null,null,null,null,null,null,null,null,{"$f":"IF(BR$19>$Z78,\"--\",IF(BR78=$CN$8,$CV$8,IF(BR78=$CN$9,$CV$9,$CV$10))*IF(BW78=$CD$8,$CJ$8,IF(BW78=$CD$9,$CJ$9,IF(BW78=$CD$10,$CJ$10,$CJ$11))))","v":64},null,null,null,null,null,null,null,null,null,{"$f":"IF(CB$19>$Z78,\"--\",IF(CB78=$CN$8,$CV$8,IF(CB78=$CN$9,$CV$9,$CV$10))*IF(CG78=$CD$8,$CJ$8,IF(CG78=$CD$9,$CJ$9,IF(CG78=$CD$10,$CJ$10,$CJ$11))))","v":64},null,null,null,null,null,null,null,null,null,{"$f":"IF(CL$19>$Z78,\"--\",IF(CL78=$CN$8,$CV$8,IF(CL78=$CN$9,$CV$9,$CV$10))*IF(CQ78=$CD$8,$CJ$8,IF(CQ78=$CD$9,$CJ$9,IF(CQ78=$CD$10,$CJ$10,$CJ$11))))","v":"--"},null,null,null,null,null,null,null,null,null,{"$f":"IF(CV$19>$Z78,\"--\",IF(CV78=$CN$8,$CV$8,IF(CV78=$CN$9,$CV$9,$CV$10))*IF(DA78=$CD$8,$CJ$8,IF(DA78=$CD$9,$CJ$9,IF(DA78=$CD$10,$CJ$10,$CJ$11))))","v":"--"},null,null,null,null,null,null,null,null,null,{"$f":"IF(DF$19>$Z78,\"--\",IF(DF78=$CN$8,$CV$8,IF(DF78=$CN$9,$CV$9,$CV$10))*IF(DK78=$CD$8,$CJ$8,IF(DK78=$CD$9,$CJ$9,IF(DK78=$CD$10,$CJ$10,$CJ$11))))","v":"--"},null,null,null,null,null,null,null,null,null,{"$f":"IF(DP$19>$Z78,\"--\",IF(DP78=$CN$8,$CV$8,IF(DP78=$CN$9,$CV$9,$CV$10))*IF(DU78=$CD$8,$CJ$8,IF(DU78=$CD$9,$CJ$9,IF(DU78=$CD$10,$CJ$10,$CJ$11))))","v":"--"},null,null,null,null,null,null,null,null,null,{"$f":"IF(DZ$19>$Z78,\"--\",IF(DZ78=$CN$8,$CV$8,IF(DZ78=$CN$9,$CV$9,$CV$10))*IF(EE78=$CD$8,$CJ$8,IF(EE78=$CD$9,$CJ$9,IF(EE78=$CD$10,$CJ$10,$CJ$11))))","v":"--"},null,null,null,null,null,null,null,null,null,{"$f":"IF(EJ$19>$Z78,\"--\",IF(EJ78=$CN$8,$CV$8,IF(EJ78=$CN$9,$CV$9,$CV$10))*IF(EO78=$CD$8,$CJ$8,IF(EO78=$CD$9,$CJ$9,IF(EO78=$CD$10,$CJ$10,$CJ$11))))","v":"--"},null,null,null,null,null,null,null,null,null,{"$f":"IF(ET$19>$Z78,\"--\",IF(ET78=$CN$8,$CV$8,IF(ET78=$CN$9,$CV$9,$CV$10))*IF(EY78=$CD$8,$CJ$8,IF(EY78=$CD$9,$CJ$9,IF(EY78=$CD$10,$CJ$10,$CJ$11))))","v":"--"},null,null,null,null,null,null,null,null,null,{"$f":"IF(FD$19>$Z78,\"--\",IF(FD78=$CN$8,$CV$8,IF(FD78=$CN$9,$CV$9,$CV$10))*IF(FI78=$CD$8,$CJ$8,IF(FI78=$CD$9,$CJ$9,IF(FI78=$CD$10,$CJ$10,$CJ$11))))","v":"--"},null,null,null,null,null,null,null,null,null,{"$f":"IF(FN$19>$Z78,\"--\",IF(FN78=$CN$8,$CV$8,IF(FN78=$CN$9,$CV$9,$CV$10))*IF(FS78=$CD$8,$CJ$8,IF(FS78=$CD$9,$CJ$9,IF(FS78=$CD$10,$CJ$10,$CJ$11))))","v":"--"},null,null,null,null,null,null,null,null,null,{"$f":"IF(FX$19>$Z78,\"--\",IF(FX78=$CN$8,$CV$8,IF(FX78=$CN$9,$CV$9,$CV$10))*IF(GC78=$CD$8,$CJ$8,IF(GC78=$CD$9,$CJ$9,IF(GC78=$CD$10,$CJ$10,$CJ$11))))","v":"--"}]
[]
[]
[" Pedestrian Crossing Configurations for Separated Intersections",null,null,null,null,null,null,null,null,null,null,null,null,null,null,null,null,null,null,null,null,null,null,null,null,null,null,null,null,null,null,null,null,null,null,null,null,null,null,null,null,null,null,null,null,null,null,null,null,null,null,null,null,null,null,null,null,null,null,null,null,null,null,null,null,null,null,null,null,null,null,null,null,null,null,null,null,null,null,null,null,null,null,null,null,null,null,null,null,null,null,null,null,null,null,null,null,null,null,null,null,null,null,null,null,null,null,null,null,null,null,null,null,null,null,null,null,null,null,null,null,null,null,null,null,null,null,null,null,null,null,null,null,null,null,null,null,null,null,null,null,null,null,null,null,null,null,null,null,null,null,null,null,null,null,null,null,null,null,null,null,null,null,null,null,null,null,null,null,null,null,null,null,null,null,null,null,null,null,null,null,null,null,null,null,null,null,null,null,null,null,null,null,"Pedestrian Multimodal Scoring for Grade-Separated Intersections"]
[]
["TYPE OF INTERSECTION",null,null,null,null,null,null,null,null,null,null,null,null,null,null,null,null,null,null,"Sheet",null,null,null,null,null,"# Of\n X-ings",null,null,null,"Crossing #1",null,null,null,null,null,null,null,null,null,"Crossing #2",null,null,null,null,null,null,null,null,null,"Crossing #3",null,null,null,null,null,null,null,null,null,"Crossing #4",null,null,null,null,null,null,null,null,null,"Crossing #5",null,null,null,null,null,null,null,null,null,"Crossing #6",null,null,null,null,null,null,null,null,null,"Crossing #7",null,null,null,null,null,null,null,null,null,"Crossing #8",null,null,null,null,null,null,null,null,null,"Crossing #9",null,null,null,null,null,null,null,null,null,"Crossing #10",null,null,null,null,null,null,null,null,null,"Crossing #11",null,null,null,null,null,null,null,null,null,"Crossing #12",null,null,null,null,null,null,null,null,null,"Crossing #13",null,null,null,null,null,null,null,null,null,"Crossing #14",null,null,null,null,null,null,null,null,null,"Crossing #15",null,null,null,null,null,null,null,null,null,"Crossing #16",null,null,null,null,null,null,null,null,null,null,null,null,null,"Intx Scores",null,null,null,null,null,null,null,null,null,null,null,null,null,null,"Individual Crossing Scores"]
[]
[null,null,null,null,null,null,null,null,null,null,null,null,null,null,null,null,null,null,null,null,null,null,null,null,null,null,null,null,null,"# Lanes",null,null,null,null,"Veh Speed",null,null,null,null,"# Lanes",null,null,null,null,"Veh Speed",null,null,null,null,"# Lanes",null,null,null,null,"Veh Speed",null,null,null,null,"# Lanes",null,null,null,null,"Veh Speed",null,null,null,null,"# Lanes",null,null,null,null,"Veh Speed",null,null,null,null,"# Lanes",null,null,null,null,"Veh Speed",null,null,null,null,"# Lanes",null,null,null,null,"Veh Speed",null,null,null,null,"# Lanes",null,null,null,null,"Veh Speed",null,null,null,null,"# Lanes",null,null,null,null,"Veh Speed",null,null,null,null,"# Lanes",null,null,null,null,"Veh Speed",null,null,null,null,"# Lanes",null,null,null,null,"Veh Speed",null,null,null,null,"# Lanes",null,null,null,null,"Veh Speed",null,null,null,null,"# Lanes",null,null,null,null,"Veh Speed",null,null,null,null,"# Lanes",null,null,null,null,"Veh Speed",null,null,null,null,"# Lanes",null,null,null,null,"Veh Speed",null,null,null,null,"# Lanes",null,null,null,null,"Veh Speed",null,null,null,null,null,null,null,null,"Report",null,null,null,null,"Worst",null,null,null,null,"Avg",null,null,null,null,"#1",null,null,null,null,null,null,null,null,null,"#2",null,null,null,null,null,null,null,null,null,"#3",null,null,null,null,null,null,null,null,null,"#4",null,null,null,null,null,null,null,null,null,"#5",null,null,null,null,null,null,null,null,null,"#6",null,null,null,null,null,null,null,null,null,"#7",null,null,null,null,null,null,null,null,null,"#8",null,null,null,null,null,null,null,null,null,"#9",null,null,null,null,null,null,null,null,null,"#10",null,null,null,null,null,null,null,null,null,"#11",null,null,null,null,null,null,null,null,null,"#12",null,null,null,null,null,null,null,null,null,"#13",null,null,null,null,null,null,null,null,null,"#14",null,null,null,null,null,null,null,null,null,"#15",null,null,null,null,null,null,null,null,null,"#16"]
[]
["Echelon",null,null,null,null,null,null,null,null,null,null,null,null,null,null,null,null,null,null,"N-S",null,null,null,null,null,4,null,null,null,"2 Lanes",null,null,null,null,"<20mph",null,null,null,null,"2 Lanes",null,null,null,null,"<20mph",null,null,null,null,"2 Lanes",null,null,null,null,"<20mph",null,null,null,null,"2 Lanes",null,null,null,null,"<20mph",null,null,null,null,"2 Lanes",null,null,null,null,"<20mph",null,null,null,null,"2 Lanes",null,null,null,null,"<20mph",null,null,null,null,"2 Lanes",null,null,null,null,"<20mph",null,null,null,null,"2 Lanes",null,null,null,null,"<20mph",null,null,null,null,"2 Lanes",null,null,null,null,"<20mph",null,null,null,null,"2 Lanes",null,null,null,null,"<20mph",null,null,null,null,"2 Lanes",null,null,null,null,"<20mph",null,null,null,null,"2 Lanes",null,null,null,null,"<20mph",null,null,null,null,"2 Lanes",null,null,null,null,"<20mph",null,null,null,null,"2 Lanes",null,null,null,null,"<20mph",null,null,null,null,"2 Lanes",null,null,null,null,"<20mph",null,null,null,null,"2 Lanes",null,null,null,null,"<20mph",null,null,null,null,null,null,null,null,{"$f":"IF(GV87<=$BX$11,$BR$11,IF(GV87<=$BX$10,$BR$10,IF(GV87<=$BX$9,$BR$9,$BR$8)))","v":"Good"},null,null,null,null,{"$f":"MIN(HA87:ND88)","v":64},null,null,null,null,{"$f":"AVERAGE(HA87:ND88)","v":64},null,null,null,null,{"$f":"IF(AD$19>$Z87,\"--\",IF(AD87=$CN$8,$CV$8,IF(AD87=$CN$9,$CV$9,$CV$10))*IF(AI87=$CD$8,$CJ$8,IF(AI87=$CD$9,$CJ$9,IF(AI87=$CD$10,$CJ$10,$CJ$11))))","v":64},null,null,null,null,null,null,null,null,null,{"$f":"IF(AN$19>$Z87,\"--\",IF(AN87=$CN$8,$CV$8,IF(AN87=$CN$9,$CV$9,$CV$10))*IF(AS87=$CD$8,$CJ$8,IF(AS87=$CD$9,$CJ$9,IF(AS87=$CD$10,$CJ$10,$CJ$11))))","v":64},null,null,null,null,null,null,null,null,null,{"$f":"IF(AX$19>$Z87,\"--\",IF(AX87=$CN$8,$CV$8,IF(AX87=$CN$9,$CV$9,$CV$10))*IF(BC87=$CD$8,$CJ$8,IF(BC87=$CD$9,$CJ$9,IF(BC87=$CD$10,$CJ$10,$CJ$11))))","v":64},null,null,null,null,null,null,null,null,null,{"$f":"IF(BH$19>$Z87,\"--\",IF(BH87=$CN$8,$CV$8,IF(BH87=$CN$9,$CV$9,$CV$10))*IF(BM87=$CD$8,$CJ$8,IF(BM87=$CD$9,$CJ$9,IF(BM87=$CD$10,$CJ$10,$CJ$11))))","v":64},null,null,null,null,null,null,null,null,null,{"$f":"IF(BR$19>$Z87,\"--\",IF(BR87=$CN$8,$CV$8,IF(BR87=$CN$9,$CV$9,$CV$10))*IF(BW87=$CD$8,$CJ$8,IF(BW87=$CD$9,$CJ$9,IF(BW87=$CD$10,$CJ$10,$CJ$11))))","v":"--"},null,null,null,null,null,null,null,null,null,{"$f":"IF(CB$19>$Z87,\"--\",IF(CB87=$CN$8,$CV$8,IF(CB87=$CN$9,$CV$9,$CV$10))*IF(CG87=$CD$8,$CJ$8,IF(CG87=$CD$9,$CJ$9,IF(CG87=$CD$10,$CJ$10,$CJ$11))))","v":"--"},null,null,null,null,null,null,null,null,null,{"$f":"IF(CL$19>$Z87,\"--\",IF(CL87=$CN$8,$CV$8,IF(CL87=$CN$9,$CV$9,$CV$10))*IF(CQ87=$CD$8,$CJ$8,IF(CQ87=$CD$9,$CJ$9,IF(CQ87=$CD$10,$CJ$10,$CJ$11))))","v":"--"},null,null,null,null,null,null,null,null,null,{"$f":"IF(CV$19>$Z87,\"--\",IF(CV87=$CN$8,$CV$8,IF(CV87=$CN$9,$CV$9,$CV$10))*IF(DA87=$CD$8,$CJ$8,IF(DA87=$CD$9,$CJ$9,IF(DA87=$CD$10,$CJ$10,$CJ$11))))","v":"--"},null,null,null,null,null,null,null,null,null,{"$f":"IF(DF$19>$Z87,\"--\",IF(DF87=$CN$8,$CV$8,IF(DF87=$CN$9,$CV$9,$CV$10))*IF(DK87=$CD$8,$CJ$8,IF(DK87=$CD$9,$CJ$9,IF(DK87=$CD$10,$CJ$10,$CJ$11))))","v":"--"},null,null,null,null,null,null,null,null,null,{"$f":"IF(DP$19>$Z87,\"--\",IF(DP87=$CN$8,$CV$8,IF(DP87=$CN$9,$CV$9,$CV$10))*IF(DU87=$CD$8,$CJ$8,IF(DU87=$CD$9,$CJ$9,IF(DU87=$CD$10,$CJ$10,$CJ$11))))","v":"--"},null,null,null,null,null,null,null,null,null,{"$f":"IF(DZ$19>$Z87,\"--\",IF(DZ87=$CN$8,$CV$8,IF(DZ87=$CN$9,$CV$9,$CV$10))*IF(EE87=$CD$8,$CJ$8,IF(EE87=$CD$9,$CJ$9,IF(EE87=$CD$10,$CJ$10,$CJ$11))))","v":"--"},null,null,null,null,null,null,null,null,null,{"$f":"IF(EJ$19>$Z87,\"--\",IF(EJ87=$CN$8,$CV$8,IF(EJ87=$CN$9,$CV$9,$CV$10))*IF(EO87=$CD$8,$CJ$8,IF(EO87=$CD$9,$CJ$9,IF(EO87=$CD$10,$CJ$10,$CJ$11))))","v":"--"},null,null,null,null,null,null,null,null,null,{"$f":"IF(ET$19>$Z87,\"--\",IF(ET87=$CN$8,$CV$8,IF(ET87=$CN$9,$CV$9,$CV$10))*IF(EY87=$CD$8,$CJ$8,IF(EY87=$CD$9,$CJ$9,IF(EY87=$CD$10,$CJ$10,$CJ$11))))","v":"--"},null,null,null,null,null,null,null,null,null,{"$f":"IF(FD$19>$Z87,\"--\",IF(FD87=$CN$8,$CV$8,IF(FD87=$CN$9,$CV$9,$CV$10))*IF(FI87=$CD$8,$CJ$8,IF(FI87=$CD$9,$CJ$9,IF(FI87=$CD$10,$CJ$10,$CJ$11))))","v":"--"},null,null,null,null,null,null,null,null,null,{"$f":"IF(FN$19>$Z87,\"--\",IF(FN87=$CN$8,$CV$8,IF(FN87=$CN$9,$CV$9,$CV$10))*IF(FS87=$CD$8,$CJ$8,IF(FS87=$CD$9,$CJ$9,IF(FS87=$CD$10,$CJ$10,$CJ$11))))","v":"--"},null,null,null,null,null,null,null,null,null,{"$f":"IF(FX$19>$Z87,\"--\",IF(FX87=$CN$8,$CV$8,IF(FX87=$CN$9,$CV$9,$CV$10))*IF(GC87=$CD$8,$CJ$8,IF(GC87=$CD$9,$CJ$9,IF(GC87=$CD$10,$CJ$10,$CJ$11))))","v":"--"}]
[]
[null,null,null,null,null,null,null,null,null,null,null,null,null,null,null,null,null,null,null,"E-W",null,null,null,null,null,4,null,null,null,"2 Lanes",null,null,null,null,"<20mph",null,null,null,null,"2 Lanes",null,null,null,null,"<20mph",null,null,null,null,"2 Lanes",null,null,null,null,"<20mph",null,null,null,null,"2 Lanes",null,null,null,null,"<20mph",null,null,null,null,"2 Lanes",null,null,null,null,"<20mph",null,null,null,null,"2 Lanes",null,null,null,null,"<20mph",null,null,null,null,"2 Lanes",null,null,null,null,"<20mph",null,null,null,null,"2 Lanes",null,null,null,null,"<20mph",null,null,null,null,"2 Lanes",null,null,null,null,"<20mph",null,null,null,null,"2 Lanes",null,null,null,null,"<20mph",null,null,null,null,"2 Lanes",null,null,null,null,"<20mph",null,null,null,null,"2 Lanes",null,null,null,null,"<20mph",null,null,null,null,"2 Lanes",null,null,null,null,"<20mph",null,null,null,null,"2 Lanes",null,null,null,null,"<20mph",null,null,null,null,"2 Lanes",null,null,null,null,"<20mph",null,null,null,null,"2 Lanes",null,null,null,null,"<20mph",null,null,null,null,null,null,null,null,{"$f":"IF(GV89<=$BX$11,$BR$11,IF(GV89<=$BX$10,$BR$10,IF(GV89<=$BX$9,$BR$9,$BR$8)))","v":"Good"},null,null,null,null,{"$f":"MIN(HA89:ND90)","v":64},null,null,null,null,{"$f":"AVERAGE(HA89:ND90)","v":64},null,null,null,null,{"$f":"IF(AD$19>$Z89,\"--\",IF(AD89=$CN$8,$CV$8,IF(AD89=$CN$9,$CV$9,$CV$10))*IF(AI89=$CD$8,$CJ$8,IF(AI89=$CD$9,$CJ$9,IF(AI89=$CD$10,$CJ$10,$CJ$11))))","v":64},null,null,null,null,null,null,null,null,null,{"$f":"IF(AN$19>$Z89,\"--\",IF(AN89=$CN$8,$CV$8,IF(AN89=$CN$9,$CV$9,$CV$10))*IF(AS89=$CD$8,$CJ$8,IF(AS89=$CD$9,$CJ$9,IF(AS89=$CD$10,$CJ$10,$CJ$11))))","v":64},null,null,null,null,null,null,null,null,null,{"$f":"IF(AX$19>$Z89,\"--\",IF(AX89=$CN$8,$CV$8,IF(AX89=$CN$9,$CV$9,$CV$10))*IF(BC89=$CD$8,$CJ$8,IF(BC89=$CD$9,$CJ$9,IF(BC89=$CD$10,$CJ$10,$CJ$11))))","v":64},null,null,null,null,null,null,null,null,null,{"$f":"IF(BH$19>$Z89,\"--\",IF(BH89=$CN$8,$CV$8,IF(BH89=$CN$9,$CV$9,$CV$10))*IF(BM89=$CD$8,$CJ$8,IF(BM89=$CD$9,$CJ$9,IF(BM89=$CD$10,$CJ$10,$CJ$11))))","v":64},null,null,null,null,null,null,null,null,null,{"$f":"IF(BR$19>$Z89,\"--\",IF(BR89=$CN$8,$CV$8,IF(BR89=$CN$9,$CV$9,$CV$10))*IF(BW89=$CD$8,$CJ$8,IF(BW89=$CD$9,$CJ$9,IF(BW89=$CD$10,$CJ$10,$CJ$11))))","v":"--"},null,null,null,null,null,null,null,null,null,{"$f":"IF(CB$19>$Z89,\"--\",IF(CB89=$CN$8,$CV$8,IF(CB89=$CN$9,$CV$9,$CV$10))*IF(CG89=$CD$8,$CJ$8,IF(CG89=$CD$9,$CJ$9,IF(CG89=$CD$10,$CJ$10,$CJ$11))))","v":"--"},null,null,null,null,null,null,null,null,null,{"$f":"IF(CL$19>$Z89,\"--\",IF(CL89=$CN$8,$CV$8,IF(CL89=$CN$9,$CV$9,$CV$10))*IF(CQ89=$CD$8,$CJ$8,IF(CQ89=$CD$9,$CJ$9,IF(CQ89=$CD$10,$CJ$10,$CJ$11))))","v":"--"},null,null,null,null,null,null,null,null,null,{"$f":"IF(CV$19>$Z89,\"--\",IF(CV89=$CN$8,$CV$8,IF(CV89=$CN$9,$CV$9,$CV$10))*IF(DA89=$CD$8,$CJ$8,IF(DA89=$CD$9,$CJ$9,IF(DA89=$CD$10,$CJ$10,$CJ$11))))","v":"--"},null,null,null,null,null,null,null,null,null,{"$f":"IF(DF$19>$Z89,\"--\",IF(DF89=$CN$8,$CV$8,IF(DF89=$CN$9,$CV$9,$CV$10))*IF(DK89=$CD$8,$CJ$8,IF(DK89=$CD$9,$CJ$9,IF(DK89=$CD$10,$CJ$10,$CJ$11))))","v":"--"},null,null,null,null,null,null,null,null,null,{"$f":"IF(DP$19>$Z89,\"--\",IF(DP89=$CN$8,$CV$8,IF(DP89=$CN$9,$CV$9,$CV$10))*IF(DU89=$CD$8,$CJ$8,IF(DU89=$CD$9,$CJ$9,IF(DU89=$CD$10,$CJ$10,$CJ$11))))","v":"--"},null,null,null,null,null,null,null,null,null,{"$f":"IF(DZ$19>$Z89,\"--\",IF(DZ89=$CN$8,$CV$8,IF(DZ89=$CN$9,$CV$9,$CV$10))*IF(EE89=$CD$8,$CJ$8,IF(EE89=$CD$9,$CJ$9,IF(EE89=$CD$10,$CJ$10,$CJ$11))))","v":"--"},null,null,null,null,null,null,null,null,null,{"$f":"IF(EJ$19>$Z89,\"--\",IF(EJ89=$CN$8,$CV$8,IF(EJ89=$CN$9,$CV$9,$CV$10))*IF(EO89=$CD$8,$CJ$8,IF(EO89=$CD$9,$CJ$9,IF(EO89=$CD$10,$CJ$10,$CJ$11))))","v":"--"},null,null,null,null,null,null,null,null,null,{"$f":"IF(ET$19>$Z89,\"--\",IF(ET89=$CN$8,$CV$8,IF(ET89=$CN$9,$CV$9,$CV$10))*IF(EY89=$CD$8,$CJ$8,IF(EY89=$CD$9,$CJ$9,IF(EY89=$CD$10,$CJ$10,$CJ$11))))","v":"--"},null,null,null,null,null,null,null,null,null,{"$f":"IF(FD$19>$Z89,\"--\",IF(FD89=$CN$8,$CV$8,IF(FD89=$CN$9,$CV$9,$CV$10))*IF(FI89=$CD$8,$CJ$8,IF(FI89=$CD$9,$CJ$9,IF(FI89=$CD$10,$CJ$10,$CJ$11))))","v":"--"},null,null,null,null,null,null,null,null,null,{"$f":"IF(FN$19>$Z89,\"--\",IF(FN89=$CN$8,$CV$8,IF(FN89=$CN$9,$CV$9,$CV$10))*IF(FS89=$CD$8,$CJ$8,IF(FS89=$CD$9,$CJ$9,IF(FS89=$CD$10,$CJ$10,$CJ$11))))","v":"--"},null,null,null,null,null,null,null,null,null,{"$f":"IF(FX$19>$Z89,\"--\",IF(FX89=$CN$8,$CV$8,IF(FX89=$CN$9,$CV$9,$CV$10))*IF(GC89=$CD$8,$CJ$8,IF(GC89=$CD$9,$CJ$9,IF(GC89=$CD$10,$CJ$10,$CJ$11))))","v":"--"}]
[]
["Center Turn Overpass",null,null,null,null,null,null,null,null,null,null,null,null,null,null,null,null,null,null,"FULL",null,null,null,null,null,4,null,null,null,"2 Lanes",null,null,null,null,"<20mph",null,null,null,null,"2 Lanes",null,null,null,null,"<20mph",null,null,null,null,"2 Lanes",null,null,null,null,"<20mph",null,null,null,null,"2 Lanes",null,null,null,null,"<20mph",null,null,null,null,"2 Lanes",null,null,null,null,"<20mph",null,null,null,null,"2 Lanes",null,null,null,null,"<20mph",null,null,null,null,"2 Lanes",null,null,null,null,"<20mph",null,null,null,null,"2 Lanes",null,null,null,null,"<20mph",null,null,null,null,"2 Lanes",null,null,null,null,"<20mph",null,null,null,null,"2 Lanes",null,null,null,null,"<20mph",null,null,null,null,"2 Lanes",null,null,null,null,"<20mph",null,null,null,null,"2 Lanes",null,null,null,null,"<20mph",null,null,null,null,"2 Lanes",null,null,null,null,"<20mph",null,null,null,null,"2 Lanes",null,null,null,null,"<20mph",null,null,null,null,"2 Lanes",null,null,null,null,"<20mph",null,null,null,null,"2 Lanes",null,null,null,null,"<20mph",null,null,null,null,null,null,null,null,{"$f":"IF(GV91<=$BX$11,$BR$11,IF(GV91<=$BX$10,$BR$10,IF(GV91<=$BX$9,$BR$9,$BR$8)))","v":"Good"},null,null,null,null,{"$f":"MIN(HA91:ND92)","v":64},null,null,null,null,{"$f":"AVERAGE(HA91:ND92)","v":64},null,null,null,null,{"$f":"IF(AD$19>$Z91,\"--\",IF(AD91=$CN$8,$CV$8,IF(AD91=$CN$9,$CV$9,$CV$10))*IF(AI91=$CD$8,$CJ$8,IF(AI91=$CD$9,$CJ$9,IF(AI91=$CD$10,$CJ$10,$CJ$11))))","v":64},null,null,null,null,null,null,null,null,null,{"$f":"IF(AN$19>$Z91,\"--\",IF(AN91=$CN$8,$CV$8,IF(AN91=$CN$9,$CV$9,$CV$10))*IF(AS91=$CD$8,$CJ$8,IF(AS91=$CD$9,$CJ$9,IF(AS91=$CD$10,$CJ$10,$CJ$11))))","v":64},null,null,null,null,null,null,null,null,null,{"$f":"IF(AX$19>$Z91,\"--\",IF(AX91=$CN$8,$CV$8,IF(AX91=$CN$9,$CV$9,$CV$10))*IF(BC91=$CD$8,$CJ$8,IF(BC91=$CD$9,$CJ$9,IF(BC91=$CD$10,$CJ$10,$CJ$11))))","v":64},null,null,null,null,null,null,null,null,null,{"$f":"IF(BH$19>$Z91,\"--\",IF(BH91=$CN$8,$CV$8,IF(BH91=$CN$9,$CV$9,$CV$10))*IF(BM91=$CD$8,$CJ$8,IF(BM91=$CD$9,$CJ$9,IF(BM91=$CD$10,$CJ$10,$CJ$11))))","v":64},null,null,null,null,null,null,null,null,null,{"$f":"IF(BR$19>$Z91,\"--\",IF(BR91=$CN$8,$CV$8,IF(BR91=$CN$9,$CV$9,$CV$10))*IF(BW91=$CD$8,$CJ$8,IF(BW91=$CD$9,$CJ$9,IF(BW91=$CD$10,$CJ$10,$CJ$11))))","v":"--"},null,null,null,null,null,null,null,null,null,{"$f":"IF(CB$19>$Z91,\"--\",IF(CB91=$CN$8,$CV$8,IF(CB91=$CN$9,$CV$9,$CV$10))*IF(CG91=$CD$8,$CJ$8,IF(CG91=$CD$9,$CJ$9,IF(CG91=$CD$10,$CJ$10,$CJ$11))))","v":"--"},null,null,null,null,null,null,null,null,null,{"$f":"IF(CL$19>$Z91,\"--\",IF(CL91=$CN$8,$CV$8,IF(CL91=$CN$9,$CV$9,$CV$10))*IF(CQ91=$CD$8,$CJ$8,IF(CQ91=$CD$9,$CJ$9,IF(CQ91=$CD$10,$CJ$10,$CJ$11))))","v":"--"},null,null,null,null,null,null,null,null,null,{"$f":"IF(CV$19>$Z91,\"--\",IF(CV91=$CN$8,$CV$8,IF(CV91=$CN$9,$CV$9,$CV$10))*IF(DA91=$CD$8,$CJ$8,IF(DA91=$CD$9,$CJ$9,IF(DA91=$CD$10,$CJ$10,$CJ$11))))","v":"--"},null,null,null,null,null,null,null,null,null,{"$f":"IF(DF$19>$Z91,\"--\",IF(DF91=$CN$8,$CV$8,IF(DF91=$CN$9,$CV$9,$CV$10))*IF(DK91=$CD$8,$CJ$8,IF(DK91=$CD$9,$CJ$9,IF(DK91=$CD$10,$CJ$10,$CJ$11))))","v":"--"},null,null,null,null,null,null,null,null,null,{"$f":"IF(DP$19>$Z91,\"--\",IF(DP91=$CN$8,$CV$8,IF(DP91=$CN$9,$CV$9,$CV$10))*IF(DU91=$CD$8,$CJ$8,IF(DU91=$CD$9,$CJ$9,IF(DU91=$CD$10,$CJ$10,$CJ$11))))","v":"--"},null,null,null,null,null,null,null,null,null,{"$f":"IF(DZ$19>$Z91,\"--\",IF(DZ91=$CN$8,$CV$8,IF(DZ91=$CN$9,$CV$9,$CV$10))*IF(EE91=$CD$8,$CJ$8,IF(EE91=$CD$9,$CJ$9,IF(EE91=$CD$10,$CJ$10,$CJ$11))))","v":"--"},null,null,null,null,null,null,null,null,null,{"$f":"IF(EJ$19>$Z91,\"--\",IF(EJ91=$CN$8,$CV$8,IF(EJ91=$CN$9,$CV$9,$CV$10))*IF(EO91=$CD$8,$CJ$8,IF(EO91=$CD$9,$CJ$9,IF(EO91=$CD$10,$CJ$10,$CJ$11))))","v":"--"},null,null,null,null,null,null,null,null,null,{"$f":"IF(ET$19>$Z91,\"--\",IF(ET91=$CN$8,$CV$8,IF(ET91=$CN$9,$CV$9,$CV$10))*IF(EY91=$CD$8,$CJ$8,IF(EY91=$CD$9,$CJ$9,IF(EY91=$CD$10,$CJ$10,$CJ$11))))","v":"--"},null,null,null,null,null,null,null,null,null,{"$f":"IF(FD$19>$Z91,\"--\",IF(FD91=$CN$8,$CV$8,IF(FD91=$CN$9,$CV$9,$CV$10))*IF(FI91=$CD$8,$CJ$8,IF(FI91=$CD$9,$CJ$9,IF(FI91=$CD$10,$CJ$10,$CJ$11))))","v":"--"},null,null,null,null,null,null,null,null,null,{"$f":"IF(FN$19>$Z91,\"--\",IF(FN91=$CN$8,$CV$8,IF(FN91=$CN$9,$CV$9,$CV$10))*IF(FS91=$CD$8,$CJ$8,IF(FS91=$CD$9,$CJ$9,IF(FS91=$CD$10,$CJ$10,$CJ$11))))","v":"--"},null,null,null,null,null,null,null,null,null,{"$f":"IF(FX$19>$Z91,\"--\",IF(FX91=$CN$8,$CV$8,IF(FX91=$CN$9,$CV$9,$CV$10))*IF(GC91=$CD$8,$CJ$8,IF(GC91=$CD$9,$CJ$9,IF(GC91=$CD$10,$CJ$10,$CJ$11))))","v":"--"}]
[]
[]
[]
[]
[]
[]
[]
[]
[]
[]
[]
[]
["Pedestrian Crossing Configurations for Roundabouts",null,null,null,null,null,null,null,null,null,null,null,null,null,null,null,null,null,null,null,null,null,null,null,null,null,null,null,null,null,null,null,null,null,null,null,null,null,null,null,null,null,null,null,null,null,null,null,null,null,null,null,null,null,null,null,null,null,null,null,null,null,null,null,null,null,null,null,null,null,null,null,null,null,null,null,null,null,null,null,null,null,null,null,null,null,null,null,null,null,null,null,null,null,null,null,null,null,null,null,null,null,null,null,null,null,null,null,null,null,null,null,null,null,null,null,null,null,null,null,null,null,null,null,null,null,null,null,null,null,null,null,null,null,null,null,null,null,null,null,null,null,null,null,null,null,null,null,null,null,null,null,null,null,null,null,null,null,null,null,null,null,null,null,null,null,null,null,null,null,null,null,null,null,null,null,null,null,null,null,null,null,null,null,null,null,null,null,null,null,null,null,null,"Pedestrian Multimodal Scoring for Roundabouts"]
[]
["TYPE OF ROUNDABOUT",null,null,null,null,null,null,null,null,null,null,null,null,null,null,null,null,null,null,"Sheet",null,null,null,null,null,"# Of\n X-ings",null,null,null,"Crossing #1",null,null,null,null,null,null,null,null,null,"Crossing #2",null,null,null,null,null,null,null,null,null,"Crossing #3",null,null,null,null,null,null,null,null,null,"Crossing #4",null,null,null,null,null,null,null,null,null,"Crossing #5",null,null,null,null,null,null,null,null,null,"Crossing #6",null,null,null,null,null,null,null,null,null,"Crossing #7",null,null,null,null,null,null,null,null,null,"Crossing #8",null,null,null,null,null,null,null,null,null,"Crossing #9",null,null,null,null,null,null,null,null,null,"Crossing #10",null,null,null,null,null,null,null,null,null,"Crossing #11",null,null,null,null,null,null,null,null,null,"Crossing #12",null,null,null,null,null,null,null,null,null,"Crossing #13",null,null,null,null,null,null,null,null,null,"Crossing #14",null,null,null,null,null,null,null,null,null,"Crossing #15",null,null,null,null,null,null,null,null,null,"Crossing #16",null,null,null,null,null,null,null,null,null,null,null,null,null,"Intx Scores",null,null,null,null,null,null,null,null,null,null,null,null,null,null,"Individual Crossing Scores"]
[]
[null,null,null,null,null,null,null,null,null,null,null,null,null,null,null,null,null,null,null,null,null,null,null,null,null,null,null,null,null,"# Lanes",null,null,null,null,"Veh Speed",null,null,null,null,"# Lanes",null,null,null,null,"Veh Speed",null,null,null,null,"# Lanes",null,null,null,null,"Veh Speed",null,null,null,null,"# Lanes",null,null,null,null,"Veh Speed",null,null,null,null,"# Lanes",null,null,null,null,"Veh Speed",null,null,null,null,"# Lanes",null,null,null,null,"Veh Speed",null,null,null,null,"# Lanes",null,null,null,null,"Veh Speed",null,null,null,null,"# Lanes",null,null,null,null,"Veh Speed",null,null,null,null,"# Lanes",null,null,null,null,"Veh Speed",null,null,null,null,"# Lanes",null,null,null,null,"Veh Speed",null,null,null,null,"# Lanes",null,null,null,null,"Veh Speed",null,null,null,null,"# Lanes",null,null,null,null,"Veh Speed",null,null,null,null,"# Lanes",null,null,null,null,"Veh Speed",null,null,null,null,"# Lanes",null,null,null,null,"Veh Speed",null,null,null,null,"# Lanes",null,null,null,null,"Veh Speed",null,null,null,null,"# Lanes",null,null,null,null,"Veh Speed",null,null,null,null,null,null,null,null,"Report",null,null,null,null,"Worst",null,null,null,null,"Avg",null,null,null,null,"#1",null,null,null,null,null,null,null,null,null,"#2",null,null,null,null,null,null,null,null,null,"#3",null,null,null,null,null,null,null,null,null,"#4",null,null,null,null,null,null,null,null,null,"#5",null,null,null,null,null,null,null,null,null,"#6",null,null,null,null,null,null,null,null,null,"#7",null,null,null,null,null,null,null,null,null,"#8",null,null,null,null,null,null,null,null,null,"#9",null,null,null,null,null,null,null,null,null,"#10",null,null,null,null,null,null,null,null,null,"#11",null,null,null,null,null,null,null,null,null,"#12",null,null,null,null,null,null,null,null,null,"#13",null,null,null,null,null,null,null,null,null,"#14",null,null,null,null,null,null,null,null,null,"#15",null,null,null,null,null,null,null,null,null,"#16"]
[]
["50 ICD Miniroundabout",null,null,null,null,null,null,null,null,null,null,null,null,null,null,null,null,null,null,"50 ICD",null,null,null,null,null,4,null,null,null,"1 Lane",null,null,null,null,"<20mph",null,null,null,null,"1 Lane",null,null,null,null,"<20mph",null,null,null,null,"1 Lane",null,null,null,null,"<20mph",null,null,null,null,"1 Lane",null,null,null,null,"<20mph",null,null,null,null,"1 Lane",null,null,null,null,"<20mph",null,null,null,null,"1 Lane",null,null,null,null,"<20mph",null,null,null,null,"1 Lane",null,null,null,null,"<20mph",null,null,null,null,"1 Lane",null,null,null,null,"<20mph",null,null,null,null,"1 Lane",null,null,null,null,"<20mph",null,null,null,null,"1 Lane",null,null,null,null,"<20mph",null,null,null,null,"1 Lane",null,null,null,null,"<20mph",null,null,null,null,"1 Lane",null,null,null,null,"<20mph",null,null,null,null,"1 Lane",null,null,null,null,"<20mph",null,null,null,null,"1 Lane",null,null,null,null,"<20mph",null,null,null,null,"1 Lane",null,null,null,null,"<20mph",null,null,null,null,"1 Lane",null,null,null,null,"<20mph",null,null,null,null,null,null,null,null,{"$f":"IF(GV110<=$BX$11,$BR$11,IF(GV110<=$BX$10,$BR$10,IF(GV110<=$BX$9,$BR$9,$BR$8)))","v":"Excellent"},null,null,null,null,{"$f":"MIN(HA110:ND111)","v":80},null,null,null,null,{"$f":"AVERAGE(HA110:ND111)","v":80},null,null,null,null,{"$f":"IF(AD$19>$Z110,\"--\",IF(AD110=$CN$8,$CV$8,IF(AD110=$CN$9,$CV$9,$CV$10))*IF(AI110=$CD$8,$CJ$8,IF(AI110=$CD$9,$CJ$9,IF(AI110=$CD$10,$CJ$10,$CJ$11))))","v":80},null,null,null,null,null,null,null,null,null,{"$f":"IF(AN$19>$Z110,\"--\",IF(AN110=$CN$8,$CV$8,IF(AN110=$CN$9,$CV$9,$CV$10))*IF(AS110=$CD$8,$CJ$8,IF(AS110=$CD$9,$CJ$9,IF(AS110=$CD$10,$CJ$10,$CJ$11))))","v":80},null,null,null,null,null,null,null,null,null,{"$f":"IF(AX$19>$Z110,\"--\",IF(AX110=$CN$8,$CV$8,IF(AX110=$CN$9,$CV$9,$CV$10))*IF(BC110=$CD$8,$CJ$8,IF(BC110=$CD$9,$CJ$9,IF(BC110=$CD$10,$CJ$10,$CJ$11))))","v":80},null,null,null,null,null,null,null,null,null,{"$f":"IF(BH$19>$Z110,\"--\",IF(BH110=$CN$8,$CV$8,IF(BH110=$CN$9,$CV$9,$CV$10))*IF(BM110=$CD$8,$CJ$8,IF(BM110=$CD$9,$CJ$9,IF(BM110=$CD$10,$CJ$10,$CJ$11))))","v":80},null,null,null,null,null,null,null,null,null,{"$f":"IF(BR$19>$Z110,\"--\",IF(BR110=$CN$8,$CV$8,IF(BR110=$CN$9,$CV$9,$CV$10))*IF(BW110=$CD$8,$CJ$8,IF(BW110=$CD$9,$CJ$9,IF(BW110=$CD$10,$CJ$10,$CJ$11))))","v":"--"},null,null,null,null,null,null,null,null,null,{"$f":"IF(CB$19>$Z110,\"--\",IF(CB110=$CN$8,$CV$8,IF(CB110=$CN$9,$CV$9,$CV$10))*IF(CG110=$CD$8,$CJ$8,IF(CG110=$CD$9,$CJ$9,IF(CG110=$CD$10,$CJ$10,$CJ$11))))","v":"--"},null,null,null,null,null,null,null,null,null,{"$f":"IF(CL$19>$Z110,\"--\",IF(CL110=$CN$8,$CV$8,IF(CL110=$CN$9,$CV$9,$CV$10))*IF(CQ110=$CD$8,$CJ$8,IF(CQ110=$CD$9,$CJ$9,IF(CQ110=$CD$10,$CJ$10,$CJ$11))))","v":"--"},null,null,null,null,null,null,null,null,null,{"$f":"IF(CV$19>$Z110,\"--\",IF(CV110=$CN$8,$CV$8,IF(CV110=$CN$9,$CV$9,$CV$10))*IF(DA110=$CD$8,$CJ$8,IF(DA110=$CD$9,$CJ$9,IF(DA110=$CD$10,$CJ$10,$CJ$11))))","v":"--"},null,null,null,null,null,null,null,null,null,{"$f":"IF(DF$19>$Z110,\"--\",IF(DF110=$CN$8,$CV$8,IF(DF110=$CN$9,$CV$9,$CV$10))*IF(DK110=$CD$8,$CJ$8,IF(DK110=$CD$9,$CJ$9,IF(DK110=$CD$10,$CJ$10,$CJ$11))))","v":"--"},null,null,null,null,null,null,null,null,null,{"$f":"IF(DP$19>$Z110,\"--\",IF(DP110=$CN$8,$CV$8,IF(DP110=$CN$9,$CV$9,$CV$10))*IF(DU110=$CD$8,$CJ$8,IF(DU110=$CD$9,$CJ$9,IF(DU110=$CD$10,$CJ$10,$CJ$11))))","v":"--"},null,null,null,null,null,null,null,null,null,{"$f":"IF(DZ$19>$Z110,\"--\",IF(DZ110=$CN$8,$CV$8,IF(DZ110=$CN$9,$CV$9,$CV$10))*IF(EE110=$CD$8,$CJ$8,IF(EE110=$CD$9,$CJ$9,IF(EE110=$CD$10,$CJ$10,$CJ$11))))","v":"--"},null,null,null,null,null,null,null,null,null,{"$f":"IF(EJ$19>$Z110,\"--\",IF(EJ110=$CN$8,$CV$8,IF(EJ110=$CN$9,$CV$9,$CV$10))*IF(EO110=$CD$8,$CJ$8,IF(EO110=$CD$9,$CJ$9,IF(EO110=$CD$10,$CJ$10,$CJ$11))))","v":"--"},null,null,null,null,null,null,null,null,null,{"$f":"IF(ET$19>$Z110,\"--\",IF(ET110=$CN$8,$CV$8,IF(ET110=$CN$9,$CV$9,$CV$10))*IF(EY110=$CD$8,$CJ$8,IF(EY110=$CD$9,$CJ$9,IF(EY110=$CD$10,$CJ$10,$CJ$11))))","v":"--"},null,null,null,null,null,null,null,null,null,{"$f":"IF(FD$19>$Z110,\"--\",IF(FD110=$CN$8,$CV$8,IF(FD110=$CN$9,$CV$9,$CV$10))*IF(FI110=$CD$8,$CJ$8,IF(FI110=$CD$9,$CJ$9,IF(FI110=$CD$10,$CJ$10,$CJ$11))))","v":"--"},null,null,null,null,null,null,null,null,null,{"$f":"IF(FN$19>$Z110,\"--\",IF(FN110=$CN$8,$CV$8,IF(FN110=$CN$9,$CV$9,$CV$10))*IF(FS110=$CD$8,$CJ$8,IF(FS110=$CD$9,$CJ$9,IF(FS110=$CD$10,$CJ$10,$CJ$11))))","v":"--"},null,null,null,null,null,null,null,null,null,{"$f":"IF(FX$19>$Z110,\"--\",IF(FX110=$CN$8,$CV$8,IF(FX110=$CN$9,$CV$9,$CV$10))*IF(GC110=$CD$8,$CJ$8,IF(GC110=$CD$9,$CJ$9,IF(GC110=$CD$10,$CJ$10,$CJ$11))))","v":"--"}]
[]
["75 ICD Miniroundabout",null,null,null,null,null,null,null,null,null,null,null,null,null,null,null,null,null,null,"75 ICD",null,null,null,null,null,4,null,null,null,"1 Lane",null,null,null,null,"<20mph",null,null,null,null,"1 Lane",null,null,null,null,"<20mph",null,null,null,null,"1 Lane",null,null,null,null,"<20mph",null,null,null,null,"1 Lane",null,null,null,null,"<20mph",null,null,null,null,"1 Lane",null,null,null,null,"<20mph",null,null,null,null,"1 Lane",null,null,null,null,"<20mph",null,null,null,null,"1 Lane",null,null,null,null,"<20mph",null,null,null,null,"1 Lane",null,null,null,null,"<20mph",null,null,null,null,"1 Lane",null,null,null,null,"<20mph",null,null,null,null,"1 Lane",null,null,null,null,"<20mph",null,null,null,null,"1 Lane",null,null,null,null,"<20mph",null,null,null,null,"1 Lane",null,null,null,null,"<20mph",null,null,null,null,"1 Lane",null,null,null,null,"<20mph",null,null,null,null,"1 Lane",null,null,null,null,"<20mph",null,null,null,null,"1 Lane",null,null,null,null,"<20mph",null,null,null,null,"1 Lane",null,null,null,null,"<20mph",null,null,null,null,null,null,null,null,{"$f":"IF(GV112<=$BX$11,$BR$11,IF(GV112<=$BX$10,$BR$10,IF(GV112<=$BX$9,$BR$9,$BR$8)))","v":"Excellent"},null,null,null,null,{"$f":"MIN(HA112:ND113)","v":80},null,null,null,null,{"$f":"AVERAGE(HA112:ND113)","v":80},null,null,null,null,{"$f":"IF(AD$19>$Z112,\"--\",IF(AD112=$CN$8,$CV$8,IF(AD112=$CN$9,$CV$9,$CV$10))*IF(AI112=$CD$8,$CJ$8,IF(AI112=$CD$9,$CJ$9,IF(AI112=$CD$10,$CJ$10,$CJ$11))))","v":80},null,null,null,null,null,null,null,null,null,{"$f":"IF(AN$19>$Z112,\"--\",IF(AN112=$CN$8,$CV$8,IF(AN112=$CN$9,$CV$9,$CV$10))*IF(AS112=$CD$8,$CJ$8,IF(AS112=$CD$9,$CJ$9,IF(AS112=$CD$10,$CJ$10,$CJ$11))))","v":80},null,null,null,null,null,null,null,null,null,{"$f":"IF(AX$19>$Z112,\"--\",IF(AX112=$CN$8,$CV$8,IF(AX112=$CN$9,$CV$9,$CV$10))*IF(BC112=$CD$8,$CJ$8,IF(BC112=$CD$9,$CJ$9,IF(BC112=$CD$10,$CJ$10,$CJ$11))))","v":80},null,null,null,null,null,null,null,null,null,{"$f":"IF(BH$19>$Z112,\"--\",IF(BH112=$CN$8,$CV$8,IF(BH112=$CN$9,$CV$9,$CV$10))*IF(BM112=$CD$8,$CJ$8,IF(BM112=$CD$9,$CJ$9,IF(BM112=$CD$10,$CJ$10,$CJ$11))))","v":80},null,null,null,null,null,null,null,null,null,{"$f":"IF(BR$19>$Z112,\"--\",IF(BR112=$CN$8,$CV$8,IF(BR112=$CN$9,$CV$9,$CV$10))*IF(BW112=$CD$8,$CJ$8,IF(BW112=$CD$9,$CJ$9,IF(BW112=$CD$10,$CJ$10,$CJ$11))))","v":"--"},null,null,null,null,null,null,null,null,null,{"$f":"IF(CB$19>$Z112,\"--\",IF(CB112=$CN$8,$CV$8,IF(CB112=$CN$9,$CV$9,$CV$10))*IF(CG112=$CD$8,$CJ$8,IF(CG112=$CD$9,$CJ$9,IF(CG112=$CD$10,$CJ$10,$CJ$11))))","v":"--"},null,null,null,null,null,null,null,null,null,{"$f":"IF(CL$19>$Z112,\"--\",IF(CL112=$CN$8,$CV$8,IF(CL112=$CN$9,$CV$9,$CV$10))*IF(CQ112=$CD$8,$CJ$8,IF(CQ112=$CD$9,$CJ$9,IF(CQ112=$CD$10,$CJ$10,$CJ$11))))","v":"--"},null,null,null,null,null,null,null,null,null,{"$f":"IF(CV$19>$Z112,\"--\",IF(CV112=$CN$8,$CV$8,IF(CV112=$CN$9,$CV$9,$CV$10))*IF(DA112=$CD$8,$CJ$8,IF(DA112=$CD$9,$CJ$9,IF(DA112=$CD$10,$CJ$10,$CJ$11))))","v":"--"},null,null,null,null,null,null,null,null,null,{"$f":"IF(DF$19>$Z112,\"--\",IF(DF112=$CN$8,$CV$8,IF(DF112=$CN$9,$CV$9,$CV$10))*IF(DK112=$CD$8,$CJ$8,IF(DK112=$CD$9,$CJ$9,IF(DK112=$CD$10,$CJ$10,$CJ$11))))","v":"--"},null,null,null,null,null,null,null,null,null,{"$f":"IF(DP$19>$Z112,\"--\",IF(DP112=$CN$8,$CV$8,IF(DP112=$CN$9,$CV$9,$CV$10))*IF(DU112=$CD$8,$CJ$8,IF(DU112=$CD$9,$CJ$9,IF(DU112=$CD$10,$CJ$10,$CJ$11))))","v":"--"},null,null,null,null,null,null,null,null,null,{"$f":"IF(DZ$19>$Z112,\"--\",IF(DZ112=$CN$8,$CV$8,IF(DZ112=$CN$9,$CV$9,$CV$10))*IF(EE112=$CD$8,$CJ$8,IF(EE112=$CD$9,$CJ$9,IF(EE112=$CD$10,$CJ$10,$CJ$11))))","v":"--"},null,null,null,null,null,null,null,null,null,{"$f":"IF(EJ$19>$Z112,\"--\",IF(EJ112=$CN$8,$CV$8,IF(EJ112=$CN$9,$CV$9,$CV$10))*IF(EO112=$CD$8,$CJ$8,IF(EO112=$CD$9,$CJ$9,IF(EO112=$CD$10,$CJ$10,$CJ$11))))","v":"--"},null,null,null,null,null,null,null,null,null,{"$f":"IF(ET$19>$Z112,\"--\",IF(ET112=$CN$8,$CV$8,IF(ET112=$CN$9,$CV$9,$CV$10))*IF(EY112=$CD$8,$CJ$8,IF(EY112=$CD$9,$CJ$9,IF(EY112=$CD$10,$CJ$10,$CJ$11))))","v":"--"},null,null,null,null,null,null,null,null,null,{"$f":"IF(FD$19>$Z112,\"--\",IF(FD112=$CN$8,$CV$8,IF(FD112=$CN$9,$CV$9,$CV$10))*IF(FI112=$CD$8,$CJ$8,IF(FI112=$CD$9,$CJ$9,IF(FI112=$CD$10,$CJ$10,$CJ$11))))","v":"--"},null,null,null,null,null,null,null,null,null,{"$f":"IF(FN$19>$Z112,\"--\",IF(FN112=$CN$8,$CV$8,IF(FN112=$CN$9,$CV$9,$CV$10))*IF(FS112=$CD$8,$CJ$8,IF(FS112=$CD$9,$CJ$9,IF(FS112=$CD$10,$CJ$10,$CJ$11))))","v":"--"},null,null,null,null,null,null,null,null,null,{"$f":"IF(FX$19>$Z112,\"--\",IF(FX112=$CN$8,$CV$8,IF(FX112=$CN$9,$CV$9,$CV$10))*IF(GC112=$CD$8,$CJ$8,IF(GC112=$CD$9,$CJ$9,IF(GC112=$CD$10,$CJ$10,$CJ$11))))","v":"--"}]
[]
["Single Lane Roundabout",null,null,null,null,null,null,null,null,null,null,null,null,null,null,null,null,null,null,"1 X 1",null,null,null,null,null,4,null,null,null,"1 Lane",null,null,null,null,"<20mph",null,null,null,null,"1 Lane",null,null,null,null,"<20mph",null,null,null,null,"1 Lane",null,null,null,null,"<20mph",null,null,null,null,"1 Lane",null,null,null,null,"<20mph",null,null,null,null,"1 Lane",null,null,null,null,"<20mph",null,null,null,null,"1 Lane",null,null,null,null,"<20mph",null,null,null,null,"1 Lane",null,null,null,null,"<20mph",null,null,null,null,"1 Lane",null,null,null,null,"<20mph",null,null,null,null,"1 Lane",null,null,null,null,"<20mph",null,null,null,null,"1 Lane",null,null,null,null,"<20mph",null,null,null,null,"1 Lane",null,null,null,null,"<20mph",null,null,null,null,"1 Lane",null,null,null,null,"<20mph",null,null,null,null,"1 Lane",null,null,null,null,"<20mph",null,null,null,null,"1 Lane",null,null,null,null,"<20mph",null,null,null,null,"1 Lane",null,null,null,null,"<20mph",null,null,null,null,"1 Lane",null,null,null,null,"<20mph",null,null,null,null,null,null,null,null,{"$f":"IF(GV114<=$BX$11,$BR$11,IF(GV114<=$BX$10,$BR$10,IF(GV114<=$BX$9,$BR$9,$BR$8)))","v":"Excellent"},null,null,null,null,{"$f":"MIN(HA114:ND115)","v":80},null,null,null,null,{"$f":"AVERAGE(HA114:ND115)","v":80},null,null,null,null,{"$f":"IF(AD$19>$Z114,\"--\",IF(AD114=$CN$8,$CV$8,IF(AD114=$CN$9,$CV$9,$CV$10))*IF(AI114=$CD$8,$CJ$8,IF(AI114=$CD$9,$CJ$9,IF(AI114=$CD$10,$CJ$10,$CJ$11))))","v":80},null,null,null,null,null,null,null,null,null,{"$f":"IF(AN$19>$Z114,\"--\",IF(AN114=$CN$8,$CV$8,IF(AN114=$CN$9,$CV$9,$CV$10))*IF(AS114=$CD$8,$CJ$8,IF(AS114=$CD$9,$CJ$9,IF(AS114=$CD$10,$CJ$10,$CJ$11))))","v":80},null,null,null,null,null,null,null,null,null,{"$f":"IF(AX$19>$Z114,\"--\",IF(AX114=$CN$8,$CV$8,IF(AX114=$CN$9,$CV$9,$CV$10))*IF(BC114=$CD$8,$CJ$8,IF(BC114=$CD$9,$CJ$9,IF(BC114=$CD$10,$CJ$10,$CJ$11))))","v":80},null,null,null,null,null,null,null,null,null,{"$f":"IF(BH$19>$Z114,\"--\",IF(BH114=$CN$8,$CV$8,IF(BH114=$CN$9,$CV$9,$CV$10))*IF(BM114=$CD$8,$CJ$8,IF(BM114=$CD$9,$CJ$9,IF(BM114=$CD$10,$CJ$10,$CJ$11))))","v":80},null,null,null,null,null,null,null,null,null,{"$f":"IF(BR$19>$Z114,\"--\",IF(BR114=$CN$8,$CV$8,IF(BR114=$CN$9,$CV$9,$CV$10))*IF(BW114=$CD$8,$CJ$8,IF(BW114=$CD$9,$CJ$9,IF(BW114=$CD$10,$CJ$10,$CJ$11))))","v":"--"},null,null,null,null,null,null,null,null,null,{"$f":"IF(CB$19>$Z114,\"--\",IF(CB114=$CN$8,$CV$8,IF(CB114=$CN$9,$CV$9,$CV$10))*IF(CG114=$CD$8,$CJ$8,IF(CG114=$CD$9,$CJ$9,IF(CG114=$CD$10,$CJ$10,$CJ$11))))","v":"--"},null,null,null,null,null,null,null,null,null,{"$f":"IF(CL$19>$Z114,\"--\",IF(CL114=$CN$8,$CV$8,IF(CL114=$CN$9,$CV$9,$CV$10))*IF(CQ114=$CD$8,$CJ$8,IF(CQ114=$CD$9,$CJ$9,IF(CQ114=$CD$10,$CJ$10,$CJ$11))))","v":"--"},null,null,null,null,null,null,null,null,null,{"$f":"IF(CV$19>$Z114,\"--\",IF(CV114=$CN$8,$CV$8,IF(CV114=$CN$9,$CV$9,$CV$10))*IF(DA114=$CD$8,$CJ$8,IF(DA114=$CD$9,$CJ$9,IF(DA114=$CD$10,$CJ$10,$CJ$11))))","v":"--"},null,null,null,null,null,null,null,null,null,{"$f":"IF(DF$19>$Z114,\"--\",IF(DF114=$CN$8,$CV$8,IF(DF114=$CN$9,$CV$9,$CV$10))*IF(DK114=$CD$8,$CJ$8,IF(DK114=$CD$9,$CJ$9,IF(DK114=$CD$10,$CJ$10,$CJ$11))))","v":"--"},null,null,null,null,null,null,null,null,null,{"$f":"IF(DP$19>$Z114,\"--\",IF(DP114=$CN$8,$CV$8,IF(DP114=$CN$9,$CV$9,$CV$10))*IF(DU114=$CD$8,$CJ$8,IF(DU114=$CD$9,$CJ$9,IF(DU114=$CD$10,$CJ$10,$CJ$11))))","v":"--"},null,null,null,null,null,null,null,null,null,{"$f":"IF(DZ$19>$Z114,\"--\",IF(DZ114=$CN$8,$CV$8,IF(DZ114=$CN$9,$CV$9,$CV$10))*IF(EE114=$CD$8,$CJ$8,IF(EE114=$CD$9,$CJ$9,IF(EE114=$CD$10,$CJ$10,$CJ$11))))","v":"--"},null,null,null,null,null,null,null,null,null,{"$f":"IF(EJ$19>$Z114,\"--\",IF(EJ114=$CN$8,$CV$8,IF(EJ114=$CN$9,$CV$9,$CV$10))*IF(EO114=$CD$8,$CJ$8,IF(EO114=$CD$9,$CJ$9,IF(EO114=$CD$10,$CJ$10,$CJ$11))))","v":"--"},null,null,null,null,null,null,null,null,null,{"$f":"IF(ET$19>$Z114,\"--\",IF(ET114=$CN$8,$CV$8,IF(ET114=$CN$9,$CV$9,$CV$10))*IF(EY114=$CD$8,$CJ$8,IF(EY114=$CD$9,$CJ$9,IF(EY114=$CD$10,$CJ$10,$CJ$11))))","v":"--"},null,null,null,null,null,null,null,null,null,{"$f":"IF(FD$19>$Z114,\"--\",IF(FD114=$CN$8,$CV$8,IF(FD114=$CN$9,$CV$9,$CV$10))*IF(FI114=$CD$8,$CJ$8,IF(FI114=$CD$9,$CJ$9,IF(FI114=$CD$10,$CJ$10,$CJ$11))))","v":"--"},null,null,null,null,null,null,null,null,null,{"$f":"IF(FN$19>$Z114,\"--\",IF(FN114=$CN$8,$CV$8,IF(FN114=$CN$9,$CV$9,$CV$10))*IF(FS114=$CD$8,$CJ$8,IF(FS114=$CD$9,$CJ$9,IF(FS114=$CD$10,$CJ$10,$CJ$11))))","v":"--"},null,null,null,null,null,null,null,null,null,{"$f":"IF(FX$19>$Z114,\"--\",IF(FX114=$CN$8,$CV$8,IF(FX114=$CN$9,$CV$9,$CV$10))*IF(GC114=$CD$8,$CJ$8,IF(GC114=$CD$9,$CJ$9,IF(GC114=$CD$10,$CJ$10,$CJ$11))))","v":"--"}]
[]
["Mixed Lane roundabout (1NSx2EW)",null,null,null,null,null,null,null,null,null,null,null,null,null,null,null,null,null,null,"1 X 2",null,null,null,null,null,4,null,null,null,"1 Lane",null,null,null,null,"<20mph",null,null,null,null,"1 Lane",null,null,null,null,"<20mph",null,null,null,null,"2 Lanes",null,null,null,null,"<20mph",null,null,null,null,"2 Lanes",null,null,null,null,"<20mph",null,null,null,null,"1 Lane",null,null,null,null,"<20mph",null,null,null,null,"1 Lane",null,null,null,null,"<20mph",null,null,null,null,"1 Lane",null,null,null,null,"<20mph",null,null,null,null,"1 Lane",null,null,null,null,"<20mph",null,null,null,null,"1 Lane",null,null,null,null,"<20mph",null,null,null,null,"1 Lane",null,null,null,null,"<20mph",null,null,null,null,"1 Lane",null,null,null,null,"<20mph",null,null,null,null,"1 Lane",null,null,null,null,"<20mph",null,null,null,null,"1 Lane",null,null,null,null,"<20mph",null,null,null,null,"1 Lane",null,null,null,null,"<20mph",null,null,null,null,"1 Lane",null,null,null,null,"<20mph",null,null,null,null,"1 Lane",null,null,null,null,"<20mph",null,null,null,null,null,null,null,null,{"$f":"IF(GV116<=$BX$11,$BR$11,IF(GV116<=$BX$10,$BR$10,IF(GV116<=$BX$9,$BR$9,$BR$8)))","v":"Good"},null,null,null,null,{"$f":"MIN(HA116:ND117)","v":64},null,null,null,null,{"$f":"AVERAGE(HA116:ND117)","v":72},null,null,null,null,{"$f":"IF(AD$19>$Z116,\"--\",IF(AD116=$CN$8,$CV$8,IF(AD116=$CN$9,$CV$9,$CV$10))*IF(AI116=$CD$8,$CJ$8,IF(AI116=$CD$9,$CJ$9,IF(AI116=$CD$10,$CJ$10,$CJ$11))))","v":80},null,null,null,null,null,null,null,null,null,{"$f":"IF(AN$19>$Z116,\"--\",IF(AN116=$CN$8,$CV$8,IF(AN116=$CN$9,$CV$9,$CV$10))*IF(AS116=$CD$8,$CJ$8,IF(AS116=$CD$9,$CJ$9,IF(AS116=$CD$10,$CJ$10,$CJ$11))))","v":80},null,null,null,null,null,null,null,null,null,{"$f":"IF(AX$19>$Z116,\"--\",IF(AX116=$CN$8,$CV$8,IF(AX116=$CN$9,$CV$9,$CV$10))*IF(BC116=$CD$8,$CJ$8,IF(BC116=$CD$9,$CJ$9,IF(BC116=$CD$10,$CJ$10,$CJ$11))))","v":64},null,null,null,null,null,null,null,null,null,{"$f":"IF(BH$19>$Z116,\"--\",IF(BH116=$CN$8,$CV$8,IF(BH116=$CN$9,$CV$9,$CV$10))*IF(BM116=$CD$8,$CJ$8,IF(BM116=$CD$9,$CJ$9,IF(BM116=$CD$10,$CJ$10,$CJ$11))))","v":64},null,null,null,null,null,null,null,null,null,{"$f":"IF(BR$19>$Z116,\"--\",IF(BR116=$CN$8,$CV$8,IF(BR116=$CN$9,$CV$9,$CV$10))*IF(BW116=$CD$8,$CJ$8,IF(BW116=$CD$9,$CJ$9,IF(BW116=$CD$10,$CJ$10,$CJ$11))))","v":"--"},null,null,null,null,null,null,null,null,null,{"$f":"IF(CB$19>$Z116,\"--\",IF(CB116=$CN$8,$CV$8,IF(CB116=$CN$9,$CV$9,$CV$10))*IF(CG116=$CD$8,$CJ$8,IF(CG116=$CD$9,$CJ$9,IF(CG116=$CD$10,$CJ$10,$CJ$11))))","v":"--"},null,null,null,null,null,null,null,null,null,{"$f":"IF(CL$19>$Z116,\"--\",IF(CL116=$CN$8,$CV$8,IF(CL116=$CN$9,$CV$9,$CV$10))*IF(CQ116=$CD$8,$CJ$8,IF(CQ116=$CD$9,$CJ$9,IF(CQ116=$CD$10,$CJ$10,$CJ$11))))","v":"--"},null,null,null,null,null,null,null,null,null,{"$f":"IF(CV$19>$Z116,\"--\",IF(CV116=$CN$8,$CV$8,IF(CV116=$CN$9,$CV$9,$CV$10))*IF(DA116=$CD$8,$CJ$8,IF(DA116=$CD$9,$CJ$9,IF(DA116=$CD$10,$CJ$10,$CJ$11))))","v":"--"},null,null,null,null,null,null,null,null,null,{"$f":"IF(DF$19>$Z116,\"--\",IF(DF116=$CN$8,$CV$8,IF(DF116=$CN$9,$CV$9,$CV$10))*IF(DK116=$CD$8,$CJ$8,IF(DK116=$CD$9,$CJ$9,IF(DK116=$CD$10,$CJ$10,$CJ$11))))","v":"--"},null,null,null,null,null,null,null,null,null,{"$f":"IF(DP$19>$Z116,\"--\",IF(DP116=$CN$8,$CV$8,IF(DP116=$CN$9,$CV$9,$CV$10))*IF(DU116=$CD$8,$CJ$8,IF(DU116=$CD$9,$CJ$9,IF(DU116=$CD$10,$CJ$10,$CJ$11))))","v":"--"},null,null,null,null,null,null,null,null,null,{"$f":"IF(DZ$19>$Z116,\"--\",IF(DZ116=$CN$8,$CV$8,IF(DZ116=$CN$9,$CV$9,$CV$10))*IF(EE116=$CD$8,$CJ$8,IF(EE116=$CD$9,$CJ$9,IF(EE116=$CD$10,$CJ$10,$CJ$11))))","v":"--"},null,null,null,null,null,null,null,null,null,{"$f":"IF(EJ$19>$Z116,\"--\",IF(EJ116=$CN$8,$CV$8,IF(EJ116=$CN$9,$CV$9,$CV$10))*IF(EO116=$CD$8,$CJ$8,IF(EO116=$CD$9,$CJ$9,IF(EO116=$CD$10,$CJ$10,$CJ$11))))","v":"--"},null,null,null,null,null,null,null,null,null,{"$f":"IF(ET$19>$Z116,\"--\",IF(ET116=$CN$8,$CV$8,IF(ET116=$CN$9,$CV$9,$CV$10))*IF(EY116=$CD$8,$CJ$8,IF(EY116=$CD$9,$CJ$9,IF(EY116=$CD$10,$CJ$10,$CJ$11))))","v":"--"},null,null,null,null,null,null,null,null,null,{"$f":"IF(FD$19>$Z116,\"--\",IF(FD116=$CN$8,$CV$8,IF(FD116=$CN$9,$CV$9,$CV$10))*IF(FI116=$CD$8,$CJ$8,IF(FI116=$CD$9,$CJ$9,IF(FI116=$CD$10,$CJ$10,$CJ$11))))","v":"--"},null,null,null,null,null,null,null,null,null,{"$f":"IF(FN$19>$Z116,\"--\",IF(FN116=$CN$8,$CV$8,IF(FN116=$CN$9,$CV$9,$CV$10))*IF(FS116=$CD$8,$CJ$8,IF(FS116=$CD$9,$CJ$9,IF(FS116=$CD$10,$CJ$10,$CJ$11))))","v":"--"},null,null,null,null,null,null,null,null,null,{"$f":"IF(FX$19>$Z116,\"--\",IF(FX116=$CN$8,$CV$8,IF(FX116=$CN$9,$CV$9,$CV$10))*IF(GC116=$CD$8,$CJ$8,IF(GC116=$CD$9,$CJ$9,IF(GC116=$CD$10,$CJ$10,$CJ$11))))","v":"--"}]
[]
["Mixed Lane Roundabout (2NSx1EW)",null,null,null,null,null,null,null,null,null,null,null,null,null,null,null,null,null,null,"2 X 1",null,null,null,null,null,4,null,null,null,"2 Lanes",null,null,null,null,"<20mph",null,null,null,null,"2 Lanes",null,null,null,null,"<20mph",null,null,null,null,"1 Lane",null,null,null,null,"<20mph",null,null,null,null,"1 Lane",null,null,null,null,"<20mph",null,null,null,null,"1 Lane",null,null,null,null,"<20mph",null,null,null,null,"1 Lane",null,null,null,null,"<20mph",null,null,null,null,"1 Lane",null,null,null,null,"<20mph",null,null,null,null,"1 Lane",null,null,null,null,"<20mph",null,null,null,null,"1 Lane",null,null,null,null,"<20mph",null,null,null,null,"1 Lane",null,null,null,null,"<20mph",null,null,null,null,"1 Lane",null,null,null,null,"<20mph",null,null,null,null,"1 Lane",null,null,null,null,"<20mph",null,null,null,null,"1 Lane",null,null,null,null,"<20mph",null,null,null,null,"1 Lane",null,null,null,null,"<20mph",null,null,null,null,"1 Lane",null,null,null,null,"<20mph",null,null,null,null,"1 Lane",null,null,null,null,"<20mph",null,null,null,null,null,null,null,null,{"$f":"IF(GV118<=$BX$11,$BR$11,IF(GV118<=$BX$10,$BR$10,IF(GV118<=$BX$9,$BR$9,$BR$8)))","v":"Good"},null,null,null,null,{"$f":"MIN(HA118:ND119)","v":64},null,null,null,null,{"$f":"AVERAGE(HA118:ND119)","v":72},null,null,null,null,{"$f":"IF(AD$19>$Z118,\"--\",IF(AD118=$CN$8,$CV$8,IF(AD118=$CN$9,$CV$9,$CV$10))*IF(AI118=$CD$8,$CJ$8,IF(AI118=$CD$9,$CJ$9,IF(AI118=$CD$10,$CJ$10,$CJ$11))))","v":64},null,null,null,null,null,null,null,null,null,{"$f":"IF(AN$19>$Z118,\"--\",IF(AN118=$CN$8,$CV$8,IF(AN118=$CN$9,$CV$9,$CV$10))*IF(AS118=$CD$8,$CJ$8,IF(AS118=$CD$9,$CJ$9,IF(AS118=$CD$10,$CJ$10,$CJ$11))))","v":64},null,null,null,null,null,null,null,null,null,{"$f":"IF(AX$19>$Z118,\"--\",IF(AX118=$CN$8,$CV$8,IF(AX118=$CN$9,$CV$9,$CV$10))*IF(BC118=$CD$8,$CJ$8,IF(BC118=$CD$9,$CJ$9,IF(BC118=$CD$10,$CJ$10,$CJ$11))))","v":80},null,null,null,null,null,null,null,null,null,{"$f":"IF(BH$19>$Z118,\"--\",IF(BH118=$CN$8,$CV$8,IF(BH118=$CN$9,$CV$9,$CV$10))*IF(BM118=$CD$8,$CJ$8,IF(BM118=$CD$9,$CJ$9,IF(BM118=$CD$10,$CJ$10,$CJ$11))))","v":80},null,null,null,null,null,null,null,null,null,{"$f":"IF(BR$19>$Z118,\"--\",IF(BR118=$CN$8,$CV$8,IF(BR118=$CN$9,$CV$9,$CV$10))*IF(BW118=$CD$8,$CJ$8,IF(BW118=$CD$9,$CJ$9,IF(BW118=$CD$10,$CJ$10,$CJ$11))))","v":"--"},null,null,null,null,null,null,null,null,null,{"$f":"IF(CB$19>$Z118,\"--\",IF(CB118=$CN$8,$CV$8,IF(CB118=$CN$9,$CV$9,$CV$10))*IF(CG118=$CD$8,$CJ$8,IF(CG118=$CD$9,$CJ$9,IF(CG118=$CD$10,$CJ$10,$CJ$11))))","v":"--"},null,null,null,null,null,null,null,null,null,{"$f":"IF(CL$19>$Z118,\"--\",IF(CL118=$CN$8,$CV$8,IF(CL118=$CN$9,$CV$9,$CV$10))*IF(CQ118=$CD$8,$CJ$8,IF(CQ118=$CD$9,$CJ$9,IF(CQ118=$CD$10,$CJ$10,$CJ$11))))","v":"--"},null,null,null,null,null,null,null,null,null,{"$f":"IF(CV$19>$Z118,\"--\",IF(CV118=$CN$8,$CV$8,IF(CV118=$CN$9,$CV$9,$CV$10))*IF(DA118=$CD$8,$CJ$8,IF(DA118=$CD$9,$CJ$9,IF(DA118=$CD$10,$CJ$10,$CJ$11))))","v":"--"},null,null,null,null,null,null,null,null,null,{"$f":"IF(DF$19>$Z118,\"--\",IF(DF118=$CN$8,$CV$8,IF(DF118=$CN$9,$CV$9,$CV$10))*IF(DK118=$CD$8,$CJ$8,IF(DK118=$CD$9,$CJ$9,IF(DK118=$CD$10,$CJ$10,$CJ$11))))","v":"--"},null,null,null,null,null,null,null,null,null,{"$f":"IF(DP$19>$Z118,\"--\",IF(DP118=$CN$8,$CV$8,IF(DP118=$CN$9,$CV$9,$CV$10))*IF(DU118=$CD$8,$CJ$8,IF(DU118=$CD$9,$CJ$9,IF(DU118=$CD$10,$CJ$10,$CJ$11))))","v":"--"},null,null,null,null,null,null,null,null,null,{"$f":"IF(DZ$19>$Z118,\"--\",IF(DZ118=$CN$8,$CV$8,IF(DZ118=$CN$9,$CV$9,$CV$10))*IF(EE118=$CD$8,$CJ$8,IF(EE118=$CD$9,$CJ$9,IF(EE118=$CD$10,$CJ$10,$CJ$11))))","v":"--"},null,null,null,null,null,null,null,null,null,{"$f":"IF(EJ$19>$Z118,\"--\",IF(EJ118=$CN$8,$CV$8,IF(EJ118=$CN$9,$CV$9,$CV$10))*IF(EO118=$CD$8,$CJ$8,IF(EO118=$CD$9,$CJ$9,IF(EO118=$CD$10,$CJ$10,$CJ$11))))","v":"--"},null,null,null,null,null,null,null,null,null,{"$f":"IF(ET$19>$Z118,\"--\",IF(ET118=$CN$8,$CV$8,IF(ET118=$CN$9,$CV$9,$CV$10))*IF(EY118=$CD$8,$CJ$8,IF(EY118=$CD$9,$CJ$9,IF(EY118=$CD$10,$CJ$10,$CJ$11))))","v":"--"},null,null,null,null,null,null,null,null,null,{"$f":"IF(FD$19>$Z118,\"--\",IF(FD118=$CN$8,$CV$8,IF(FD118=$CN$9,$CV$9,$CV$10))*IF(FI118=$CD$8,$CJ$8,IF(FI118=$CD$9,$CJ$9,IF(FI118=$CD$10,$CJ$10,$CJ$11))))","v":"--"},null,null,null,null,null,null,null,null,null,{"$f":"IF(FN$19>$Z118,\"--\",IF(FN118=$CN$8,$CV$8,IF(FN118=$CN$9,$CV$9,$CV$10))*IF(FS118=$CD$8,$CJ$8,IF(FS118=$CD$9,$CJ$9,IF(FS118=$CD$10,$CJ$10,$CJ$11))))","v":"--"},null,null,null,null,null,null,null,null,null,{"$f":"IF(FX$19>$Z118,\"--\",IF(FX118=$CN$8,$CV$8,IF(FX118=$CN$9,$CV$9,$CV$10))*IF(GC118=$CD$8,$CJ$8,IF(GC118=$CD$9,$CJ$9,IF(GC118=$CD$10,$CJ$10,$CJ$11))))","v":"--"}]
[]
["Two Lane Roundabout",null,null,null,null,null,null,null,null,null,null,null,null,null,null,null,null,null,null,"2 X 2",null,null,null,null,null,4,null,null,null,"2 Lanes",null,null,null,null,"<20mph",null,null,null,null,"2 Lanes",null,null,null,null,"<20mph",null,null,null,null,"2 Lanes",null,null,null,null,"<20mph",null,null,null,null,"2 Lanes",null,null,null,null,"<20mph",null,null,null,null,"1 Lane",null,null,null,null,"<20mph",null,null,null,null,"1 Lane",null,null,null,null,"<20mph",null,null,null,null,"1 Lane",null,null,null,null,"<20mph",null,null,null,null,"1 Lane",null,null,null,null,"<20mph",null,null,null,null,"1 Lane",null,null,null,null,"<20mph",null,null,null,null,"1 Lane",null,null,null,null,"<20mph",null,null,null,null,"1 Lane",null,null,null,null,"<20mph",null,null,null,null,"1 Lane",null,null,null,null,"<20mph",null,null,null,null,"1 Lane",null,null,null,null,"<20mph",null,null,null,null,"1 Lane",null,null,null,null,"<20mph",null,null,null,null,"1 Lane",null,null,null,null,"<20mph",null,null,null,null,"1 Lane",null,null,null,null,"<20mph",null,null,null,null,null,null,null,null,{"$f":"IF(GV120<=$BX$11,$BR$11,IF(GV120<=$BX$10,$BR$10,IF(GV120<=$BX$9,$BR$9,$BR$8)))","v":"Good"},null,null,null,null,{"$f":"MIN(HA120:ND121)","v":64},null,null,null,null,{"$f":"AVERAGE(HA120:ND121)","v":64},null,null,null,null,{"$f":"IF(AD$19>$Z120,\"--\",IF(AD120=$CN$8,$CV$8,IF(AD120=$CN$9,$CV$9,$CV$10))*IF(AI120=$CD$8,$CJ$8,IF(AI120=$CD$9,$CJ$9,IF(AI120=$CD$10,$CJ$10,$CJ$11))))","v":64},null,null,null,null,null,null,null,null,null,{"$f":"IF(AN$19>$Z120,\"--\",IF(AN120=$CN$8,$CV$8,IF(AN120=$CN$9,$CV$9,$CV$10))*IF(AS120=$CD$8,$CJ$8,IF(AS120=$CD$9,$CJ$9,IF(AS120=$CD$10,$CJ$10,$CJ$11))))","v":64},null,null,null,null,null,null,null,null,null,{"$f":"IF(AX$19>$Z120,\"--\",IF(AX120=$CN$8,$CV$8,IF(AX120=$CN$9,$CV$9,$CV$10))*IF(BC120=$CD$8,$CJ$8,IF(BC120=$CD$9,$CJ$9,IF(BC120=$CD$10,$CJ$10,$CJ$11))))","v":64},null,null,null,null,null,null,null,null,null,{"$f":"IF(BH$19>$Z120,\"--\",IF(BH120=$CN$8,$CV$8,IF(BH120=$CN$9,$CV$9,$CV$10))*IF(BM120=$CD$8,$CJ$8,IF(BM120=$CD$9,$CJ$9,IF(BM120=$CD$10,$CJ$10,$CJ$11))))","v":64},null,null,null,null,null,null,null,null,null,{"$f":"IF(BR$19>$Z120,\"--\",IF(BR120=$CN$8,$CV$8,IF(BR120=$CN$9,$CV$9,$CV$10))*IF(BW120=$CD$8,$CJ$8,IF(BW120=$CD$9,$CJ$9,IF(BW120=$CD$10,$CJ$10,$CJ$11))))","v":"--"},null,null,null,null,null,null,null,null,null,{"$f":"IF(CB$19>$Z120,\"--\",IF(CB120=$CN$8,$CV$8,IF(CB120=$CN$9,$CV$9,$CV$10))*IF(CG120=$CD$8,$CJ$8,IF(CG120=$CD$9,$CJ$9,IF(CG120=$CD$10,$CJ$10,$CJ$11))))","v":"--"},null,null,null,null,null,null,null,null,null,{"$f":"IF(CL$19>$Z120,\"--\",IF(CL120=$CN$8,$CV$8,IF(CL120=$CN$9,$CV$9,$CV$10))*IF(CQ120=$CD$8,$CJ$8,IF(CQ120=$CD$9,$CJ$9,IF(CQ120=$CD$10,$CJ$10,$CJ$11))))","v":"--"},null,null,null,null,null,null,null,null,null,{"$f":"IF(CV$19>$Z120,\"--\",IF(CV120=$CN$8,$CV$8,IF(CV120=$CN$9,$CV$9,$CV$10))*IF(DA120=$CD$8,$CJ$8,IF(DA120=$CD$9,$CJ$9,IF(DA120=$CD$10,$CJ$10,$CJ$11))))","v":"--"},null,null,null,null,null,null,null,null,null,{"$f":"IF(DF$19>$Z120,\"--\",IF(DF120=$CN$8,$CV$8,IF(DF120=$CN$9,$CV$9,$CV$10))*IF(DK120=$CD$8,$CJ$8,IF(DK120=$CD$9,$CJ$9,IF(DK120=$CD$10,$CJ$10,$CJ$11))))","v":"--"},null,null,null,null,null,null,null,null,null,{"$f":"IF(DP$19>$Z120,\"--\",IF(DP120=$CN$8,$CV$8,IF(DP120=$CN$9,$CV$9,$CV$10))*IF(DU120=$CD$8,$CJ$8,IF(DU120=$CD$9,$CJ$9,IF(DU120=$CD$10,$CJ$10,$CJ$11))))","v":"--"},null,null,null,null,null,null,null,null,null,{"$f":"IF(DZ$19>$Z120,\"--\",IF(DZ120=$CN$8,$CV$8,IF(DZ120=$CN$9,$CV$9,$CV$10))*IF(EE120=$CD$8,$CJ$8,IF(EE120=$CD$9,$CJ$9,IF(EE120=$CD$10,$CJ$10,$CJ$11))))","v":"--"},null,null,null,null,null,null,null,null,null,{"$f":"IF(EJ$19>$Z120,\"--\",IF(EJ120=$CN$8,$CV$8,IF(EJ120=$CN$9,$CV$9,$CV$10))*IF(EO120=$CD$8,$CJ$8,IF(EO120=$CD$9,$CJ$9,IF(EO120=$CD$10,$CJ$10,$CJ$11))))","v":"--"},null,null,null,null,null,null,null,null,null,{"$f":"IF(ET$19>$Z120,\"--\",IF(ET120=$CN$8,$CV$8,IF(ET120=$CN$9,$CV$9,$CV$10))*IF(EY120=$CD$8,$CJ$8,IF(EY120=$CD$9,$CJ$9,IF(EY120=$CD$10,$CJ$10,$CJ$11))))","v":"--"},null,null,null,null,null,null,null,null,null,{"$f":"IF(FD$19>$Z120,\"--\",IF(FD120=$CN$8,$CV$8,IF(FD120=$CN$9,$CV$9,$CV$10))*IF(FI120=$CD$8,$CJ$8,IF(FI120=$CD$9,$CJ$9,IF(FI120=$CD$10,$CJ$10,$CJ$11))))","v":"--"},null,null,null,null,null,null,null,null,null,{"$f":"IF(FN$19>$Z120,\"--\",IF(FN120=$CN$8,$CV$8,IF(FN120=$CN$9,$CV$9,$CV$10))*IF(FS120=$CD$8,$CJ$8,IF(FS120=$CD$9,$CJ$9,IF(FS120=$CD$10,$CJ$10,$CJ$11))))","v":"--"},null,null,null,null,null,null,null,null,null,{"$f":"IF(FX$19>$Z120,\"--\",IF(FX120=$CN$8,$CV$8,IF(FX120=$CN$9,$CV$9,$CV$10))*IF(GC120=$CD$8,$CJ$8,IF(GC120=$CD$9,$CJ$9,IF(GC120=$CD$10,$CJ$10,$CJ$11))))","v":"--"}]
[]
["Three Lane Roundabout",null,null,null,null,null,null,null,null,null,null,null,null,null,null,null,null,null,null,"3 X 3",null,null,null,null,null,4,null,null,null,"3+ Lanes",null,null,null,null,"<20mph",null,null,null,null,"3+ Lanes",null,null,null,null,"<20mph",null,null,null,null,"3+ Lanes",null,null,null,null,"<20mph",null,null,null,null,"3+ Lanes",null,null,null,null,"<20mph",null,null,null,null,"1 Lane",null,null,null,null,"<20mph",null,null,null,null,"1 Lane",null,null,null,null,"<20mph",null,null,null,null,"1 Lane",null,null,null,null,"<20mph",null,null,null,null,"1 Lane",null,null,null,null,"<20mph",null,null,null,null,"1 Lane",null,null,null,null,"<20mph",null,null,null,null,"1 Lane",null,null,null,null,"<20mph",null,null,null,null,"1 Lane",null,null,null,null,"<20mph",null,null,null,null,"1 Lane",null,null,null,null,"<20mph",null,null,null,null,"1 Lane",null,null,null,null,"<20mph",null,null,null,null,"1 Lane",null,null,null,null,"<20mph",null,null,null,null,"1 Lane",null,null,null,null,"<20mph",null,null,null,null,"1 Lane",null,null,null,null,"<20mph",null,null,null,null,null,null,null,null,{"$f":"IF(GV122<=$BX$11,$BR$11,IF(GV122<=$BX$10,$BR$10,IF(GV122<=$BX$9,$BR$9,$BR$8)))","v":"Fair"},null,null,null,null,{"$f":"MIN(HA122:ND123)","v":48},null,null,null,null,{"$f":"AVERAGE(HA122:ND123)","v":48},null,null,null,null,{"$f":"IF(AD$19>$Z122,\"--\",IF(AD122=$CN$8,$CV$8,IF(AD122=$CN$9,$CV$9,$CV$10))*IF(AI122=$CD$8,$CJ$8,IF(AI122=$CD$9,$CJ$9,IF(AI122=$CD$10,$CJ$10,$CJ$11))))","v":48},null,null,null,null,null,null,null,null,null,{"$f":"IF(AN$19>$Z122,\"--\",IF(AN122=$CN$8,$CV$8,IF(AN122=$CN$9,$CV$9,$CV$10))*IF(AS122=$CD$8,$CJ$8,IF(AS122=$CD$9,$CJ$9,IF(AS122=$CD$10,$CJ$10,$CJ$11))))","v":48},null,null,null,null,null,null,null,null,null,{"$f":"IF(AX$19>$Z122,\"--\",IF(AX122=$CN$8,$CV$8,IF(AX122=$CN$9,$CV$9,$CV$10))*IF(BC122=$CD$8,$CJ$8,IF(BC122=$CD$9,$CJ$9,IF(BC122=$CD$10,$CJ$10,$CJ$11))))","v":48},null,null,null,null,null,null,null,null,null,{"$f":"IF(BH$19>$Z122,\"--\",IF(BH122=$CN$8,$CV$8,IF(BH122=$CN$9,$CV$9,$CV$10))*IF(BM122=$CD$8,$CJ$8,IF(BM122=$CD$9,$CJ$9,IF(BM122=$CD$10,$CJ$10,$CJ$11))))","v":48},null,null,null,null,null,null,null,null,null,{"$f":"IF(BR$19>$Z122,\"--\",IF(BR122=$CN$8,$CV$8,IF(BR122=$CN$9,$CV$9,$CV$10))*IF(BW122=$CD$8,$CJ$8,IF(BW122=$CD$9,$CJ$9,IF(BW122=$CD$10,$CJ$10,$CJ$11))))","v":"--"},null,null,null,null,null,null,null,null,null,{"$f":"IF(CB$19>$Z122,\"--\",IF(CB122=$CN$8,$CV$8,IF(CB122=$CN$9,$CV$9,$CV$10))*IF(CG122=$CD$8,$CJ$8,IF(CG122=$CD$9,$CJ$9,IF(CG122=$CD$10,$CJ$10,$CJ$11))))","v":"--"},null,null,null,null,null,null,null,null,null,{"$f":"IF(CL$19>$Z122,\"--\",IF(CL122=$CN$8,$CV$8,IF(CL122=$CN$9,$CV$9,$CV$10))*IF(CQ122=$CD$8,$CJ$8,IF(CQ122=$CD$9,$CJ$9,IF(CQ122=$CD$10,$CJ$10,$CJ$11))))","v":"--"},null,null,null,null,null,null,null,null,null,{"$f":"IF(CV$19>$Z122,\"--\",IF(CV122=$CN$8,$CV$8,IF(CV122=$CN$9,$CV$9,$CV$10))*IF(DA122=$CD$8,$CJ$8,IF(DA122=$CD$9,$CJ$9,IF(DA122=$CD$10,$CJ$10,$CJ$11))))","v":"--"},null,null,null,null,null,null,null,null,null,{"$f":"IF(DF$19>$Z122,\"--\",IF(DF122=$CN$8,$CV$8,IF(DF122=$CN$9,$CV$9,$CV$10))*IF(DK122=$CD$8,$CJ$8,IF(DK122=$CD$9,$CJ$9,IF(DK122=$CD$10,$CJ$10,$CJ$11))))","v":"--"},null,null,null,null,null,null,null,null,null,{"$f":"IF(DP$19>$Z122,\"--\",IF(DP122=$CN$8,$CV$8,IF(DP122=$CN$9,$CV$9,$CV$10))*IF(DU122=$CD$8,$CJ$8,IF(DU122=$CD$9,$CJ$9,IF(DU122=$CD$10,$CJ$10,$CJ$11))))","v":"--"},null,null,null,null,null,null,null,null,null,{"$f":"IF(DZ$19>$Z122,\"--\",IF(DZ122=$CN$8,$CV$8,IF(DZ122=$CN$9,$CV$9,$CV$10))*IF(EE122=$CD$8,$CJ$8,IF(EE122=$CD$9,$CJ$9,IF(EE122=$CD$10,$CJ$10,$CJ$11))))","v":"--"},null,null,null,null,null,null,null,null,null,{"$f":"IF(EJ$19>$Z122,\"--\",IF(EJ122=$CN$8,$CV$8,IF(EJ122=$CN$9,$CV$9,$CV$10))*IF(EO122=$CD$8,$CJ$8,IF(EO122=$CD$9,$CJ$9,IF(EO122=$CD$10,$CJ$10,$CJ$11))))","v":"--"},null,null,null,null,null,null,null,null,null,{"$f":"IF(ET$19>$Z122,\"--\",IF(ET122=$CN$8,$CV$8,IF(ET122=$CN$9,$CV$9,$CV$10))*IF(EY122=$CD$8,$CJ$8,IF(EY122=$CD$9,$CJ$9,IF(EY122=$CD$10,$CJ$10,$CJ$11))))","v":"--"},null,null,null,null,null,null,null,null,null,{"$f":"IF(FD$19>$Z122,\"--\",IF(FD122=$CN$8,$CV$8,IF(FD122=$CN$9,$CV$9,$CV$10))*IF(FI122=$CD$8,$CJ$8,IF(FI122=$CD$9,$CJ$9,IF(FI122=$CD$10,$CJ$10,$CJ$11))))","v":"--"},null,null,null,null,null,null,null,null,null,{"$f":"IF(FN$19>$Z122,\"--\",IF(FN122=$CN$8,$CV$8,IF(FN122=$CN$9,$CV$9,$CV$10))*IF(FS122=$CD$8,$CJ$8,IF(FS122=$CD$9,$CJ$9,IF(FS122=$CD$10,$CJ$10,$CJ$11))))","v":"--"},null,null,null,null,null,null,null,null,null,{"$f":"IF(FX$19>$Z122,\"--\",IF(FX122=$CN$8,$CV$8,IF(FX122=$CN$9,$CV$9,$CV$10))*IF(GC122=$CD$8,$CJ$8,IF(GC122=$CD$9,$CJ$9,IF(GC122=$CD$10,$CJ$10,$CJ$11))))","v":"--"}]
[]
[]
["Pedestrian Crossing Configurations for Interchanges",null,null,null,null,null,null,null,null,null,null,null,null,null,null,null,null,null,null,null,null,null,null,null,null,null,null,null,null,null,null,null,null,null,null,null,null,null,null,null,null,null,null,null,null,null,null,null,null,null,null,null,null,null,null,null,null,null,null,null,null,null,null,null,null,null,null,null,null,null,null,null,null,null,null,null,null,null,null,null,null,null,null,null,null,null,null,null,null,null,null,null,null,null,null,null,null,null,null,null,null,null,null,null,null,null,null,null,null,null,null,null,null,null,null,null,null,null,null,null,null,null,null,null,null,null,null,null,null,null,null,null,null,null,null,null,null,null,null,null,null,null,null,null,null,null,null,null,null,null,null,null,null,null,null,null,null,null,null,null,null,null,null,null,null,null,null,null,null,null,null,null,null,null,null,null,null,null,null,null,null,null,null,null,null,null,null,null,null,null,null,null,null,"Pedestrian Multimodal Scoring for Interchanges"]
[]
["TYPE OF INTERCHANGE",null,null,null,null,null,null,null,null,null,null,null,null,null,null,null,null,null,null,"Sheet",null,null,null,null,null,"# Of\n X-ings",null,null,null,"Crossing #1",null,null,null,null,null,null,null,null,null,"Crossing #2",null,null,null,null,null,null,null,null,null,"Crossing #3",null,null,null,null,null,null,null,null,null,"Crossing #4",null,null,null,null,null,null,null,null,null,"Crossing #5",null,null,null,null,null,null,null,null,null,"Crossing #6",null,null,null,null,null,null,null,null,null,"Crossing #7",null,null,null,null,null,null,null,null,null,"Crossing #8",null,null,null,null,null,null,null,null,null,"Crossing #9",null,null,null,null,null,null,null,null,null,"Crossing #10",null,null,null,null,null,null,null,null,null,"Crossing #11",null,null,null,null,null,null,null,null,null,"Crossing #12",null,null,null,null,null,null,null,null,null,"Crossing #13",null,null,null,null,null,null,null,null,null,"Crossing #14",null,null,null,null,null,null,null,null,null,"Crossing #15",null,null,null,null,null,null,null,null,null,"Crossing #16",null,null,null,null,null,null,null,null,null,null,null,null,null,"Intx Scores",null,null,null,null,null,null,null,null,null,null,null,null,null,null,"Individual Crossing Scores"]
[]
[null,null,null,null,null,null,null,null,null,null,null,null,null,null,null,null,null,null,null,null,null,null,null,null,null,null,null,null,null,"# Lanes",null,null,null,null,"Veh Speed",null,null,null,null,"# Lanes",null,null,null,null,"Veh Speed",null,null,null,null,"# Lanes",null,null,null,null,"Veh Speed",null,null,null,null,"# Lanes",null,null,null,null,"Veh Speed",null,null,null,null,"# Lanes",null,null,null,null,"Veh Speed",null,null,null,null,"# Lanes",null,null,null,null,"Veh Speed",null,null,null,null,"# Lanes",null,null,null,null,"Veh Speed",null,null,null,null,"# Lanes",null,null,null,null,"Veh Speed",null,null,null,null,"# Lanes",null,null,null,null,"Veh Speed",null,null,null,null,"# Lanes",null,null,null,null,"Veh Speed",null,null,null,null,"# Lanes",null,null,null,null,"Veh Speed",null,null,null,null,"# Lanes",null,null,null,null,"Veh Speed",null,null,null,null,"# Lanes",null,null,null,null,"Veh Speed",null,null,null,null,"# Lanes",null,null,null,null,"Veh Speed",null,null,null,null,"# Lanes",null,null,null,null,"Veh Speed",null,null,null,null,"# Lanes",null,null,null,null,"Veh Speed",null,null,null,null,null,null,null,null,"Report",null,null,null,null,"Worst",null,null,null,null,"Avg",null,null,null,null,"#1",null,null,null,null,null,null,null,null,null,"#2",null,null,null,null,null,null,null,null,null,"#3",null,null,null,null,null,null,null,null,null,"#4",null,null,null,null,null,null,null,null,null,"#5",null,null,null,null,null,null,null,null,null,"#6",null,null,null,null,null,null,null,null,null,"#7",null,null,null,null,null,null,null,null,null,"#8",null,null,null,null,null,null,null,null,null,"#9",null,null,null,null,null,null,null,null,null,"#10",null,null,null,null,null,null,null,null,null,"#11",null,null,null,null,null,null,null,null,null,"#12",null,null,null,null,null,null,null,null,null,"#13",null,null,null,null,null,null,null,null,null,"#14",null,null,null,null,null,null,null,null,null,"#15",null,null,null,null,null,null,null,null,null,"#16"]
[]
["Diamond",null,null,null,null,null,null,null,null,null,null,null,null,null,null,null,null,null,null,"N-S",null,null,null,null,null,6,null,null,null,"2 Lanes",null,null,null,null,"<20mph",null,null,null,null,"2 Lanes",null,null,null,null,"<20mph",null,null,null,null,"2 Lanes",null,null,null,null,"<20mph",null,null,null,null,"2 Lanes",null,null,null,null,"<20mph",null,null,null,null,"2 Lanes",null,null,null,null,"<20mph",null,null,null,null,"2 Lanes",null,null,null,null,"<20mph",null,null,null,null,"1 Lane",null,null,null,null,"<20mph",null,null,null,null,"1 Lane",null,null,null,null,"<20mph",null,null,null,null,"1 Lane",null,null,null,null,"<20mph",null,null,null,null,"1 Lane",null,null,null,null,"<20mph",null,null,null,null,"1 Lane",null,null,null,null,"<20mph",null,null,null,null,"1 Lane",null,null,null,null,"<20mph",null,null,null,null,"1 Lane",null,null,null,null,"<20mph",null,null,null,null,"1 Lane",null,null,null,null,"<20mph",null,null,null,null,"1 Lane",null,null,null,null,"<20mph",null,null,null,null,"1 Lane",null,null,null,null,"<20mph",null,null,null,null,null,null,null,null,{"$f":"IF(GV131<=$BX$11,$BR$11,IF(GV131<=$BX$10,$BR$10,IF(GV131<=$BX$9,$BR$9,$BR$8)))","v":"Good"},null,null,null,null,{"$f":"MIN(HA131:ND132)","v":64},null,null,null,null,{"$f":"AVERAGE(HA131:ND132)","v":64},null,null,null,null,{"$f":"IF(AD$19>$Z131,\"--\",IF(AD131=$CN$8,$CV$8,IF(AD131=$CN$9,$CV$9,$CV$10))*IF(AI131=$CD$8,$CJ$8,IF(AI131=$CD$9,$CJ$9,IF(AI131=$CD$10,$CJ$10,$CJ$11))))","v":64},null,null,null,null,null,null,null,null,null,{"$f":"IF(AN$19>$Z131,\"--\",IF(AN131=$CN$8,$CV$8,IF(AN131=$CN$9,$CV$9,$CV$10))*IF(AS131=$CD$8,$CJ$8,IF(AS131=$CD$9,$CJ$9,IF(AS131=$CD$10,$CJ$10,$CJ$11))))","v":64},null,null,null,null,null,null,null,null,null,{"$f":"IF(AX$19>$Z131,\"--\",IF(AX131=$CN$8,$CV$8,IF(AX131=$CN$9,$CV$9,$CV$10))*IF(BC131=$CD$8,$CJ$8,IF(BC131=$CD$9,$CJ$9,IF(BC131=$CD$10,$CJ$10,$CJ$11))))","v":64},null,null,null,null,null,null,null,null,null,{"$f":"IF(BH$19>$Z131,\"--\",IF(BH131=$CN$8,$CV$8,IF(BH131=$CN$9,$CV$9,$CV$10))*IF(BM131=$CD$8,$CJ$8,IF(BM131=$CD$9,$CJ$9,IF(BM131=$CD$10,$CJ$10,$CJ$11))))","v":64},null,null,null,null,null,null,null,null,null,{"$f":"IF(BR$19>$Z131,\"--\",IF(BR131=$CN$8,$CV$8,IF(BR131=$CN$9,$CV$9,$CV$10))*IF(BW131=$CD$8,$CJ$8,IF(BW131=$CD$9,$CJ$9,IF(BW131=$CD$10,$CJ$10,$CJ$11))))","v":64},null,null,null,null,null,null,null,null,null,{"$f":"IF(CB$19>$Z131,\"--\",IF(CB131=$CN$8,$CV$8,IF(CB131=$CN$9,$CV$9,$CV$10))*IF(CG131=$CD$8,$CJ$8,IF(CG131=$CD$9,$CJ$9,IF(CG131=$CD$10,$CJ$10,$CJ$11))))","v":64},null,null,null,null,null,null,null,null,null,{"$f":"IF(CL$19>$Z131,\"--\",IF(CL131=$CN$8,$CV$8,IF(CL131=$CN$9,$CV$9,$CV$10))*IF(CQ131=$CD$8,$CJ$8,IF(CQ131=$CD$9,$CJ$9,IF(CQ131=$CD$10,$CJ$10,$CJ$11))))","v":"--"},null,null,null,null,null,null,null,null,null,{"$f":"IF(CV$19>$Z131,\"--\",IF(CV131=$CN$8,$CV$8,IF(CV131=$CN$9,$CV$9,$CV$10))*IF(DA131=$CD$8,$CJ$8,IF(DA131=$CD$9,$CJ$9,IF(DA131=$CD$10,$CJ$10,$CJ$11))))","v":"--"},null,null,null,null,null,null,null,null,null,{"$f":"IF(DF$19>$Z131,\"--\",IF(DF131=$CN$8,$CV$8,IF(DF131=$CN$9,$CV$9,$CV$10))*IF(DK131=$CD$8,$CJ$8,IF(DK131=$CD$9,$CJ$9,IF(DK131=$CD$10,$CJ$10,$CJ$11))))","v":"--"},null,null,null,null,null,null,null,null,null,{"$f":"IF(DP$19>$Z131,\"--\",IF(DP131=$CN$8,$CV$8,IF(DP131=$CN$9,$CV$9,$CV$10))*IF(DU131=$CD$8,$CJ$8,IF(DU131=$CD$9,$CJ$9,IF(DU131=$CD$10,$CJ$10,$CJ$11))))","v":"--"},null,null,null,null,null,null,null,null,null,{"$f":"IF(DZ$19>$Z131,\"--\",IF(DZ131=$CN$8,$CV$8,IF(DZ131=$CN$9,$CV$9,$CV$10))*IF(EE131=$CD$8,$CJ$8,IF(EE131=$CD$9,$CJ$9,IF(EE131=$CD$10,$CJ$10,$CJ$11))))","v":"--"},null,null,null,null,null,null,null,null,null,{"$f":"IF(EJ$19>$Z131,\"--\",IF(EJ131=$CN$8,$CV$8,IF(EJ131=$CN$9,$CV$9,$CV$10))*IF(EO131=$CD$8,$CJ$8,IF(EO131=$CD$9,$CJ$9,IF(EO131=$CD$10,$CJ$10,$CJ$11))))","v":"--"},null,null,null,null,null,null,null,null,null,{"$f":"IF(ET$19>$Z131,\"--\",IF(ET131=$CN$8,$CV$8,IF(ET131=$CN$9,$CV$9,$CV$10))*IF(EY131=$CD$8,$CJ$8,IF(EY131=$CD$9,$CJ$9,IF(EY131=$CD$10,$CJ$10,$CJ$11))))","v":"--"},null,null,null,null,null,null,null,null,null,{"$f":"IF(FD$19>$Z131,\"--\",IF(FD131=$CN$8,$CV$8,IF(FD131=$CN$9,$CV$9,$CV$10))*IF(FI131=$CD$8,$CJ$8,IF(FI131=$CD$9,$CJ$9,IF(FI131=$CD$10,$CJ$10,$CJ$11))))","v":"--"},null,null,null,null,null,null,null,null,null,{"$f":"IF(FN$19>$Z131,\"--\",IF(FN131=$CN$8,$CV$8,IF(FN131=$CN$9,$CV$9,$CV$10))*IF(FS131=$CD$8,$CJ$8,IF(FS131=$CD$9,$CJ$9,IF(FS131=$CD$10,$CJ$10,$CJ$11))))","v":"--"},null,null,null,null,null,null,null,null,null,{"$f":"IF(FX$19>$Z131,\"--\",IF(FX131=$CN$8,$CV$8,IF(FX131=$CN$9,$CV$9,$CV$10))*IF(GC131=$CD$8,$CJ$8,IF(GC131=$CD$9,$CJ$9,IF(GC131=$CD$10,$CJ$10,$CJ$11))))","v":"--"}]
[]
[null,null,null,null,null,null,null,null,null,null,null,null,null,null,null,null,null,null,null,"E-W",null,null,null,null,null,6,null,null,null,"2 Lanes",null,null,null,null,"<20mph",null,null,null,null,"2 Lanes",null,null,null,null,"<20mph",null,null,null,null,"2 Lanes",null,null,null,null,"<20mph",null,null,null,null,"2 Lanes",null,null,null,null,"<20mph",null,null,null,null,"2 Lanes",null,null,null,null,"<20mph",null,null,null,null,"2 Lanes",null,null,null,null,"<20mph",null,null,null,null,"1 Lane",null,null,null,null,"<20mph",null,null,null,null,"1 Lane",null,null,null,null,"<20mph",null,null,null,null,"1 Lane",null,null,null,null,"<20mph",null,null,null,null,"1 Lane",null,null,null,null,"<20mph",null,null,null,null,"1 Lane",null,null,null,null,"<20mph",null,null,null,null,"1 Lane",null,null,null,null,"<20mph",null,null,null,null,"1 Lane",null,null,null,null,"<20mph",null,null,null,null,"1 Lane",null,null,null,null,"<20mph",null,null,null,null,"1 Lane",null,null,null,null,"<20mph",null,null,null,null,"1 Lane",null,null,null,null,"<20mph",null,null,null,null,null,null,null,null,{"$f":"IF(GV133<=$BX$11,$BR$11,IF(GV133<=$BX$10,$BR$10,IF(GV133<=$BX$9,$BR$9,$BR$8)))","v":"Good"},null,null,null,null,{"$f":"MIN(HA133:ND134)","v":64},null,null,null,null,{"$f":"AVERAGE(HA133:ND134)","v":64},null,null,null,null,{"$f":"IF(AD$19>$Z133,\"--\",IF(AD133=$CN$8,$CV$8,IF(AD133=$CN$9,$CV$9,$CV$10))*IF(AI133=$CD$8,$CJ$8,IF(AI133=$CD$9,$CJ$9,IF(AI133=$CD$10,$CJ$10,$CJ$11))))","v":64},null,null,null,null,null,null,null,null,null,{"$f":"IF(AN$19>$Z133,\"--\",IF(AN133=$CN$8,$CV$8,IF(AN133=$CN$9,$CV$9,$CV$10))*IF(AS133=$CD$8,$CJ$8,IF(AS133=$CD$9,$CJ$9,IF(AS133=$CD$10,$CJ$10,$CJ$11))))","v":64},null,null,null,null,null,null,null,null,null,{"$f":"IF(AX$19>$Z133,\"--\",IF(AX133=$CN$8,$CV$8,IF(AX133=$CN$9,$CV$9,$CV$10))*IF(BC133=$CD$8,$CJ$8,IF(BC133=$CD$9,$CJ$9,IF(BC133=$CD$10,$CJ$10,$CJ$11))))","v":64},null,null,null,null,null,null,null,null,null,{"$f":"IF(BH$19>$Z133,\"--\",IF(BH133=$CN$8,$CV$8,IF(BH133=$CN$9,$CV$9,$CV$10))*IF(BM133=$CD$8,$CJ$8,IF(BM133=$CD$9,$CJ$9,IF(BM133=$CD$10,$CJ$10,$CJ$11))))","v":64},null,null,null,null,null,null,null,null,null,{"$f":"IF(BR$19>$Z133,\"--\",IF(BR133=$CN$8,$CV$8,IF(BR133=$CN$9,$CV$9,$CV$10))*IF(BW133=$CD$8,$CJ$8,IF(BW133=$CD$9,$CJ$9,IF(BW133=$CD$10,$CJ$10,$CJ$11))))","v":64},null,null,null,null,null,null,null,null,null,{"$f":"IF(CB$19>$Z133,\"--\",IF(CB133=$CN$8,$CV$8,IF(CB133=$CN$9,$CV$9,$CV$10))*IF(CG133=$CD$8,$CJ$8,IF(CG133=$CD$9,$CJ$9,IF(CG133=$CD$10,$CJ$10,$CJ$11))))","v":64},null,null,null,null,null,null,null,null,null,{"$f":"IF(CL$19>$Z133,\"--\",IF(CL133=$CN$8,$CV$8,IF(CL133=$CN$9,$CV$9,$CV$10))*IF(CQ133=$CD$8,$CJ$8,IF(CQ133=$CD$9,$CJ$9,IF(CQ133=$CD$10,$CJ$10,$CJ$11))))","v":"--"},null,null,null,null,null,null,null,null,null,{"$f":"IF(CV$19>$Z133,\"--\",IF(CV133=$CN$8,$CV$8,IF(CV133=$CN$9,$CV$9,$CV$10))*IF(DA133=$CD$8,$CJ$8,IF(DA133=$CD$9,$CJ$9,IF(DA133=$CD$10,$CJ$10,$CJ$11))))","v":"--"},null,null,null,null,null,null,null,null,null,{"$f":"IF(DF$19>$Z133,\"--\",IF(DF133=$CN$8,$CV$8,IF(DF133=$CN$9,$CV$9,$CV$10))*IF(DK133=$CD$8,$CJ$8,IF(DK133=$CD$9,$CJ$9,IF(DK133=$CD$10,$CJ$10,$CJ$11))))","v":"--"},null,null,null,null,null,null,null,null,null,{"$f":"IF(DP$19>$Z133,\"--\",IF(DP133=$CN$8,$CV$8,IF(DP133=$CN$9,$CV$9,$CV$10))*IF(DU133=$CD$8,$CJ$8,IF(DU133=$CD$9,$CJ$9,IF(DU133=$CD$10,$CJ$10,$CJ$11))))","v":"--"},null,null,null,null,null,null,null,null,null,{"$f":"IF(DZ$19>$Z133,\"--\",IF(DZ133=$CN$8,$CV$8,IF(DZ133=$CN$9,$CV$9,$CV$10))*IF(EE133=$CD$8,$CJ$8,IF(EE133=$CD$9,$CJ$9,IF(EE133=$CD$10,$CJ$10,$CJ$11))))","v":"--"},null,null,null,null,null,null,null,null,null,{"$f":"IF(EJ$19>$Z133,\"--\",IF(EJ133=$CN$8,$CV$8,IF(EJ133=$CN$9,$CV$9,$CV$10))*IF(EO133=$CD$8,$CJ$8,IF(EO133=$CD$9,$CJ$9,IF(EO133=$CD$10,$CJ$10,$CJ$11))))","v":"--"},null,null,null,null,null,null,null,null,null,{"$f":"IF(ET$19>$Z133,\"--\",IF(ET133=$CN$8,$CV$8,IF(ET133=$CN$9,$CV$9,$CV$10))*IF(EY133=$CD$8,$CJ$8,IF(EY133=$CD$9,$CJ$9,IF(EY133=$CD$10,$CJ$10,$CJ$11))))","v":"--"},null,null,null,null,null,null,null,null,null,{"$f":"IF(FD$19>$Z133,\"--\",IF(FD133=$CN$8,$CV$8,IF(FD133=$CN$9,$CV$9,$CV$10))*IF(FI133=$CD$8,$CJ$8,IF(FI133=$CD$9,$CJ$9,IF(FI133=$CD$10,$CJ$10,$CJ$11))))","v":"--"},null,null,null,null,null,null,null,null,null,{"$f":"IF(FN$19>$Z133,\"--\",IF(FN133=$CN$8,$CV$8,IF(FN133=$CN$9,$CV$9,$CV$10))*IF(FS133=$CD$8,$CJ$8,IF(FS133=$CD$9,$CJ$9,IF(FS133=$CD$10,$CJ$10,$CJ$11))))","v":"--"},null,null,null,null,null,null,null,null,null,{"$f":"IF(FX$19>$Z133,\"--\",IF(FX133=$CN$8,$CV$8,IF(FX133=$CN$9,$CV$9,$CV$10))*IF(GC133=$CD$8,$CJ$8,IF(GC133=$CD$9,$CJ$9,IF(GC133=$CD$10,$CJ$10,$CJ$11))))","v":"--"}]
[]
["Partial Cloverleaf A",null,null,null,null,null,null,null,null,null,null,null,null,null,null,null,null,null,null,"N-S",null,null,null,null,null,6,null,null,null,"2 Lanes",null,null,null,null,"<20mph",null,null,null,null,"2 Lanes",null,null,null,null,"<20mph",null,null,null,null,"2 Lanes",null,null,null,null,"<20mph",null,null,null,null,"2 Lanes",null,null,null,null,"<20mph",null,null,null,null,"2 Lanes",null,null,null,null,"<20mph",null,null,null,null,"2 Lanes",null,null,null,null,"<20mph",null,null,null,null,"1 Lane",null,null,null,null,"<20mph",null,null,null,null,"1 Lane",null,null,null,null,"<20mph",null,null,null,null,"1 Lane",null,null,null,null,"<20mph",null,null,null,null,"1 Lane",null,null,null,null,"<20mph",null,null,null,null,"1 Lane",null,null,null,null,"<20mph",null,null,null,null,"1 Lane",null,null,null,null,"<20mph",null,null,null,null,"1 Lane",null,null,null,null,"<20mph",null,null,null,null,"1 Lane",null,null,null,null,"<20mph",null,null,null,null,"1 Lane",null,null,null,null,"<20mph",null,null,null,null,"1 Lane",null,null,null,null,"<20mph",null,null,null,null,null,null,null,null,{"$f":"IF(GV135<=$BX$11,$BR$11,IF(GV135<=$BX$10,$BR$10,IF(GV135<=$BX$9,$BR$9,$BR$8)))","v":"Good"},null,null,null,null,{"$f":"MIN(HA135:ND136)","v":64},null,null,null,null,{"$f":"AVERAGE(HA135:ND136)","v":64},null,null,null,null,{"$f":"IF(AD$19>$Z135,\"--\",IF(AD135=$CN$8,$CV$8,IF(AD135=$CN$9,$CV$9,$CV$10))*IF(AI135=$CD$8,$CJ$8,IF(AI135=$CD$9,$CJ$9,IF(AI135=$CD$10,$CJ$10,$CJ$11))))","v":64},null,null,null,null,null,null,null,null,null,{"$f":"IF(AN$19>$Z135,\"--\",IF(AN135=$CN$8,$CV$8,IF(AN135=$CN$9,$CV$9,$CV$10))*IF(AS135=$CD$8,$CJ$8,IF(AS135=$CD$9,$CJ$9,IF(AS135=$CD$10,$CJ$10,$CJ$11))))","v":64},null,null,null,null,null,null,null,null,null,{"$f":"IF(AX$19>$Z135,\"--\",IF(AX135=$CN$8,$CV$8,IF(AX135=$CN$9,$CV$9,$CV$10))*IF(BC135=$CD$8,$CJ$8,IF(BC135=$CD$9,$CJ$9,IF(BC135=$CD$10,$CJ$10,$CJ$11))))","v":64},null,null,null,null,null,null,null,null,null,{"$f":"IF(BH$19>$Z135,\"--\",IF(BH135=$CN$8,$CV$8,IF(BH135=$CN$9,$CV$9,$CV$10))*IF(BM135=$CD$8,$CJ$8,IF(BM135=$CD$9,$CJ$9,IF(BM135=$CD$10,$CJ$10,$CJ$11))))","v":64},null,null,null,null,null,null,null,null,null,{"$f":"IF(BR$19>$Z135,\"--\",IF(BR135=$CN$8,$CV$8,IF(BR135=$CN$9,$CV$9,$CV$10))*IF(BW135=$CD$8,$CJ$8,IF(BW135=$CD$9,$CJ$9,IF(BW135=$CD$10,$CJ$10,$CJ$11))))","v":64},null,null,null,null,null,null,null,null,null,{"$f":"IF(CB$19>$Z135,\"--\",IF(CB135=$CN$8,$CV$8,IF(CB135=$CN$9,$CV$9,$CV$10))*IF(CG135=$CD$8,$CJ$8,IF(CG135=$CD$9,$CJ$9,IF(CG135=$CD$10,$CJ$10,$CJ$11))))","v":64},null,null,null,null,null,null,null,null,null,{"$f":"IF(CL$19>$Z135,\"--\",IF(CL135=$CN$8,$CV$8,IF(CL135=$CN$9,$CV$9,$CV$10))*IF(CQ135=$CD$8,$CJ$8,IF(CQ135=$CD$9,$CJ$9,IF(CQ135=$CD$10,$CJ$10,$CJ$11))))","v":"--"},null,null,null,null,null,null,null,null,null,{"$f":"IF(CV$19>$Z135,\"--\",IF(CV135=$CN$8,$CV$8,IF(CV135=$CN$9,$CV$9,$CV$10))*IF(DA135=$CD$8,$CJ$8,IF(DA135=$CD$9,$CJ$9,IF(DA135=$CD$10,$CJ$10,$CJ$11))))","v":"--"},null,null,null,null,null,null,null,null,null,{"$f":"IF(DF$19>$Z135,\"--\",IF(DF135=$CN$8,$CV$8,IF(DF135=$CN$9,$CV$9,$CV$10))*IF(DK135=$CD$8,$CJ$8,IF(DK135=$CD$9,$CJ$9,IF(DK135=$CD$10,$CJ$10,$CJ$11))))","v":"--"},null,null,null,null,null,null,null,null,null,{"$f":"IF(DP$19>$Z135,\"--\",IF(DP135=$CN$8,$CV$8,IF(DP135=$CN$9,$CV$9,$CV$10))*IF(DU135=$CD$8,$CJ$8,IF(DU135=$CD$9,$CJ$9,IF(DU135=$CD$10,$CJ$10,$CJ$11))))","v":"--"},null,null,null,null,null,null,null,null,null,{"$f":"IF(DZ$19>$Z135,\"--\",IF(DZ135=$CN$8,$CV$8,IF(DZ135=$CN$9,$CV$9,$CV$10))*IF(EE135=$CD$8,$CJ$8,IF(EE135=$CD$9,$CJ$9,IF(EE135=$CD$10,$CJ$10,$CJ$11))))","v":"--"},null,null,null,null,null,null,null,null,null,{"$f":"IF(EJ$19>$Z135,\"--\",IF(EJ135=$CN$8,$CV$8,IF(EJ135=$CN$9,$CV$9,$CV$10))*IF(EO135=$CD$8,$CJ$8,IF(EO135=$CD$9,$CJ$9,IF(EO135=$CD$10,$CJ$10,$CJ$11))))","v":"--"},null,null,null,null,null,null,null,null,null,{"$f":"IF(ET$19>$Z135,\"--\",IF(ET135=$CN$8,$CV$8,IF(ET135=$CN$9,$CV$9,$CV$10))*IF(EY135=$CD$8,$CJ$8,IF(EY135=$CD$9,$CJ$9,IF(EY135=$CD$10,$CJ$10,$CJ$11))))","v":"--"},null,null,null,null,null,null,null,null,null,{"$f":"IF(FD$19>$Z135,\"--\",IF(FD135=$CN$8,$CV$8,IF(FD135=$CN$9,$CV$9,$CV$10))*IF(FI135=$CD$8,$CJ$8,IF(FI135=$CD$9,$CJ$9,IF(FI135=$CD$10,$CJ$10,$CJ$11))))","v":"--"},null,null,null,null,null,null,null,null,null,{"$f":"IF(FN$19>$Z135,\"--\",IF(FN135=$CN$8,$CV$8,IF(FN135=$CN$9,$CV$9,$CV$10))*IF(FS135=$CD$8,$CJ$8,IF(FS135=$CD$9,$CJ$9,IF(FS135=$CD$10,$CJ$10,$CJ$11))))","v":"--"},null,null,null,null,null,null,null,null,null,{"$f":"IF(FX$19>$Z135,\"--\",IF(FX135=$CN$8,$CV$8,IF(FX135=$CN$9,$CV$9,$CV$10))*IF(GC135=$CD$8,$CJ$8,IF(GC135=$CD$9,$CJ$9,IF(GC135=$CD$10,$CJ$10,$CJ$11))))","v":"--"}]
[]
[null,null,null,null,null,null,null,null,null,null,null,null,null,null,null,null,null,null,null,"E-W",null,null,null,null,null,6,null,null,null,"2 Lanes",null,null,null,null,"<20mph",null,null,null,null,"2 Lanes",null,null,null,null,"<20mph",null,null,null,null,"2 Lanes",null,null,null,null,"<20mph",null,null,null,null,"2 Lanes",null,null,null,null,"<20mph",null,null,null,null,"2 Lanes",null,null,null,null,"<20mph",null,null,null,null,"2 Lanes",null,null,null,null,"<20mph",null,null,null,null,"1 Lane",null,null,null,null,"<20mph",null,null,null,null,"1 Lane",null,null,null,null,"<20mph",null,null,null,null,"1 Lane",null,null,null,null,"<20mph",null,null,null,null,"1 Lane",null,null,null,null,"<20mph",null,null,null,null,"1 Lane",null,null,null,null,"<20mph",null,null,null,null,"1 Lane",null,null,null,null,"<20mph",null,null,null,null,"1 Lane",null,null,null,null,"<20mph",null,null,null,null,"1 Lane",null,null,null,null,"<20mph",null,null,null,null,"1 Lane",null,null,null,null,"<20mph",null,null,null,null,"1 Lane",null,null,null,null,"<20mph",null,null,null,null,null,null,null,null,{"$f":"IF(GV137<=$BX$11,$BR$11,IF(GV137<=$BX$10,$BR$10,IF(GV137<=$BX$9,$BR$9,$BR$8)))","v":"Good"},null,null,null,null,{"$f":"MIN(HA137:ND138)","v":64},null,null,null,null,{"$f":"AVERAGE(HA137:ND138)","v":64},null,null,null,null,{"$f":"IF(AD$19>$Z137,\"--\",IF(AD137=$CN$8,$CV$8,IF(AD137=$CN$9,$CV$9,$CV$10))*IF(AI137=$CD$8,$CJ$8,IF(AI137=$CD$9,$CJ$9,IF(AI137=$CD$10,$CJ$10,$CJ$11))))","v":64},null,null,null,null,null,null,null,null,null,{"$f":"IF(AN$19>$Z137,\"--\",IF(AN137=$CN$8,$CV$8,IF(AN137=$CN$9,$CV$9,$CV$10))*IF(AS137=$CD$8,$CJ$8,IF(AS137=$CD$9,$CJ$9,IF(AS137=$CD$10,$CJ$10,$CJ$11))))","v":64},null,null,null,null,null,null,null,null,null,{"$f":"IF(AX$19>$Z137,\"--\",IF(AX137=$CN$8,$CV$8,IF(AX137=$CN$9,$CV$9,$CV$10))*IF(BC137=$CD$8,$CJ$8,IF(BC137=$CD$9,$CJ$9,IF(BC137=$CD$10,$CJ$10,$CJ$11))))","v":64},null,null,null,null,null,null,null,null,null,{"$f":"IF(BH$19>$Z137,\"--\",IF(BH137=$CN$8,$CV$8,IF(BH137=$CN$9,$CV$9,$CV$10))*IF(BM137=$CD$8,$CJ$8,IF(BM137=$CD$9,$CJ$9,IF(BM137=$CD$10,$CJ$10,$CJ$11))))","v":64},null,null,null,null,null,null,null,null,null,{"$f":"IF(BR$19>$Z137,\"--\",IF(BR137=$CN$8,$CV$8,IF(BR137=$CN$9,$CV$9,$CV$10))*IF(BW137=$CD$8,$CJ$8,IF(BW137=$CD$9,$CJ$9,IF(BW137=$CD$10,$CJ$10,$CJ$11))))","v":64},null,null,null,null,null,null,null,null,null,{"$f":"IF(CB$19>$Z137,\"--\",IF(CB137=$CN$8,$CV$8,IF(CB137=$CN$9,$CV$9,$CV$10))*IF(CG137=$CD$8,$CJ$8,IF(CG137=$CD$9,$CJ$9,IF(CG137=$CD$10,$CJ$10,$CJ$11))))","v":64},null,null,null,null,null,null,null,null,null,{"$f":"IF(CL$19>$Z137,\"--\",IF(CL137=$CN$8,$CV$8,IF(CL137=$CN$9,$CV$9,$CV$10))*IF(CQ137=$CD$8,$CJ$8,IF(CQ137=$CD$9,$CJ$9,IF(CQ137=$CD$10,$CJ$10,$CJ$11))))","v":"--"},null,null,null,null,null,null,null,null,null,{"$f":"IF(CV$19>$Z137,\"--\",IF(CV137=$CN$8,$CV$8,IF(CV137=$CN$9,$CV$9,$CV$10))*IF(DA137=$CD$8,$CJ$8,IF(DA137=$CD$9,$CJ$9,IF(DA137=$CD$10,$CJ$10,$CJ$11))))","v":"--"},null,null,null,null,null,null,null,null,null,{"$f":"IF(DF$19>$Z137,\"--\",IF(DF137=$CN$8,$CV$8,IF(DF137=$CN$9,$CV$9,$CV$10))*IF(DK137=$CD$8,$CJ$8,IF(DK137=$CD$9,$CJ$9,IF(DK137=$CD$10,$CJ$10,$CJ$11))))","v":"--"},null,null,null,null,null,null,null,null,null,{"$f":"IF(DP$19>$Z137,\"--\",IF(DP137=$CN$8,$CV$8,IF(DP137=$CN$9,$CV$9,$CV$10))*IF(DU137=$CD$8,$CJ$8,IF(DU137=$CD$9,$CJ$9,IF(DU137=$CD$10,$CJ$10,$CJ$11))))","v":"--"},null,null,null,null,null,null,null,null,null,{"$f":"IF(DZ$19>$Z137,\"--\",IF(DZ137=$CN$8,$CV$8,IF(DZ137=$CN$9,$CV$9,$CV$10))*IF(EE137=$CD$8,$CJ$8,IF(EE137=$CD$9,$CJ$9,IF(EE137=$CD$10,$CJ$10,$CJ$11))))","v":"--"},null,null,null,null,null,null,null,null,null,{"$f":"IF(EJ$19>$Z137,\"--\",IF(EJ137=$CN$8,$CV$8,IF(EJ137=$CN$9,$CV$9,$CV$10))*IF(EO137=$CD$8,$CJ$8,IF(EO137=$CD$9,$CJ$9,IF(EO137=$CD$10,$CJ$10,$CJ$11))))","v":"--"},null,null,null,null,null,null,null,null,null,{"$f":"IF(ET$19>$Z137,\"--\",IF(ET137=$CN$8,$CV$8,IF(ET137=$CN$9,$CV$9,$CV$10))*IF(EY137=$CD$8,$CJ$8,IF(EY137=$CD$9,$CJ$9,IF(EY137=$CD$10,$CJ$10,$CJ$11))))","v":"--"},null,null,null,null,null,null,null,null,null,{"$f":"IF(FD$19>$Z137,\"--\",IF(FD137=$CN$8,$CV$8,IF(FD137=$CN$9,$CV$9,$CV$10))*IF(FI137=$CD$8,$CJ$8,IF(FI137=$CD$9,$CJ$9,IF(FI137=$CD$10,$CJ$10,$CJ$11))))","v":"--"},null,null,null,null,null,null,null,null,null,{"$f":"IF(FN$19>$Z137,\"--\",IF(FN137=$CN$8,$CV$8,IF(FN137=$CN$9,$CV$9,$CV$10))*IF(FS137=$CD$8,$CJ$8,IF(FS137=$CD$9,$CJ$9,IF(FS137=$CD$10,$CJ$10,$CJ$11))))","v":"--"},null,null,null,null,null,null,null,null,null,{"$f":"IF(FX$19>$Z137,\"--\",IF(FX137=$CN$8,$CV$8,IF(FX137=$CN$9,$CV$9,$CV$10))*IF(GC137=$CD$8,$CJ$8,IF(GC137=$CD$9,$CJ$9,IF(GC137=$CD$10,$CJ$10,$CJ$11))))","v":"--"}]
[]
["Partial Cloverleaf B",null,null,null,null,null,null,null,null,null,null,null,null,null,null,null,null,null,null,"N-S",null,null,null,null,null,6,null,null,null,"2 Lanes",null,null,null,null,"<20mph",null,null,null,null,"2 Lanes",null,null,null,null,"<20mph",null,null,null,null,"2 Lanes",null,null,null,null,"<20mph",null,null,null,null,"2 Lanes",null,null,null,null,"<20mph",null,null,null,null,"2 Lanes",null,null,null,null,"<20mph",null,null,null,null,"2 Lanes",null,null,null,null,"<20mph",null,null,null,null,"1 Lane",null,null,null,null,"<20mph",null,null,null,null,"1 Lane",null,null,null,null,"<20mph",null,null,null,null,"1 Lane",null,null,null,null,"<20mph",null,null,null,null,"1 Lane",null,null,null,null,"<20mph",null,null,null,null,"1 Lane",null,null,null,null,"<20mph",null,null,null,null,"1 Lane",null,null,null,null,"<20mph",null,null,null,null,"1 Lane",null,null,null,null,"<20mph",null,null,null,null,"1 Lane",null,null,null,null,"<20mph",null,null,null,null,"1 Lane",null,null,null,null,"<20mph",null,null,null,null,"1 Lane",null,null,null,null,"<20mph",null,null,null,null,null,null,null,null,{"$f":"IF(GV139<=$BX$11,$BR$11,IF(GV139<=$BX$10,$BR$10,IF(GV139<=$BX$9,$BR$9,$BR$8)))","v":"Good"},null,null,null,null,{"$f":"MIN(HA139:ND140)","v":64},null,null,null,null,{"$f":"AVERAGE(HA139:ND140)","v":64},null,null,null,null,{"$f":"IF(AD$19>$Z139,\"--\",IF(AD139=$CN$8,$CV$8,IF(AD139=$CN$9,$CV$9,$CV$10))*IF(AI139=$CD$8,$CJ$8,IF(AI139=$CD$9,$CJ$9,IF(AI139=$CD$10,$CJ$10,$CJ$11))))","v":64},null,null,null,null,null,null,null,null,null,{"$f":"IF(AN$19>$Z139,\"--\",IF(AN139=$CN$8,$CV$8,IF(AN139=$CN$9,$CV$9,$CV$10))*IF(AS139=$CD$8,$CJ$8,IF(AS139=$CD$9,$CJ$9,IF(AS139=$CD$10,$CJ$10,$CJ$11))))","v":64},null,null,null,null,null,null,null,null,null,{"$f":"IF(AX$19>$Z139,\"--\",IF(AX139=$CN$8,$CV$8,IF(AX139=$CN$9,$CV$9,$CV$10))*IF(BC139=$CD$8,$CJ$8,IF(BC139=$CD$9,$CJ$9,IF(BC139=$CD$10,$CJ$10,$CJ$11))))","v":64},null,null,null,null,null,null,null,null,null,{"$f":"IF(BH$19>$Z139,\"--\",IF(BH139=$CN$8,$CV$8,IF(BH139=$CN$9,$CV$9,$CV$10))*IF(BM139=$CD$8,$CJ$8,IF(BM139=$CD$9,$CJ$9,IF(BM139=$CD$10,$CJ$10,$CJ$11))))","v":64},null,null,null,null,null,null,null,null,null,{"$f":"IF(BR$19>$Z139,\"--\",IF(BR139=$CN$8,$CV$8,IF(BR139=$CN$9,$CV$9,$CV$10))*IF(BW139=$CD$8,$CJ$8,IF(BW139=$CD$9,$CJ$9,IF(BW139=$CD$10,$CJ$10,$CJ$11))))","v":64},null,null,null,null,null,null,null,null,null,{"$f":"IF(CB$19>$Z139,\"--\",IF(CB139=$CN$8,$CV$8,IF(CB139=$CN$9,$CV$9,$CV$10))*IF(CG139=$CD$8,$CJ$8,IF(CG139=$CD$9,$CJ$9,IF(CG139=$CD$10,$CJ$10,$CJ$11))))","v":64},null,null,null,null,null,null,null,null,null,{"$f":"IF(CL$19>$Z139,\"--\",IF(CL139=$CN$8,$CV$8,IF(CL139=$CN$9,$CV$9,$CV$10))*IF(CQ139=$CD$8,$CJ$8,IF(CQ139=$CD$9,$CJ$9,IF(CQ139=$CD$10,$CJ$10,$CJ$11))))","v":"--"},null,null,null,null,null,null,null,null,null,{"$f":"IF(CV$19>$Z139,\"--\",IF(CV139=$CN$8,$CV$8,IF(CV139=$CN$9,$CV$9,$CV$10))*IF(DA139=$CD$8,$CJ$8,IF(DA139=$CD$9,$CJ$9,IF(DA139=$CD$10,$CJ$10,$CJ$11))))","v":"--"},null,null,null,null,null,null,null,null,null,{"$f":"IF(DF$19>$Z139,\"--\",IF(DF139=$CN$8,$CV$8,IF(DF139=$CN$9,$CV$9,$CV$10))*IF(DK139=$CD$8,$CJ$8,IF(DK139=$CD$9,$CJ$9,IF(DK139=$CD$10,$CJ$10,$CJ$11))))","v":"--"},null,null,null,null,null,null,null,null,null,{"$f":"IF(DP$19>$Z139,\"--\",IF(DP139=$CN$8,$CV$8,IF(DP139=$CN$9,$CV$9,$CV$10))*IF(DU139=$CD$8,$CJ$8,IF(DU139=$CD$9,$CJ$9,IF(DU139=$CD$10,$CJ$10,$CJ$11))))","v":"--"},null,null,null,null,null,null,null,null,null,{"$f":"IF(DZ$19>$Z139,\"--\",IF(DZ139=$CN$8,$CV$8,IF(DZ139=$CN$9,$CV$9,$CV$10))*IF(EE139=$CD$8,$CJ$8,IF(EE139=$CD$9,$CJ$9,IF(EE139=$CD$10,$CJ$10,$CJ$11))))","v":"--"},null,null,null,null,null,null,null,null,null,{"$f":"IF(EJ$19>$Z139,\"--\",IF(EJ139=$CN$8,$CV$8,IF(EJ139=$CN$9,$CV$9,$CV$10))*IF(EO139=$CD$8,$CJ$8,IF(EO139=$CD$9,$CJ$9,IF(EO139=$CD$10,$CJ$10,$CJ$11))))","v":"--"},null,null,null,null,null,null,null,null,null,{"$f":"IF(ET$19>$Z139,\"--\",IF(ET139=$CN$8,$CV$8,IF(ET139=$CN$9,$CV$9,$CV$10))*IF(EY139=$CD$8,$CJ$8,IF(EY139=$CD$9,$CJ$9,IF(EY139=$CD$10,$CJ$10,$CJ$11))))","v":"--"},null,null,null,null,null,null,null,null,null,{"$f":"IF(FD$19>$Z139,\"--\",IF(FD139=$CN$8,$CV$8,IF(FD139=$CN$9,$CV$9,$CV$10))*IF(FI139=$CD$8,$CJ$8,IF(FI139=$CD$9,$CJ$9,IF(FI139=$CD$10,$CJ$10,$CJ$11))))","v":"--"},null,null,null,null,null,null,null,null,null,{"$f":"IF(FN$19>$Z139,\"--\",IF(FN139=$CN$8,$CV$8,IF(FN139=$CN$9,$CV$9,$CV$10))*IF(FS139=$CD$8,$CJ$8,IF(FS139=$CD$9,$CJ$9,IF(FS139=$CD$10,$CJ$10,$CJ$11))))","v":"--"},null,null,null,null,null,null,null,null,null,{"$f":"IF(FX$19>$Z139,\"--\",IF(FX139=$CN$8,$CV$8,IF(FX139=$CN$9,$CV$9,$CV$10))*IF(GC139=$CD$8,$CJ$8,IF(GC139=$CD$9,$CJ$9,IF(GC139=$CD$10,$CJ$10,$CJ$11))))","v":"--"}]
[]
[null,null,null,null,null,null,null,null,null,null,null,null,null,null,null,null,null,null,null,"E-W",null,null,null,null,null,6,null,null,null,"2 Lanes",null,null,null,null,"<20mph",null,null,null,null,"2 Lanes",null,null,null,null,"<20mph",null,null,null,null,"2 Lanes",null,null,null,null,"<20mph",null,null,null,null,"2 Lanes",null,null,null,null,"<20mph",null,null,null,null,"2 Lanes",null,null,null,null,"<20mph",null,null,null,null,"2 Lanes",null,null,null,null,"<20mph",null,null,null,null,"1 Lane",null,null,null,null,"<20mph",null,null,null,null,"1 Lane",null,null,null,null,"<20mph",null,null,null,null,"1 Lane",null,null,null,null,"<20mph",null,null,null,null,"1 Lane",null,null,null,null,"<20mph",null,null,null,null,"1 Lane",null,null,null,null,"<20mph",null,null,null,null,"1 Lane",null,null,null,null,"<20mph",null,null,null,null,"1 Lane",null,null,null,null,"<20mph",null,null,null,null,"1 Lane",null,null,null,null,"<20mph",null,null,null,null,"1 Lane",null,null,null,null,"<20mph",null,null,null,null,"1 Lane",null,null,null,null,"<20mph",null,null,null,null,null,null,null,null,{"$f":"IF(GV141<=$BX$11,$BR$11,IF(GV141<=$BX$10,$BR$10,IF(GV141<=$BX$9,$BR$9,$BR$8)))","v":"Good"},null,null,null,null,{"$f":"MIN(HA141:ND142)","v":64},null,null,null,null,{"$f":"AVERAGE(HA141:ND142)","v":64},null,null,null,null,{"$f":"IF(AD$19>$Z141,\"--\",IF(AD141=$CN$8,$CV$8,IF(AD141=$CN$9,$CV$9,$CV$10))*IF(AI141=$CD$8,$CJ$8,IF(AI141=$CD$9,$CJ$9,IF(AI141=$CD$10,$CJ$10,$CJ$11))))","v":64},null,null,null,null,null,null,null,null,null,{"$f":"IF(AN$19>$Z141,\"--\",IF(AN141=$CN$8,$CV$8,IF(AN141=$CN$9,$CV$9,$CV$10))*IF(AS141=$CD$8,$CJ$8,IF(AS141=$CD$9,$CJ$9,IF(AS141=$CD$10,$CJ$10,$CJ$11))))","v":64},null,null,null,null,null,null,null,null,null,{"$f":"IF(AX$19>$Z141,\"--\",IF(AX141=$CN$8,$CV$8,IF(AX141=$CN$9,$CV$9,$CV$10))*IF(BC141=$CD$8,$CJ$8,IF(BC141=$CD$9,$CJ$9,IF(BC141=$CD$10,$CJ$10,$CJ$11))))","v":64},null,null,null,null,null,null,null,null,null,{"$f":"IF(BH$19>$Z141,\"--\",IF(BH141=$CN$8,$CV$8,IF(BH141=$CN$9,$CV$9,$CV$10))*IF(BM141=$CD$8,$CJ$8,IF(BM141=$CD$9,$CJ$9,IF(BM141=$CD$10,$CJ$10,$CJ$11))))","v":64},null,null,null,null,null,null,null,null,null,{"$f":"IF(BR$19>$Z141,\"--\",IF(BR141=$CN$8,$CV$8,IF(BR141=$CN$9,$CV$9,$CV$10))*IF(BW141=$CD$8,$CJ$8,IF(BW141=$CD$9,$CJ$9,IF(BW141=$CD$10,$CJ$10,$CJ$11))))","v":64},null,null,null,null,null,null,null,null,null,{"$f":"IF(CB$19>$Z141,\"--\",IF(CB141=$CN$8,$CV$8,IF(CB141=$CN$9,$CV$9,$CV$10))*IF(CG141=$CD$8,$CJ$8,IF(CG141=$CD$9,$CJ$9,IF(CG141=$CD$10,$CJ$10,$CJ$11))))","v":64},null,null,null,null,null,null,null,null,null,{"$f":"IF(CL$19>$Z141,\"--\",IF(CL141=$CN$8,$CV$8,IF(CL141=$CN$9,$CV$9,$CV$10))*IF(CQ141=$CD$8,$CJ$8,IF(CQ141=$CD$9,$CJ$9,IF(CQ141=$CD$10,$CJ$10,$CJ$11))))","v":"--"},null,null,null,null,null,null,null,null,null,{"$f":"IF(CV$19>$Z141,\"--\",IF(CV141=$CN$8,$CV$8,IF(CV141=$CN$9,$CV$9,$CV$10))*IF(DA141=$CD$8,$CJ$8,IF(DA141=$CD$9,$CJ$9,IF(DA141=$CD$10,$CJ$10,$CJ$11))))","v":"--"},null,null,null,null,null,null,null,null,null,{"$f":"IF(DF$19>$Z141,\"--\",IF(DF141=$CN$8,$CV$8,IF(DF141=$CN$9,$CV$9,$CV$10))*IF(DK141=$CD$8,$CJ$8,IF(DK141=$CD$9,$CJ$9,IF(DK141=$CD$10,$CJ$10,$CJ$11))))","v":"--"},null,null,null,null,null,null,null,null,null,{"$f":"IF(DP$19>$Z141,\"--\",IF(DP141=$CN$8,$CV$8,IF(DP141=$CN$9,$CV$9,$CV$10))*IF(DU141=$CD$8,$CJ$8,IF(DU141=$CD$9,$CJ$9,IF(DU141=$CD$10,$CJ$10,$CJ$11))))","v":"--"},null,null,null,null,null,null,null,null,null,{"$f":"IF(DZ$19>$Z141,\"--\",IF(DZ141=$CN$8,$CV$8,IF(DZ141=$CN$9,$CV$9,$CV$10))*IF(EE141=$CD$8,$CJ$8,IF(EE141=$CD$9,$CJ$9,IF(EE141=$CD$10,$CJ$10,$CJ$11))))","v":"--"},null,null,null,null,null,null,null,null,null,{"$f":"IF(EJ$19>$Z141,\"--\",IF(EJ141=$CN$8,$CV$8,IF(EJ141=$CN$9,$CV$9,$CV$10))*IF(EO141=$CD$8,$CJ$8,IF(EO141=$CD$9,$CJ$9,IF(EO141=$CD$10,$CJ$10,$CJ$11))))","v":"--"},null,null,null,null,null,null,null,null,null,{"$f":"IF(ET$19>$Z141,\"--\",IF(ET141=$CN$8,$CV$8,IF(ET141=$CN$9,$CV$9,$CV$10))*IF(EY141=$CD$8,$CJ$8,IF(EY141=$CD$9,$CJ$9,IF(EY141=$CD$10,$CJ$10,$CJ$11))))","v":"--"},null,null,null,null,null,null,null,null,null,{"$f":"IF(FD$19>$Z141,\"--\",IF(FD141=$CN$8,$CV$8,IF(FD141=$CN$9,$CV$9,$CV$10))*IF(FI141=$CD$8,$CJ$8,IF(FI141=$CD$9,$CJ$9,IF(FI141=$CD$10,$CJ$10,$CJ$11))))","v":"--"},null,null,null,null,null,null,null,null,null,{"$f":"IF(FN$19>$Z141,\"--\",IF(FN141=$CN$8,$CV$8,IF(FN141=$CN$9,$CV$9,$CV$10))*IF(FS141=$CD$8,$CJ$8,IF(FS141=$CD$9,$CJ$9,IF(FS141=$CD$10,$CJ$10,$CJ$11))))","v":"--"},null,null,null,null,null,null,null,null,null,{"$f":"IF(FX$19>$Z141,\"--\",IF(FX141=$CN$8,$CV$8,IF(FX141=$CN$9,$CV$9,$CV$10))*IF(GC141=$CD$8,$CJ$8,IF(GC141=$CD$9,$CJ$9,IF(GC141=$CD$10,$CJ$10,$CJ$11))))","v":"--"}]
[]
["Displaced Left Turn",null,null,null,null,null,null,null,null,null,null,null,null,null,null,null,null,null,null,"N-S",null,null,null,null,null,6,null,null,null,"2 Lanes",null,null,null,null,"<20mph",null,null,null,null,"2 Lanes",null,null,null,null,"<20mph",null,null,null,null,"2 Lanes",null,null,null,null,"<20mph",null,null,null,null,"2 Lanes",null,null,null,null,"<20mph",null,null,null,null,"2 Lanes",null,null,null,null,"<20mph",null,null,null,null,"2 Lanes",null,null,null,null,"<20mph",null,null,null,null,"1 Lane",null,null,null,null,"<20mph",null,null,null,null,"1 Lane",null,null,null,null,"<20mph",null,null,null,null,"1 Lane",null,null,null,null,"<20mph",null,null,null,null,"1 Lane",null,null,null,null,"<20mph",null,null,null,null,"1 Lane",null,null,null,null,"<20mph",null,null,null,null,"1 Lane",null,null,null,null,"<20mph",null,null,null,null,"1 Lane",null,null,null,null,"<20mph",null,null,null,null,"1 Lane",null,null,null,null,"<20mph",null,null,null,null,"1 Lane",null,null,null,null,"<20mph",null,null,null,null,"1 Lane",null,null,null,null,"<20mph",null,null,null,null,null,null,null,null,{"$f":"IF(GV143<=$BX$11,$BR$11,IF(GV143<=$BX$10,$BR$10,IF(GV143<=$BX$9,$BR$9,$BR$8)))","v":"Good"},null,null,null,null,{"$f":"MIN(HA143:ND144)","v":64},null,null,null,null,{"$f":"AVERAGE(HA143:ND144)","v":64},null,null,null,null,{"$f":"IF(AD$19>$Z143,\"--\",IF(AD143=$CN$8,$CV$8,IF(AD143=$CN$9,$CV$9,$CV$10))*IF(AI143=$CD$8,$CJ$8,IF(AI143=$CD$9,$CJ$9,IF(AI143=$CD$10,$CJ$10,$CJ$11))))","v":64},null,null,null,null,null,null,null,null,null,{"$f":"IF(AN$19>$Z143,\"--\",IF(AN143=$CN$8,$CV$8,IF(AN143=$CN$9,$CV$9,$CV$10))*IF(AS143=$CD$8,$CJ$8,IF(AS143=$CD$9,$CJ$9,IF(AS143=$CD$10,$CJ$10,$CJ$11))))","v":64},null,null,null,null,null,null,null,null,null,{"$f":"IF(AX$19>$Z143,\"--\",IF(AX143=$CN$8,$CV$8,IF(AX143=$CN$9,$CV$9,$CV$10))*IF(BC143=$CD$8,$CJ$8,IF(BC143=$CD$9,$CJ$9,IF(BC143=$CD$10,$CJ$10,$CJ$11))))","v":64},null,null,null,null,null,null,null,null,null,{"$f":"IF(BH$19>$Z143,\"--\",IF(BH143=$CN$8,$CV$8,IF(BH143=$CN$9,$CV$9,$CV$10))*IF(BM143=$CD$8,$CJ$8,IF(BM143=$CD$9,$CJ$9,IF(BM143=$CD$10,$CJ$10,$CJ$11))))","v":64},null,null,null,null,null,null,null,null,null,{"$f":"IF(BR$19>$Z143,\"--\",IF(BR143=$CN$8,$CV$8,IF(BR143=$CN$9,$CV$9,$CV$10))*IF(BW143=$CD$8,$CJ$8,IF(BW143=$CD$9,$CJ$9,IF(BW143=$CD$10,$CJ$10,$CJ$11))))","v":64},null,null,null,null,null,null,null,null,null,{"$f":"IF(CB$19>$Z143,\"--\",IF(CB143=$CN$8,$CV$8,IF(CB143=$CN$9,$CV$9,$CV$10))*IF(CG143=$CD$8,$CJ$8,IF(CG143=$CD$9,$CJ$9,IF(CG143=$CD$10,$CJ$10,$CJ$11))))","v":64},null,null,null,null,null,null,null,null,null,{"$f":"IF(CL$19>$Z143,\"--\",IF(CL143=$CN$8,$CV$8,IF(CL143=$CN$9,$CV$9,$CV$10))*IF(CQ143=$CD$8,$CJ$8,IF(CQ143=$CD$9,$CJ$9,IF(CQ143=$CD$10,$CJ$10,$CJ$11))))","v":"--"},null,null,null,null,null,null,null,null,null,{"$f":"IF(CV$19>$Z143,\"--\",IF(CV143=$CN$8,$CV$8,IF(CV143=$CN$9,$CV$9,$CV$10))*IF(DA143=$CD$8,$CJ$8,IF(DA143=$CD$9,$CJ$9,IF(DA143=$CD$10,$CJ$10,$CJ$11))))","v":"--"},null,null,null,null,null,null,null,null,null,{"$f":"IF(DF$19>$Z143,\"--\",IF(DF143=$CN$8,$CV$8,IF(DF143=$CN$9,$CV$9,$CV$10))*IF(DK143=$CD$8,$CJ$8,IF(DK143=$CD$9,$CJ$9,IF(DK143=$CD$10,$CJ$10,$CJ$11))))","v":"--"},null,null,null,null,null,null,null,null,null,{"$f":"IF(DP$19>$Z143,\"--\",IF(DP143=$CN$8,$CV$8,IF(DP143=$CN$9,$CV$9,$CV$10))*IF(DU143=$CD$8,$CJ$8,IF(DU143=$CD$9,$CJ$9,IF(DU143=$CD$10,$CJ$10,$CJ$11))))","v":"--"},null,null,null,null,null,null,null,null,null,{"$f":"IF(DZ$19>$Z143,\"--\",IF(DZ143=$CN$8,$CV$8,IF(DZ143=$CN$9,$CV$9,$CV$10))*IF(EE143=$CD$8,$CJ$8,IF(EE143=$CD$9,$CJ$9,IF(EE143=$CD$10,$CJ$10,$CJ$11))))","v":"--"},null,null,null,null,null,null,null,null,null,{"$f":"IF(EJ$19>$Z143,\"--\",IF(EJ143=$CN$8,$CV$8,IF(EJ143=$CN$9,$CV$9,$CV$10))*IF(EO143=$CD$8,$CJ$8,IF(EO143=$CD$9,$CJ$9,IF(EO143=$CD$10,$CJ$10,$CJ$11))))","v":"--"},null,null,null,null,null,null,null,null,null,{"$f":"IF(ET$19>$Z143,\"--\",IF(ET143=$CN$8,$CV$8,IF(ET143=$CN$9,$CV$9,$CV$10))*IF(EY143=$CD$8,$CJ$8,IF(EY143=$CD$9,$CJ$9,IF(EY143=$CD$10,$CJ$10,$CJ$11))))","v":"--"},null,null,null,null,null,null,null,null,null,{"$f":"IF(FD$19>$Z143,\"--\",IF(FD143=$CN$8,$CV$8,IF(FD143=$CN$9,$CV$9,$CV$10))*IF(FI143=$CD$8,$CJ$8,IF(FI143=$CD$9,$CJ$9,IF(FI143=$CD$10,$CJ$10,$CJ$11))))","v":"--"},null,null,null,null,null,null,null,null,null,{"$f":"IF(FN$19>$Z143,\"--\",IF(FN143=$CN$8,$CV$8,IF(FN143=$CN$9,$CV$9,$CV$10))*IF(FS143=$CD$8,$CJ$8,IF(FS143=$CD$9,$CJ$9,IF(FS143=$CD$10,$CJ$10,$CJ$11))))","v":"--"},null,null,null,null,null,null,null,null,null,{"$f":"IF(FX$19>$Z143,\"--\",IF(FX143=$CN$8,$CV$8,IF(FX143=$CN$9,$CV$9,$CV$10))*IF(GC143=$CD$8,$CJ$8,IF(GC143=$CD$9,$CJ$9,IF(GC143=$CD$10,$CJ$10,$CJ$11))))","v":"--"}]
[]
[null,null,null,null,null,null,null,null,null,null,null,null,null,null,null,null,null,null,null,"E-W",null,null,null,null,null,6,null,null,null,"2 Lanes",null,null,null,null,"<20mph",null,null,null,null,"2 Lanes",null,null,null,null,"<20mph",null,null,null,null,"2 Lanes",null,null,null,null,"<20mph",null,null,null,null,"2 Lanes",null,null,null,null,"<20mph",null,null,null,null,"2 Lanes",null,null,null,null,"<20mph",null,null,null,null,"2 Lanes",null,null,null,null,"<20mph",null,null,null,null,"1 Lane",null,null,null,null,"<20mph",null,null,null,null,"1 Lane",null,null,null,null,"<20mph",null,null,null,null,"1 Lane",null,null,null,null,"<20mph",null,null,null,null,"1 Lane",null,null,null,null,"<20mph",null,null,null,null,"1 Lane",null,null,null,null,"<20mph",null,null,null,null,"1 Lane",null,null,null,null,"<20mph",null,null,null,null,"1 Lane",null,null,null,null,"<20mph",null,null,null,null,"1 Lane",null,null,null,null,"<20mph",null,null,null,null,"1 Lane",null,null,null,null,"<20mph",null,null,null,null,"1 Lane",null,null,null,null,"<20mph",null,null,null,null,null,null,null,null,{"$f":"IF(GV145<=$BX$11,$BR$11,IF(GV145<=$BX$10,$BR$10,IF(GV145<=$BX$9,$BR$9,$BR$8)))","v":"Good"},null,null,null,null,{"$f":"MIN(HA145:ND146)","v":64},null,null,null,null,{"$f":"AVERAGE(HA145:ND146)","v":64},null,null,null,null,{"$f":"IF(AD$19>$Z145,\"--\",IF(AD145=$CN$8,$CV$8,IF(AD145=$CN$9,$CV$9,$CV$10))*IF(AI145=$CD$8,$CJ$8,IF(AI145=$CD$9,$CJ$9,IF(AI145=$CD$10,$CJ$10,$CJ$11))))","v":64},null,null,null,null,null,null,null,null,null,{"$f":"IF(AN$19>$Z145,\"--\",IF(AN145=$CN$8,$CV$8,IF(AN145=$CN$9,$CV$9,$CV$10))*IF(AS145=$CD$8,$CJ$8,IF(AS145=$CD$9,$CJ$9,IF(AS145=$CD$10,$CJ$10,$CJ$11))))","v":64},null,null,null,null,null,null,null,null,null,{"$f":"IF(AX$19>$Z145,\"--\",IF(AX145=$CN$8,$CV$8,IF(AX145=$CN$9,$CV$9,$CV$10))*IF(BC145=$CD$8,$CJ$8,IF(BC145=$CD$9,$CJ$9,IF(BC145=$CD$10,$CJ$10,$CJ$11))))","v":64},null,null,null,null,null,null,null,null,null,{"$f":"IF(BH$19>$Z145,\"--\",IF(BH145=$CN$8,$CV$8,IF(BH145=$CN$9,$CV$9,$CV$10))*IF(BM145=$CD$8,$CJ$8,IF(BM145=$CD$9,$CJ$9,IF(BM145=$CD$10,$CJ$10,$CJ$11))))","v":64},null,null,null,null,null,null,null,null,null,{"$f":"IF(BR$19>$Z145,\"--\",IF(BR145=$CN$8,$CV$8,IF(BR145=$CN$9,$CV$9,$CV$10))*IF(BW145=$CD$8,$CJ$8,IF(BW145=$CD$9,$CJ$9,IF(BW145=$CD$10,$CJ$10,$CJ$11))))","v":64},null,null,null,null,null,null,null,null,null,{"$f":"IF(CB$19>$Z145,\"--\",IF(CB145=$CN$8,$CV$8,IF(CB145=$CN$9,$CV$9,$CV$10))*IF(CG145=$CD$8,$CJ$8,IF(CG145=$CD$9,$CJ$9,IF(CG145=$CD$10,$CJ$10,$CJ$11))))","v":64},null,null,null,null,null,null,null,null,null,{"$f":"IF(CL$19>$Z145,\"--\",IF(CL145=$CN$8,$CV$8,IF(CL145=$CN$9,$CV$9,$CV$10))*IF(CQ145=$CD$8,$CJ$8,IF(CQ145=$CD$9,$CJ$9,IF(CQ145=$CD$10,$CJ$10,$CJ$11))))","v":"--"},null,null,null,null,null,null,null,null,null,{"$f":"IF(CV$19>$Z145,\"--\",IF(CV145=$CN$8,$CV$8,IF(CV145=$CN$9,$CV$9,$CV$10))*IF(DA145=$CD$8,$CJ$8,IF(DA145=$CD$9,$CJ$9,IF(DA145=$CD$10,$CJ$10,$CJ$11))))","v":"--"},null,null,null,null,null,null,null,null,null,{"$f":"IF(DF$19>$Z145,\"--\",IF(DF145=$CN$8,$CV$8,IF(DF145=$CN$9,$CV$9,$CV$10))*IF(DK145=$CD$8,$CJ$8,IF(DK145=$CD$9,$CJ$9,IF(DK145=$CD$10,$CJ$10,$CJ$11))))","v":"--"},null,null,null,null,null,null,null,null,null,{"$f":"IF(DP$19>$Z145,\"--\",IF(DP145=$CN$8,$CV$8,IF(DP145=$CN$9,$CV$9,$CV$10))*IF(DU145=$CD$8,$CJ$8,IF(DU145=$CD$9,$CJ$9,IF(DU145=$CD$10,$CJ$10,$CJ$11))))","v":"--"},null,null,null,null,null,null,null,null,null,{"$f":"IF(DZ$19>$Z145,\"--\",IF(DZ145=$CN$8,$CV$8,IF(DZ145=$CN$9,$CV$9,$CV$10))*IF(EE145=$CD$8,$CJ$8,IF(EE145=$CD$9,$CJ$9,IF(EE145=$CD$10,$CJ$10,$CJ$11))))","v":"--"},null,null,null,null,null,null,null,null,null,{"$f":"IF(EJ$19>$Z145,\"--\",IF(EJ145=$CN$8,$CV$8,IF(EJ145=$CN$9,$CV$9,$CV$10))*IF(EO145=$CD$8,$CJ$8,IF(EO145=$CD$9,$CJ$9,IF(EO145=$CD$10,$CJ$10,$CJ$11))))","v":"--"},null,null,null,null,null,null,null,null,null,{"$f":"IF(ET$19>$Z145,\"--\",IF(ET145=$CN$8,$CV$8,IF(ET145=$CN$9,$CV$9,$CV$10))*IF(EY145=$CD$8,$CJ$8,IF(EY145=$CD$9,$CJ$9,IF(EY145=$CD$10,$CJ$10,$CJ$11))))","v":"--"},null,null,null,null,null,null,null,null,null,{"$f":"IF(FD$19>$Z145,\"--\",IF(FD145=$CN$8,$CV$8,IF(FD145=$CN$9,$CV$9,$CV$10))*IF(FI145=$CD$8,$CJ$8,IF(FI145=$CD$9,$CJ$9,IF(FI145=$CD$10,$CJ$10,$CJ$11))))","v":"--"},null,null,null,null,null,null,null,null,null,{"$f":"IF(FN$19>$Z145,\"--\",IF(FN145=$CN$8,$CV$8,IF(FN145=$CN$9,$CV$9,$CV$10))*IF(FS145=$CD$8,$CJ$8,IF(FS145=$CD$9,$CJ$9,IF(FS145=$CD$10,$CJ$10,$CJ$11))))","v":"--"},null,null,null,null,null,null,null,null,null,{"$f":"IF(FX$19>$Z145,\"--\",IF(FX145=$CN$8,$CV$8,IF(FX145=$CN$9,$CV$9,$CV$10))*IF(GC145=$CD$8,$CJ$8,IF(GC145=$CD$9,$CJ$9,IF(GC145=$CD$10,$CJ$10,$CJ$11))))","v":"--"}]
[]
["Contraflow Left Interchange",null,null,null,null,null,null,null,null,null,null,null,null,null,null,null,null,null,null,"N-S",null,null,null,null,null,6,null,null,null,"2 Lanes",null,null,null,null,"<20mph",null,null,null,null,"2 Lanes",null,null,null,null,"<20mph",null,null,null,null,"2 Lanes",null,null,null,null,"<20mph",null,null,null,null,"2 Lanes",null,null,null,null,"<20mph",null,null,null,null,"2 Lanes",null,null,null,null,"<20mph",null,null,null,null,"2 Lanes",null,null,null,null,"<20mph",null,null,null,null,"1 Lane",null,null,null,null,"<20mph",null,null,null,null,"1 Lane",null,null,null,null,"<20mph",null,null,null,null,"1 Lane",null,null,null,null,"<20mph",null,null,null,null,"1 Lane",null,null,null,null,"<20mph",null,null,null,null,"1 Lane",null,null,null,null,"<20mph",null,null,null,null,"1 Lane",null,null,null,null,"<20mph",null,null,null,null,"1 Lane",null,null,null,null,"<20mph",null,null,null,null,"1 Lane",null,null,null,null,"<20mph",null,null,null,null,"1 Lane",null,null,null,null,"<20mph",null,null,null,null,"1 Lane",null,null,null,null,"<20mph",null,null,null,null,null,null,null,null,{"$f":"IF(GV147<=$BX$11,$BR$11,IF(GV147<=$BX$10,$BR$10,IF(GV147<=$BX$9,$BR$9,$BR$8)))","v":"Good"},null,null,null,null,{"$f":"MIN(HA147:ND148)","v":64},null,null,null,null,{"$f":"AVERAGE(HA147:ND148)","v":64},null,null,null,null,{"$f":"IF(AD$19>$Z147,\"--\",IF(AD147=$CN$8,$CV$8,IF(AD147=$CN$9,$CV$9,$CV$10))*IF(AI147=$CD$8,$CJ$8,IF(AI147=$CD$9,$CJ$9,IF(AI147=$CD$10,$CJ$10,$CJ$11))))","v":64},null,null,null,null,null,null,null,null,null,{"$f":"IF(AN$19>$Z147,\"--\",IF(AN147=$CN$8,$CV$8,IF(AN147=$CN$9,$CV$9,$CV$10))*IF(AS147=$CD$8,$CJ$8,IF(AS147=$CD$9,$CJ$9,IF(AS147=$CD$10,$CJ$10,$CJ$11))))","v":64},null,null,null,null,null,null,null,null,null,{"$f":"IF(AX$19>$Z147,\"--\",IF(AX147=$CN$8,$CV$8,IF(AX147=$CN$9,$CV$9,$CV$10))*IF(BC147=$CD$8,$CJ$8,IF(BC147=$CD$9,$CJ$9,IF(BC147=$CD$10,$CJ$10,$CJ$11))))","v":64},null,null,null,null,null,null,null,null,null,{"$f":"IF(BH$19>$Z147,\"--\",IF(BH147=$CN$8,$CV$8,IF(BH147=$CN$9,$CV$9,$CV$10))*IF(BM147=$CD$8,$CJ$8,IF(BM147=$CD$9,$CJ$9,IF(BM147=$CD$10,$CJ$10,$CJ$11))))","v":64},null,null,null,null,null,null,null,null,null,{"$f":"IF(BR$19>$Z147,\"--\",IF(BR147=$CN$8,$CV$8,IF(BR147=$CN$9,$CV$9,$CV$10))*IF(BW147=$CD$8,$CJ$8,IF(BW147=$CD$9,$CJ$9,IF(BW147=$CD$10,$CJ$10,$CJ$11))))","v":64},null,null,null,null,null,null,null,null,null,{"$f":"IF(CB$19>$Z147,\"--\",IF(CB147=$CN$8,$CV$8,IF(CB147=$CN$9,$CV$9,$CV$10))*IF(CG147=$CD$8,$CJ$8,IF(CG147=$CD$9,$CJ$9,IF(CG147=$CD$10,$CJ$10,$CJ$11))))","v":64},null,null,null,null,null,null,null,null,null,{"$f":"IF(CL$19>$Z147,\"--\",IF(CL147=$CN$8,$CV$8,IF(CL147=$CN$9,$CV$9,$CV$10))*IF(CQ147=$CD$8,$CJ$8,IF(CQ147=$CD$9,$CJ$9,IF(CQ147=$CD$10,$CJ$10,$CJ$11))))","v":"--"},null,null,null,null,null,null,null,null,null,{"$f":"IF(CV$19>$Z147,\"--\",IF(CV147=$CN$8,$CV$8,IF(CV147=$CN$9,$CV$9,$CV$10))*IF(DA147=$CD$8,$CJ$8,IF(DA147=$CD$9,$CJ$9,IF(DA147=$CD$10,$CJ$10,$CJ$11))))","v":"--"},null,null,null,null,null,null,null,null,null,{"$f":"IF(DF$19>$Z147,\"--\",IF(DF147=$CN$8,$CV$8,IF(DF147=$CN$9,$CV$9,$CV$10))*IF(DK147=$CD$8,$CJ$8,IF(DK147=$CD$9,$CJ$9,IF(DK147=$CD$10,$CJ$10,$CJ$11))))","v":"--"},null,null,null,null,null,null,null,null,null,{"$f":"IF(DP$19>$Z147,\"--\",IF(DP147=$CN$8,$CV$8,IF(DP147=$CN$9,$CV$9,$CV$10))*IF(DU147=$CD$8,$CJ$8,IF(DU147=$CD$9,$CJ$9,IF(DU147=$CD$10,$CJ$10,$CJ$11))))","v":"--"},null,null,null,null,null,null,null,null,null,{"$f":"IF(DZ$19>$Z147,\"--\",IF(DZ147=$CN$8,$CV$8,IF(DZ147=$CN$9,$CV$9,$CV$10))*IF(EE147=$CD$8,$CJ$8,IF(EE147=$CD$9,$CJ$9,IF(EE147=$CD$10,$CJ$10,$CJ$11))))","v":"--"},null,null,null,null,null,null,null,null,null,{"$f":"IF(EJ$19>$Z147,\"--\",IF(EJ147=$CN$8,$CV$8,IF(EJ147=$CN$9,$CV$9,$CV$10))*IF(EO147=$CD$8,$CJ$8,IF(EO147=$CD$9,$CJ$9,IF(EO147=$CD$10,$CJ$10,$CJ$11))))","v":"--"},null,null,null,null,null,null,null,null,null,{"$f":"IF(ET$19>$Z147,\"--\",IF(ET147=$CN$8,$CV$8,IF(ET147=$CN$9,$CV$9,$CV$10))*IF(EY147=$CD$8,$CJ$8,IF(EY147=$CD$9,$CJ$9,IF(EY147=$CD$10,$CJ$10,$CJ$11))))","v":"--"},null,null,null,null,null,null,null,null,null,{"$f":"IF(FD$19>$Z147,\"--\",IF(FD147=$CN$8,$CV$8,IF(FD147=$CN$9,$CV$9,$CV$10))*IF(FI147=$CD$8,$CJ$8,IF(FI147=$CD$9,$CJ$9,IF(FI147=$CD$10,$CJ$10,$CJ$11))))","v":"--"},null,null,null,null,null,null,null,null,null,{"$f":"IF(FN$19>$Z147,\"--\",IF(FN147=$CN$8,$CV$8,IF(FN147=$CN$9,$CV$9,$CV$10))*IF(FS147=$CD$8,$CJ$8,IF(FS147=$CD$9,$CJ$9,IF(FS147=$CD$10,$CJ$10,$CJ$11))))","v":"--"},null,null,null,null,null,null,null,null,null,{"$f":"IF(FX$19>$Z147,\"--\",IF(FX147=$CN$8,$CV$8,IF(FX147=$CN$9,$CV$9,$CV$10))*IF(GC147=$CD$8,$CJ$8,IF(GC147=$CD$9,$CJ$9,IF(GC147=$CD$10,$CJ$10,$CJ$11))))","v":"--"}]
[]
[null,null,null,null,null,null,null,null,null,null,null,null,null,null,null,null,null,null,null,"E-W",null,null,null,null,null,6,null,null,null,"2 Lanes",null,null,null,null,"<20mph",null,null,null,null,"2 Lanes",null,null,null,null,"<20mph",null,null,null,null,"2 Lanes",null,null,null,null,"<20mph",null,null,null,null,"2 Lanes",null,null,null,null,"<20mph",null,null,null,null,"2 Lanes",null,null,null,null,"<20mph",null,null,null,null,"2 Lanes",null,null,null,null,"<20mph",null,null,null,null,"1 Lane",null,null,null,null,"<20mph",null,null,null,null,"1 Lane",null,null,null,null,"<20mph",null,null,null,null,"1 Lane",null,null,null,null,"<20mph",null,null,null,null,"1 Lane",null,null,null,null,"<20mph",null,null,null,null,"1 Lane",null,null,null,null,"<20mph",null,null,null,null,"1 Lane",null,null,null,null,"<20mph",null,null,null,null,"1 Lane",null,null,null,null,"<20mph",null,null,null,null,"1 Lane",null,null,null,null,"<20mph",null,null,null,null,"1 Lane",null,null,null,null,"<20mph",null,null,null,null,"1 Lane",null,null,null,null,"<20mph",null,null,null,null,null,null,null,null,{"$f":"IF(GV149<=$BX$11,$BR$11,IF(GV149<=$BX$10,$BR$10,IF(GV149<=$BX$9,$BR$9,$BR$8)))","v":"Good"},null,null,null,null,{"$f":"MIN(HA149:ND150)","v":64},null,null,null,null,{"$f":"AVERAGE(HA149:ND150)","v":64},null,null,null,null,{"$f":"IF(AD$19>$Z149,\"--\",IF(AD149=$CN$8,$CV$8,IF(AD149=$CN$9,$CV$9,$CV$10))*IF(AI149=$CD$8,$CJ$8,IF(AI149=$CD$9,$CJ$9,IF(AI149=$CD$10,$CJ$10,$CJ$11))))","v":64},null,null,null,null,null,null,null,null,null,{"$f":"IF(AN$19>$Z149,\"--\",IF(AN149=$CN$8,$CV$8,IF(AN149=$CN$9,$CV$9,$CV$10))*IF(AS149=$CD$8,$CJ$8,IF(AS149=$CD$9,$CJ$9,IF(AS149=$CD$10,$CJ$10,$CJ$11))))","v":64},null,null,null,null,null,null,null,null,null,{"$f":"IF(AX$19>$Z149,\"--\",IF(AX149=$CN$8,$CV$8,IF(AX149=$CN$9,$CV$9,$CV$10))*IF(BC149=$CD$8,$CJ$8,IF(BC149=$CD$9,$CJ$9,IF(BC149=$CD$10,$CJ$10,$CJ$11))))","v":64},null,null,null,null,null,null,null,null,null,{"$f":"IF(BH$19>$Z149,\"--\",IF(BH149=$CN$8,$CV$8,IF(BH149=$CN$9,$CV$9,$CV$10))*IF(BM149=$CD$8,$CJ$8,IF(BM149=$CD$9,$CJ$9,IF(BM149=$CD$10,$CJ$10,$CJ$11))))","v":64},null,null,null,null,null,null,null,null,null,{"$f":"IF(BR$19>$Z149,\"--\",IF(BR149=$CN$8,$CV$8,IF(BR149=$CN$9,$CV$9,$CV$10))*IF(BW149=$CD$8,$CJ$8,IF(BW149=$CD$9,$CJ$9,IF(BW149=$CD$10,$CJ$10,$CJ$11))))","v":64},null,null,null,null,null,null,null,null,null,{"$f":"IF(CB$19>$Z149,\"--\",IF(CB149=$CN$8,$CV$8,IF(CB149=$CN$9,$CV$9,$CV$10))*IF(CG149=$CD$8,$CJ$8,IF(CG149=$CD$9,$CJ$9,IF(CG149=$CD$10,$CJ$10,$CJ$11))))","v":64},null,null,null,null,null,null,null,null,null,{"$f":"IF(CL$19>$Z149,\"--\",IF(CL149=$CN$8,$CV$8,IF(CL149=$CN$9,$CV$9,$CV$10))*IF(CQ149=$CD$8,$CJ$8,IF(CQ149=$CD$9,$CJ$9,IF(CQ149=$CD$10,$CJ$10,$CJ$11))))","v":"--"},null,null,null,null,null,null,null,null,null,{"$f":"IF(CV$19>$Z149,\"--\",IF(CV149=$CN$8,$CV$8,IF(CV149=$CN$9,$CV$9,$CV$10))*IF(DA149=$CD$8,$CJ$8,IF(DA149=$CD$9,$CJ$9,IF(DA149=$CD$10,$CJ$10,$CJ$11))))","v":"--"},null,null,null,null,null,null,null,null,null,{"$f":"IF(DF$19>$Z149,\"--\",IF(DF149=$CN$8,$CV$8,IF(DF149=$CN$9,$CV$9,$CV$10))*IF(DK149=$CD$8,$CJ$8,IF(DK149=$CD$9,$CJ$9,IF(DK149=$CD$10,$CJ$10,$CJ$11))))","v":"--"},null,null,null,null,null,null,null,null,null,{"$f":"IF(DP$19>$Z149,\"--\",IF(DP149=$CN$8,$CV$8,IF(DP149=$CN$9,$CV$9,$CV$10))*IF(DU149=$CD$8,$CJ$8,IF(DU149=$CD$9,$CJ$9,IF(DU149=$CD$10,$CJ$10,$CJ$11))))","v":"--"},null,null,null,null,null,null,null,null,null,{"$f":"IF(DZ$19>$Z149,\"--\",IF(DZ149=$CN$8,$CV$8,IF(DZ149=$CN$9,$CV$9,$CV$10))*IF(EE149=$CD$8,$CJ$8,IF(EE149=$CD$9,$CJ$9,IF(EE149=$CD$10,$CJ$10,$CJ$11))))","v":"--"},null,null,null,null,null,null,null,null,null,{"$f":"IF(EJ$19>$Z149,\"--\",IF(EJ149=$CN$8,$CV$8,IF(EJ149=$CN$9,$CV$9,$CV$10))*IF(EO149=$CD$8,$CJ$8,IF(EO149=$CD$9,$CJ$9,IF(EO149=$CD$10,$CJ$10,$CJ$11))))","v":"--"},null,null,null,null,null,null,null,null,null,{"$f":"IF(ET$19>$Z149,\"--\",IF(ET149=$CN$8,$CV$8,IF(ET149=$CN$9,$CV$9,$CV$10))*IF(EY149=$CD$8,$CJ$8,IF(EY149=$CD$9,$CJ$9,IF(EY149=$CD$10,$CJ$10,$CJ$11))))","v":"--"},null,null,null,null,null,null,null,null,null,{"$f":"IF(FD$19>$Z149,\"--\",IF(FD149=$CN$8,$CV$8,IF(FD149=$CN$9,$CV$9,$CV$10))*IF(FI149=$CD$8,$CJ$8,IF(FI149=$CD$9,$CJ$9,IF(FI149=$CD$10,$CJ$10,$CJ$11))))","v":"--"},null,null,null,null,null,null,null,null,null,{"$f":"IF(FN$19>$Z149,\"--\",IF(FN149=$CN$8,$CV$8,IF(FN149=$CN$9,$CV$9,$CV$10))*IF(FS149=$CD$8,$CJ$8,IF(FS149=$CD$9,$CJ$9,IF(FS149=$CD$10,$CJ$10,$CJ$11))))","v":"--"},null,null,null,null,null,null,null,null,null,{"$f":"IF(FX$19>$Z149,\"--\",IF(FX149=$CN$8,$CV$8,IF(FX149=$CN$9,$CV$9,$CV$10))*IF(GC149=$CD$8,$CJ$8,IF(GC149=$CD$9,$CJ$9,IF(GC149=$CD$10,$CJ$10,$CJ$11))))","v":"--"}]
[]
["Diverging Diamond Interchange",null,null,null,null,null,null,null,null,null,null,null,null,null,null,null,null,null,null,"N-S",null,null,null,null,null,6,null,null,null,"2 Lanes",null,null,null,null,"<20mph",null,null,null,null,"2 Lanes",null,null,null,null,"<20mph",null,null,null,null,"2 Lanes",null,null,null,null,"<20mph",null,null,null,null,"2 Lanes",null,null,null,null,"<20mph",null,null,null,null,"2 Lanes",null,null,null,null,"<20mph",null,null,null,null,"2 Lanes",null,null,null,null,"<20mph",null,null,null,null,"1 Lane",null,null,null,null,"<20mph",null,null,null,null,"1 Lane",null,null,null,null,"<20mph",null,null,null,null,"1 Lane",null,null,null,null,"<20mph",null,null,null,null,"1 Lane",null,null,null,null,"<20mph",null,null,null,null,"1 Lane",null,null,null,null,"<20mph",null,null,null,null,"1 Lane",null,null,null,null,"<20mph",null,null,null,null,"1 Lane",null,null,null,null,"<20mph",null,null,null,null,"1 Lane",null,null,null,null,"<20mph",null,null,null,null,"1 Lane",null,null,null,null,"<20mph",null,null,null,null,"1 Lane",null,null,null,null,"<20mph",null,null,null,null,null,null,null,null,{"$f":"IF(GV151<=$BX$11,$BR$11,IF(GV151<=$BX$10,$BR$10,IF(GV151<=$BX$9,$BR$9,$BR$8)))","v":"Good"},null,null,null,null,{"$f":"MIN(HA151:ND152)","v":64},null,null,null,null,{"$f":"AVERAGE(HA151:ND152)","v":64},null,null,null,null,{"$f":"IF(AD$19>$Z151,\"--\",IF(AD151=$CN$8,$CV$8,IF(AD151=$CN$9,$CV$9,$CV$10))*IF(AI151=$CD$8,$CJ$8,IF(AI151=$CD$9,$CJ$9,IF(AI151=$CD$10,$CJ$10,$CJ$11))))","v":64},null,null,null,null,null,null,null,null,null,{"$f":"IF(AN$19>$Z151,\"--\",IF(AN151=$CN$8,$CV$8,IF(AN151=$CN$9,$CV$9,$CV$10))*IF(AS151=$CD$8,$CJ$8,IF(AS151=$CD$9,$CJ$9,IF(AS151=$CD$10,$CJ$10,$CJ$11))))","v":64},null,null,null,null,null,null,null,null,null,{"$f":"IF(AX$19>$Z151,\"--\",IF(AX151=$CN$8,$CV$8,IF(AX151=$CN$9,$CV$9,$CV$10))*IF(BC151=$CD$8,$CJ$8,IF(BC151=$CD$9,$CJ$9,IF(BC151=$CD$10,$CJ$10,$CJ$11))))","v":64},null,null,null,null,null,null,null,null,null,{"$f":"IF(BH$19>$Z151,\"--\",IF(BH151=$CN$8,$CV$8,IF(BH151=$CN$9,$CV$9,$CV$10))*IF(BM151=$CD$8,$CJ$8,IF(BM151=$CD$9,$CJ$9,IF(BM151=$CD$10,$CJ$10,$CJ$11))))","v":64},null,null,null,null,null,null,null,null,null,{"$f":"IF(BR$19>$Z151,\"--\",IF(BR151=$CN$8,$CV$8,IF(BR151=$CN$9,$CV$9,$CV$10))*IF(BW151=$CD$8,$CJ$8,IF(BW151=$CD$9,$CJ$9,IF(BW151=$CD$10,$CJ$10,$CJ$11))))","v":64},null,null,null,null,null,null,null,null,null,{"$f":"IF(CB$19>$Z151,\"--\",IF(CB151=$CN$8,$CV$8,IF(CB151=$CN$9,$CV$9,$CV$10))*IF(CG151=$CD$8,$CJ$8,IF(CG151=$CD$9,$CJ$9,IF(CG151=$CD$10,$CJ$10,$CJ$11))))","v":64},null,null,null,null,null,null,null,null,null,{"$f":"IF(CL$19>$Z151,\"--\",IF(CL151=$CN$8,$CV$8,IF(CL151=$CN$9,$CV$9,$CV$10))*IF(CQ151=$CD$8,$CJ$8,IF(CQ151=$CD$9,$CJ$9,IF(CQ151=$CD$10,$CJ$10,$CJ$11))))","v":"--"},null,null,null,null,null,null,null,null,null,{"$f":"IF(CV$19>$Z151,\"--\",IF(CV151=$CN$8,$CV$8,IF(CV151=$CN$9,$CV$9,$CV$10))*IF(DA151=$CD$8,$CJ$8,IF(DA151=$CD$9,$CJ$9,IF(DA151=$CD$10,$CJ$10,$CJ$11))))","v":"--"},null,null,null,null,null,null,null,null,null,{"$f":"IF(DF$19>$Z151,\"--\",IF(DF151=$CN$8,$CV$8,IF(DF151=$CN$9,$CV$9,$CV$10))*IF(DK151=$CD$8,$CJ$8,IF(DK151=$CD$9,$CJ$9,IF(DK151=$CD$10,$CJ$10,$CJ$11))))","v":"--"},null,null,null,null,null,null,null,null,null,{"$f":"IF(DP$19>$Z151,\"--\",IF(DP151=$CN$8,$CV$8,IF(DP151=$CN$9,$CV$9,$CV$10))*IF(DU151=$CD$8,$CJ$8,IF(DU151=$CD$9,$CJ$9,IF(DU151=$CD$10,$CJ$10,$CJ$11))))","v":"--"},null,null,null,null,null,null,null,null,null,{"$f":"IF(DZ$19>$Z151,\"--\",IF(DZ151=$CN$8,$CV$8,IF(DZ151=$CN$9,$CV$9,$CV$10))*IF(EE151=$CD$8,$CJ$8,IF(EE151=$CD$9,$CJ$9,IF(EE151=$CD$10,$CJ$10,$CJ$11))))","v":"--"},null,null,null,null,null,null,null,null,null,{"$f":"IF(EJ$19>$Z151,\"--\",IF(EJ151=$CN$8,$CV$8,IF(EJ151=$CN$9,$CV$9,$CV$10))*IF(EO151=$CD$8,$CJ$8,IF(EO151=$CD$9,$CJ$9,IF(EO151=$CD$10,$CJ$10,$CJ$11))))","v":"--"},null,null,null,null,null,null,null,null,null,{"$f":"IF(ET$19>$Z151,\"--\",IF(ET151=$CN$8,$CV$8,IF(ET151=$CN$9,$CV$9,$CV$10))*IF(EY151=$CD$8,$CJ$8,IF(EY151=$CD$9,$CJ$9,IF(EY151=$CD$10,$CJ$10,$CJ$11))))","v":"--"},null,null,null,null,null,null,null,null,null,{"$f":"IF(FD$19>$Z151,\"--\",IF(FD151=$CN$8,$CV$8,IF(FD151=$CN$9,$CV$9,$CV$10))*IF(FI151=$CD$8,$CJ$8,IF(FI151=$CD$9,$CJ$9,IF(FI151=$CD$10,$CJ$10,$CJ$11))))","v":"--"},null,null,null,null,null,null,null,null,null,{"$f":"IF(FN$19>$Z151,\"--\",IF(FN151=$CN$8,$CV$8,IF(FN151=$CN$9,$CV$9,$CV$10))*IF(FS151=$CD$8,$CJ$8,IF(FS151=$CD$9,$CJ$9,IF(FS151=$CD$10,$CJ$10,$CJ$11))))","v":"--"},null,null,null,null,null,null,null,null,null,{"$f":"IF(FX$19>$Z151,\"--\",IF(FX151=$CN$8,$CV$8,IF(FX151=$CN$9,$CV$9,$CV$10))*IF(GC151=$CD$8,$CJ$8,IF(GC151=$CD$9,$CJ$9,IF(GC151=$CD$10,$CJ$10,$CJ$11))))","v":"--"}]
[]
[null,null,null,null,null,null,null,null,null,null,null,null,null,null,null,null,null,null,null,"E-W",null,null,null,null,null,6,null,null,null,"2 Lanes",null,null,null,null,"<20mph",null,null,null,null,"2 Lanes",null,null,null,null,"<20mph",null,null,null,null,"2 Lanes",null,null,null,null,"<20mph",null,null,null,null,"2 Lanes",null,null,null,null,"<20mph",null,null,null,null,"2 Lanes",null,null,null,null,"<20mph",null,null,null,null,"2 Lanes",null,null,null,null,"<20mph",null,null,null,null,"1 Lane",null,null,null,null,"<20mph",null,null,null,null,"1 Lane",null,null,null,null,"<20mph",null,null,null,null,"1 Lane",null,null,null,null,"<20mph",null,null,null,null,"1 Lane",null,null,null,null,"<20mph",null,null,null,null,"1 Lane",null,null,null,null,"<20mph",null,null,null,null,"1 Lane",null,null,null,null,"<20mph",null,null,null,null,"1 Lane",null,null,null,null,"<20mph",null,null,null,null,"1 Lane",null,null,null,null,"<20mph",null,null,null,null,"1 Lane",null,null,null,null,"<20mph",null,null,null,null,"1 Lane",null,null,null,null,"<20mph",null,null,null,null,null,null,null,null,{"$f":"IF(GV153<=$BX$11,$BR$11,IF(GV153<=$BX$10,$BR$10,IF(GV153<=$BX$9,$BR$9,$BR$8)))","v":"Good"},null,null,null,null,{"$f":"MIN(HA153:ND154)","v":64},null,null,null,null,{"$f":"AVERAGE(HA153:ND154)","v":64},null,null,null,null,{"$f":"IF(AD$19>$Z153,\"--\",IF(AD153=$CN$8,$CV$8,IF(AD153=$CN$9,$CV$9,$CV$10))*IF(AI153=$CD$8,$CJ$8,IF(AI153=$CD$9,$CJ$9,IF(AI153=$CD$10,$CJ$10,$CJ$11))))","v":64},null,null,null,null,null,null,null,null,null,{"$f":"IF(AN$19>$Z153,\"--\",IF(AN153=$CN$8,$CV$8,IF(AN153=$CN$9,$CV$9,$CV$10))*IF(AS153=$CD$8,$CJ$8,IF(AS153=$CD$9,$CJ$9,IF(AS153=$CD$10,$CJ$10,$CJ$11))))","v":64},null,null,null,null,null,null,null,null,null,{"$f":"IF(AX$19>$Z153,\"--\",IF(AX153=$CN$8,$CV$8,IF(AX153=$CN$9,$CV$9,$CV$10))*IF(BC153=$CD$8,$CJ$8,IF(BC153=$CD$9,$CJ$9,IF(BC153=$CD$10,$CJ$10,$CJ$11))))","v":64},null,null,null,null,null,null,null,null,null,{"$f":"IF(BH$19>$Z153,\"--\",IF(BH153=$CN$8,$CV$8,IF(BH153=$CN$9,$CV$9,$CV$10))*IF(BM153=$CD$8,$CJ$8,IF(BM153=$CD$9,$CJ$9,IF(BM153=$CD$10,$CJ$10,$CJ$11))))","v":64},null,null,null,null,null,null,null,null,null,{"$f":"IF(BR$19>$Z153,\"--\",IF(BR153=$CN$8,$CV$8,IF(BR153=$CN$9,$CV$9,$CV$10))*IF(BW153=$CD$8,$CJ$8,IF(BW153=$CD$9,$CJ$9,IF(BW153=$CD$10,$CJ$10,$CJ$11))))","v":64},null,null,null,null,null,null,null,null,null,{"$f":"IF(CB$19>$Z153,\"--\",IF(CB153=$CN$8,$CV$8,IF(CB153=$CN$9,$CV$9,$CV$10))*IF(CG153=$CD$8,$CJ$8,IF(CG153=$CD$9,$CJ$9,IF(CG153=$CD$10,$CJ$10,$CJ$11))))","v":64},null,null,null,null,null,null,null,null,null,{"$f":"IF(CL$19>$Z153,\"--\",IF(CL153=$CN$8,$CV$8,IF(CL153=$CN$9,$CV$9,$CV$10))*IF(CQ153=$CD$8,$CJ$8,IF(CQ153=$CD$9,$CJ$9,IF(CQ153=$CD$10,$CJ$10,$CJ$11))))","v":"--"},null,null,null,null,null,null,null,null,null,{"$f":"IF(CV$19>$Z153,\"--\",IF(CV153=$CN$8,$CV$8,IF(CV153=$CN$9,$CV$9,$CV$10))*IF(DA153=$CD$8,$CJ$8,IF(DA153=$CD$9,$CJ$9,IF(DA153=$CD$10,$CJ$10,$CJ$11))))","v":"--"},null,null,null,null,null,null,null,null,null,{"$f":"IF(DF$19>$Z153,\"--\",IF(DF153=$CN$8,$CV$8,IF(DF153=$CN$9,$CV$9,$CV$10))*IF(DK153=$CD$8,$CJ$8,IF(DK153=$CD$9,$CJ$9,IF(DK153=$CD$10,$CJ$10,$CJ$11))))","v":"--"},null,null,null,null,null,null,null,null,null,{"$f":"IF(DP$19>$Z153,\"--\",IF(DP153=$CN$8,$CV$8,IF(DP153=$CN$9,$CV$9,$CV$10))*IF(DU153=$CD$8,$CJ$8,IF(DU153=$CD$9,$CJ$9,IF(DU153=$CD$10,$CJ$10,$CJ$11))))","v":"--"},null,null,null,null,null,null,null,null,null,{"$f":"IF(DZ$19>$Z153,\"--\",IF(DZ153=$CN$8,$CV$8,IF(DZ153=$CN$9,$CV$9,$CV$10))*IF(EE153=$CD$8,$CJ$8,IF(EE153=$CD$9,$CJ$9,IF(EE153=$CD$10,$CJ$10,$CJ$11))))","v":"--"},null,null,null,null,null,null,null,null,null,{"$f":"IF(EJ$19>$Z153,\"--\",IF(EJ153=$CN$8,$CV$8,IF(EJ153=$CN$9,$CV$9,$CV$10))*IF(EO153=$CD$8,$CJ$8,IF(EO153=$CD$9,$CJ$9,IF(EO153=$CD$10,$CJ$10,$CJ$11))))","v":"--"},null,null,null,null,null,null,null,null,null,{"$f":"IF(ET$19>$Z153,\"--\",IF(ET153=$CN$8,$CV$8,IF(ET153=$CN$9,$CV$9,$CV$10))*IF(EY153=$CD$8,$CJ$8,IF(EY153=$CD$9,$CJ$9,IF(EY153=$CD$10,$CJ$10,$CJ$11))))","v":"--"},null,null,null,null,null,null,null,null,null,{"$f":"IF(FD$19>$Z153,\"--\",IF(FD153=$CN$8,$CV$8,IF(FD153=$CN$9,$CV$9,$CV$10))*IF(FI153=$CD$8,$CJ$8,IF(FI153=$CD$9,$CJ$9,IF(FI153=$CD$10,$CJ$10,$CJ$11))))","v":"--"},null,null,null,null,null,null,null,null,null,{"$f":"IF(FN$19>$Z153,\"--\",IF(FN153=$CN$8,$CV$8,IF(FN153=$CN$9,$CV$9,$CV$10))*IF(FS153=$CD$8,$CJ$8,IF(FS153=$CD$9,$CJ$9,IF(FS153=$CD$10,$CJ$10,$CJ$11))))","v":"--"},null,null,null,null,null,null,null,null,null,{"$f":"IF(FX$19>$Z153,\"--\",IF(FX153=$CN$8,$CV$8,IF(FX153=$CN$9,$CV$9,$CV$10))*IF(GC153=$CD$8,$CJ$8,IF(GC153=$CD$9,$CJ$9,IF(GC153=$CD$10,$CJ$10,$CJ$11))))","v":"--"}]
[]
["Single Point ",null,null,null,null,null,null,null,null,null,null,null,null,null,null,null,null,null,null,"N-S",null,null,null,null,null,6,null,null,null,"2 Lanes",null,null,null,null,"<20mph",null,null,null,null,"2 Lanes",null,null,null,null,"<20mph",null,null,null,null,"2 Lanes",null,null,null,null,"<20mph",null,null,null,null,"2 Lanes",null,null,null,null,"<20mph",null,null,null,null,"2 Lanes",null,null,null,null,"<20mph",null,null,null,null,"2 Lanes",null,null,null,null,"<20mph",null,null,null,null,"1 Lane",null,null,null,null,"<20mph",null,null,null,null,"1 Lane",null,null,null,null,"<20mph",null,null,null,null,"1 Lane",null,null,null,null,"<20mph",null,null,null,null,"1 Lane",null,null,null,null,"<20mph",null,null,null,null,"1 Lane",null,null,null,null,"<20mph",null,null,null,null,"1 Lane",null,null,null,null,"<20mph",null,null,null,null,"1 Lane",null,null,null,null,"<20mph",null,null,null,null,"1 Lane",null,null,null,null,"<20mph",null,null,null,null,"1 Lane",null,null,null,null,"<20mph",null,null,null,null,"1 Lane",null,null,null,null,"<20mph",null,null,null,null,null,null,null,null,{"$f":"IF(GV155<=$BX$11,$BR$11,IF(GV155<=$BX$10,$BR$10,IF(GV155<=$BX$9,$BR$9,$BR$8)))","v":"Good"},null,null,null,null,{"$f":"MIN(HA155:ND156)","v":64},null,null,null,null,{"$f":"AVERAGE(HA155:ND156)","v":64},null,null,null,null,{"$f":"IF(AD$19>$Z155,\"--\",IF(AD155=$CN$8,$CV$8,IF(AD155=$CN$9,$CV$9,$CV$10))*IF(AI155=$CD$8,$CJ$8,IF(AI155=$CD$9,$CJ$9,IF(AI155=$CD$10,$CJ$10,$CJ$11))))","v":64},null,null,null,null,null,null,null,null,null,{"$f":"IF(AN$19>$Z155,\"--\",IF(AN155=$CN$8,$CV$8,IF(AN155=$CN$9,$CV$9,$CV$10))*IF(AS155=$CD$8,$CJ$8,IF(AS155=$CD$9,$CJ$9,IF(AS155=$CD$10,$CJ$10,$CJ$11))))","v":64},null,null,null,null,null,null,null,null,null,{"$f":"IF(AX$19>$Z155,\"--\",IF(AX155=$CN$8,$CV$8,IF(AX155=$CN$9,$CV$9,$CV$10))*IF(BC155=$CD$8,$CJ$8,IF(BC155=$CD$9,$CJ$9,IF(BC155=$CD$10,$CJ$10,$CJ$11))))","v":64},null,null,null,null,null,null,null,null,null,{"$f":"IF(BH$19>$Z155,\"--\",IF(BH155=$CN$8,$CV$8,IF(BH155=$CN$9,$CV$9,$CV$10))*IF(BM155=$CD$8,$CJ$8,IF(BM155=$CD$9,$CJ$9,IF(BM155=$CD$10,$CJ$10,$CJ$11))))","v":64},null,null,null,null,null,null,null,null,null,{"$f":"IF(BR$19>$Z155,\"--\",IF(BR155=$CN$8,$CV$8,IF(BR155=$CN$9,$CV$9,$CV$10))*IF(BW155=$CD$8,$CJ$8,IF(BW155=$CD$9,$CJ$9,IF(BW155=$CD$10,$CJ$10,$CJ$11))))","v":64},null,null,null,null,null,null,null,null,null,{"$f":"IF(CB$19>$Z155,\"--\",IF(CB155=$CN$8,$CV$8,IF(CB155=$CN$9,$CV$9,$CV$10))*IF(CG155=$CD$8,$CJ$8,IF(CG155=$CD$9,$CJ$9,IF(CG155=$CD$10,$CJ$10,$CJ$11))))","v":64},null,null,null,null,null,null,null,null,null,{"$f":"IF(CL$19>$Z155,\"--\",IF(CL155=$CN$8,$CV$8,IF(CL155=$CN$9,$CV$9,$CV$10))*IF(CQ155=$CD$8,$CJ$8,IF(CQ155=$CD$9,$CJ$9,IF(CQ155=$CD$10,$CJ$10,$CJ$11))))","v":"--"},null,null,null,null,null,null,null,null,null,{"$f":"IF(CV$19>$Z155,\"--\",IF(CV155=$CN$8,$CV$8,IF(CV155=$CN$9,$CV$9,$CV$10))*IF(DA155=$CD$8,$CJ$8,IF(DA155=$CD$9,$CJ$9,IF(DA155=$CD$10,$CJ$10,$CJ$11))))","v":"--"},null,null,null,null,null,null,null,null,null,{"$f":"IF(DF$19>$Z155,\"--\",IF(DF155=$CN$8,$CV$8,IF(DF155=$CN$9,$CV$9,$CV$10))*IF(DK155=$CD$8,$CJ$8,IF(DK155=$CD$9,$CJ$9,IF(DK155=$CD$10,$CJ$10,$CJ$11))))","v":"--"},null,null,null,null,null,null,null,null,null,{"$f":"IF(DP$19>$Z155,\"--\",IF(DP155=$CN$8,$CV$8,IF(DP155=$CN$9,$CV$9,$CV$10))*IF(DU155=$CD$8,$CJ$8,IF(DU155=$CD$9,$CJ$9,IF(DU155=$CD$10,$CJ$10,$CJ$11))))","v":"--"},null,null,null,null,null,null,null,null,null,{"$f":"IF(DZ$19>$Z155,\"--\",IF(DZ155=$CN$8,$CV$8,IF(DZ155=$CN$9,$CV$9,$CV$10))*IF(EE155=$CD$8,$CJ$8,IF(EE155=$CD$9,$CJ$9,IF(EE155=$CD$10,$CJ$10,$CJ$11))))","v":"--"},null,null,null,null,null,null,null,null,null,{"$f":"IF(EJ$19>$Z155,\"--\",IF(EJ155=$CN$8,$CV$8,IF(EJ155=$CN$9,$CV$9,$CV$10))*IF(EO155=$CD$8,$CJ$8,IF(EO155=$CD$9,$CJ$9,IF(EO155=$CD$10,$CJ$10,$CJ$11))))","v":"--"},null,null,null,null,null,null,null,null,null,{"$f":"IF(ET$19>$Z155,\"--\",IF(ET155=$CN$8,$CV$8,IF(ET155=$CN$9,$CV$9,$CV$10))*IF(EY155=$CD$8,$CJ$8,IF(EY155=$CD$9,$CJ$9,IF(EY155=$CD$10,$CJ$10,$CJ$11))))","v":"--"},null,null,null,null,null,null,null,null,null,{"$f":"IF(FD$19>$Z155,\"--\",IF(FD155=$CN$8,$CV$8,IF(FD155=$CN$9,$CV$9,$CV$10))*IF(FI155=$CD$8,$CJ$8,IF(FI155=$CD$9,$CJ$9,IF(FI155=$CD$10,$CJ$10,$CJ$11))))","v":"--"},null,null,null,null,null,null,null,null,null,{"$f":"IF(FN$19>$Z155,\"--\",IF(FN155=$CN$8,$CV$8,IF(FN155=$CN$9,$CV$9,$CV$10))*IF(FS155=$CD$8,$CJ$8,IF(FS155=$CD$9,$CJ$9,IF(FS155=$CD$10,$CJ$10,$CJ$11))))","v":"--"},null,null,null,null,null,null,null,null,null,{"$f":"IF(FX$19>$Z155,\"--\",IF(FX155=$CN$8,$CV$8,IF(FX155=$CN$9,$CV$9,$CV$10))*IF(GC155=$CD$8,$CJ$8,IF(GC155=$CD$9,$CJ$9,IF(GC155=$CD$10,$CJ$10,$CJ$11))))","v":"--"}]
[]
[null,null,null,null,null,null,null,null,null,null,null,null,null,null,null,null,null,null,null,"E-W",null,null,null,null,null,6,null,null,null,"2 Lanes",null,null,null,null,"<20mph",null,null,null,null,"2 Lanes",null,null,null,null,"<20mph",null,null,null,null,"2 Lanes",null,null,null,null,"<20mph",null,null,null,null,"2 Lanes",null,null,null,null,"<20mph",null,null,null,null,"2 Lanes",null,null,null,null,"<20mph",null,null,null,null,"2 Lanes",null,null,null,null,"<20mph",null,null,null,null,"1 Lane",null,null,null,null,"<20mph",null,null,null,null,"1 Lane",null,null,null,null,"<20mph",null,null,null,null,"1 Lane",null,null,null,null,"<20mph",null,null,null,null,"1 Lane",null,null,null,null,"<20mph",null,null,null,null,"1 Lane",null,null,null,null,"<20mph",null,null,null,null,"1 Lane",null,null,null,null,"<20mph",null,null,null,null,"1 Lane",null,null,null,null,"<20mph",null,null,null,null,"1 Lane",null,null,null,null,"<20mph",null,null,null,null,"1 Lane",null,null,null,null,"<20mph",null,null,null,null,"1 Lane",null,null,null,null,"<20mph",null,null,null,null,null,null,null,null,{"$f":"IF(GV157<=$BX$11,$BR$11,IF(GV157<=$BX$10,$BR$10,IF(GV157<=$BX$9,$BR$9,$BR$8)))","v":"Good"},null,null,null,null,{"$f":"MIN(HA157:ND158)","v":64},null,null,null,null,{"$f":"AVERAGE(HA157:ND158)","v":64},null,null,null,null,{"$f":"IF(AD$19>$Z157,\"--\",IF(AD157=$CN$8,$CV$8,IF(AD157=$CN$9,$CV$9,$CV$10))*IF(AI157=$CD$8,$CJ$8,IF(AI157=$CD$9,$CJ$9,IF(AI157=$CD$10,$CJ$10,$CJ$11))))","v":64},null,null,null,null,null,null,null,null,null,{"$f":"IF(AN$19>$Z157,\"--\",IF(AN157=$CN$8,$CV$8,IF(AN157=$CN$9,$CV$9,$CV$10))*IF(AS157=$CD$8,$CJ$8,IF(AS157=$CD$9,$CJ$9,IF(AS157=$CD$10,$CJ$10,$CJ$11))))","v":64},null,null,null,null,null,null,null,null,null,{"$f":"IF(AX$19>$Z157,\"--\",IF(AX157=$CN$8,$CV$8,IF(AX157=$CN$9,$CV$9,$CV$10))*IF(BC157=$CD$8,$CJ$8,IF(BC157=$CD$9,$CJ$9,IF(BC157=$CD$10,$CJ$10,$CJ$11))))","v":64},null,null,null,null,null,null,null,null,null,{"$f":"IF(BH$19>$Z157,\"--\",IF(BH157=$CN$8,$CV$8,IF(BH157=$CN$9,$CV$9,$CV$10))*IF(BM157=$CD$8,$CJ$8,IF(BM157=$CD$9,$CJ$9,IF(BM157=$CD$10,$CJ$10,$CJ$11))))","v":64},null,null,null,null,null,null,null,null,null,{"$f":"IF(BR$19>$Z157,\"--\",IF(BR157=$CN$8,$CV$8,IF(BR157=$CN$9,$CV$9,$CV$10))*IF(BW157=$CD$8,$CJ$8,IF(BW157=$CD$9,$CJ$9,IF(BW157=$CD$10,$CJ$10,$CJ$11))))","v":64},null,null,null,null,null,null,null,null,null,{"$f":"IF(CB$19>$Z157,\"--\",IF(CB157=$CN$8,$CV$8,IF(CB157=$CN$9,$CV$9,$CV$10))*IF(CG157=$CD$8,$CJ$8,IF(CG157=$CD$9,$CJ$9,IF(CG157=$CD$10,$CJ$10,$CJ$11))))","v":64},null,null,null,null,null,null,null,null,null,{"$f":"IF(CL$19>$Z157,\"--\",IF(CL157=$CN$8,$CV$8,IF(CL157=$CN$9,$CV$9,$CV$10))*IF(CQ157=$CD$8,$CJ$8,IF(CQ157=$CD$9,$CJ$9,IF(CQ157=$CD$10,$CJ$10,$CJ$11))))","v":"--"},null,null,null,null,null,null,null,null,null,{"$f":"IF(CV$19>$Z157,\"--\",IF(CV157=$CN$8,$CV$8,IF(CV157=$CN$9,$CV$9,$CV$10))*IF(DA157=$CD$8,$CJ$8,IF(DA157=$CD$9,$CJ$9,IF(DA157=$CD$10,$CJ$10,$CJ$11))))","v":"--"},null,null,null,null,null,null,null,null,null,{"$f":"IF(DF$19>$Z157,\"--\",IF(DF157=$CN$8,$CV$8,IF(DF157=$CN$9,$CV$9,$CV$10))*IF(DK157=$CD$8,$CJ$8,IF(DK157=$CD$9,$CJ$9,IF(DK157=$CD$10,$CJ$10,$CJ$11))))","v":"--"},null,null,null,null,null,null,null,null,null,{"$f":"IF(DP$19>$Z157,\"--\",IF(DP157=$CN$8,$CV$8,IF(DP157=$CN$9,$CV$9,$CV$10))*IF(DU157=$CD$8,$CJ$8,IF(DU157=$CD$9,$CJ$9,IF(DU157=$CD$10,$CJ$10,$CJ$11))))","v":"--"},null,null,null,null,null,null,null,null,null,{"$f":"IF(DZ$19>$Z157,\"--\",IF(DZ157=$CN$8,$CV$8,IF(DZ157=$CN$9,$CV$9,$CV$10))*IF(EE157=$CD$8,$CJ$8,IF(EE157=$CD$9,$CJ$9,IF(EE157=$CD$10,$CJ$10,$CJ$11))))","v":"--"},null,null,null,null,null,null,null,null,null,{"$f":"IF(EJ$19>$Z157,\"--\",IF(EJ157=$CN$8,$CV$8,IF(EJ157=$CN$9,$CV$9,$CV$10))*IF(EO157=$CD$8,$CJ$8,IF(EO157=$CD$9,$CJ$9,IF(EO157=$CD$10,$CJ$10,$CJ$11))))","v":"--"},null,null,null,null,null,null,null,null,null,{"$f":"IF(ET$19>$Z157,\"--\",IF(ET157=$CN$8,$CV$8,IF(ET157=$CN$9,$CV$9,$CV$10))*IF(EY157=$CD$8,$CJ$8,IF(EY157=$CD$9,$CJ$9,IF(EY157=$CD$10,$CJ$10,$CJ$11))))","v":"--"},null,null,null,null,null,null,null,null,null,{"$f":"IF(FD$19>$Z157,\"--\",IF(FD157=$CN$8,$CV$8,IF(FD157=$CN$9,$CV$9,$CV$10))*IF(FI157=$CD$8,$CJ$8,IF(FI157=$CD$9,$CJ$9,IF(FI157=$CD$10,$CJ$10,$CJ$11))))","v":"--"},null,null,null,null,null,null,null,null,null,{"$f":"IF(FN$19>$Z157,\"--\",IF(FN157=$CN$8,$CV$8,IF(FN157=$CN$9,$CV$9,$CV$10))*IF(FS157=$CD$8,$CJ$8,IF(FS157=$CD$9,$CJ$9,IF(FS157=$CD$10,$CJ$10,$CJ$11))))","v":"--"},null,null,null,null,null,null,null,null,null,{"$f":"IF(FX$19>$Z157,\"--\",IF(FX157=$CN$8,$CV$8,IF(FX157=$CN$9,$CV$9,$CV$10))*IF(GC157=$CD$8,$CJ$8,IF(GC157=$CD$9,$CJ$9,IF(GC157=$CD$10,$CJ$10,$CJ$11))))","v":"--"}]
[]
["Single Point with Roundabout",null,null,null,null,null,null,null,null,null,null,null,null,null,null,null,null,null,null,"N-S",null,null,null,null,null,6,null,null,null,"2 Lanes",null,null,null,null,"<20mph",null,null,null,null,"2 Lanes",null,null,null,null,"<20mph",null,null,null,null,"2 Lanes",null,null,null,null,"<20mph",null,null,null,null,"2 Lanes",null,null,null,null,"<20mph",null,null,null,null,"2 Lanes",null,null,null,null,"<20mph",null,null,null,null,"2 Lanes",null,null,null,null,"<20mph",null,null,null,null,"1 Lane",null,null,null,null,"<20mph",null,null,null,null,"1 Lane",null,null,null,null,"<20mph",null,null,null,null,"1 Lane",null,null,null,null,"<20mph",null,null,null,null,"1 Lane",null,null,null,null,"<20mph",null,null,null,null,"1 Lane",null,null,null,null,"<20mph",null,null,null,null,"1 Lane",null,null,null,null,"<20mph",null,null,null,null,"1 Lane",null,null,null,null,"<20mph",null,null,null,null,"1 Lane",null,null,null,null,"<20mph",null,null,null,null,"1 Lane",null,null,null,null,"<20mph",null,null,null,null,"1 Lane",null,null,null,null,"<20mph",null,null,null,null,null,null,null,null,{"$f":"IF(GV159<=$BX$11,$BR$11,IF(GV159<=$BX$10,$BR$10,IF(GV159<=$BX$9,$BR$9,$BR$8)))","v":"Good"},null,null,null,null,{"$f":"MIN(HA159:ND160)","v":64},null,null,null,null,{"$f":"AVERAGE(HA159:ND160)","v":64},null,null,null,null,{"$f":"IF(AD$19>$Z159,\"--\",IF(AD159=$CN$8,$CV$8,IF(AD159=$CN$9,$CV$9,$CV$10))*IF(AI159=$CD$8,$CJ$8,IF(AI159=$CD$9,$CJ$9,IF(AI159=$CD$10,$CJ$10,$CJ$11))))","v":64},null,null,null,null,null,null,null,null,null,{"$f":"IF(AN$19>$Z159,\"--\",IF(AN159=$CN$8,$CV$8,IF(AN159=$CN$9,$CV$9,$CV$10))*IF(AS159=$CD$8,$CJ$8,IF(AS159=$CD$9,$CJ$9,IF(AS159=$CD$10,$CJ$10,$CJ$11))))","v":64},null,null,null,null,null,null,null,null,null,{"$f":"IF(AX$19>$Z159,\"--\",IF(AX159=$CN$8,$CV$8,IF(AX159=$CN$9,$CV$9,$CV$10))*IF(BC159=$CD$8,$CJ$8,IF(BC159=$CD$9,$CJ$9,IF(BC159=$CD$10,$CJ$10,$CJ$11))))","v":64},null,null,null,null,null,null,null,null,null,{"$f":"IF(BH$19>$Z159,\"--\",IF(BH159=$CN$8,$CV$8,IF(BH159=$CN$9,$CV$9,$CV$10))*IF(BM159=$CD$8,$CJ$8,IF(BM159=$CD$9,$CJ$9,IF(BM159=$CD$10,$CJ$10,$CJ$11))))","v":64},null,null,null,null,null,null,null,null,null,{"$f":"IF(BR$19>$Z159,\"--\",IF(BR159=$CN$8,$CV$8,IF(BR159=$CN$9,$CV$9,$CV$10))*IF(BW159=$CD$8,$CJ$8,IF(BW159=$CD$9,$CJ$9,IF(BW159=$CD$10,$CJ$10,$CJ$11))))","v":64},null,null,null,null,null,null,null,null,null,{"$f":"IF(CB$19>$Z159,\"--\",IF(CB159=$CN$8,$CV$8,IF(CB159=$CN$9,$CV$9,$CV$10))*IF(CG159=$CD$8,$CJ$8,IF(CG159=$CD$9,$CJ$9,IF(CG159=$CD$10,$CJ$10,$CJ$11))))","v":64},null,null,null,null,null,null,null,null,null,{"$f":"IF(CL$19>$Z159,\"--\",IF(CL159=$CN$8,$CV$8,IF(CL159=$CN$9,$CV$9,$CV$10))*IF(CQ159=$CD$8,$CJ$8,IF(CQ159=$CD$9,$CJ$9,IF(CQ159=$CD$10,$CJ$10,$CJ$11))))","v":"--"},null,null,null,null,null,null,null,null,null,{"$f":"IF(CV$19>$Z159,\"--\",IF(CV159=$CN$8,$CV$8,IF(CV159=$CN$9,$CV$9,$CV$10))*IF(DA159=$CD$8,$CJ$8,IF(DA159=$CD$9,$CJ$9,IF(DA159=$CD$10,$CJ$10,$CJ$11))))","v":"--"},null,null,null,null,null,null,null,null,null,{"$f":"IF(DF$19>$Z159,\"--\",IF(DF159=$CN$8,$CV$8,IF(DF159=$CN$9,$CV$9,$CV$10))*IF(DK159=$CD$8,$CJ$8,IF(DK159=$CD$9,$CJ$9,IF(DK159=$CD$10,$CJ$10,$CJ$11))))","v":"--"},null,null,null,null,null,null,null,null,null,{"$f":"IF(DP$19>$Z159,\"--\",IF(DP159=$CN$8,$CV$8,IF(DP159=$CN$9,$CV$9,$CV$10))*IF(DU159=$CD$8,$CJ$8,IF(DU159=$CD$9,$CJ$9,IF(DU159=$CD$10,$CJ$10,$CJ$11))))","v":"--"},null,null,null,null,null,null,null,null,null,{"$f":"IF(DZ$19>$Z159,\"--\",IF(DZ159=$CN$8,$CV$8,IF(DZ159=$CN$9,$CV$9,$CV$10))*IF(EE159=$CD$8,$CJ$8,IF(EE159=$CD$9,$CJ$9,IF(EE159=$CD$10,$CJ$10,$CJ$11))))","v":"--"},null,null,null,null,null,null,null,null,null,{"$f":"IF(EJ$19>$Z159,\"--\",IF(EJ159=$CN$8,$CV$8,IF(EJ159=$CN$9,$CV$9,$CV$10))*IF(EO159=$CD$8,$CJ$8,IF(EO159=$CD$9,$CJ$9,IF(EO159=$CD$10,$CJ$10,$CJ$11))))","v":"--"},null,null,null,null,null,null,null,null,null,{"$f":"IF(ET$19>$Z159,\"--\",IF(ET159=$CN$8,$CV$8,IF(ET159=$CN$9,$CV$9,$CV$10))*IF(EY159=$CD$8,$CJ$8,IF(EY159=$CD$9,$CJ$9,IF(EY159=$CD$10,$CJ$10,$CJ$11))))","v":"--"},null,null,null,null,null,null,null,null,null,{"$f":"IF(FD$19>$Z159,\"--\",IF(FD159=$CN$8,$CV$8,IF(FD159=$CN$9,$CV$9,$CV$10))*IF(FI159=$CD$8,$CJ$8,IF(FI159=$CD$9,$CJ$9,IF(FI159=$CD$10,$CJ$10,$CJ$11))))","v":"--"},null,null,null,null,null,null,null,null,null,{"$f":"IF(FN$19>$Z159,\"--\",IF(FN159=$CN$8,$CV$8,IF(FN159=$CN$9,$CV$9,$CV$10))*IF(FS159=$CD$8,$CJ$8,IF(FS159=$CD$9,$CJ$9,IF(FS159=$CD$10,$CJ$10,$CJ$11))))","v":"--"},null,null,null,null,null,null,null,null,null,{"$f":"IF(FX$19>$Z159,\"--\",IF(FX159=$CN$8,$CV$8,IF(FX159=$CN$9,$CV$9,$CV$10))*IF(GC159=$CD$8,$CJ$8,IF(GC159=$CD$9,$CJ$9,IF(GC159=$CD$10,$CJ$10,$CJ$11))))","v":"--"}]
[]
[null,null,null,null,null,null,null,null,null,null,null,null,null,null,null,null,null,null,null,"E-W",null,null,null,null,null,6,null,null,null,"2 Lanes",null,null,null,null,"<20mph",null,null,null,null,"2 Lanes",null,null,null,null,"<20mph",null,null,null,null,"2 Lanes",null,null,null,null,"<20mph",null,null,null,null,"2 Lanes",null,null,null,null,"<20mph",null,null,null,null,"2 Lanes",null,null,null,null,"<20mph",null,null,null,null,"2 Lanes",null,null,null,null,"<20mph",null,null,null,null,"1 Lane",null,null,null,null,"<20mph",null,null,null,null,"1 Lane",null,null,null,null,"<20mph",null,null,null,null,"1 Lane",null,null,null,null,"<20mph",null,null,null,null,"1 Lane",null,null,null,null,"<20mph",null,null,null,null,"1 Lane",null,null,null,null,"<20mph",null,null,null,null,"1 Lane",null,null,null,null,"<20mph",null,null,null,null,"1 Lane",null,null,null,null,"<20mph",null,null,null,null,"1 Lane",null,null,null,null,"<20mph",null,null,null,null,"1 Lane",null,null,null,null,"<20mph",null,null,null,null,"1 Lane",null,null,null,null,"<20mph",null,null,null,null,null,null,null,null,{"$f":"IF(GV161<=$BX$11,$BR$11,IF(GV161<=$BX$10,$BR$10,IF(GV161<=$BX$9,$BR$9,$BR$8)))","v":"Good"},null,null,null,null,{"$f":"MIN(HA161:ND162)","v":64},null,null,null,null,{"$f":"AVERAGE(HA161:ND162)","v":64},null,null,null,null,{"$f":"IF(AD$19>$Z161,\"--\",IF(AD161=$CN$8,$CV$8,IF(AD161=$CN$9,$CV$9,$CV$10))*IF(AI161=$CD$8,$CJ$8,IF(AI161=$CD$9,$CJ$9,IF(AI161=$CD$10,$CJ$10,$CJ$11))))","v":64},null,null,null,null,null,null,null,null,null,{"$f":"IF(AN$19>$Z161,\"--\",IF(AN161=$CN$8,$CV$8,IF(AN161=$CN$9,$CV$9,$CV$10))*IF(AS161=$CD$8,$CJ$8,IF(AS161=$CD$9,$CJ$9,IF(AS161=$CD$10,$CJ$10,$CJ$11))))","v":64},null,null,null,null,null,null,null,null,null,{"$f":"IF(AX$19>$Z161,\"--\",IF(AX161=$CN$8,$CV$8,IF(AX161=$CN$9,$CV$9,$CV$10))*IF(BC161=$CD$8,$CJ$8,IF(BC161=$CD$9,$CJ$9,IF(BC161=$CD$10,$CJ$10,$CJ$11))))","v":64},null,null,null,null,null,null,null,null,null,{"$f":"IF(BH$19>$Z161,\"--\",IF(BH161=$CN$8,$CV$8,IF(BH161=$CN$9,$CV$9,$CV$10))*IF(BM161=$CD$8,$CJ$8,IF(BM161=$CD$9,$CJ$9,IF(BM161=$CD$10,$CJ$10,$CJ$11))))","v":64},null,null,null,null,null,null,null,null,null,{"$f":"IF(BR$19>$Z161,\"--\",IF(BR161=$CN$8,$CV$8,IF(BR161=$CN$9,$CV$9,$CV$10))*IF(BW161=$CD$8,$CJ$8,IF(BW161=$CD$9,$CJ$9,IF(BW161=$CD$10,$CJ$10,$CJ$11))))","v":64},null,null,null,null,null,null,null,null,null,{"$f":"IF(CB$19>$Z161,\"--\",IF(CB161=$CN$8,$CV$8,IF(CB161=$CN$9,$CV$9,$CV$10))*IF(CG161=$CD$8,$CJ$8,IF(CG161=$CD$9,$CJ$9,IF(CG161=$CD$10,$CJ$10,$CJ$11))))","v":64},null,null,null,null,null,null,null,null,null,{"$f":"IF(CL$19>$Z161,\"--\",IF(CL161=$CN$8,$CV$8,IF(CL161=$CN$9,$CV$9,$CV$10))*IF(CQ161=$CD$8,$CJ$8,IF(CQ161=$CD$9,$CJ$9,IF(CQ161=$CD$10,$CJ$10,$CJ$11))))","v":"--"},null,null,null,null,null,null,null,null,null,{"$f":"IF(CV$19>$Z161,\"--\",IF(CV161=$CN$8,$CV$8,IF(CV161=$CN$9,$CV$9,$CV$10))*IF(DA161=$CD$8,$CJ$8,IF(DA161=$CD$9,$CJ$9,IF(DA161=$CD$10,$CJ$10,$CJ$11))))","v":"--"},null,null,null,null,null,null,null,null,null,{"$f":"IF(DF$19>$Z161,\"--\",IF(DF161=$CN$8,$CV$8,IF(DF161=$CN$9,$CV$9,$CV$10))*IF(DK161=$CD$8,$CJ$8,IF(DK161=$CD$9,$CJ$9,IF(DK161=$CD$10,$CJ$10,$CJ$11))))","v":"--"},null,null,null,null,null,null,null,null,null,{"$f":"IF(DP$19>$Z161,\"--\",IF(DP161=$CN$8,$CV$8,IF(DP161=$CN$9,$CV$9,$CV$10))*IF(DU161=$CD$8,$CJ$8,IF(DU161=$CD$9,$CJ$9,IF(DU161=$CD$10,$CJ$10,$CJ$11))))","v":"--"},null,null,null,null,null,null,null,null,null,{"$f":"IF(DZ$19>$Z161,\"--\",IF(DZ161=$CN$8,$CV$8,IF(DZ161=$CN$9,$CV$9,$CV$10))*IF(EE161=$CD$8,$CJ$8,IF(EE161=$CD$9,$CJ$9,IF(EE161=$CD$10,$CJ$10,$CJ$11))))","v":"--"},null,null,null,null,null,null,null,null,null,{"$f":"IF(EJ$19>$Z161,\"--\",IF(EJ161=$CN$8,$CV$8,IF(EJ161=$CN$9,$CV$9,$CV$10))*IF(EO161=$CD$8,$CJ$8,IF(EO161=$CD$9,$CJ$9,IF(EO161=$CD$10,$CJ$10,$CJ$11))))","v":"--"},null,null,null,null,null,null,null,null,null,{"$f":"IF(ET$19>$Z161,\"--\",IF(ET161=$CN$8,$CV$8,IF(ET161=$CN$9,$CV$9,$CV$10))*IF(EY161=$CD$8,$CJ$8,IF(EY161=$CD$9,$CJ$9,IF(EY161=$CD$10,$CJ$10,$CJ$11))))","v":"--"},null,null,null,null,null,null,null,null,null,{"$f":"IF(FD$19>$Z161,\"--\",IF(FD161=$CN$8,$CV$8,IF(FD161=$CN$9,$CV$9,$CV$10))*IF(FI161=$CD$8,$CJ$8,IF(FI161=$CD$9,$CJ$9,IF(FI161=$CD$10,$CJ$10,$CJ$11))))","v":"--"},null,null,null,null,null,null,null,null,null,{"$f":"IF(FN$19>$Z161,\"--\",IF(FN161=$CN$8,$CV$8,IF(FN161=$CN$9,$CV$9,$CV$10))*IF(FS161=$CD$8,$CJ$8,IF(FS161=$CD$9,$CJ$9,IF(FS161=$CD$10,$CJ$10,$CJ$11))))","v":"--"},null,null,null,null,null,null,null,null,null,{"$f":"IF(FX$19>$Z161,\"--\",IF(FX161=$CN$8,$CV$8,IF(FX161=$CN$9,$CV$9,$CV$10))*IF(GC161=$CD$8,$CJ$8,IF(GC161=$CD$9,$CJ$9,IF(GC161=$CD$10,$CJ$10,$CJ$11))))","v":"--"}]

{"sheet":"Multimodal Bike","index":8,"n_rows":161,"n_cols":359,"rows_kept":161,"cut":false,"hidden":false,"merged":[[6,69,6,78],[134,198,135,202],[136,198,137,202],[138,198,139,202],[140,198,141,202],[142,198,143,202],[144,198,145,202],[146,198,147,202],[148,198,149,202],[150,198,151,202],[152,198,153,202],[154,198,155,202],[156,198,157,202],[158,198,159,202],[160,198,161,202],[7,77,7,78],[8,77,8,78],[9,77,9,78],[10,77,10,78],[107,198,108,202],[109,198,110,202],[111,198,112,202],[113,198,114,202],[115,198,116,202],[117,198,118,202],[119,198,120,202],[121,198,122,202],[128,198,129,202],[130,198,131,202],[132,198,133,202],[55,198,56,202],[57,198,58,202],[67,198,68,202],[69,198,70,202],[71,198,72,202],[73,198,74,202],[75,198,76,202],[77,198,78,202],[84,198,85,202],[86,198,87,202],[88,198,89,202],[90,198,91,202],[21,198,22,202],[23,198,24,202],[25,198,26,202],[27,198,28,202],[29,198,30,202],[31,198,32,202],[33,198,34,202],[35,198,36,202],[37,198,38,202],[39,198,40,202],[41,198,42,202],[43,198,44,202],[45,198,46,202],[47,198,48,202],[49,198,50,202],[51,198,52,202],[53,198,54,202],[82,193,83,207],[124,193,125,327],[124,328,125,367],[82,208,83,327],[82,328,83,367],[105,208,106,327],[105,328,106,367],[126,208,127,327],[126,328,127,367],[8,104,8,105],[8,81,8,86],[8,87,8,88],[8,69,8,74],[8,75,8,76],[8,93,8,103],[7,104,7,105],[7,81,7,86],[7,87,7,88],[7,69,7,74],[7,75,7,76],[7,93,7,103],[16,193,17,327],[19,208,20,327],[80,193,81,327],[80,328,81,367],[103,193,104,327],[103,328,104,367],[18,74,18,78],[18,79,18,83],[59,198,60,202],[61,198,62,202],[63,198,64,202],[65,198,66,202],[18,174,18,178],[18,179,18,183],[18,184,18,188],[19,0,22,18],[19,19,22,24],[19,25,22,28],[19,29,20,38],[19,39,20,48],[19,49,20,58],[19,59,20,68],[18,144,18,148],[18,149,18,153],[18,154,18,158],[18,159,18,163],[18,164,18,168],[18,169,18,173],[18,114,18,118],[18,119,18,123],[18,124,18,128],[18,129,18,133],[18,134,18,138],[18,139,18,143],[18,84,18,88],[18,94,18,98],[18,99,18,103],[18,104,18,108],[18,54,18,58],[18,59,18,63],[18,64,18,68],[18,69,18,73],[21,29,22,33],[21,34,22,38],[21,39,22,43],[21,44,22,48],[21,49,22,53],[21,54,22,58],[21,59,22,63],[21,64,22,68],[10,69,10,74],[10,75,10,76],[16,0,17,71],[19,129,20,138],[9,104,9,105],[9,81,9,86],[9,87,9,88],[9,69,9,74],[9,75,9,76],[9,93,9,103],[19,139,20,148],[18,44,18,48],[18,49,18,53],[18,89,18,93],[18,109,18,113],[18,0,18,28],[18,29,18,33],[18,34,18,38],[18,39,18,43],[19,149,20,158],[19,159,20,168],[19,169,20,178],[19,179,20,188],[19,69,20,78],[19,79,20,88],[19,89,20,98],[19,99,20,108],[19,109,20,118],[19,119,20,128],[21,139,22,143],[21,144,22,148],[21,149,22,153],[21,154,22,158],[21,99,22,103],[21,104,22,108],[21,109,22,113],[21,114,22,118],[21,119,22,123],[21,124,22,128],[21,69,22,73],[21,74,22,78],[21,79,22,83],[21,84,22,88],[21,89,22,93],[21,94,22,98],[21,134,22,138],[19,193,20,207],[23,0,24,18],[23,19,24,24],[23,25,24,28],[23,29,24,33],[23,34,24,38],[23,39,24,43],[21,308,22,317],[21,318,22,327],[21,328,22,337],[21,338,22,347],[21,348,22,357],[21,358,22,367],[21,248,22,257],[21,258,22,267],[21,268,22,277],[21,278,22,287],[21,288,22,297],[21,298,22,307],[21,193,22,197],[21,203,22,207],[21,208,22,217],[21,218,22,227],[21,228,22,237],[21,238,22,247],[21,159,22,163],[21,164,22,168],[21,169,22,173],[21,174,22,178],[21,179,22,183],[21,184,22,188],[21,129,22,133],[23,154,24,158],[23,159,24,163],[23,104,24,108],[23,109,24,113],[23,114,24,118],[23,119,24,123],[23,124,24,128],[23,129,24,133],[23,74,24,78],[23,79,24,83],[23,84,24,88],[23,89,24,93],[23,94,24,98],[23,99,24,103],[23,44,24,48],[23,49,24,53],[23,54,24,58],[23,59,24,63],[23,64,24,68],[23,69,24,73],[23,318,24,327],[23,328,24,337],[23,338,24,347],[23,348,24,357],[23,358,24,367],[25,0,26,18],[25,19,26,24],[25,25,26,28],[25,29,26,33],[25,34,26,38],[23,258,24,267],[23,268,24,277],[23,278,24,287],[23,288,24,297],[23,298,24,307],[23,308,24,317],[23,203,24,207],[23,208,24,217],[23,218,24,227],[23,228,24,237],[23,238,24,247],[23,248,24,257],[23,164,24,168],[23,169,24,173],[23,174,24,178],[23,179,24,183],[23,184,24,188],[23,193,24,197],[23,134,24,138],[23,139,24,143],[23,144,24,148],[23,149,24,153],[25,139,26,143],[25,144,26,148],[25,149,26,153],[25,154,26,158],[25,99,26,103],[25,104,26,108],[25,109,26,113],[25,114,26,118],[25,119,26,123],[25,124,26,128],[25,69,26,73],[25,74,26,78],[25,79,26,83],[25,84,26,88],[25,89,26,93],[25,94,26,98],[25,39,26,43],[25,44,26,48],[25,49,26,53],[25,54,26,58],[25,59,26,63],[25,64,26,68],[27,0,30,18],[27,19,28,24],[27,25,28,28],[27,29,28,33],[27,34,28,38],[27,39,28,43],[25,308,26,317],[25,318,26,327],[25,328,26,337],[25,338,26,347],[25,348,26,357],[25,358,26,367],[25,248,26,257],[25,258,26,267],[25,268,26,277],[25,278,26,287],[25,288,26,297],[25,298,26,307],[25,193,26,197],[25,203,26,207],[25,208,26,217],[25,218,26,227],[25,228,26,237],[25,238,26,247],[25,159,26,163],[25,164,26,168],[25,169,26,173],[25,174,26,178],[25,179,26,183],[25,184,26,188],[25,129,26,133],[25,134,26,138],[27,154,28,158],[27,159,28,163],[27,104,28,108],[27,109,28,113],[27,114,28,118],[27,119,28,123],[27,124,28,128],[27,129,28,133],[27,74,28,78],[27,79,28,83],[27,84,28,88],[27,89,28,93],[27,94,28,98],[27,99,28,103],[27,44,28,48],[27,49,28,53],[27,54,28,58],[27,59,28,63],[27,64,28,68],[27,69,28,73],[27,318,28,327],[27,328,28,337],[27,338,28,347],[27,348,28,357],[27,358,28,367],[29,19,30,24],[29,25,30,28],[29,29,30,33],[29,34,30,38],[29,39,30,43],[27,258,28,267],[27,268,28,277],[27,278,28,287],[27,288,28,297],[27,298,28,307],[27,308,28,317],[27,203,28,207],[27,208,28,217],[27,218,28,227],[27,228,28,237],[27,238,28,247],[27,248,28,257],[27,164,28,168],[27,169,28,173],[27,174,28,178],[27,179,28,183],[27,184,28,188],[27,193,28,197],[27,134,28,138],[27,139,28,143],[27,144,28,148],[27,149,28,153],[29,154,30,158],[29,159,30,163],[29,104,30,108],[29,109,30,113],[29,114,30,118],[29,119,30,123],[29,124,30,128],[29,129,30,133],[29,74,30,78],[29,79,30,83],[29,84,30,88],[29,89,30,93],[29,94,30,98],[29,99,30,103],[29,44,30,48],[29,49,30,53],[29,54,30,58],[29,59,30,63],[29,64,30,68],[29,69,30,73],[29,318,30,327],[29,328,30,337],[29,338,30,347],[29,348,30,357],[29,358,30,367],[31,0,32,18],[31,19,32,24],[31,25,32,28],[31,29,32,33],[31,34,32,38],[29,258,30,267],[29,268,30,277],[29,278,30,287],[29,288,30,297],[29,298,30,307],[29,308,30,317],[29,203,30,207],[29,208,30,217],[29,218,30,227],[29,228,30,237],[29,238,30,247],[29,248,30,257],[29,164,30,168],[29,169,30,173],[29,174,30,178],[29,179,30,183],[29,184,30,188],[29,193,30,197],[29,134,30,138],[29,139,30,143],[29,144,30,148],[29,149,30,153],[31,139,32,143],[31,144,32,148],[31,149,32,153],[31,154,32,158],[31,99,32,103],[31,104,32,108],[31,109,32,113],[31,114,32,118],[31,119,32,123],[31,124,32,128],[31,69,32,73],[31,74,32,78],[31,79,32,83],[31,84,32,88],[31,89,32,93],[31,94,32,98],[31,39,32,43],[31,44,32,48],[31,49,32,53],[31,54,32,58],[31,59,32,63],[31,64,32,68],[33,0,40,18],[33,19,34,24],[33,25,34,28],[33,29,34,33],[33,34,34,38],[33,39,34,43],[31,308,32,317],[31,318,32,327],[31,328,32,337],[31,338,32,347],[31,348,32,357],[31,358,32,367],[31,248,32,257],[31,258,32,267],[31,268,32,277],[31,278,32,287],[31,288,32,297],[31,298,32,307],[31,193,32,197],[31,203,32,207],[31,208,32,217],[31,218,32,227],[31,228,32,237],[31,238,32,247],[31,159,32,163],[31,164,32,168],[31,169,32,173],[31,174,32,178],[31,179,32,183],[31,184,32,188],[31,129,32,133],[31,134,32,138],[33,154,34,158],[33,159,34,163],[33,104,34,108],[33,109,34,113],[33,114,34,118],[33,119,34,123],[33,124,34,128],[33,129,34,133],[33,74,34,78],[33,79,34,83],[33,84,34,88],[33,89,34,93],[33,94,34,98],[33,99,34,103],[33,44,34,48],[33,49,34,53],[33,54,34,58],[33,59,34,63],[33,64,34,68],[33,69,34,73],[33,318,34,327],[33,328,34,337],[33,338,34,347],[33,348,34,357],[33,358,34,367],[35,19,36,24],[35,25,36,28],[35,29,36,33],[35,34,36,38],[35,39,36,43],[33,258,34,267],[33,268,34,277],[33,278,34,287],[33,288,34,297],[33,298,34,307],[33,308,34,317],[33,203,34,207],[33,208,34,217],[33,218,34,227],[33,228,34,237],[33,238,34,247],[33,248,34,257],[33,164,34,168],[33,169,34,173],[33,174,34,178],[33,179,34,183],[33,184,34,188],[33,193,34,197],[33,134,34,138],[33,139,34,143],[33,144,34,148],[33,149,34,153],[35,154,36,158],[35,159,36,163],[35,104,36,108],[35,109,36,113],[35,114,36,118],[35,119,36,123],[35,124,36,128],[35,129,36,133],[35,74,36,78],[35,79,36,83],[35,84,36,88],[35,89,36,93],[35,94,36,98],[35,99,36,103],[35,44,36,48],[35,49,36,53],[35,54,36,58],[35,59,36,63],[35,64,36,68],[35,69,36,73],[35,318,36,327],[35,328,36,337],[35,338,36,347],[35,348,36,357],[35,358,36,367],[37,19,38,24],[37,25,38,28],[37,29,38,33],[37,34,38,38],[37,39,38,43],[35,258,36,267],[35,268,36,277],[35,278,36,287],[35,288,36,297],[35,298,36,307],[35,308,36,317],[35,203,36,207],[35,208,36,217],[35,218,36,227],[35,228,36,237],[35,238,36,247],[35,248,36,257],[35,164,36,168],[35,169,36,173],[35,174,36,178],[35,179,36,183],[35,184,36,188],[35,193,36,197],[35,134,36,138],[35,139,36,143],[35,144,36,148],[35,149,36,153],[37,154,38,158],[37,159,38,163],[37,104,38,108],[37,109,38,113],[37,114,38,118],[37,119,38,123],[37,124,38,128],[37,129,38,133],[37,74,38,78],[37,79,38,83],[37,84,38,88],[37,89,38,93],[37,94,38,98],[37,99,38,103],[37,44,38,48],[37,49,38,53],[37,54,38,58],[37,59,38,63],[37,64,38,68],[37,69,38,73],[37,318,38,327],[37,328,38,337],[37,338,38,347],[37,348,38,357],[37,358,38,367],[39,19,40,24],[39,25,40,28],[39,29,40,33],[39,34,40,38],[39,39,40,43],[37,258,38,267],[37,268,38,277],[37,278,38,287],[37,288,38,297],[37,298,38,307],[37,308,38,317],[37,203,38,207],[37,208,38,217],[37,218,38,227],[37,228,38,237],[37,238,38,247],[37,248,38,257],[37,164,38,168],[37,169,38,173],[37,174,38,178],[37,179,38,183],[37,184,38,188],[37,193,38,197],[37,134,38,138],[37,139,38,143],[37,144,38,148],[37,149,38,153],[39,154,40,158],[39,159,40,163],[39,104,40,108],[39,109,40,113],[39,114,40,118],[39,119,40,123],[39,124,40,128],[39,129,40,133],[39,74,40,78],[39,79,40,83],[39,84,40,88],[39,89,40,93],[39,94,40,98],[39,99,40,103],[39,44,40,48],[39,49,40,53],[39,54,40,58],[39,59,40,63],[39,64,40,68],[39,69,40,73],[39,318,40,327],[39,328,40,337],[39,338,40,347],[39,348,40,357],[39,358,40,367],[41,0,48,18],[41,19,42,24],[41,25,42,28],[41,29,42,33],[41,34,42,38],[39,258,40,267],[39,268,40,277],[39,278,40,287],[39,288,40,297],[39,298,40,307],[39,308,40,317],[39,203,40,207],[39,208,40,217],[39,218,40,227],[39,228,40,237],[39,238,40,247],[39,248,40,257],[39,164,40,168],[39,169,40,173],[39,174,40,178],[39,179,40,183],[39,184,40,188],[39,193,40,197],[39,134,40,138],[39,139,40,143],[39,144,40,148],[39,149,40,153],[41,139,42,143],[41,144,42,148],[41,149,42,153],[41,154,42,158],[41,99,42,103],[41,104,42,108],[41,109,42,113],[41,114,42,118],[41,119,42,123],[41,124,42,128],[41,69,42,73],[41,74,42,78],[41,79,42,83],[41,84,42,88],[41,89,42,93],[41,94,42,98],[41,39,42,43],[41,44,42,48],[41,49,42,53],[41,54,42,58],[41,59,42,63],[41,64,42,68],[43,19,44,24],[43,25,44,28],[43,29,44,33],[43,34,44,38],[43,39,44,43],[43,44,44,48],[41,308,42,317],[41,318,42,327],[41,328,42,337],[41,338,42,347],[41,348,42,357],[41,358,42,367],[41,248,42,257],[41,258,42,267],[41,268,42,277],[41,278,42,287],[41,288,42,297],[41,298,42,307],[41,193,42,197],[41,203,42,207],[41,208,42,217],[41,218,42,227],[41,228,42,237],[41,238,42,247],[41,159,42,163],[41,164,42,168],[41,169,42,173],[41,174,42,178],[41,179,42,183],[41,184,42,188],[41,129,42,133],[41,134,42,138],[43,159,44,163],[43,164,44,168],[43,109,44,113],[43,114,44,118],[43,119,44,123],[43,124,44,128],[43,129,44,133],[43,134,44,138],[43,79,44,83],[43,84,44,88],[43,89,44,93],[43,94,44,98],[43,99,44,103],[43,104,44,108],[43,49,44,53],[43,54,44,58],[43,59,44,63],[43,64,44,68],[43,69,44,73],[43,74,44,78],[43,328,44,337],[43,338,44,347],[43,348,44,357],[43,358,44,367],[45,19,46,24],[45,25,46,28],[45,29,46,33],[45,34,46,38],[45,39,46,43],[45,44,46,48],[43,268,44,277],[43,278,44,287],[43,288,44,297],[43,298,44,307],[43,308,44,317],[43,318,44,327],[43,208,44,217],[43,218,44,227],[43,228,44,237],[43,238,44,247],[43,248,44,257],[43,258,44,267],[43,169,44,173],[43,174,44,178],[43,179,44,183],[43,184,44,188],[43,193,44,197],[43,203,44,207],[43,139,44,143],[43,144,44,148],[43,149,44,153],[43,154,44,158],[45,159,46,163],[45,164,46,168],[45,109,46,113],[45,114,46,118],[45,119,46,123],[45,124,46,128],[45,129,46,133],[45,134,46,138],[45,79,46,83],[45,84,46,88],[45,89,46,93],[45,94,46,98],[45,99,46,103],[45,104,46,108],[45,49,46,53],[45,54,46,58],[45,59,46,63],[45,64,46,68],[45,69,46,73],[45,74,46,78],[45,328,46,337],[45,338,46,347],[45,348,46,357],[45,358,46,367],[47,19,48,24],[47,25,48,28],[47,29,48,33],[47,34,48,38],[47,39,48,43],[47,44,48,48],[45,268,46,277],[45,278,46,287],[45,288,46,297],[45,298,46,307],[45,308,46,317],[45,318,46,327],[45,208,46,217],[45,218,46,227],[45,228,46,237],[45,238,46,247],[45,248,46,257],[45,258,46,267],[45,169,46,173],[45,174,46,178],[45,179,46,183],[45,184,46,188],[45,193,46,197],[45,203,46,207],[45,139,46,143],[45,144,46,148],[45,149,46,153],[45,154,46,158],[47,159,48,163],[47,164,48,168],[47,109,48,113],[47,114,48,118],[47,119,48,123],[47,124,48,128],[47,129,48,133],[47,134,48,138],[47,79,48,83],[47,84,48,88],[47,89,48,93],[47,94,48,98],[47,99,48,103],[47,104,48,108],[47,49,48,53],[47,54,48,58],[47,59,48,63],[47,64,48,68],[47,69,48,73],[47,74,48,78],[47,328,48,337],[47,338,48,347],[47,348,48,357],[47,358,48,367],[49,0,52,18],[49,19,50,24],[49,25,50,28],[49,29,50,33],[49,34,50,38],[49,39,50,43],[47,268,48,277],[47,278,48,287],[47,288,48,297],[47,298,48,307],[47,308,48,317],[47,318,48,327],[47,208,48,217],[47,218,48,227],[47,228,48,237],[47,238,48,247],[47,248,48,257],[47,258,48,267],[47,169,48,173],[47,174,48,178],[47,179,48,183],[47,184,48,188],[47,193,48,197],[47,203,48,207],[47,139,48,143],[47,144,48,148],[47,149,48,153],[47,154,48,158],[49,154,50,158],[49,159,50,163],[49,104,50,108],[49,109,50,113],[49,114,50,118],[49,119,50,123],[49,124,50,128],[49,129,50,133],[49,74,50,78],[49,79,50,83],[49,84,50,88],[49,89,50,93],[49,94,50,98],[49,99,50,103],[49,44,50,48],[49,49,50,53],[49,54,50,58],[49,59,50,63],[49,64,50,68],[49,69,50,73],[49,318,50,327],[49,328,50,337],[49,338,50,347],[49,348,50,357],[49,358,50,367],[51,19,52,24],[51,25,52,28],[51,29,52,33],[51,34,52,38],[51,39,52,43],[49,258,50,267],[49,268,50,277],[49,278,50,287],[49,288,50,297],[49,298,50,307],[49,308,50,317],[49,203,50,207],[49,208,50,217],[49,218,50,227],[49,228,50,237],[49,238,50,247],[49,248,50,257],[49,164,50,168],[49,169,50,173],[49,174,50,178],[49,179,50,183],[49,184,50,188],[49,193,50,197],[49,134,50,138],[49,139,50,143],[49,144,50,148],[49,149,50,153],[51,154,52,158],[51,159,52,163],[51,104,52,108],[51,109,52,113],[51,114,52,118],[51,119,52,123],[51,124,52,128],[51,129,52,133],[51,74,52,78],[51,79,52,83],[51,84,52,88],[51,89,52,93],[51,94,52,98],[51,99,52,103],[51,44,52,48],[51,49,52,53],[51,54,52,58],[51,59,52,63],[51,64,52,68],[51,69,52,73],[51,318,52,327],[51,328,52,337],[51,338,52,347],[51,348,52,357],[51,358,52,367],[53,0,54,18],[53,19,54,24],[53,25,54,28],[53,29,54,33],[53,34,54,38],[51,258,52,267],[51,268,52,277],[51,278,52,287],[51,288,52,297],[51,298,52,307],[51,308,52,317],[51,203,52,207],[51,208,52,217],[51,218,52,227],[51,228,52,237],[51,238,52,247],[51,248,52,257],[51,164,52,168],[51,169,52,173],[51,174,52,178],[51,179,52,183],[51,184,52,188],[51,193,52,197],[51,134,52,138],[51,139,52,143],[51,144,52,148],[51,149,52,153],[53,139,54,143],[53,144,54,148],[53,149,54,153],[53,154,54,158],[53,99,54,103],[53,104,54,108]],"merged_total":3257,"flags":["merged_cut"]}
[]
["Capacity Analysis for Planning of Junctions"]
[]
["Multimodal Intersection Configuration for Bicycle Segments"]
[]
[]
[null,null,null,null,null,null,null,null,null,null,null,null,null,null,null,null,null,null,null,null,null,null,null,null,null,null,null,null,null,null,null,null,null,null,null,null,null,null,null,null,null,null,null,null,null,null,null,null,null,null,null,null,null,null,null,null,null,null,null,null,null,null,null,null,null,null,null,null,null,"Scoring Ranges",null,null,null,null,null,null,null,null,null,null,null,"Veh Speed",null,null,null,null,null,null,null,null,null,null,null,"Bike Lane Type"]
[null,null,null,null,null,null,null,null,null,null,null,null,null,null,null,null,null,null,null,null,null,null,null,null,null,null,null,null,null,null,null,null,null,null,null,null,null,null,null,null,null,null,null,null,null,null,null,null,null,null,null,null,null,null,null,null,null,null,null,null,null,null,null,null,null,null,null,null,null,"Excellent",null,null,null,null,null,100,null,80,null,null,null,"<20mph",null,null,null,null,null,10,null,null,null,null,null,"Separate Path",null,null,null,null,null,null,null,null,null,null,10]
[null,null,null,null,null,null,null,null,null,null,null,null,null,null,null,null,null,null,null,null,null,null,null,null,null,null,null,null,null,null,null,null,null,null,null,null,null,null,null,null,null,null,null,null,null,null,null,null,null,null,null,null,null,null,null,null,null,null,null,null,null,null,null,null,null,null,null,null,null,"Good",null,null,null,null,null,79,null,60,null,null,null,"20-30mph",null,null,null,null,null,8,null,null,null,null,null,"On-Street Lane",null,null,null,null,null,null,null,null,null,null,8]
[null,null,null,null,null,null,null,null,null,null,null,null,null,null,null,null,null,null,null,null,null,null,null,null,null,null,null,null,null,null,null,null,null,null,null,null,null,null,null,null,null,null,null,null,null,null,null,null,null,null,null,null,null,null,null,null,null,null,null,null,null,null,null,null,null,null,null,null,null,"Fair",null,null,null,null,null,59,null,40,null,null,null,">30mph",null,null,null,null,null,6,null,null,null,null,null,"Shared with Vehicles",null,null,null,null,null,null,null,null,null,null,6]
[null,null,null,null,null,null,null,null,null,null,null,null,null,null,null,null,null,null,null,null,null,null,null,null,null,null,null,null,null,null,null,null,null,null,null,null,null,null,null,null,null,null,null,null,null,null,null,null,null,null,null,null,null,null,null,null,null,null,null,null,null,null,null,null,null,null,null,null,null,"Poor",null,null,null,null,null,39,null,0]
[]
[]
[]
[]
[]
["Bicycle Segment Configurations for Non-roundabout Intersections",null,null,null,null,null,null,null,null,null,null,null,null,null,null,null,null,null,null,null,null,null,null,null,null,null,null,null,null,null,null,null,null,null,null,null,null,null,null,null,null,null,null,null,null,null,null,null,null,null,null,null,null,null,null,null,null,null,null,null,null,null,null,null,null,null,null,null,null,null,null,null,null,null,null,null,null,null,null,null,null,null,null,null,null,null,null,null,null,null,null,null,null,null,null,null,null,null,null,null,null,null,null,null,null,null,null,null,null,null,null,null,null,null,null,null,null,null,null,null,null,null,null,null,null,null,null,null,null,null,null,null,null,null,null,null,null,null,null,null,null,null,null,null,null,null,null,null,null,null,null,null,null,null,null,null,null,null,null,null,null,null,null,null,null,null,null,null,null,null,null,null,null,null,null,null,null,null,null,null,null,null,null,null,null,null,null,null,null,null,null,null,null,"Bicycle Multimodal Scoring for Non-Roundabout Intersections"]
[]
["DO NOT MODIFY THIS ROW",null,null,null,null,null,null,null,null,null,null,null,null,null,null,null,null,null,null,null,null,null,null,null,null,null,null,null,null,1,null,null,null,null,{"$f":"AD19","v":1},null,null,null,null,2,null,null,null,null,{"$f":"AN19","v":2},null,null,null,null,3,null,null,null,null,{"$f":"AX19","v":3},null,null,null,null,4,null,null,null,null,{"$f":"BH19","v":4},null,null,null,null,5,null,null,null,null,{"$f":"BR19","v":5},null,null,null,null,6,null,null,null,null,{"$f":"CB19","v":6},null,null,null,null,7,null,null,null,null,{"$f":"CL19","v":7},null,null,null,null,8,null,null,null,null,{"$f":"CV19","v":8},null,null,null,null,9,null,null,null,null,{"$f":"DF19","v":9},null,null,null,null,10,null,null,null,null,{"$f":"DP19","v":10},null,null,null,null,11,null,null,null,null,{"$f":"DZ19","v":11},null,null,null,null,12,null,null,null,null,{"$f":"EJ19","v":12},null,null,null,null,13,null,null,null,null,{"$f":"ET19","v":13},null,null,null,null,14,null,null,null,null,{"$f":"FD19","v":14},null,null,null,null,15,null,null,null,null,{"$f":"FN19","v":15},null,null,null,null,16,null,null,null,null,{"$f":"FX19","v":16}]
["TYPE OF INTERSECTION",null,null,null,null,null,null,null,null,null,null,null,null,null,null,null,null,null,null,"Sheet",null,null,null,null,null,"# Of\nSeg.",null,null,null,"Segment #1",null,null,null,null,null,null,null,null,null,"Segment #2",null,null,null,null,null,null,null,null,null,"Segment #3",null,null,null,null,null,null,null,null,null,"Segment #4",null,null,null,null,null,null,null,null,null,"Segment #5",null,null,null,null,null,null,null,null,null,"Segment #6",null,null,null,null,null,null,null,null,null,"Segment #7",null,null,null,null,null,null,null,null,null,"Segment #8",null,null,null,null,null,null,null,null,null,"Segment #9",null,null,null,null,null,null,null,null,null,"Segment #10",null,null,null,null,null,null,null,null,null,"Segment #11",null,null,null,null,null,null,null,null,null,"Segment #12",null,null,null,null,null,null,null,null,null,"Crossing #13",null,null,null,null,null,null,null,null,null,"Crossing #14",null,null,null,null,null,null,null,null,null,"Crossing #15",null,null,null,null,null,null,null,null,null,"Crossing #16",null,null,null,null,null,null,null,null,null,null,null,null,null,"Intx Scores",null,null,null,null,null,null,null,null,null,null,null,null,null,null,"Individual Segment Scores"]
[]
[null,null,null,null,null,null,null,null,null,null,null,null,null,null,null,null,null,null,null,null,null,null,null,null,null,null,null,null,null,"Bike Lane",null,null,null,null,"Veh Speed",null,null,null,null,"Bike Lane",null,null,null,null,"Veh Speed",null,null,null,null,"Bike Lane",null,null,null,null,"Veh Speed",null,null,null,null,"Bike Lane",null,null,null,null,"Veh Speed",null,null,null,null,"Bike Lane",null,null,null,null,"Veh Speed",null,null,null,null,"Bike Lane",null,null,null,null,"Veh Speed",null,null,null,null,"Bike Lane",null,null,null,null,"Veh Speed",null,null,null,null,"Bike Lane",null,null,null,null,"Veh Speed",null,null,null,null,"Bike Lane",null,null,null,null,"Veh Speed",null,null,null,null,"Bike Lane",null,null,null,null,"Veh Speed",null,null,null,null,"Bike Lane",null,null,null,null,"Veh Speed",null,null,null,null,"Bike Lane",null,null,null,null,"Veh Speed",null,null,null,null,"Bike Lane",null,null,null,null,"Veh Speed",null,null,null,null,"Bike Lane",null,null,null,null,"Veh Speed",null,null,null,null,"Bike Lane",null,null,null,null,"Veh Speed",null,null,null,null,"Bike Lane",null,null,null,null,"Veh Speed",null,null,null,null,null,null,null,null,"Report",null,null,null,null,"Worst",null,null,null,null,"Avg",null,null,null,null,"#1",null,null,null,null,null,null,null,null,null,"#2",null,null,null,null,null,null,null,null,null,"#3",null,null,null,null,null,null,null,null,null,"#4",null,null,null,null,null,null,null,null,null,"#5",null,null,null,null,null,null,null,null,null,"#6",null,null,null,null,null,null,null,null,null,"#7",null,null,null,null,null,null,null,null,null,"#8",null,null,null,null,null,null,null,null,null,"#9",null,null,null,null,null,null,null,null,null,"#10",null,null,null,null,null,null,null,null,null,"#11",null,null,null,null,null,null,null,null,null,"#12",null,null,null,null,null,null,null,null,null,"#13",null,null,null,null,null,null,null,null,null,"#14",null,null,null,null,null,null,null,null,null,"#15",null,null,null,null,null,null,null,null,null,"#16"]
[]
[{"$f":"'3 - Alt Num Lanes Input'!E24","v":"Traffic Signal"},null,null,null,null,null,null,null,null,null,null,null,null,null,null,null,null,null,null,"FULL",null,null,null,null,null,6,null,null,null,"On-Street Lane",null,null,null,null,"<20mph",null,null,null,null,"On-Street Lane",null,null,null,null,"<20mph",null,null,null,null,"On-Street Lane",null,null,null,null,"<20mph",null,null,null,null,"On-Street Lane",null,null,null,null,"<20mph",null,null,null,null,"On-Street Lane",null,null,null,null,"<20mph",null,null,null,null,"On-Street Lane",null,null,null,null,"<20mph",null,null,null,null,"On-Street Lane",null,null,null,null,"<20mph",null,null,null,null,"On-Street Lane",null,null,null,null,"<20mph",null,null,null,null,"On-Street Lane",null,null,null,null,"<20mph",null,null,null,null,"On-Street Lane",null,null,null,null,"<20mph",null,null,null,null,"On-Street Lane",null,null,null,null,"<20mph",null,null,null,null,"On-Street Lane",null,null,null,null,"<20mph",null,null,null,null,"Separate Path",null,null,null,null,"<20mph",null,null,null,null,"Separate Path",null,null,null,null,"<20mph",null,null,null,null,"Separate Path",null,null,null,null,"<20mph",null,null,null,null,"Separate Path",null,null,null,null,"<20mph",null,null,null,null,null,null,null,null,{"$f":"IF(GV24<=$BX$11,$BR$11,IF(GV24<=$BX$10,$BR$10,IF(GV24<=$BX$9,$BR$9,$BR$8)))","v":"Excellent"},null,null,null,null,{"$f":"MIN(HA24:ND25)","v":80},null,null,null,null,{"$f":"AVERAGE(HA24:ND25)","v":80},null,null,null,null,{"$f":"IF(AD$19>$Z24,\"--\",IF(AD24=$CP$8,$DA$8,IF(AD24=$CP$9,$DA$9,$DA$10))*IF(AI24=$CD$8,$CJ$8,IF(AI24=$CD$9,$CJ$9,$CJ$10)))","v":80},null,null,null,null,null,null,null,null,null,{"$f":"IF(AN$19>$Z24,\"--\",IF(AN24=$CP$8,$DA$8,IF(AN24=$CP$9,$DA$9,$DA$10))*IF(AS24=$CD$8,$CJ$8,IF(AS24=$CD$9,$CJ$9,$CJ$10)))","v":80},null,null,null,null,null,null,null,null,null,{"$f":"IF(AX$19>$Z24,\"--\",IF(AX24=$CP$8,$DA$8,IF(AX24=$CP$9,$DA$9,$DA$10))*IF(BC24=$CD$8,$CJ$8,IF(BC24=$CD$9,$CJ$9,$CJ$10)))","v":80},null,null,null,null,null,null,null,null,null,{"$f":"IF(BH$19>$Z24,\"--\",IF(BH24=$CP$8,$DA$8,IF(BH24=$CP$9,$DA$9,$DA$10))*IF(BM24=$CD$8,$CJ$8,IF(BM24=$CD$9,$CJ$9,$CJ$10)))","v":80},null,null,null,null,null,null,null,null,null,{"$f":"IF(BR$19>$Z24,\"--\",IF(BR24=$CP$8,$DA$8,IF(BR24=$CP$9,$DA$9,$DA$10))*IF(BW24=$CD$8,$CJ$8,IF(BW24=$CD$9,$CJ$9,$CJ$10)))","v":80},null,null,null,null,null,null,null,null,null,{"$f":"IF(CB$19>$Z24,\"--\",IF(CB24=$CP$8,$DA$8,IF(CB24=$CP$9,$DA$9,$DA$10))*IF(CG24=$CD$8,$CJ$8,IF(CG24=$CD$9,$CJ$9,$CJ$10)))","v":80},null,null,null,null,null,null,null,null,null,{"$f":"IF(CL$19>$Z24,\"--\",IF(CL24=$CP$8,$DA$8,IF(CL24=$CP$9,$DA$9,$DA$10))*IF(CQ24=$CD$8,$CJ$8,IF(CQ24=$CD$9,$CJ$9,$CJ$10)))","v":"--"},null,null,null,null,null,null,null,null,null,{"$f":"IF(CV$19>$Z24,\"--\",IF(CV24=$CP$8,$DA$8,IF(CV24=$CP$9,$DA$9,$DA$10))*IF(DA24=$CD$8,$CJ$8,IF(DA24=$CD$9,$CJ$9,$CJ$10)))","v":"--"},null,null,null,null,null,null,null,null,null,{"$f":"IF(DF$19>$Z24,\"--\",IF(DF24=$CP$8,$DA$8,IF(DF24=$CP$9,$DA$9,$DA$10))*IF(DK24=$CD$8,$CJ$8,IF(DK24=$CD$9,$CJ$9,$CJ$10)))","v":"--"},null,null,null,null,null,null,null,null,null,{"$f":"IF(DP$19>$Z24,\"--\",IF(DP24=$CP$8,$DA$8,IF(DP24=$CP$9,$DA$9,$DA$10))*IF(DU24=$CD$8,$CJ$8,IF(DU24=$CD$9,$CJ$9,$CJ$10)))","v":"--"},null,null,null,null,null,null,null,null,null,{"$f":"IF(DZ$19>$Z24,\"--\",IF(DZ24=$CP$8,$DA$8,IF(DZ24=$CP$9,$DA$9,$DA$10))*IF(EE24=$CD$8,$CJ$8,IF(EE24=$CD$9,$CJ$9,$CJ$10)))","v":"--"},null,null,null,null,null,null,null,null,null,{"$f":"IF(EJ$19>$Z24,\"--\",IF(EJ24=$CP$8,$DA$8,IF(EJ24=$CP$9,$DA$9,$DA$10))*IF(EO24=$CD$8,$CJ$8,IF(EO24=$CD$9,$CJ$9,$CJ$10)))","v":"--"},null,null,null,null,null,null,null,null,null,{"$f":"IF(ET$19>$Z24,\"--\",IF(ET24=$CP$8,$DA$8,IF(ET24=$CP$9,$DA$9,$DA$10))*IF(EY24=$CD$8,$CJ$8,IF(EY24=$CD$9,$CJ$9,$CJ$10)))","v":"--"},null,null,null,null,null,null,null,null,null,{"$f":"IF(FD$19>$Z24,\"--\",IF(FD24=$CP$8,$DA$8,IF(FD24=$CP$9,$DA$9,$DA$10))*IF(FI24=$CD$8,$CJ$8,IF(FI24=$CD$9,$CJ$9,$CJ$10)))","v":"--"},null,null,null,null,null,null,null,null,null,{"$f":"IF(FN$19>$Z24,\"--\",IF(FN24=$CP$8,$DA$8,IF(FN24=$CP$9,$DA$9,$DA$10))*IF(FS24=$CD$8,$CJ$8,IF(FS24=$CD$9,$CJ$9,$CJ$10)))","v":"--"},null,null,null,null,null,null,null,null,null,{"$f":"IF(FX$19>$Z24,\"--\",IF(FX24=$CP$8,$DA$8,IF(FX24=$CP$9,$DA$9,$DA$10))*IF(GC24=$CD$8,$CJ$8,IF(GC24=$CD$9,$CJ$9,$CJ$10)))","v":"--"}]
[]
["Conventional Shared RT LN",null,null,null,null,null,null,null,null,null,null,null,null,null,null,null,null,null,null,"CSRL",null,null,null,null,null,4,null,null,null,"On-Street Lane",null,null,null,null,"<20mph",null,null,null,null,"On-Street Lane",null,null,null,null,"<20mph",null,null,null,null,"On-Street Lane",null,null,null,null,"<20mph",null,null,null,null,"On-Street Lane",null,null,null,null,"<20mph",null,null,null,null,"On-Street Lane",null,null,null,null,"<20mph",null,null,null,null,"On-Street Lane",null,null,null,null,"Stop / Signal",null,null,null,null,"On-Street Lane",null,null,null,null,"Stop / Signal",null,null,null,null,"On-Street Lane",null,null,null,null,"Stop / Signal",null,null,null,null,"On-Street Lane",null,null,null,null,"Stop / Signal",null,null,null,null,"On-Street Lane",null,null,null,null,"<20mph",null,null,null,null,"On-Street Lane",null,null,null,null,"Stop / Signal",null,null,null,null,"On-Street Lane",null,null,null,null,"Stop / Signal",null,null,null,null,"Separate Path",null,null,null,null,"Stop / Signal",null,null,null,null,"Separate Path",null,null,null,null,"Stop / Signal",null,null,null,null,"Separate Path",null,null,null,null,"<20mph",null,null,null,null,"Separate Path",null,null,null,null,"<20mph",null,null,null,null,null,null,null,null,{"$f":"IF(GV26<=$BX$11,$BR$11,IF(GV26<=$BX$10,$BR$10,IF(GV26<=$BX$9,$BR$9,$BR$8)))","v":"Excellent"},null,null,null,null,{"$f":"MIN(HA26:ND27)","v":80},null,null,null,null,{"$f":"AVERAGE(HA26:ND27)","v":80},null,null,null,null,{"$f":"IF(AD$19>$Z26,\"--\",IF(AD26=$CP$8,$DA$8,IF(AD26=$CP$9,$DA$9,$DA$10))*IF(AI26=$CD$8,$CJ$8,IF(AI26=$CD$9,$CJ$9,$CJ$10)))","v":80},null,null,null,null,null,null,null,null,null,{"$f":"IF(AN$19>$Z26,\"--\",IF(AN26=$CP$8,$DA$8,IF(AN26=$CP$9,$DA$9,$DA$10))*IF(AS26=$CD$8,$CJ$8,IF(AS26=$CD$9,$CJ$9,$CJ$10)))","v":80},null,null,null,null,null,null,null,null,null,{"$f":"IF(AX$19>$Z26,\"--\",IF(AX26=$CP$8,$DA$8,IF(AX26=$CP$9,$DA$9,$DA$10))*IF(BC26=$CD$8,$CJ$8,IF(BC26=$CD$9,$CJ$9,$CJ$10)))","v":80},null,null,null,null,null,null,null,null,null,{"$f":"IF(BH$19>$Z26,\"--\",IF(BH26=$CP$8,$DA$8,IF(BH26=$CP$9,$DA$9,$DA$10))*IF(BM26=$CD$8,$CJ$8,IF(BM26=$CD$9,$CJ$9,$CJ$10)))","v":80},null,null,null,null,null,null,null,null,null,{"$f":"IF(BR$19>$Z26,\"--\",IF(BR26=$CP$8,$DA$8,IF(BR26=$CP$9,$DA$9,$DA$10))*IF(BW26=$CD$8,$CJ$8,IF(BW26=$CD$9,$CJ$9,$CJ$10)))","v":"--"},null,null,null,null,null,null,null,null,null,{"$f":"IF(CB$19>$Z26,\"--\",IF(CB26=$CP$8,$DA$8,IF(CB26=$CP$9,$DA$9,$DA$10))*IF(CG26=$CD$8,$CJ$8,IF(CG26=$CD$9,$CJ$9,$CJ$10)))","v":"--"},null,null,null,null,null,null,null,null,null,{"$f":"IF(CL$19>$Z26,\"--\",IF(CL26=$CP$8,$DA$8,IF(CL26=$CP$9,$DA$9,$DA$10))*IF(CQ26=$CD$8,$CJ$8,IF(CQ26=$CD$9,$CJ$9,$CJ$10)))","v":"--"},null,null,null,null,null,null,null,null,null,{"$f":"IF(CV$19>$Z26,\"--\",IF(CV26=$CP$8,$DA$8,IF(CV26=$CP$9,$DA$9,$DA$10))*IF(DA26=$CD$8,$CJ$8,IF(DA26=$CD$9,$CJ$9,$CJ$10)))","v":"--"},null,null,null,null,null,null,null,null,null,{"$f":"IF(DF$19>$Z26,\"--\",IF(DF26=$CP$8,$DA$8,IF(DF26=$CP$9,$DA$9,$DA$10))*IF(DK26=$CD$8,$CJ$8,IF(DK26=$CD$9,$CJ$9,$CJ$10)))","v":"--"},null,null,null,null,null,null,null,null,null,{"$f":"IF(DP$19>$Z26,\"--\",IF(DP26=$CP$8,$DA$8,IF(DP26=$CP$9,$DA$9,$DA$10))*IF(DU26=$CD$8,$CJ$8,IF(DU26=$CD$9,$CJ$9,$CJ$10)))","v":"--"},null,null,null,null,null,null,null,null,null,{"$f":"IF(DZ$19>$Z26,\"--\",IF(DZ26=$CP$8,$DA$8,IF(DZ26=$CP$9,$DA$9,$DA$10))*IF(EE26=$CD$8,$CJ$8,IF(EE26=$CD$9,$CJ$9,$CJ$10)))","v":"--"},null,null,null,null,null,null,null,null,null,{"$f":"IF(EJ$19>$Z26,\"--\",IF(EJ26=$CP$8,$DA$8,IF(EJ26=$CP$9,$DA$9,$DA$10))*IF(EO26=$CD$8,$CJ$8,IF(EO26=$CD$9,$CJ$9,$CJ$10)))","v":"--"},null,null,null,null,null,null,null,null,null,{"$f":"IF(ET$19>$Z26,\"--\",IF(ET26=$CP$8,$DA$8,IF(ET26=$CP$9,$DA$9,$DA$10))*IF(EY26=$CD$8,$CJ$8,IF(EY26=$CD$9,$CJ$9,$CJ$10)))","v":"--"},null,null,null,null,null,null,null,null,null,{"$f":"IF(FD$19>$Z26,\"--\",IF(FD26=$CP$8,$DA$8,IF(FD26=$CP$9,$DA$9,$DA$10))*IF(FI26=$CD$8,$CJ$8,IF(FI26=$CD$9,$CJ$9,$CJ$10)))","v":"--"},null,null,null,null,null,null,null,null,null,{"$f":"IF(FN$19>$Z26,\"--\",IF(FN26=$CP$8,$DA$8,IF(FN26=$CP$9,$DA$9,$DA$10))*IF(FS26=$CD$8,$CJ$8,IF(FS26=$CD$9,$CJ$9,$CJ$10)))","v":"--"},null,null,null,null,null,null,null,null,null,{"$f":"IF(FX$19>$Z26,\"--\",IF(FX26=$CP$8,$DA$8,IF(FX26=$CP$9,$DA$9,$DA$10))*IF(GC26=$CD$8,$CJ$8,IF(GC26=$CD$9,$CJ$9,$CJ$10)))","v":"--"}]
[]
[{"$f":"'3 - Alt Num Lanes Input'!E28","v":"Two-Way Stop Control"},null,null,null,null,null,null,null,null,null,null,null,null,null,null,null,null,null,null,"N-S",null,null,null,null,null,4,null,null,null,"On-Street Lane",null,null,null,null,">30mph",null,null,null,null,"On-Street Lane",null,null,null,null,">30mph",null,null,null,null,"On-Street Lane",null,null,null,null,"<20mph",null,null,null,null,"On-Street Lane",null,null,null,null,"<20mph",null,null,null,null,"On-Street Lane",null,null,null,null,"<20mph",null,null,null,null,"On-Street Lane",null,null,null,null,">30mph",null,null,null,null,"On-Street Lane",null,null,null,null,">30mph",null,null,null,null,"On-Street Lane",null,null,null,null,"Stop / Signal",null,null,null,null,"On-Street Lane",null,null,null,null,"Stop / Signal",null,null,null,null,"On-Street Lane",null,null,null,null,"<20mph",null,null,null,null,"On-Street Lane",null,null,null,null,">30mph",null,null,null,null,"On-Street Lane",null,null,null,null,">30mph",null,null,null,null,"Separate Path",null,null,null,null,"Stop / Signal",null,null,null,null,"Separate Path",null,null,null,null,"Stop / Signal",null,null,null,null,"Separate Path",null,null,null,null,"<20mph",null,null,null,null,"Separate Path",null,null,null,null,"<20mph",null,null,null,null,null,null,null,null,{"$f":"IF(GV28<=$BX$11,$BR$11,IF(GV28<=$BX$10,$BR$10,IF(GV28<=$BX$9,$BR$9,$BR$8)))","v":"Good"},null,null,null,null,{"$f":"MIN(HA28:ND29)","v":48},null,null,null,null,{"$f":"AVERAGE(HA28:ND29)","v":64},null,null,null,null,{"$f":"IF(AD$19>$Z28,\"--\",IF(AD28=$CP$8,$DA$8,IF(AD28=$CP$9,$DA$9,$DA$10))*IF(AI28=$CD$8,$CJ$8,IF(AI28=$CD$9,$CJ$9,$CJ$10)))","v":48},null,null,null,null,null,null,null,null,null,{"$f":"IF(AN$19>$Z28,\"--\",IF(AN28=$CP$8,$DA$8,IF(AN28=$CP$9,$DA$9,$DA$10))*IF(AS28=$CD$8,$CJ$8,IF(AS28=$CD$9,$CJ$9,$CJ$10)))","v":48},null,null,null,null,null,null,null,null,null,{"$f":"IF(AX$19>$Z28,\"--\",IF(AX28=$CP$8,$DA$8,IF(AX28=$CP$9,$DA$9,$DA$10))*IF(BC28=$CD$8,$CJ$8,IF(BC28=$CD$9,$CJ$9,$CJ$10)))","v":80},null,null,null,null,null,null,null,null,null,{"$f":"IF(BH$19>$Z28,\"--\",IF(BH28=$CP$8,$DA$8,IF(BH28=$CP$9,$DA$9,$DA$10))*IF(BM28=$CD$8,$CJ$8,IF(BM28=$CD$9,$CJ$9,$CJ$10)))","v":80},null,null,null,null,null,null,null,null,null,{"$f":"IF(BR$19>$Z28,\"--\",IF(BR28=$CP$8,$DA$8,IF(BR28=$CP$9,$DA$9,$DA$10))*IF(BW28=$CD$8,$CJ$8,IF(BW28=$CD$9,$CJ$9,$CJ$10)))","v":"--"},null,null,null,null,null,null,null,null,null,{"$f":"IF(CB$19>$Z28,\"--\",IF(CB28=$CP$8,$DA$8,IF(CB28=$CP$9,$DA$9,$DA$10))*IF(CG28=$CD$8,$CJ$8,IF(CG28=$CD$9,$CJ$9,$CJ$10)))","v":"--"},null,null,null,null,null,null,null,null,null,{"$f":"IF(CL$19>$Z28,\"--\",IF(CL28=$CP$8,$DA$8,IF(CL28=$CP$9,$DA$9,$DA$10))*IF(CQ28=$CD$8,$CJ$8,IF(CQ28=$CD$9,$CJ$9,$CJ$10)))","v":"--"},null,null,null,null,null,null,null,null,null,{"$f":"IF(CV$19>$Z28,\"--\",IF(CV28=$CP$8,$DA$8,IF(CV28=$CP$9,$DA$9,$DA$10))*IF(DA28=$CD$8,$CJ$8,IF(DA28=$CD$9,$CJ$9,$CJ$10)))","v":"--"},null,null,null,null,null,null,null,null,null,{"$f":"IF(DF$19>$Z28,\"--\",IF(DF28=$CP$8,$DA$8,IF(DF28=$CP$9,$DA$9,$DA$10))*IF(DK28=$CD$8,$CJ$8,IF(DK28=$CD$9,$CJ$9,$CJ$10)))","v":"--"},null,null,null,null,null,null,null,null,null,{"$f":"IF(DP$19>$Z28,\"--\",IF(DP28=$CP$8,$DA$8,IF(DP28=$CP$9,$DA$9,$DA$10))*IF(DU28=$CD$8,$CJ$8,IF(DU28=$CD$9,$CJ$9,$CJ$10)))","v":"--"},null,null,null,null,null,null,null,null,null,{"$f":"IF(DZ$19>$Z28,\"--\",IF(DZ28=$CP$8,$DA$8,IF(DZ28=$CP$9,$DA$9,$DA$10))*IF(EE28=$CD$8,$CJ$8,IF(EE28=$CD$9,$CJ$9,$CJ$10)))","v":"--"},null,null,null,null,null,null,null,null,null,{"$f":"IF(EJ$19>$Z28,\"--\",IF(EJ28=$CP$8,$DA$8,IF(EJ28=$CP$9,$DA$9,$DA$10))*IF(EO28=$CD$8,$CJ$8,IF(EO28=$CD$9,$CJ$9,$CJ$10)))","v":"--"},null,null,null,null,null,null,null,null,null,{"$f":"IF(ET$19>$Z28,\"--\",IF(ET28=$CP$8,$DA$8,IF(ET28=$CP$9,$DA$9,$DA$10))*IF(EY28=$CD$8,$CJ$8,IF(EY28=$CD$9,$CJ$9,$CJ$10)))","v":"--"},null,null,null,null,null,null,null,null,null,{"$f":"IF(FD$19>$Z28,\"--\",IF(FD28=$CP$8,$DA$8,IF(FD28=$CP$9,$DA$9,$DA$10))*IF(FI28=$CD$8,$CJ$8,IF(FI28=$CD$9,$CJ$9,$CJ$10)))","v":"--"},null,null,null,null,null,null,null,null,null,{"$f":"IF(FN$19>$Z28,\"--\",IF(FN28=$CP$8,$DA$8,IF(FN28=$CP$9,$DA$9,$DA$10))*IF(FS28=$CD$8,$CJ$8,IF(FS28=$CD$9,$CJ$9,$CJ$10)))","v":"--"},null,null,null,null,null,null,null,null,null,{"$f":"IF(FX$19>$Z28,\"--\",IF(FX28=$CP$8,$DA$8,IF(FX28=$CP$9,$DA$9,$DA$10))*IF(GC28=$CD$8,$CJ$8,IF(GC28=$CD$9,$CJ$9,$CJ$10)))","v":"--"}]
[]
[null,null,null,null,null,null,null,null,null,null,null,null,null,null,null,null,null,null,null,"E-W",null,null,null,null,null,4,null,null,null,"On-Street Lane",null,null,null,null,">30mph",null,null,null,null,"On-Street Lane",null,null,null,null,">30mph",null,null,null,null,"On-Street Lane",null,null,null,null,"<20mph",null,null,null,null,"On-Street Lane",null,null,null,null,"<20mph",null,null,null,null,"On-Street Lane",null,null,null,null,"<20mph",null,null,null,null,"On-Street Lane",null,null,null,null,">30mph",null,null,null,null,"On-Street Lane",null,null,null,null,">30mph",null,null,null,null,"On-Street Lane",null,null,null,null,"Stop / Signal",null,null,null,null,"On-Street Lane",null,null,null,null,"Stop / Signal",null,null,null,null,"On-Street Lane",null,null,null,null,"<20mph",null,null,null,null,"On-Street Lane",null,null,null,null,">30mph",null,null,null,null,"On-Street Lane",null,null,null,null,">30mph",null,null,null,null,"Separate Path",null,null,null,null,"Stop / Signal",null,null,null,null,"Separate Path",null,null,null,null,"Stop / Signal",null,null,null,null,"Separate Path",null,null,null,null,"<20mph",null,null,null,null,"Separate Path",null,null,null,null,"<20mph",null,null,null,null,null,null,null,null,{"$f":"IF(GV30<=$BX$11,$BR$11,IF(GV30<=$BX$10,$BR$10,IF(GV30<=$BX$9,$BR$9,$BR$8)))","v":"Good"},null,null,null,null,{"$f":"MIN(HA30:ND31)","v":48},null,null,null,null,{"$f":"AVERAGE(HA30:ND31)","v":64},null,null,null,null,{"$f":"IF(AD$19>$Z30,\"--\",IF(AD30=$CP$8,$DA$8,IF(AD30=$CP$9,$DA$9,$DA$10))*IF(AI30=$CD$8,$CJ$8,IF(AI30=$CD$9,$CJ$9,$CJ$10)))","v":48},null,null,null,null,null,null,null,null,null,{"$f":"IF(AN$19>$Z30,\"--\",IF(AN30=$CP$8,$DA$8,IF(AN30=$CP$9,$DA$9,$DA$10))*IF(AS30=$CD$8,$CJ$8,IF(AS30=$CD$9,$CJ$9,$CJ$10)))","v":48},null,null,null,null,null,null,null,null,null,{"$f":"IF(AX$19>$Z30,\"--\",IF(AX30=$CP$8,$DA$8,IF(AX30=$CP$9,$DA$9,$DA$10))*IF(BC30=$CD$8,$CJ$8,IF(BC30=$CD$9,$CJ$9,$CJ$10)))","v":80},null,null,null,null,null,null,null,null,null,{"$f":"IF(BH$19>$Z30,\"--\",IF(BH30=$CP$8,$DA$8,IF(BH30=$CP$9,$DA$9,$DA$10))*IF(BM30=$CD$8,$CJ$8,IF(BM30=$CD$9,$CJ$9,$CJ$10)))","v":80},null,null,null,null,null,null,null,null,null,{"$f":"IF(BR$19>$Z30,\"--\",IF(BR30=$CP$8,$DA$8,IF(BR30=$CP$9,$DA$9,$DA$10))*IF(BW30=$CD$8,$CJ$8,IF(BW30=$CD$9,$CJ$9,$CJ$10)))","v":"--"},null,null,null,null,null,null,null,null,null,{"$f":"IF(CB$19>$Z30,\"--\",IF(CB30=$CP$8,$DA$8,IF(CB30=$CP$9,$DA$9,$DA$10))*IF(CG30=$CD$8,$CJ$8,IF(CG30=$CD$9,$CJ$9,$CJ$10)))","v":"--"},null,null,null,null,null,null,null,null,null,{"$f":"IF(CL$19>$Z30,\"--\",IF(CL30=$CP$8,$DA$8,IF(CL30=$CP$9,$DA$9,$DA$10))*IF(CQ30=$CD$8,$CJ$8,IF(CQ30=$CD$9,$CJ$9,$CJ$10)))","v":"--"},null,null,null,null,null,null,null,null,null,{"$f":"IF(CV$19>$Z30,\"--\",IF(CV30=$CP$8,$DA$8,IF(CV30=$CP$9,$DA$9,$DA$10))*IF(DA30=$CD$8,$CJ$8,IF(DA30=$CD$9,$CJ$9,$CJ$10)))","v":"--"},null,null,null,null,null,null,null,null,null,{"$f":"IF(DF$19>$Z30,\"--\",IF(DF30=$CP$8,$DA$8,IF(DF30=$CP$9,$DA$9,$DA$10))*IF(DK30=$CD$8,$CJ$8,IF(DK30=$CD$9,$CJ$9,$CJ$10)))","v":"--"},null,null,null,null,null,null,null,null,null,{"$f":"IF(DP$19>$Z30,\"--\",IF(DP30=$CP$8,$DA$8,IF(DP30=$CP$9,$DA$9,$DA$10))*IF(DU30=$CD$8,$CJ$8,IF(DU30=$CD$9,$CJ$9,$CJ$10)))","v":"--"},null,null,null,null,null,null,null,null,null,{"$f":"IF(DZ$19>$Z30,\"--\",IF(DZ30=$CP$8,$DA$8,IF(DZ30=$CP$9,$DA$9,$DA$10))*IF(EE30=$CD$8,$CJ$8,IF(EE30=$CD$9,$CJ$9,$CJ$10)))","v":"--"},null,null,null,null,null,null,null,null,null,{"$f":"IF(EJ$19>$Z30,\"--\",IF(EJ30=$CP$8,$DA$8,IF(EJ30=$CP$9,$DA$9,$DA$10))*IF(EO30=$CD$8,$CJ$8,IF(EO30=$CD$9,$CJ$9,$CJ$10)))","v":"--"},null,null,null,null,null,null,null,null,null,{"$f":"IF(ET$19>$Z30,\"--\",IF(ET30=$CP$8,$DA$8,IF(ET30=$CP$9,$DA$9,$DA$10))*IF(EY30=$CD$8,$CJ$8,IF(EY30=$CD$9,$CJ$9,$CJ$10)))","v":"--"},null,null,null,null,null,null,null,null,null,{"$f":"IF(FD$19>$Z30,\"--\",IF(FD30=$CP$8,$DA$8,IF(FD30=$CP$9,$DA$9,$DA$10))*IF(FI30=$CD$8,$CJ$8,IF(FI30=$CD$9,$CJ$9,$CJ$10)))","v":"--"},null,null,null,null,null,null,null,null,null,{"$f":"IF(FN$19>$Z30,\"--\",IF(FN30=$CP$8,$DA$8,IF(FN30=$CP$9,$DA$9,$DA$10))*IF(FS30=$CD$8,$CJ$8,IF(FS30=$CD$9,$CJ$9,$CJ$10)))","v":"--"},null,null,null,null,null,null,null,null,null,{"$f":"IF(FX$19>$Z30,\"--\",IF(FX30=$CP$8,$DA$8,IF(FX30=$CP$9,$DA$9,$DA$10))*IF(GC30=$CD$8,$CJ$8,IF(GC30=$CD$9,$CJ$9,$CJ$10)))","v":"--"}]
[]
["All-Way Stop Control",null,null,null,null,null,null,null,null,null,null,null,null,null,null,null,null,null,null,"FULL",null,null,null,null,null,4,null,null,null,"On-Street Lane",null,null,null,null,"<20mph",null,null,null,null,"On-Street Lane",null,null,null,null,"<20mph",null,null,null,null,"On-Street Lane",null,null,null,null,"<20mph",null,null,null,null,"On-Street Lane",null,null,null,null,"<20mph",null,null,null,null,"On-Street Lane",null,null,null,null,"<20mph",null,null,null,null,"On-Street Lane",null,null,null,null,"<20mph",null,null,null,null,"On-Street Lane",null,null,null,null,"<20mph",null,null,null,null,"On-Street Lane",null,null,null,null,"<20mph",null,null,null,null,"On-Street Lane",null,null,null,null,"<20mph",null,null,null,null,"On-Street Lane",null,null,null,null,"<20mph",null,null,null,null,"On-Street Lane",null,null,null,null,"<20mph",null,null,null,null,"On-Street Lane",null,null,null,null,"<20mph",null,null,null,null,"Separate Path",null,null,null,null,"<20mph",null,null,null,null,"Separate Path",null,null,null,null,"<20mph",null,null,null,null,"Separate Path",null,null,null,null,"<20mph",null,null,null,null,"Separate Path",null,null,null,null,"<20mph",null,null,null,null,null,null,null,null,{"$f":"IF(GV32<=$BX$11,$BR$11,IF(GV32<=$BX$10,$BR$10,IF(GV32<=$BX$9,$BR$9,$BR$8)))","v":"Excellent"},null,null,null,null,{"$f":"MIN(HA32:ND33)","v":80},null,null,null,null,{"$f":"AVERAGE(HA32:ND33)","v":80},null,null,null,null,{"$f":"IF(AD$19>$Z32,\"--\",IF(AD32=$CP$8,$DA$8,IF(AD32=$CP$9,$DA$9,$DA$10))*IF(AI32=$CD$8,$CJ$8,IF(AI32=$CD$9,$CJ$9,$CJ$10)))","v":80},null,null,null,null,null,null,null,null,null,{"$f":"IF(AN$19>$Z32,\"--\",IF(AN32=$CP$8,$DA$8,IF(AN32=$CP$9,$DA$9,$DA$10))*IF(AS32=$CD$8,$CJ$8,IF(AS32=$CD$9,$CJ$9,$CJ$10)))","v":80},null,null,null,null,null,null,null,null,null,{"$f":"IF(AX$19>$Z32,\"--\",IF(AX32=$CP$8,$DA$8,IF(AX32=$CP$9,$DA$9,$DA$10))*IF(BC32=$CD$8,$CJ$8,IF(BC32=$CD$9,$CJ$9,$CJ$10)))","v":80},null,null,null,null,null,null,null,null,null,{"$f":"IF(BH$19>$Z32,\"--\",IF(BH32=$CP$8,$DA$8,IF(BH32=$CP$9,$DA$9,$DA$10))*IF(BM32=$CD$8,$CJ$8,IF(BM32=$CD$9,$CJ$9,$CJ$10)))","v":80},null,null,null,null,null,null,null,null,null,{"$f":"IF(BR$19>$Z32,\"--\",IF(BR32=$CP$8,$DA$8,IF(BR32=$CP$9,$DA$9,$DA$10))*IF(BW32=$CD$8,$CJ$8,IF(BW32=$CD$9,$CJ$9,$CJ$10)))","v":"--"},null,null,null,null,null,null,null,null,null,{"$f":"IF(CB$19>$Z32,\"--\",IF(CB32=$CP$8,$DA$8,IF(CB32=$CP$9,$DA$9,$DA$10))*IF(CG32=$CD$8,$CJ$8,IF(CG32=$CD$9,$CJ$9,$CJ$10)))","v":"--"},null,null,null,null,null,null,null,null,null,{"$f":"IF(CL$19>$Z32,\"--\",IF(CL32=$CP$8,$DA$8,IF(CL32=$CP$9,$DA$9,$DA$10))*IF(CQ32=$CD$8,$CJ$8,IF(CQ32=$CD$9,$CJ$9,$CJ$10)))","v":"--"},null,null,null,null,null,null,null,null,null,{"$f":"IF(CV$19>$Z32,\"--\",IF(CV32=$CP$8,$DA$8,IF(CV32=$CP$9,$DA$9,$DA$10))*IF(DA32=$CD$8,$CJ$8,IF(DA32=$CD$9,$CJ$9,$CJ$10)))","v":"--"},null,null,null,null,null,null,null,null,null,{"$f":"IF(DF$19>$Z32,\"--\",IF(DF32=$CP$8,$DA$8,IF(DF32=$CP$9,$DA$9,$DA$10))*IF(DK32=$CD$8,$CJ$8,IF(DK32=$CD$9,$CJ$9,$CJ$10)))","v":"--"},null,null,null,null,null,null,null,null,null,{"$f":"IF(DP$19>$Z32,\"--\",IF(DP32=$CP$8,$DA$8,IF(DP32=$CP$9,$DA$9,$DA$10))*IF(DU32=$CD$8,$CJ$8,IF(DU32=$CD$9,$CJ$9,$CJ$10)))","v":"--"},null,null,null,null,null,null,null,null,null,{"$f":"IF(DZ$19>$Z32,\"--\",IF(DZ32=$CP$8,$DA$8,IF(DZ32=$CP$9,$DA$9,$DA$10))*IF(EE32=$CD$8,$CJ$8,IF(EE32=$CD$9,$CJ$9,$CJ$10)))","v":"--"},null,null,null,null,null,null,null,null,null,{"$f":"IF(EJ$19>$Z32,\"--\",IF(EJ32=$CP$8,$DA$8,IF(EJ32=$CP$9,$DA$9,$DA$10))*IF(EO32=$CD$8,$CJ$8,IF(EO32=$CD$9,$CJ$9,$CJ$10)))","v":"--"},null,null,null,null,null,null,null,null,null,{"$f":"IF(ET$19>$Z32,\"--\",IF(ET32=$CP$8,$DA$8,IF(ET32=$CP$9,$DA$9,$DA$10))*IF(EY32=$CD$8,$CJ$8,IF(EY32=$CD$9,$CJ$9,$CJ$10)))","v":"--"},null,null,null,null,null,null,null,null,null,{"$f":"IF(FD$19>$Z32,\"--\",IF(FD32=$CP$8,$DA$8,IF(FD32=$CP$9,$DA$9,$DA$10))*IF(FI32=$CD$8,$CJ$8,IF(FI32=$CD$9,$CJ$9,$CJ$10)))","v":"--"},null,null,null,null,null,null,null,null,null,{"$f":"IF(FN$19>$Z32,\"--\",IF(FN32=$CP$8,$DA$8,IF(FN32=$CP$9,$DA$9,$DA$10))*IF(FS32=$CD$8,$CJ$8,IF(FS32=$CD$9,$CJ$9,$CJ$10)))","v":"--"},null,null,null,null,null,null,null,null,null,{"$f":"IF(FX$19>$Z32,\"--\",IF(FX32=$CP$8,$DA$8,IF(FX32=$CP$9,$DA$9,$DA$10))*IF(GC32=$CD$8,$CJ$8,IF(GC32=$CD$9,$CJ$9,$CJ$10)))","v":"--"}]
[]
["Continuous Green T",null,null,null,null,null,null,null,null,null,null,null,null,null,null,null,null,null,null,"W",null,null,null,null,null,6,null,null,null,"On-Street Lane",null,null,null,null,"<20mph",null,null,null,null,"On-Street Lane",null,null,null,null,"<20mph",null,null,null,null,"On-Street Lane",null,null,null,null,"<20mph",null,null,null,null,"On-Street Lane",null,null,null,null,"<20mph",null,null,null,null,"On-Street Lane",null,null,null,null,"<20mph",null,null,null,null,"On-Street Lane",null,null,null,null,"<20mph",null,null,null,null,"On-Street Lane",null,null,null,null,"<20mph",null,null,null,null,"On-Street Lane",null,null,null,null,"<20mph",null,null,null,null,"On-Street Lane",null,null,null,null,"<20mph",null,null,null,null,"On-Street Lane",null,null,null,null,"<20mph",null,null,null,null,"On-Street Lane",null,null,null,null,"<20mph",null,null,null,null,"On-Street Lane",null,null,null,null,"<20mph",null,null,null,null,"Separate Path",null,null,null,null,"<20mph",null,null,null,null,"Separate Path",null,null,null,null,"<20mph",null,null,null,null,"Separate Path",null,null,null,null,"<20mph",null,null,null,null,"Separate Path",null,null,null,null,"<20mph",null,null,null,null,null,null,null,null,{"$f":"IF(GV34<=$BX$11,$BR$11,IF(GV34<=$BX$10,$BR$10,IF(GV34<=$BX$9,$BR$9,$BR$8)))","v":"Excellent"},null,null,null,null,{"$f":"MIN(HA34:ND35)","v":80},null,null,null,null,{"$f":"AVERAGE(HA34:ND35)","v":80},null,null,null,null,{"$f":"IF(AD$19>$Z34,\"--\",IF(AD34=$CP$8,$DA$8,IF(AD34=$CP$9,$DA$9,$DA$10))*IF(AI34=$CD$8,$CJ$8,IF(AI34=$CD$9,$CJ$9,$CJ$10)))","v":80},null,null,null,null,null,null,null,null,null,{"$f":"IF(AN$19>$Z34,\"--\",IF(AN34=$CP$8,$DA$8,IF(AN34=$CP$9,$DA$9,$DA$10))*IF(AS34=$CD$8,$CJ$8,IF(AS34=$CD$9,$CJ$9,$CJ$10)))","v":80},null,null,null,null,null,null,null,null,null,{"$f":"IF(AX$19>$Z34,\"--\",IF(AX34=$CP$8,$DA$8,IF(AX34=$CP$9,$DA$9,$DA$10))*IF(BC34=$CD$8,$CJ$8,IF(BC34=$CD$9,$CJ$9,$CJ$10)))","v":80},null,null,null,null,null,null,null,null,null,{"$f":"IF(BH$19>$Z34,\"--\",IF(BH34=$CP$8,$DA$8,IF(BH34=$CP$9,$DA$9,$DA$10))*IF(BM34=$CD$8,$CJ$8,IF(BM34=$CD$9,$CJ$9,$CJ$10)))","v":80},null,null,null,null,null,null,null,null,null,{"$f":"IF(BR$19>$Z34,\"--\",IF(BR34=$CP$8,$DA$8,IF(BR34=$CP$9,$DA$9,$DA$10))*IF(BW34=$CD$8,$CJ$8,IF(BW34=$CD$9,$CJ$9,$CJ$10)))","v":80},null,null,null,null,null,null,null,null,null,{"$f":"IF(CB$19>$Z34,\"--\",IF(CB34=$CP$8,$DA$8,IF(CB34=$CP$9,$DA$9,$DA$10))*IF(CG34=$CD$8,$CJ$8,IF(CG34=$CD$9,$CJ$9,$CJ$10)))","v":80},null,null,null,null,null,null,null,null,null,{"$f":"IF(CL$19>$Z34,\"--\",IF(CL34=$CP$8,$DA$8,IF(CL34=$CP$9,$DA$9,$DA$10))*IF(CQ34=$CD$8,$CJ$8,IF(CQ34=$CD$9,$CJ$9,$CJ$10)))","v":"--"},null,null,null,null,null,null,null,null,null,{"$f":"IF(CV$19>$Z34,\"--\",IF(CV34=$CP$8,$DA$8,IF(CV34=$CP$9,$DA$9,$DA$10))*IF(DA34=$CD$8,$CJ$8,IF(DA34=$CD$9,$CJ$9,$CJ$10)))","v":"--"},null,null,null,null,null,null,null,null,null,{"$f":"IF(DF$19>$Z34,\"--\",IF(DF34=$CP$8,$DA$8,IF(DF34=$CP$9,$DA$9,$DA$10))*IF(DK34=$CD$8,$CJ$8,IF(DK34=$CD$9,$CJ$9,$CJ$10)))","v":"--"},null,null,null,null,null,null,null,null,null,{"$f":"IF(DP$19>$Z34,\"--\",IF(DP34=$CP$8,$DA$8,IF(DP34=$CP$9,$DA$9,$DA$10))*IF(DU34=$CD$8,$CJ$8,IF(DU34=$CD$9,$CJ$9,$CJ$10)))","v":"--"},null,null,null,null,null,null,null,null,null,{"$f":"IF(DZ$19>$Z34,\"--\",IF(DZ34=$CP$8,$DA$8,IF(DZ34=$CP$9,$DA$9,$DA$10))*IF(EE34=$CD$8,$CJ$8,IF(EE34=$CD$9,$CJ$9,$CJ$10)))","v":"--"},null,null,null,null,null,null,null,null,null,{"$f":"IF(EJ$19>$Z34,\"--\",IF(EJ34=$CP$8,$DA$8,IF(EJ34=$CP$9,$DA$9,$DA$10))*IF(EO34=$CD$8,$CJ$8,IF(EO34=$CD$9,$CJ$9,$CJ$10)))","v":"--"},null,null,null,null,null,null,null,null,null,{"$f":"IF(ET$19>$Z34,\"--\",IF(ET34=$CP$8,$DA$8,IF(ET34=$CP$9,$DA$9,$DA$10))*IF(EY34=$CD$8,$CJ$8,IF(EY34=$CD$9,$CJ$9,$CJ$10)))","v":"--"},null,null,null,null,null,null,null,null,null,{"$f":"IF(FD$19>$Z34,\"--\",IF(FD34=$CP$8,$DA$8,IF(FD34=$CP$9,$DA$9,$DA$10))*IF(FI34=$CD$8,$CJ$8,IF(FI34=$CD$9,$CJ$9,$CJ$10)))","v":"--"},null,null,null,null,null,null,null,null,null,{"$f":"IF(FN$19>$Z34,\"--\",IF(FN34=$CP$8,$DA$8,IF(FN34=$CP$9,$DA$9,$DA$10))*IF(FS34=$CD$8,$CJ$8,IF(FS34=$CD$9,$CJ$9,$CJ$10)))","v":"--"},null,null,null,null,null,null,null,null,null,{"$f":"IF(FX$19>$Z34,\"--\",IF(FX34=$CP$8,$DA$8,IF(FX34=$CP$9,$DA$9,$DA$10))*IF(GC34=$CD$8,$CJ$8,IF(GC34=$CD$9,$CJ$9,$CJ$10)))","v":"--"}]
[]
[null,null,null,null,null,null,null,null,null,null,null,null,null,null,null,null,null,null,null,"N",null,null,null,null,null,6,null,null,null,"On-Street Lane",null,null,null,null,"<20mph",null,null,null,null,"On-Street Lane",null,null,null,null,"<20mph",null,null,null,null,"On-Street Lane",null,null,null,null,"<20mph",null,null,null,null,"On-Street Lane",null,null,null,null,"<20mph",null,null,null,null,"On-Street Lane",null,null,null,null,"<20mph",null,null,null,null,"On-Street Lane",null,null,null,null,"<20mph",null,null,null,null,"On-Street Lane",null,null,null,null,"<20mph",null,null,null,null,"On-Street Lane",null,null,null,null,"<20mph",null,null,null,null,"On-Street Lane",null,null,null,null,"<20mph",null,null,null,null,"On-Street Lane",null,null,null,null,"<20mph",null,null,null,null,"On-Street Lane",null,null,null,null,"<20mph",null,null,null,null,"On-Street Lane",null,null,null,null,"<20mph",null,null,null,null,"Separate Path",null,null,null,null,"<20mph",null,null,null,null,"Separate Path",null,null,null,null,"<20mph",null,null,null,null,"Separate Path",null,null,null,null,"<20mph",null,null,null,null,"Separate Path",null,null,null,null,"<20mph",null,null,null,null,null,null,null,null,{"$f":"IF(GV36<=$BX$11,$BR$11,IF(GV36<=$BX$10,$BR$10,IF(GV36<=$BX$9,$BR$9,$BR$8)))","v":"Excellent"},null,null,null,null,{"$f":"MIN(HA36:ND37)","v":80},null,null,null,null,{"$f":"AVERAGE(HA36:ND37)","v":80},null,null,null,null,{"$f":"IF(AD$19>$Z36,\"--\",IF(AD36=$CP$8,$DA$8,IF(AD36=$CP$9,$DA$9,$DA$10))*IF(AI36=$CD$8,$CJ$8,IF(AI36=$CD$9,$CJ$9,$CJ$10)))","v":80},null,null,null,null,null,null,null,null,null,{"$f":"IF(AN$19>$Z36,\"--\",IF(AN36=$CP$8,$DA$8,IF(AN36=$CP$9,$DA$9,$DA$10))*IF(AS36=$CD$8,$CJ$8,IF(AS36=$CD$9,$CJ$9,$CJ$10)))","v":80},null,null,null,null,null,null,null,null,null,{"$f":"IF(AX$19>$Z36,\"--\",IF(AX36=$CP$8,$DA$8,IF(AX36=$CP$9,$DA$9,$DA$10))*IF(BC36=$CD$8,$CJ$8,IF(BC36=$CD$9,$CJ$9,$CJ$10)))","v":80},null,null,null,null,null,null,null,null,null,{"$f":"IF(BH$19>$Z36,\"--\",IF(BH36=$CP$8,$DA$8,IF(BH36=$CP$9,$DA$9,$DA$10))*IF(BM36=$CD$8,$CJ$8,IF(BM36=$CD$9,$CJ$9,$CJ$10)))","v":80},null,null,null,null,null,null,null,null,null,{"$f":"IF(BR$19>$Z36,\"--\",IF(BR36=$CP$8,$DA$8,IF(BR36=$CP$9,$DA$9,$DA$10))*IF(BW36=$CD$8,$CJ$8,IF(BW36=$CD$9,$CJ$9,$CJ$10)))","v":80},null,null,null,null,null,null,null,null,null,{"$f":"IF(CB$19>$Z36,\"--\",IF(CB36=$CP$8,$DA$8,IF(CB36=$CP$9,$DA$9,$DA$10))*IF(CG36=$CD$8,$CJ$8,IF(CG36=$CD$9,$CJ$9,$CJ$10)))","v":80},null,null,null,null,null,null,null,null,null,{"$f":"IF(CL$19>$Z36,\"--\",IF(CL36=$CP$8,$DA$8,IF(CL36=$CP$9,$DA$9,$DA$10))*IF(CQ36=$CD$8,$CJ$8,IF(CQ36=$CD$9,$CJ$9,$CJ$10)))","v":"--"},null,null,null,null,null,null,null,null,null,{"$f":"IF(CV$19>$Z36,\"--\",IF(CV36=$CP$8,$DA$8,IF(CV36=$CP$9,$DA$9,$DA$10))*IF(DA36=$CD$8,$CJ$8,IF(DA36=$CD$9,$CJ$9,$CJ$10)))","v":"--"},null,null,null,null,null,null,null,null,null,{"$f":"IF(DF$19>$Z36,\"--\",IF(DF36=$CP$8,$DA$8,IF(DF36=$CP$9,$DA$9,$DA$10))*IF(DK36=$CD$8,$CJ$8,IF(DK36=$CD$9,$CJ$9,$CJ$10)))","v":"--"},null,null,null,null,null,null,null,null,null,{"$f":"IF(DP$19>$Z36,\"--\",IF(DP36=$CP$8,$DA$8,IF(DP36=$CP$9,$DA$9,$DA$10))*IF(DU36=$CD$8,$CJ$8,IF(DU36=$CD$9,$CJ$9,$CJ$10)))","v":"--"},null,null,null,null,null,null,null,null,null,{"$f":"IF(DZ$19>$Z36,\"--\",IF(DZ36=$CP$8,$DA$8,IF(DZ36=$CP$9,$DA$9,$DA$10))*IF(EE36=$CD$8,$CJ$8,IF(EE36=$CD$9,$CJ$9,$CJ$10)))","v":"--"},null,null,null,null,null,null,null,null,null,{"$f":"IF(EJ$19>$Z36,\"--\",IF(EJ36=$CP$8,$DA$8,IF(EJ36=$CP$9,$DA$9,$DA$10))*IF(EO36=$CD$8,$CJ$8,IF(EO36=$CD$9,$CJ$9,$CJ$10)))","v":"--"},null,null,null,null,null,null,null,null,null,{"$f":"IF(ET$19>$Z36,\"--\",IF(ET36=$CP$8,$DA$8,IF(ET36=$CP$9,$DA$9,$DA$10))*IF(EY36=$CD$8,$CJ$8,IF(EY36=$CD$9,$CJ$9,$CJ$10)))","v":"--"},null,null,null,null,null,null,null,null,null,{"$f":"IF(FD$19>$Z36,\"--\",IF(FD36=$CP$8,$DA$8,IF(FD36=$CP$9,$DA$9,$DA$10))*IF(FI36=$CD$8,$CJ$8,IF(FI36=$CD$9,$CJ$9,$CJ$10)))","v":"--"},null,null,null,null,null,null,null,null,null,{"$f":"IF(FN$19>$Z36,\"--\",IF(FN36=$CP$8,$DA$8,IF(FN36=$CP$9,$DA$9,$DA$10))*IF(FS36=$CD$8,$CJ$8,IF(FS36=$CD$9,$CJ$9,$CJ$10)))","v":"--"},null,null,null,null,null,null,null,null,null,{"$f":"IF(FX$19>$Z36,\"--\",IF(FX36=$CP$8,$DA$8,IF(FX36=$CP$9,$DA$9,$DA$10))*IF(GC36=$CD$8,$CJ$8,IF(GC36=$CD$9,$CJ$9,$CJ$10)))","v":"--"}]
[]
[null,null,null,null,null,null,null,null,null,null,null,null,null,null,null,null,null,null,null,"E",null,null,null,null,null,6,null,null,null,"On-Street Lane",null,null,null,null,"<20mph",null,null,null,null,"On-Street Lane",null,null,null,null,"<20mph",null,null,null,null,"On-Street Lane",null,null,null,null,"<20mph",null,null,null,null,"On-Street Lane",null,null,null,null,"<20mph",null,null,null,null,"On-Street Lane",null,null,null,null,"<20mph",null,null,null,null,"On-Street Lane",null,null,null,null,"<20mph",null,null,null,null,"On-Street Lane",null,null,null,null,"<20mph",null,null,null,null,"On-Street Lane",null,null,null,null,"<20mph",null,null,null,null,"On-Street Lane",null,null,null,null,"<20mph",null,null,null,null,"On-Street Lane",null,null,null,null,"<20mph",null,null,null,null,"On-Street Lane",null,null,null,null,"<20mph",null,null,null,null,"On-Street Lane",null,null,null,null,"<20mph",null,null,null,null,"Separate Path",null,null,null,null,"<20mph",null,null,null,null,"Separate Path",null,null,null,null,"<20mph",null,null,null,null,"Separate Path",null,null,null,null,"<20mph",null,null,null,null,"Separate Path",null,null,null,null,"<20mph",null,null,null,null,null,null,null,null,{"$f":"IF(GV38<=$BX$11,$BR$11,IF(GV38<=$BX$10,$BR$10,IF(GV38<=$BX$9,$BR$9,$BR$8)))","v":"Excellent"},null,null,null,null,{"$f":"MIN(HA38:ND39)","v":80},null,null,null,null,{"$f":"AVERAGE(HA38:ND39)","v":80},null,null,null,null,{"$f":"IF(AD$19>$Z38,\"--\",IF(AD38=$CP$8,$DA$8,IF(AD38=$CP$9,$DA$9,$DA$10))*IF(AI38=$CD$8,$CJ$8,IF(AI38=$CD$9,$CJ$9,$CJ$10)))","v":80},null,null,null,null,null,null,null,null,null,{"$f":"IF(AN$19>$Z38,\"--\",IF(AN38=$CP$8,$DA$8,IF(AN38=$CP$9,$DA$9,$DA$10))*IF(AS38=$CD$8,$CJ$8,IF(AS38=$CD$9,$CJ$9,$CJ$10)))","v":80},null,null,null,null,null,null,null,null,null,{"$f":"IF(AX$19>$Z38,\"--\",IF(AX38=$CP$8,$DA$8,IF(AX38=$CP$9,$DA$9,$DA$10))*IF(BC38=$CD$8,$CJ$8,IF(BC38=$CD$9,$CJ$9,$CJ$10)))","v":80},null,null,null,null,null,null,null,null,null,{"$f":"IF(BH$19>$Z38,\"--\",IF(BH38=$CP$8,$DA$8,IF(BH38=$CP$9,$DA$9,$DA$10))*IF(BM38=$CD$8,$CJ$8,IF(BM38=$CD$9,$CJ$9,$CJ$10)))","v":80},null,null,null,null,null,null,null,null,null,{"$f":"IF(BR$19>$Z38,\"--\",IF(BR38=$CP$8,$DA$8,IF(BR38=$CP$9,$DA$9,$DA$10))*IF(BW38=$CD$8,$CJ$8,IF(BW38=$CD$9,$CJ$9,$CJ$10)))","v":80},null,null,null,null,null,null,null,null,null,{"$f":"IF(CB$19>$Z38,\"--\",IF(CB38=$CP$8,$DA$8,IF(CB38=$CP$9,$DA$9,$DA$10))*IF(CG38=$CD$8,$CJ$8,IF(CG38=$CD$9,$CJ$9,$CJ$10)))","v":80},null,null,null,null,null,null,null,null,null,{"$f":"IF(CL$19>$Z38,\"--\",IF(CL38=$CP$8,$DA$8,IF(CL38=$CP$9,$DA$9,$DA$10))*IF(CQ38=$CD$8,$CJ$8,IF(CQ38=$CD$9,$CJ$9,$CJ$10)))","v":"--"},null,null,null,null,null,null,null,null,null,{"$f":"IF(CV$19>$Z38,\"--\",IF(CV38=$CP$8,$DA$8,IF(CV38=$CP$9,$DA$9,$DA$10))*IF(DA38=$CD$8,$CJ$8,IF(DA38=$CD$9,$CJ$9,$CJ$10)))","v":"--"},null,null,null,null,null,null,null,null,null,{"$f":"IF(DF$19>$Z38,\"--\",IF(DF38=$CP$8,$DA$8,IF(DF38=$CP$9,$DA$9,$DA$10))*IF(DK38=$CD$8,$CJ$8,IF(DK38=$CD$9,$CJ$9,$CJ$10)))","v":"--"},null,null,null,null,null,null,null,null,null,{"$f":"IF(DP$19>$Z38,\"--\",IF(DP38=$CP$8,$DA$8,IF(DP38=$CP$9,$DA$9,$DA$10))*IF(DU38=$CD$8,$CJ$8,IF(DU38=$CD$9,$CJ$9,$CJ$10)))","v":"--"},null,null,null,null,null,null,null,null,null,{"$f":"IF(DZ$19>$Z38,\"--\",IF(DZ38=$CP$8,$DA$8,IF(DZ38=$CP$9,$DA$9,$DA$10))*IF(EE38=$CD$8,$CJ$8,IF(EE38=$CD$9,$CJ$9,$CJ$10)))","v":"--"},null,null,null,null,null,null,null,null,null,{"$f":"IF(EJ$19>$Z38,\"--\",IF(EJ38=$CP$8,$DA$8,IF(EJ38=$CP$9,$DA$9,$DA$10))*IF(EO38=$CD$8,$CJ$8,IF(EO38=$CD$9,$CJ$9,$CJ$10)))","v":"--"},null,null,null,null,null,null,null,null,null,{"$f":"IF(ET$19>$Z38,\"--\",IF(ET38=$CP$8,$DA$8,IF(ET38=$CP$9,$DA$9,$DA$10))*IF(EY38=$CD$8,$CJ$8,IF(EY38=$CD$9,$CJ$9,$CJ$10)))","v":"--"},null,null,null,null,null,null,null,null,null,{"$f":"IF(FD$19>$Z38,\"--\",IF(FD38=$CP$8,$DA$8,IF(FD38=$CP$9,$DA$9,$DA$10))*IF(FI38=$CD$8,$CJ$8,IF(FI38=$CD$9,$CJ$9,$CJ$10)))","v":"--"},null,null,null,null,null,null,null,null,null,{"$f":"IF(FN$19>$Z38,\"--\",IF(FN38=$CP$8,$DA$8,IF(FN38=$CP$9,$DA$9,$DA$10))*IF(FS38=$CD$8,$CJ$8,IF(FS38=$CD$9,$CJ$9,$CJ$10)))","v":"--"},null,null,null,null,null,null,null,null,null,{"$f":"IF(FX$19>$Z38,\"--\",IF(FX38=$CP$8,$DA$8,IF(FX38=$CP$9,$DA$9,$DA$10))*IF(GC38=$CD$8,$CJ$8,IF(GC38=$CD$9,$CJ$9,$CJ$10)))","v":"--"}]
[]
[null,null,null,null,null,null,null,null,null,null,null,null,null,null,null,null,null,null,null,"S",null,null,null,null,null,6,null,null,null,"On-Street Lane",null,null,null,null,"<20mph",null,null,null,null,"On-Street Lane",null,null,null,null,"<20mph",null,null,null,null,"On-Street Lane",null,null,null,null,"<20mph",null,null,null,null,"On-Street Lane",null,null,null,null,"<20mph",null,null,null,null,"On-Street Lane",null,null,null,null,"<20mph",null,null,null,null,"On-Street Lane",null,null,null,null,"<20mph",null,null,null,null,"On-Street Lane",null,null,null,null,"<20mph",null,null,null,null,"On-Street Lane",null,null,null,null,"<20mph",null,null,null,null,"On-Street Lane",null,null,null,null,"<20mph",null,null,null,null,"On-Street Lane",null,null,null,null,"<20mph",null,null,null,null,"On-Street Lane",null,null,null,null,"<20mph",null,null,null,null,"On-Street Lane",null,null,null,null,"<20mph",null,null,null,null,"Separate Path",null,null,null,null,"<20mph",null,null,null,null,"Separate Path",null,null,null,null,"<20mph",null,null,null,null,"Separate Path",null,null,null,null,"<20mph",null,null,null,null,"Separate Path",null,null,null,null,"<20mph",null,null,null,null,null,null,null,null,{"$f":"IF(GV40<=$BX$11,$BR$11,IF(GV40<=$BX$10,$BR$10,IF(GV40<=$BX$9,$BR$9,$BR$8)))","v":"Excellent"},null,null,null,null,{"$f":"MIN(HA40:ND41)","v":80},null,null,null,null,{"$f":"AVERAGE(HA40:ND41)","v":80},null,null,null,null,{"$f":"IF(AD$19>$Z40,\"--\",IF(AD40=$CP$8,$DA$8,IF(AD40=$CP$9,$DA$9,$DA$10))*IF(AI40=$CD$8,$CJ$8,IF(AI40=$CD$9,$CJ$9,$CJ$10)))","v":80},null,null,null,null,null,null,null,null,null,{"$f":"IF(AN$19>$Z40,\"--\",IF(AN40=$CP$8,$DA$8,IF(AN40=$CP$9,$DA$9,$DA$10))*IF(AS40=$CD$8,$CJ$8,IF(AS40=$CD$9,$CJ$9,$CJ$10)))","v":80},null,null,null,null,null,null,null,null,null,{"$f":"IF(AX$19>$Z40,\"--\",IF(AX40=$CP$8,$DA$8,IF(AX40=$CP$9,$DA$9,$DA$10))*IF(BC40=$CD$8,$CJ$8,IF(BC40=$CD$9,$CJ$9,$CJ$10)))","v":80},null,null,null,null,null,null,null,null,null,{"$f":"IF(BH$19>$Z40,\"--\",IF(BH40=$CP$8,$DA$8,IF(BH40=$CP$9,$DA$9,$DA$10))*IF(BM40=$CD$8,$CJ$8,IF(BM40=$CD$9,$CJ$9,$CJ$10)))","v":80},null,null,null,null,null,null,null,null,null,{"$f":"IF(BR$19>$Z40,\"--\",IF(BR40=$CP$8,$DA$8,IF(BR40=$CP$9,$DA$9,$DA$10))*IF(BW40=$CD$8,$CJ$8,IF(BW40=$CD$9,$CJ$9,$CJ$10)))","v":80},null,null,null,null,null,null,null,null,null,{"$f":"IF(CB$19>$Z40,\"--\",IF(CB40=$CP$8,$DA$8,IF(CB40=$CP$9,$DA$9,$DA$10))*IF(CG40=$CD$8,$CJ$8,IF(CG40=$CD$9,$CJ$9,$CJ$10)))","v":80},null,null,null,null,null,null,null,null,null,{"$f":"IF(CL$19>$Z40,\"--\",IF(CL40=$CP$8,$DA$8,IF(CL40=$CP$9,$DA$9,$DA$10))*IF(CQ40=$CD$8,$CJ$8,IF(CQ40=$CD$9,$CJ$9,$CJ$10)))","v":"--"},null,null,null,null,null,null,null,null,null,{"$f":"IF(CV$19>$Z40,\"--\",IF(CV40=$CP$8,$DA$8,IF(CV40=$CP$9,$DA$9,$DA$10))*IF(DA40=$CD$8,$CJ$8,IF(DA40=$CD$9,$CJ$9,$CJ$10)))","v":"--"},null,null,null,null,null,null,null,null,null,{"$f":"IF(DF$19>$Z40,\"--\",IF(DF40=$CP$8,$DA$8,IF(DF40=$CP$9,$DA$9,$DA$10))*IF(DK40=$CD$8,$CJ$8,IF(DK40=$CD$9,$CJ$9,$CJ$10)))","v":"--"},null,null,null,null,null,null,null,null,null,{"$f":"IF(DP$19>$Z40,\"--\",IF(DP40=$CP$8,$DA$8,IF(DP40=$CP$9,$DA$9,$DA$10))*IF(DU40=$CD$8,$CJ$8,IF(DU40=$CD$9,$CJ$9,$CJ$10)))","v":"--"},null,null,null,null,null,null,null,null,null,{"$f":"IF(DZ$19>$Z40,\"--\",IF(DZ40=$CP$8,$DA$8,IF(DZ40=$CP$9,$DA$9,$DA$10))*IF(EE40=$CD$8,$CJ$8,IF(EE40=$CD$9,$CJ$9,$CJ$10)))","v":"--"},null,null,null,null,null,null,null,null,null,{"$f":"IF(EJ$19>$Z40,\"--\",IF(EJ40=$CP$8,$DA$8,IF(EJ40=$CP$9,$DA$9,$DA$10))*IF(EO40=$CD$8,$CJ$8,IF(EO40=$CD$9,$CJ$9,$CJ$10)))","v":"--"},null,null,null,null,null,null,null,null,null,{"$f":"IF(ET$19>$Z40,\"--\",IF(ET40=$CP$8,$DA$8,IF(ET40=$CP$9,$DA$9,$DA$10))*IF(EY40=$CD$8,$CJ$8,IF(EY40=$CD$9,$CJ$9,$CJ$10)))","v":"--"},null,null,null,null,null,null,null,null,null,{"$f":"IF(FD$19>$Z40,\"--\",IF(FD40=$CP$8,$DA$8,IF(FD40=$CP$9,$DA$9,$DA$10))*IF(FI40=$CD$8,$CJ$8,IF(FI40=$CD$9,$CJ$9,$CJ$10)))","v":"--"},null,null,null,null,null,null,null,null,null,{"$f":"IF(FN$19>$Z40,\"--\",IF(FN40=$CP$8,$DA$8,IF(FN40=$CP$9,$DA$9,$DA$10))*IF(FS40=$CD$8,$CJ$8,IF(FS40=$CD$9,$CJ$9,$CJ$10)))","v":"--"},null,null,null,null,null,null,null,null,null,{"$f":"IF(FX$19>$Z40,\"--\",IF(FX40=$CP$8,$DA$8,IF(FX40=$CP$9,$DA$9,$DA$10))*IF(GC40=$CD$8,$CJ$8,IF(GC40=$CD$9,$CJ$9,$CJ$10)))","v":"--"}]
[]
["Quadrant Roadway",null,null,null,null,null,null,null,null,null,null,null,null,null,null,null,null,null,null,"S-W",null,null,null,null,null,6,null,null,null,"On-Street Lane",null,null,null,null,"<20mph",null,null,null,null,"On-Street Lane",null,null,null,null,"<20mph",null,null,null,null,"On-Street Lane",null,null,null,null,"<20mph",null,null,null,null,"On-Street Lane",null,null,null,null,"<20mph",null,null,null,null,"On-Street Lane",null,null,null,null,"<20mph",null,null,null,null,"On-Street Lane",null,null,null,null,"<20mph",null,null,null,null,"On-Street Lane",null,null,null,null,"<20mph",null,null,null,null,"On-Street Lane",null,null,null,null,"<20mph",null,null,null,null,"On-Street Lane",null,null,null,null,"<20mph",null,null,null,null,"On-Street Lane",null,null,null,null,"<20mph",null,null,null,null,"On-Street Lane",null,null,null,null,"<20mph",null,null,null,null,"On-Street Lane",null,null,null,null,"<20mph",null,null,null,null,"Separate Path",null,null,null,null,"<20mph",null,null,null,null,"Separate Path",null,null,null,null,"<20mph",null,null,null,null,"Separate Path",null,null,null,null,"<20mph",null,null,null,null,"Separate Path",null,null,null,null,"<20mph",null,null,null,null,null,null,null,null,{"$f":"IF(GV42<=$BX$11,$BR$11,IF(GV42<=$BX$10,$BR$10,IF(GV42<=$BX$9,$BR$9,$BR$8)))","v":"Excellent"},null,null,null,null,{"$f":"MIN(HA42:ND43)","v":80},null,null,null,null,{"$f":"AVERAGE(HA42:ND43)","v":80},null,null,null,null,{"$f":"IF(AD$19>$Z42,\"--\",IF(AD42=$CP$8,$DA$8,IF(AD42=$CP$9,$DA$9,$DA$10))*IF(AI42=$CD$8,$CJ$8,IF(AI42=$CD$9,$CJ$9,$CJ$10)))","v":80},null,null,null,null,null,null,null,null,null,{"$f":"IF(AN$19>$Z42,\"--\",IF(AN42=$CP$8,$DA$8,IF(AN42=$CP$9,$DA$9,$DA$10))*IF(AS42=$CD$8,$CJ$8,IF(AS42=$CD$9,$CJ$9,$CJ$10)))","v":80},null,null,null,null,null,null,null,null,null,{"$f":"IF(AX$19>$Z42,\"--\",IF(AX42=$CP$8,$DA$8,IF(AX42=$CP$9,$DA$9,$DA$10))*IF(BC42=$CD$8,$CJ$8,IF(BC42=$CD$9,$CJ$9,$CJ$10)))","v":80},null,null,null,null,null,null,null,null,null,{"$f":"IF(BH$19>$Z42,\"--\",IF(BH42=$CP$8,$DA$8,IF(BH42=$CP$9,$DA$9,$DA$10))*IF(BM42=$CD$8,$CJ$8,IF(BM42=$CD$9,$CJ$9,$CJ$10)))","v":80},null,null,null,null,null,null,null,null,null,{"$f":"IF(BR$19>$Z42,\"--\",IF(BR42=$CP$8,$DA$8,IF(BR42=$CP$9,$DA$9,$DA$10))*IF(BW42=$CD$8,$CJ$8,IF(BW42=$CD$9,$CJ$9,$CJ$10)))","v":80},null,null,null,null,null,null,null,null,null,{"$f":"IF(CB$19>$Z42,\"--\",IF(CB42=$CP$8,$DA$8,IF(CB42=$CP$9,$DA$9,$DA$10))*IF(CG42=$CD$8,$CJ$8,IF(CG42=$CD$9,$CJ$9,$CJ$10)))","v":80},null,null,null,null,null,null,null,null,null,{"$f":"IF(CL$19>$Z42,\"--\",IF(CL42=$CP$8,$DA$8,IF(CL42=$CP$9,$DA$9,$DA$10))*IF(CQ42=$CD$8,$CJ$8,IF(CQ42=$CD$9,$CJ$9,$CJ$10)))","v":"--"},null,null,null,null,null,null,null,null,null,{"$f":"IF(CV$19>$Z42,\"--\",IF(CV42=$CP$8,$DA$8,IF(CV42=$CP$9,$DA$9,$DA$10))*IF(DA42=$CD$8,$CJ$8,IF(DA42=$CD$9,$CJ$9,$CJ$10)))","v":"--"},null,null,null,null,null,null,null,null,null,{"$f":"IF(DF$19>$Z42,\"--\",IF(DF42=$CP$8,$DA$8,IF(DF42=$CP$9,$DA$9,$DA$10))*IF(DK42=$CD$8,$CJ$8,IF(DK42=$CD$9,$CJ$9,$CJ$10)))","v":"--"},null,null,null,null,null,null,null,null,null,{"$f":"IF(DP$19>$Z42,\"--\",IF(DP42=$CP$8,$DA$8,IF(DP42=$CP$9,$DA$9,$DA$10))*IF(DU42=$CD$8,$CJ$8,IF(DU42=$CD$9,$CJ$9,$CJ$10)))","v":"--"},null,null,null,null,null,null,null,null,null,{"$f":"IF(DZ$19>$Z42,\"--\",IF(DZ42=$CP$8,$DA$8,IF(DZ42=$CP$9,$DA$9,$DA$10))*IF(EE42=$CD$8,$CJ$8,IF(EE42=$CD$9,$CJ$9,$CJ$10)))","v":"--"},null,null,null,null,null,null,null,null,null,{"$f":"IF(EJ$19>$Z42,\"--\",IF(EJ42=$CP$8,$DA$8,IF(EJ42=$CP$9,$DA$9,$DA$10))*IF(EO42=$CD$8,$CJ$8,IF(EO42=$CD$9,$CJ$9,$CJ$10)))","v":"--"},null,null,null,null,null,null,null,null,null,{"$f":"IF(ET$19>$Z42,\"--\",IF(ET42=$CP$8,$DA$8,IF(ET42=$CP$9,$DA$9,$DA$10))*IF(EY42=$CD$8,$CJ$8,IF(EY42=$CD$9,$CJ$9,$CJ$10)))","v":"--"},null,null,null,null,null,null,null,null,null,{"$f":"IF(FD$19>$Z42,\"--\",IF(FD42=$CP$8,$DA$8,IF(FD42=$CP$9,$DA$9,$DA$10))*IF(FI42=$CD$8,$CJ$8,IF(FI42=$CD$9,$CJ$9,$CJ$10)))","v":"--"},null,null,null,null,null,null,null,null,null,{"$f":"IF(FN$19>$Z42,\"--\",IF(FN42=$CP$8,$DA$8,IF(FN42=$CP$9,$DA$9,$DA$10))*IF(FS42=$CD$8,$CJ$8,IF(FS42=$CD$9,$CJ$9,$CJ$10)))","v":"--"},null,null,null,null,null,null,null,null,null,{"$f":"IF(FX$19>$Z42,\"--\",IF(FX42=$CP$8,$DA$8,IF(FX42=$CP$9,$DA$9,$DA$10))*IF(GC42=$CD$8,$CJ$8,IF(GC42=$CD$9,$CJ$9,$CJ$10)))","v":"--"}]
[]
[null,null,null,null,null,null,null,null,null,null,null,null,null,null,null,null,null,null,null,"N-E",null,null,null,null,null,6,null,null,null,"On-Street Lane",null,null,null,null,"<20mph",null,null,null,null,"On-Street Lane",null,null,null,null,"<20mph",null,null,null,null,"On-Street Lane",null,null,null,null,"<20mph",null,null,null,null,"On-Street Lane",null,null,null,null,"<20mph",null,null,null,null,"On-Street Lane",null,null,null,null,"<20mph",null,null,null,null,"On-Street Lane",null,null,null,null,"<20mph",null,null,null,null,"On-Street Lane",null,null,null,null,"<20mph",null,null,null,null,"On-Street Lane",null,null,null,null,"<20mph",null,null,null,null,"On-Street Lane",null,null,null,null,"<20mph",null,null,null,null,"On-Street Lane",null,null,null,null,"<20mph",null,null,null,null,"On-Street Lane",null,null,null,null,"<20mph",null,null,null,null,"On-Street Lane",null,null,null,null,"<20mph",null,null,null,null,"Separate Path",null,null,null,null,"<20mph",null,null,null,null,"Separate Path",null,null,null,null,"<20mph",null,null,null,null,"Separate Path",null,null,null,null,"<20mph",null,null,null,null,"Separate Path",null,null,null,null,"<20mph",null,null,null,null,null,null,null,null,{"$f":"IF(GV44<=$BX$11,$BR$11,IF(GV44<=$BX$10,$BR$10,IF(GV44<=$BX$9,$BR$9,$BR$8)))","v":"Excellent"},null,null,null,null,{"$f":"MIN(HA44:ND45)","v":80},null,null,null,null,{"$f":"AVERAGE(HA44:ND45)","v":80},null,null,null,null,{"$f":"IF(AD$19>$Z44,\"--\",IF(AD44=$CP$8,$DA$8,IF(AD44=$CP$9,$DA$9,$DA$10))*IF(AI44=$CD$8,$CJ$8,IF(AI44=$CD$9,$CJ$9,$CJ$10)))","v":80},null,null,null,null,null,null,null,null,null,{"$f":"IF(AN$19>$Z44,\"--\",IF(AN44=$CP$8,$DA$8,IF(AN44=$CP$9,$DA$9,$DA$10))*IF(AS44=$CD$8,$CJ$8,IF(AS44=$CD$9,$CJ$9,$CJ$10)))","v":80},null,null,null,null,null,null,null,null,null,{"$f":"IF(AX$19>$Z44,\"--\",IF(AX44=$CP$8,$DA$8,IF(AX44=$CP$9,$DA$9,$DA$10))*IF(BC44=$CD$8,$CJ$8,IF(BC44=$CD$9,$CJ$9,$CJ$10)))","v":80},null,null,null,null,null,null,null,null,null,{"$f":"IF(BH$19>$Z44,\"--\",IF(BH44=$CP$8,$DA$8,IF(BH44=$CP$9,$DA$9,$DA$10))*IF(BM44=$CD$8,$CJ$8,IF(BM44=$CD$9,$CJ$9,$CJ$10)))","v":80},null,null,null,null,null,null,null,null,null,{"$f":"IF(BR$19>$Z44,\"--\",IF(BR44=$CP$8,$DA$8,IF(BR44=$CP$9,$DA$9,$DA$10))*IF(BW44=$CD$8,$CJ$8,IF(BW44=$CD$9,$CJ$9,$CJ$10)))","v":80},null,null,null,null,null,null,null,null,null,{"$f":"IF(CB$19>$Z44,\"--\",IF(CB44=$CP$8,$DA$8,IF(CB44=$CP$9,$DA$9,$DA$10))*IF(CG44=$CD$8,$CJ$8,IF(CG44=$CD$9,$CJ$9,$CJ$10)))","v":80},null,null,null,null,null,null,null,null,null,{"$f":"IF(CL$19>$Z44,\"--\",IF(CL44=$CP$8,$DA$8,IF(CL44=$CP$9,$DA$9,$DA$10))*IF(CQ44=$CD$8,$CJ$8,IF(CQ44=$CD$9,$CJ$9,$CJ$10)))","v":"--"},null,null,null,null,null,null,null,null,null,{"$f":"IF(CV$19>$Z44,\"--\",IF(CV44=$CP$8,$DA$8,IF(CV44=$CP$9,$DA$9,$DA$10))*IF(DA44=$CD$8,$CJ$8,IF(DA44=$CD$9,$CJ$9,$CJ$10)))","v":"--"},null,null,null,null,null,null,null,null,null,{"$f":"IF(DF$19>$Z44,\"--\",IF(DF44=$CP$8,$DA$8,IF(DF44=$CP$9,$DA$9,$DA$10))*IF(DK44=$CD$8,$CJ$8,IF(DK44=$CD$9,$CJ$9,$CJ$10)))","v":"--"},null,null,null,null,null,null,null,null,null,{"$f":"IF(DP$19>$Z44,\"--\",IF(DP44=$CP$8,$DA$8,IF(DP44=$CP$9,$DA$9,$DA$10))*IF(DU44=$CD$8,$CJ$8,IF(DU44=$CD$9,$CJ$9,$CJ$10)))","v":"--"},null,null,null,null,null,null,null,null,null,{"$f":"IF(DZ$19>$Z44,\"--\",IF(DZ44=$CP$8,$DA$8,IF(DZ44=$CP$9,$DA$9,$DA$10))*IF(EE44=$CD$8,$CJ$8,IF(EE44=$CD$9,$CJ$9,$CJ$10)))","v":"--"},null,null,null,null,null,null,null,null,null,{"$f":"IF(EJ$19>$Z44,\"--\",IF(EJ44=$CP$8,$DA$8,IF(EJ44=$CP$9,$DA$9,$DA$10))*IF(EO44=$CD$8,$CJ$8,IF(EO44=$CD$9,$CJ$9,$CJ$10)))","v":"--"},null,null,null,null,null,null,null,null,null,{"$f":"IF(ET$19>$Z44,\"--\",IF(ET44=$CP$8,$DA$8,IF(ET44=$CP$9,$DA$9,$DA$10))*IF(EY44=$CD$8,$CJ$8,IF(EY44=$CD$9,$CJ$9,$CJ$10)))","v":"--"},null,null,null,null,null,null,null,null,null,{"$f":"IF(FD$19>$Z44,\"--\",IF(FD44=$CP$8,$DA$8,IF(FD44=$CP$9,$DA$9,$DA$10))*IF(FI44=$CD$8,$CJ$8,IF(FI44=$CD$9,$CJ$9,$CJ$10)))","v":"--"},null,null,null,null,null,null,null,null,null,{"$f":"IF(FN$19>$Z44,\"--\",IF(FN44=$CP$8,$DA$8,IF(FN44=$CP$9,$DA$9,$DA$10))*IF(FS44=$CD$8,$CJ$8,IF(FS44=$CD$9,$CJ$9,$CJ$10)))","v":"--"},null,null,null,null,null,null,null,null,null,{"$f":"IF(FX$19>$Z44,\"--\",IF(FX44=$CP$8,$DA$8,IF(FX44=$CP$9,$DA$9,$DA$10))*IF(GC44=$CD$8,$CJ$8,IF(GC44=$CD$9,$CJ$9,$CJ$10)))","v":"--"}]
[]
[null,null,null,null,null,null,null,null,null,null,null,null,null,null,null,null,null,null,null,"S-E",null,null,null,null,null,6,null,null,null,"On-Street Lane",null,null,null,null,"<20mph",null,null,null,null,"On-Street Lane",null,null,null,null,"<20mph",null,null,null,null,"On-Street Lane",null,null,null,null,"<20mph",null,null,null,null,"On-Street Lane",null,null,null,null,"<20mph",null,null,null,null,"On-Street Lane",null,null,null,null,"<20mph",null,null,null,null,"On-Street Lane",null,null,null,null,"<20mph",null,null,null,null,"On-Street Lane",null,null,null,null,"<20mph",null,null,null,null,"On-Street Lane",null,null,null,null,"<20mph",null,null,null,null,"On-Street Lane",null,null,null,null,"<20mph",null,null,null,null,"On-Street Lane",null,null,null,null,"<20mph",null,null,null,null,"On-Street Lane",null,null,null,null,"<20mph",null,null,null,null,"On-Street Lane",null,null,null,null,"<20mph",null,null,null,null,"Separate Path",null,null,null,null,"<20mph",null,null,null,null,"Separate Path",null,null,null,null,"<20mph",null,null,null,null,"Separate Path",null,null,null,null,"<20mph",null,null,null,null,"Separate Path",null,null,null,null,"<20mph",null,null,null,null,null,null,null,null,{"$f":"IF(GV46<=$BX$11,$BR$11,IF(GV46<=$BX$10,$BR$10,IF(GV46<=$BX$9,$BR$9,$BR$8)))","v":"Excellent"},null,null,null,null,{"$f":"MIN(HA46:ND47)","v":80},null,null,null,null,{"$f":"AVERAGE(HA46:ND47)","v":80},null,null,null,null,{"$f":"IF(AD$19>$Z46,\"--\",IF(AD46=$CP$8,$DA$8,IF(AD46=$CP$9,$DA$9,$DA$10))*IF(AI46=$CD$8,$CJ$8,IF(AI46=$CD$9,$CJ$9,$CJ$10)))","v":80},null,null,null,null,null,null,null,null,null,{"$f":"IF(AN$19>$Z46,\"--\",IF(AN46=$CP$8,$DA$8,IF(AN46=$CP$9,$DA$9,$DA$10))*IF(AS46=$CD$8,$CJ$8,IF(AS46=$CD$9,$CJ$9,$CJ$10)))","v":80},null,null,null,null,null,null,null,null,null,{"$f":"IF(AX$19>$Z46,\"--\",IF(AX46=$CP$8,$DA$8,IF(AX46=$CP$9,$DA$9,$DA$10))*IF(BC46=$CD$8,$CJ$8,IF(BC46=$CD$9,$CJ$9,$CJ$10)))","v":80},null,null,null,null,null,null,null,null,null,{"$f":"IF(BH$19>$Z46,\"--\",IF(BH46=$CP$8,$DA$8,IF(BH46=$CP$9,$DA$9,$DA$10))*IF(BM46=$CD$8,$CJ$8,IF(BM46=$CD$9,$CJ$9,$CJ$10)))","v":80},null,null,null,null,null,null,null,null,null,{"$f":"IF(BR$19>$Z46,\"--\",IF(BR46=$CP$8,$DA$8,IF(BR46=$CP$9,$DA$9,$DA$10))*IF(BW46=$CD$8,$CJ$8,IF(BW46=$CD$9,$CJ$9,$CJ$10)))","v":80},null,null,null,null,null,null,null,null,null,{"$f":"IF(CB$19>$Z46,\"--\",IF(CB46=$CP$8,$DA$8,IF(CB46=$CP$9,$DA$9,$DA$10))*IF(CG46=$CD$8,$CJ$8,IF(CG46=$CD$9,$CJ$9,$CJ$10)))","v":80},null,null,null,null,null,null,null,null,null,{"$f":"IF(CL$19>$Z46,\"--\",IF(CL46=$CP$8,$DA$8,IF(CL46=$CP$9,$DA$9,$DA$10))*IF(CQ46=$CD$8,$CJ$8,IF(CQ46=$CD$9,$CJ$9,$CJ$10)))","v":"--"},null,null,null,null,null,null,null,null,null,{"$f":"IF(CV$19>$Z46,\"--\",IF(CV46=$CP$8,$DA$8,IF(CV46=$CP$9,$DA$9,$DA$10))*IF(DA46=$CD$8,$CJ$8,IF(DA46=$CD$9,$CJ$9,$CJ$10)))","v":"--"},null,null,null,null,null,null,null,null,null,{"$f":"IF(DF$19>$Z46,\"--\",IF(DF46=$CP$8,$DA$8,IF(DF46=$CP$9,$DA$9,$DA$10))*IF(DK46=$CD$8,$CJ$8,IF(DK46=$CD$9,$CJ$9,$CJ$10)))","v":"--"},null,null,null,null,null,null,null,null,null,{"$f":"IF(DP$19>$Z46,\"--\",IF(DP46=$CP$8,$DA$8,IF(DP46=$CP$9,$DA$9,$DA$10))*IF(DU46=$CD$8,$CJ$8,IF(DU46=$CD$9,$CJ$9,$CJ$10)))","v":"--"},null,null,null,null,null,null,null,null,null,{"$f":"IF(DZ$19>$Z46,\"--\",IF(DZ46=$CP$8,$DA$8,IF(DZ46=$CP$9,$DA$9,$DA$10))*IF(EE46=$CD$8,$CJ$8,IF(EE46=$CD$9,$CJ$9,$CJ$10)))","v":"--"},null,null,null,null,null,null,null,null,null,{"$f":"IF(EJ$19>$Z46,\"--\",IF(EJ46=$CP$8,$DA$8,IF(EJ46=$CP$9,$DA$9,$DA$10))*IF(EO46=$CD$8,$CJ$8,IF(EO46=$CD$9,$CJ$9,$CJ$10)))","v":"--"},null,null,null,null,null,null,null,null,null,{"$f":"IF(ET$19>$Z46,\"--\",IF(ET46=$CP$8,$DA$8,IF(ET46=$CP$9,$DA$9,$DA$10))*IF(EY46=$CD$8,$CJ$8,IF(EY46=$CD$9,$CJ$9,$CJ$10)))","v":"--"},null,null,null,null,null,null,null,null,null,{"$f":"IF(FD$19>$Z46,\"--\",IF(FD46=$CP$8,$DA$8,IF(FD46=$CP$9,$DA$9,$DA$10))*IF(FI46=$CD$8,$CJ$8,IF(FI46=$CD$9,$CJ$9,$CJ$10)))","v":"--"},null,null,null,null,null,null,null,null,null,{"$f":"IF(FN$19>$Z46,\"--\",IF(FN46=$CP$8,$DA$8,IF(FN46=$CP$9,$DA$9,$DA$10))*IF(FS46=$CD$8,$CJ$8,IF(FS46=$CD$9,$CJ$9,$CJ$10)))","v":"--"},null,null,null,null,null,null,null,null,null,{"$f":"IF(FX$19>$Z46,\"--\",IF(FX46=$CP$8,$DA$8,IF(FX46=$CP$9,$DA$9,$DA$10))*IF(GC46=$CD$8,$CJ$8,IF(GC46=$CD$9,$CJ$9,$CJ$10)))","v":"--"}]
[]
[null,null,null,null,null,null,null,null,null,null,null,null,null,null,null,null,null,null,null,"N-W",null,null,null,null,null,6,null,null,null,"On-Street Lane",null,null,null,null,"<20mph",null,null,null,null,"On-Street Lane",null,null,null,null,"<20mph",null,null,null,null,"On-Street Lane",null,null,null,null,"<20mph",null,null,null,null,"On-Street Lane",null,null,null,null,"<20mph",null,null,null,null,"On-Street Lane",null,null,null,null,"<20mph",null,null,null,null,"On-Street Lane",null,null,null,null,"<20mph",null,null,null,null,"On-Street Lane",null,null,null,null,"<20mph",null,null,null,null,"On-Street Lane",null,null,null,null,"<20mph",null,null,null,null,"On-Street Lane",null,null,null,null,"<20mph",null,null,null,null,"On-Street Lane",null,null,null,null,"<20mph",null,null,null,null,"On-Street Lane",null,null,null,null,"<20mph",null,null,null,null,"On-Street Lane",null,null,null,null,"<20mph",null,null,null,null,"Separate Path",null,null,null,null,"<20mph",null,null,null,null,"Separate Path",null,null,null,null,"<20mph",null,null,null,null,"Separate Path",null,null,null,null,"<20mph",null,null,null,null,"Separate Path",null,null,null,null,"<20mph",null,null,null,null,null,null,null,null,{"$f":"IF(GV48<=$BX$11,$BR$11,IF(GV48<=$BX$10,$BR$10,IF(GV48<=$BX$9,$BR$9,$BR$8)))","v":"Excellent"},null,null,null,null,{"$f":"MIN(HA48:ND49)","v":80},null,null,null,null,{"$f":"AVERAGE(HA48:ND49)","v":80},null,null,null,null,{"$f":"IF(AD$19>$Z48,\"--\",IF(AD48=$CP$8,$DA$8,IF(AD48=$CP$9,$DA$9,$DA$10))*IF(AI48=$CD$8,$CJ$8,IF(AI48=$CD$9,$CJ$9,$CJ$10)))","v":80},null,null,null,null,null,null,null,null,null,{"$f":"IF(AN$19>$Z48,\"--\",IF(AN48=$CP$8,$DA$8,IF(AN48=$CP$9,$DA$9,$DA$10))*IF(AS48=$CD$8,$CJ$8,IF(AS48=$CD$9,$CJ$9,$CJ$10)))","v":80},null,null,null,null,null,null,null,null,null,{"$f":"IF(AX$19>$Z48,\"--\",IF(AX48=$CP$8,$DA$8,IF(AX48=$CP$9,$DA$9,$DA$10))*IF(BC48=$CD$8,$CJ$8,IF(BC48=$CD$9,$CJ$9,$CJ$10)))","v":80},null,null,null,null,null,null,null,null,null,{"$f":"IF(BH$19>$Z48,\"--\",IF(BH48=$CP$8,$DA$8,IF(BH48=$CP$9,$DA$9,$DA$10))*IF(BM48=$CD$8,$CJ$8,IF(BM48=$CD$9,$CJ$9,$CJ$10)))","v":80},null,null,null,null,null,null,null,null,null,{"$f":"IF(BR$19>$Z48,\"--\",IF(BR48=$CP$8,$DA$8,IF(BR48=$CP$9,$DA$9,$DA$10))*IF(BW48=$CD$8,$CJ$8,IF(BW48=$CD$9,$CJ$9,$CJ$10)))","v":80},null,null,null,null,null,null,null,null,null,{"$f":"IF(CB$19>$Z48,\"--\",IF(CB48=$CP$8,$DA$8,IF(CB48=$CP$9,$DA$9,$DA$10))*IF(CG48=$CD$8,$CJ$8,IF(CG48=$CD$9,$CJ$9,$CJ$10)))","v":80},null,null,null,null,null,null,null,null,null,{"$f":"IF(CL$19>$Z48,\"--\",IF(CL48=$CP$8,$DA$8,IF(CL48=$CP$9,$DA$9,$DA$10))*IF(CQ48=$CD$8,$CJ$8,IF(CQ48=$CD$9,$CJ$9,$CJ$10)))","v":"--"},null,null,null,null,null,null,null,null,null,{"$f":"IF(CV$19>$Z48,\"--\",IF(CV48=$CP$8,$DA$8,IF(CV48=$CP$9,$DA$9,$DA$10))*IF(DA48=$CD$8,$CJ$8,IF(DA48=$CD$9,$CJ$9,$CJ$10)))","v":"--"},null,null,null,null,null,null,null,null,null,{"$f":"IF(DF$19>$Z48,\"--\",IF(DF48=$CP$8,$DA$8,IF(DF48=$CP$9,$DA$9,$DA$10))*IF(DK48=$CD$8,$CJ$8,IF(DK48=$CD$9,$CJ$9,$CJ$10)))","v":"--"},null,null,null,null,null,null,null,null,null,{"$f":"IF(DP$19>$Z48,\"--\",IF(DP48=$CP$8,$DA$8,IF(DP48=$CP$9,$DA$9,$DA$10))*IF(DU48=$CD$8,$CJ$8,IF(DU48=$CD$9,$CJ$9,$CJ$10)))","v":"--"},null,null,null,null,null,null,null,null,null,{"$f":"IF(DZ$19>$Z48,\"--\",IF(DZ48=$CP$8,$DA$8,IF(DZ48=$CP$9,$DA$9,$DA$10))*IF(EE48=$CD$8,$CJ$8,IF(EE48=$CD$9,$CJ$9,$CJ$10)))","v":"--"},null,null,null,null,null,null,null,null,null,{"$f":"IF(EJ$19>$Z48,\"--\",IF(EJ48=$CP$8,$DA$8,IF(EJ48=$CP$9,$DA$9,$DA$10))*IF(EO48=$CD$8,$CJ$8,IF(EO48=$CD$9,$CJ$9,$CJ$10)))","v":"--"},null,null,null,null,null,null,null,null,null,{"$f":"IF(ET$19>$Z48,\"--\",IF(ET48=$CP$8,$DA$8,IF(ET48=$CP$9,$DA$9,$DA$10))*IF(EY48=$CD$8,$CJ$8,IF(EY48=$CD$9,$CJ$9,$CJ$10)))","v":"--"},null,null,null,null,null,null,null,null,null,{"$f":"IF(FD$19>$Z48,\"--\",IF(FD48=$CP$8,$DA$8,IF(FD48=$CP$9,$DA$9,$DA$10))*IF(FI48=$CD$8,$CJ$8,IF(FI48=$CD$9,$CJ$9,$CJ$10)))","v":"--"},null,null,null,null,null,null,null,null,null,{"$f":"IF(FN$19>$Z48,\"--\",IF(FN48=$CP$8,$DA$8,IF(FN48=$CP$9,$DA$9,$DA$10))*IF(FS48=$CD$8,$CJ$8,IF(FS48=$CD$9,$CJ$9,$CJ$10)))","v":"--"},null,null,null,null,null,null,null,null,null,{"$f":"IF(FX$19>$Z48,\"--\",IF(FX48=$CP$8,$DA$8,IF(FX48=$CP$9,$DA$9,$DA$10))*IF(GC48=$CD$8,$CJ$8,IF(GC48=$CD$9,$CJ$9,$CJ$10)))","v":"--"}]
[]
["Partial Displaced Left Turn",null,null,null,null,null,null,null,null,null,null,null,null,null,null,null,null,null,null,"N-S",null,null,null,null,null,6,null,null,null,"On-Street Lane",null,null,null,null,"<20mph",null,null,null,null,"On-Street Lane",null,null,null,null,"<20mph",null,null,null,null,"On-Street Lane",null,null,null,null,"<20mph",null,null,null,null,"On-Street Lane",null,null,null,null,"<20mph",null,null,null,null,"On-Street Lane",null,null,null,null,"<20mph",null,null,null,null,"On-Street Lane",null,null,null,null,"<20mph",null,null,null,null,"On-Street Lane",null,null,null,null,"<20mph",null,null,null,null,"On-Street Lane",null,null,null,null,"<20mph",null,null,null,null,"On-Street Lane",null,null,null,null,"<20mph",null,null,null,null,"On-Street Lane",null,null,null,null,"<20mph",null,null,null,null,"On-Street Lane",null,null,null,null,"<20mph",null,null,null,null,"On-Street Lane",null,null,null,null,"<20mph",null,null,null,null,"Separate Path",null,null,null,null,"<20mph",null,null,null,null,"Separate Path",null,null,null,null,"<20mph",null,null,null,null,"Separate Path",null,null,null,null,"<20mph",null,null,null,null,"Separate Path",null,null,null,null,"<20mph",null,null,null,null,null,null,null,null,{"$f":"IF(GV50<=$BX$11,$BR$11,IF(GV50<=$BX$10,$BR$10,IF(GV50<=$BX$9,$BR$9,$BR$8)))","v":"Excellent"},null,null,null,null,{"$f":"MIN(HA50:ND51)","v":80},null,null,null,null,{"$f":"AVERAGE(HA50:ND51)","v":80},null,null,null,null,{"$f":"IF(AD$19>$Z50,\"--\",IF(AD50=$CP$8,$DA$8,IF(AD50=$CP$9,$DA$9,$DA$10))*IF(AI50=$CD$8,$CJ$8,IF(AI50=$CD$9,$CJ$9,$CJ$10)))","v":80},null,null,null,null,null,null,null,null,null,{"$f":"IF(AN$19>$Z50,\"--\",IF(AN50=$CP$8,$DA$8,IF(AN50=$CP$9,$DA$9,$DA$10))*IF(AS50=$CD$8,$CJ$8,IF(AS50=$CD$9,$CJ$9,$CJ$10)))","v":80},null,null,null,null,null,null,null,null,null,{"$f":"IF(AX$19>$Z50,\"--\",IF(AX50=$CP$8,$DA$8,IF(AX50=$CP$9,$DA$9,$DA$10))*IF(BC50=$CD$8,$CJ$8,IF(BC50=$CD$9,$CJ$9,$CJ$10)))","v":80},null,null,null,null,null,null,null,null,null,{"$f":"IF(BH$19>$Z50,\"--\",IF(BH50=$CP$8,$DA$8,IF(BH50=$CP$9,$DA$9,$DA$10))*IF(BM50=$CD$8,$CJ$8,IF(BM50=$CD$9,$CJ$9,$CJ$10)))","v":80},null,null,null,null,null,null,null,null,null,{"$f":"IF(BR$19>$Z50,\"--\",IF(BR50=$CP$8,$DA$8,IF(BR50=$CP$9,$DA$9,$DA$10))*IF(BW50=$CD$8,$CJ$8,IF(BW50=$CD$9,$CJ$9,$CJ$10)))","v":80},null,null,null,null,null,null,null,null,null,{"$f":"IF(CB$19>$Z50,\"--\",IF(CB50=$CP$8,$DA$8,IF(CB50=$CP$9,$DA$9,$DA$10))*IF(CG50=$CD$8,$CJ$8,IF(CG50=$CD$9,$CJ$9,$CJ$10)))","v":80},null,null,null,null,null,null,null,null,null,{"$f":"IF(CL$19>$Z50,\"--\",IF(CL50=$CP$8,$DA$8,IF(CL50=$CP$9,$DA$9,$DA$10))*IF(CQ50=$CD$8,$CJ$8,IF(CQ50=$CD$9,$CJ$9,$CJ$10)))","v":"--"},null,null,null,null,null,null,null,null,null,{"$f":"IF(CV$19>$Z50,\"--\",IF(CV50=$CP$8,$DA$8,IF(CV50=$CP$9,$DA$9,$DA$10))*IF(DA50=$CD$8,$CJ$8,IF(DA50=$CD$9,$CJ$9,$CJ$10)))","v":"--"},null,null,null,null,null,null,null,null,null,{"$f":"IF(DF$19>$Z50,\"--\",IF(DF50=$CP$8,$DA$8,IF(DF50=$CP$9,$DA$9,$DA$10))*IF(DK50=$CD$8,$CJ$8,IF(DK50=$CD$9,$CJ$9,$CJ$10)))","v":"--"},null,null,null,null,null,null,null,null,null,{"$f":"IF(DP$19>$Z50,\"--\",IF(DP50=$CP$8,$DA$8,IF(DP50=$CP$9,$DA$9,$DA$10))*IF(DU50=$CD$8,$CJ$8,IF(DU50=$CD$9,$CJ$9,$CJ$10)))","v":"--"},null,null,null,null,null,null,null,null,null,{"$f":"IF(DZ$19>$Z50,\"--\",IF(DZ50=$CP$8,$DA$8,IF(DZ50=$CP$9,$DA$9,$DA$10))*IF(EE50=$CD$8,$CJ$8,IF(EE50=$CD$9,$CJ$9,$CJ$10)))","v":"--"},null,null,null,null,null,null,null,null,null,{"$f":"IF(EJ$19>$Z50,\"--\",IF(EJ50=$CP$8,$DA$8,IF(EJ50=$CP$9,$DA$9,$DA$10))*IF(EO50=$CD$8,$CJ$8,IF(EO50=$CD$9,$CJ$9,$CJ$10)))","v":"--"},null,null,null,null,null,null,null,null,null,{"$f":"IF(ET$19>$Z50,\"--\",IF(ET50=$CP$8,$DA$8,IF(ET50=$CP$9,$DA$9,$DA$10))*IF(EY50=$CD$8,$CJ$8,IF(EY50=$CD$9,$CJ$9,$CJ$10)))","v":"--"},null,null,null,null,null,null,null,null,null,{"$f":"IF(FD$19>$Z50,\"--\",IF(FD50=$CP$8,$DA$8,IF(FD50=$CP$9,$DA$9,$DA$10))*IF(FI50=$CD$8,$CJ$8,IF(FI50=$CD$9,$CJ$9,$CJ$10)))","v":"--"},null,null,null,null,null,null,null,null,null,{"$f":"IF(FN$19>$Z50,\"--\",IF(FN50=$CP$8,$DA$8,IF(FN50=$CP$9,$DA$9,$DA$10))*IF(FS50=$CD$8,$CJ$8,IF(FS50=$CD$9,$CJ$9,$CJ$10)))","v":"--"},null,null,null,null,null,null,null,null,null,{"$f":"IF(FX$19>$Z50,\"--\",IF(FX50=$CP$8,$DA$8,IF(FX50=$CP$9,$DA$9,$DA$10))*IF(GC50=$CD$8,$CJ$8,IF(GC50=$CD$9,$CJ$9,$CJ$10)))","v":"--"}]
[]
[null,null,null,null,null,null,null,null,null,null,null,null,null,null,null,null,null,null,null,"E-W",null,null,null,null,null,6,null,null,null,"On-Street Lane",null,null,null,null,"<20mph",null,null,null,null,"On-Street Lane",null,null,null,null,"<20mph",null,null,null,null,"On-Street Lane",null,null,null,null,"<20mph",null,null,null,null,"On-Street Lane",null,null,null,null,"<20mph",null,null,null,null,"On-Street Lane",null,null,null,null,"<20mph",null,null,null,null,"On-Street Lane",null,null,null,null,"<20mph",null,null,null,null,"On-Street Lane",null,null,null,null,"<20mph",null,null,null,null,"On-Street Lane",null,null,null,null,"<20mph",null,null,null,null,"On-Street Lane",null,null,null,null,"<20mph",null,null,null,null,"On-Street Lane",null,null,null,null,"<20mph",null,null,null,null,"On-Street Lane",null,null,null,null,"<20mph",null,null,null,null,"On-Street Lane",null,null,null,null,"<20mph",null,null,null,null,"Separate Path",null,null,null,null,"<20mph",null,null,null,null,"Separate Path",null,null,null,null,"<20mph",null,null,null,null,"Separate Path",null,null,null,null,"<20mph",null,null,null,null,"Separate Path",null,null,null,null,"<20mph",null,null,null,null,null,null,null,null,{"$f":"IF(GV52<=$BX$11,$BR$11,IF(GV52<=$BX$10,$BR$10,IF(GV52<=$BX$9,$BR$9,$BR$8)))","v":"Excellent"},null,null,null,null,{"$f":"MIN(HA52:ND53)","v":80},null,null,null,null,{"$f":"AVERAGE(HA52:ND53)","v":80},null,null,null,null,{"$f":"IF(AD$19>$Z52,\"--\",IF(AD52=$CP$8,$DA$8,IF(AD52=$CP$9,$DA$9,$DA$10))*IF(AI52=$CD$8,$CJ$8,IF(AI52=$CD$9,$CJ$9,$CJ$10)))","v":80},null,null,null,null,null,null,null,null,null,{"$f":"IF(AN$19>$Z52,\"--\",IF(AN52=$CP$8,$DA$8,IF(AN52=$CP$9,$DA$9,$DA$10))*IF(AS52=$CD$8,$CJ$8,IF(AS52=$CD$9,$CJ$9,$CJ$10)))","v":80},null,null,null,null,null,null,null,null,null,{"$f":"IF(AX$19>$Z52,\"--\",IF(AX52=$CP$8,$DA$8,IF(AX52=$CP$9,$DA$9,$DA$10))*IF(BC52=$CD$8,$CJ$8,IF(BC52=$CD$9,$CJ$9,$CJ$10)))","v":80},null,null,null,null,null,null,null,null,null,{"$f":"IF(BH$19>$Z52,\"--\",IF(BH52=$CP$8,$DA$8,IF(BH52=$CP$9,$DA$9,$DA$10))*IF(BM52=$CD$8,$CJ$8,IF(BM52=$CD$9,$CJ$9,$CJ$10)))","v":80},null,null,null,null,null,null,null,null,null,{"$f":"IF(BR$19>$Z52,\"--\",IF(BR52=$CP$8,$DA$8,IF(BR52=$CP$9,$DA$9,$DA$10))*IF(BW52=$CD$8,$CJ$8,IF(BW52=$CD$9,$CJ$9,$CJ$10)))","v":80},null,null,null,null,null,null,null,null,null,{"$f":"IF(CB$19>$Z52,\"--\",IF(CB52=$CP$8,$DA$8,IF(CB52=$CP$9,$DA$9,$DA$10))*IF(CG52=$CD$8,$CJ$8,IF(CG52=$CD$9,$CJ$9,$CJ$10)))","v":80},null,null,null,null,null,null,null,null,null,{"$f":"IF(CL$19>$Z52,\"--\",IF(CL52=$CP$8,$DA$8,IF(CL52=$CP$9,$DA$9,$DA$10))*IF(CQ52=$CD$8,$CJ$8,IF(CQ52=$CD$9,$CJ$9,$CJ$10)))","v":"--"},null,null,null,null,null,null,null,null,null,{"$f":"IF(CV$19>$Z52,\"--\",IF(CV52=$CP$8,$DA$8,IF(CV52=$CP$9,$DA$9,$DA$10))*IF(DA52=$CD$8,$CJ$8,IF(DA52=$CD$9,$CJ$9,$CJ$10)))","v":"--"},null,null,null,null,null,null,null,null,null,{"$f":"IF(DF$19>$Z52,\"--\",IF(DF52=$CP$8,$DA$8,IF(DF52=$CP$9,$DA$9,$DA$10))*IF(DK52=$CD$8,$CJ$8,IF(DK52=$CD$9,$CJ$9,$CJ$10)))","v":"--"},null,null,null,null,null,null,null,null,null,{"$f":"IF(DP$19>$Z52,\"--\",IF(DP52=$CP$8,$DA$8,IF(DP52=$CP$9,$DA$9,$DA$10))*IF(DU52=$CD$8,$CJ$8,IF(DU52=$CD$9,$CJ$9,$CJ$10)))","v":"--"},null,null,null,null,null,null,null,null,null,{"$f":"IF(DZ$19>$Z52,\"--\",IF(DZ52=$CP$8,$DA$8,IF(DZ52=$CP$9,$DA$9,$DA$10))*IF(EE52=$CD$8,$CJ$8,IF(EE52=$CD$9,$CJ$9,$CJ$10)))","v":"--"},null,null,null,null,null,null,null,null,null,{"$f":"IF(EJ$19>$Z52,\"--\",IF(EJ52=$CP$8,$DA$8,IF(EJ52=$CP$9,$DA$9,$DA$10))*IF(EO52=$CD$8,$CJ$8,IF(EO52=$CD$9,$CJ$9,$CJ$10)))","v":"--"},null,null,null,null,null,null,null,null,null,{"$f":"IF(ET$19>$Z52,\"--\",IF(ET52=$CP$8,$DA$8,IF(ET52=$CP$9,$DA$9,$DA$10))*IF(EY52=$CD$8,$CJ$8,IF(EY52=$CD$9,$CJ$9,$CJ$10)))","v":"--"},null,null,null,null,null,null,null,null,null,{"$f":"IF(FD$19>$Z52,\"--\",IF(FD52=$CP$8,$DA$8,IF(FD52=$CP$9,$DA$9,$DA$10))*IF(FI52=$CD$8,$CJ$8,IF(FI52=$CD$9,$CJ$9,$CJ$10)))","v":"--"},null,null,null,null,null,null,null,null,null,{"$f":"IF(FN$19>$Z52,\"--\",IF(FN52=$CP$8,$DA$8,IF(FN52=$CP$9,$DA$9,$DA$10))*IF(FS52=$CD$8,$CJ$8,IF(FS52=$CD$9,$CJ$9,$CJ$10)))","v":"--"},null,null,null,null,null,null,null,null,null,{"$f":"IF(FX$19>$Z52,\"--\",IF(FX52=$CP$8,$DA$8,IF(FX52=$CP$9,$DA$9,$DA$10))*IF(GC52=$CD$8,$CJ$8,IF(GC52=$CD$9,$CJ$9,$CJ$10)))","v":"--"}]
[]
["Displaced Left Turn",null,null,null,null,null,null,null,null,null,null,null,null,null,null,null,null,null,null,"FULL",null,null,null,null,null,6,null,null,null,"On-Street Lane",null,null,null,null,"<20mph",null,null,null,null,"On-Street Lane",null,null,null,null,"<20mph",null,null,null,null,"On-Street Lane",null,null,null,null,"<20mph",null,null,null,null,"On-Street Lane",null,null,null,null,"<20mph",null,null,null,null,"On-Street Lane",null,null,null,null,"<20mph",null,null,null,null,"On-Street Lane",null,null,null,null,"<20mph",null,null,null,null,"On-Street Lane",null,null,null,null,"<20mph",null,null,null,null,"On-Street Lane",null,null,null,null,"<20mph",null,null,null,null,"On-Street Lane",null,null,null,null,"<20mph",null,null,null,null,"On-Street Lane",null,null,null,null,"<20mph",null,null,null,null,"On-Street Lane",null,null,null,null,"<20mph",null,null,null,null,"On-Street Lane",null,null,null,null,"<20mph",null,null,null,null,"Separate Path",null,null,null,null,"<20mph",null,null,null,null,"Separate Path",null,null,null,null,"<20mph",null,null,null,null,"Separate Path",null,null,null,null,"<20mph",null,null,null,null,"Separate Path",null,null,null,null,"<20mph",null,null,null,null,null,null,null,null,{"$f":"IF(GV54<=$BX$11,$BR$11,IF(GV54<=$BX$10,$BR$10,IF(GV54<=$BX$9,$BR$9,$BR$8)))","v":"Excellent"},null,null,null,null,{"$f":"MIN(HA54:ND55)","v":80},null,null,null,null,{"$f":"AVERAGE(HA54:ND55)","v":80},null,null,null,null,{"$f":"IF(AD$19>$Z54,\"--\",IF(AD54=$CP$8,$DA$8,IF(AD54=$CP$9,$DA$9,$DA$10))*IF(AI54=$CD$8,$CJ$8,IF(AI54=$CD$9,$CJ$9,$CJ$10)))","v":80},null,null,null,null,null,null,null,null,null,{"$f":"IF(AN$19>$Z54,\"--\",IF(AN54=$CP$8,$DA$8,IF(AN54=$CP$9,$DA$9,$DA$10))*IF(AS54=$CD$8,$CJ$8,IF(AS54=$CD$9,$CJ$9,$CJ$10)))","v":80},null,null,null,null,null,null,null,null,null,{"$f":"IF(AX$19>$Z54,\"--\",IF(AX54=$CP$8,$DA$8,IF(AX54=$CP$9,$DA$9,$DA$10))*IF(BC54=$CD$8,$CJ$8,IF(BC54=$CD$9,$CJ$9,$CJ$10)))","v":80},null,null,null,null,null,null,null,null,null,{"$f":"IF(BH$19>$Z54,\"--\",IF(BH54=$CP$8,$DA$8,IF(BH54=$CP$9,$DA$9,$DA$10))*IF(BM54=$CD$8,$CJ$8,IF(BM54=$CD$9,$CJ$9,$CJ$10)))","v":80},null,null,null,null,null,null,null,null,null,{"$f":"IF(BR$19>$Z54,\"--\",IF(BR54=$CP$8,$DA$8,IF(BR54=$CP$9,$DA$9,$DA$10))*IF(BW54=$CD$8,$CJ$8,IF(BW54=$CD$9,$CJ$9,$CJ$10)))","v":80},null,null,null,null,null,null,null,null,null,{"$f":"IF(CB$19>$Z54,\"--\",IF(CB54=$CP$8,$DA$8,IF(CB54=$CP$9,$DA$9,$DA$10))*IF(CG54=$CD$8,$CJ$8,IF(CG54=$CD$9,$CJ$9,$CJ$10)))","v":80},null,null,null,null,null,null,null,null,null,{"$f":"IF(CL$19>$Z54,\"--\",IF(CL54=$CP$8,$DA$8,IF(CL54=$CP$9,$DA$9,$DA$10))*IF(CQ54=$CD$8,$CJ$8,IF(CQ54=$CD$9,$CJ$9,$CJ$10)))","v":"--"},null,null,null,null,null,null,null,null,null,{"$f":"IF(CV$19>$Z54,\"--\",IF(CV54=$CP$8,$DA$8,IF(CV54=$CP$9,$DA$9,$DA$10))*IF(DA54=$CD$8,$CJ$8,IF(DA54=$CD$9,$CJ$9,$CJ$10)))","v":"--"},null,null,null,null,null,null,null,null,null,{"$f":"IF(DF$19>$Z54,\"--\",IF(DF54=$CP$8,$DA$8,IF(DF54=$CP$9,$DA$9,$DA$10))*IF(DK54=$CD$8,$CJ$8,IF(DK54=$CD$9,$CJ$9,$CJ$10)))","v":"--"},null,null,null,null,null,null,null,null,null,{"$f":"IF(DP$19>$Z54,\"--\",IF(DP54=$CP$8,$DA$8,IF(DP54=$CP$9,$DA$9,$DA$10))*IF(DU54=$CD$8,$CJ$8,IF(DU54=$CD$9,$CJ$9,$CJ$10)))","v":"--"},null,null,null,null,null,null,null,null,null,{"$f":"IF(DZ$19>$Z54,\"--\",IF(DZ54=$CP$8,$DA$8,IF(DZ54=$CP$9,$DA$9,$DA$10))*IF(EE54=$CD$8,$CJ$8,IF(EE54=$CD$9,$CJ$9,$CJ$10)))","v":"--"},null,null,null,null,null,null,null,null,null,{"$f":"IF(EJ$19>$Z54,\"--\",IF(EJ54=$CP$8,$DA$8,IF(EJ54=$CP$9,$DA$9,$DA$10))*IF(EO54=$CD$8,$CJ$8,IF(EO54=$CD$9,$CJ$9,$CJ$10)))","v":"--"},null,null,null,null,null,null,null,null,null,{"$f":"IF(ET$19>$Z54,\"--\",IF(ET54=$CP$8,$DA$8,IF(ET54=$CP$9,$DA$9,$DA$10))*IF(EY54=$CD$8,$CJ$8,IF(EY54=$CD$9,$CJ$9,$CJ$10)))","v":"--"},null,null,null,null,null,null,null,null,null,{"$f":"IF(FD$19>$Z54,\"--\",IF(FD54=$CP$8,$DA$8,IF(FD54=$CP$9,$DA$9,$DA$10))*IF(FI54=$CD$8,$CJ$8,IF(FI54=$CD$9,$CJ$9,$CJ$10)))","v":"--"},null,null,null,null,null,null,null,null,null,{"$f":"IF(FN$19>$Z54,\"--\",IF(FN54=$CP$8,$DA$8,IF(FN54=$CP$9,$DA$9,$DA$10))*IF(FS54=$CD$8,$CJ$8,IF(FS54=$CD$9,$CJ$9,$CJ$10)))","v":"--"},null,null,null,null,null,null,null,null,null,{"$f":"IF(FX$19>$Z54,\"--\",IF(FX54=$CP$8,$DA$8,IF(FX54=$CP$9,$DA$9,$DA$10))*IF(GC54=$CD$8,$CJ$8,IF(GC54=$CD$9,$CJ$9,$CJ$10)))","v":"--"}]
[]
[{"$f":"'3 - Alt Num Lanes Input'!E56","v":"Signalized Restricted Crossing U-Turn"},null,null,null,null,null,null,null,null,null,null,null,null,null,null,null,null,null,null,"N-S",null,null,null,null,null,6,null,null,null,"On-Street Lane",null,null,null,null,"<20mph",null,null,null,null,"On-Street Lane",null,null,null,null,"<20mph",null,null,null,null,"On-Street Lane",null,null,null,null,"<20mph",null,null,null,null,"On-Street Lane",null,null,null,null,"<20mph",null,null,null,null,"On-Street Lane",null,null,null,null,"<20mph",null,null,null,null,"On-Street Lane",null,null,null,null,"<20mph",null,null,null,null,"On-Street Lane",null,null,null,null,"<20mph",null,null,null,null,"On-Street Lane",null,null,null,null,"<20mph",null,null,null,null,"On-Street Lane",null,null,null,null,"<20mph",null,null,null,null,"On-Street Lane",null,null,null,null,"<20mph",null,null,null,null,"On-Street Lane",null,null,null,null,"<20mph",null,null,null,null,"On-Street Lane",null,null,null,null,"<20mph",null,null,null,null,"Separate Path",null,null,null,null,"<20mph",null,null,null,null,"Separate Path",null,null,null,null,"<20mph",null,null,null,null,"Separate Path",null,null,null,null,"<20mph",null,null,null,null,"Separate Path",null,null,null,null,"<20mph",null,null,null,null,null,null,null,null,{"$f":"IF(GV56<=$BX$11,$BR$11,IF(GV56<=$BX$10,$BR$10,IF(GV56<=$BX$9,$BR$9,$BR$8)))","v":"Excellent"},null,null,null,null,{"$f":"MIN(HA56:ND57)","v":80},null,null,null,null,{"$f":"AVERAGE(HA56:ND57)","v":80},null,null,null,null,{"$f":"IF(AD$19>$Z56,\"--\",IF(AD56=$CP$8,$DA$8,IF(AD56=$CP$9,$DA$9,$DA$10))*IF(AI56=$CD$8,$CJ$8,IF(AI56=$CD$9,$CJ$9,$CJ$10)))","v":80},null,null,null,null,null,null,null,null,null,{"$f":"IF(AN$19>$Z56,\"--\",IF(AN56=$CP$8,$DA$8,IF(AN56=$CP$9,$DA$9,$DA$10))*IF(AS56=$CD$8,$CJ$8,IF(AS56=$CD$9,$CJ$9,$CJ$10)))","v":80},null,null,null,null,null,null,null,null,null,{"$f":"IF(AX$19>$Z56,\"--\",IF(AX56=$CP$8,$DA$8,IF(AX56=$CP$9,$DA$9,$DA$10))*IF(BC56=$CD$8,$CJ$8,IF(BC56=$CD$9,$CJ$9,$CJ$10)))","v":80},null,null,null,null,null,null,null,null,null,{"$f":"IF(BH$19>$Z56,\"--\",IF(BH56=$CP$8,$DA$8,IF(BH56=$CP$9,$DA$9,$DA$10))*IF(BM56=$CD$8,$CJ$8,IF(BM56=$CD$9,$CJ$9,$CJ$10)))","v":80},null,null,null,null,null,null,null,null,null,{"$f":"IF(BR$19>$Z56,\"--\",IF(BR56=$CP$8,$DA$8,IF(BR56=$CP$9,$DA$9,$DA$10))*IF(BW56=$CD$8,$CJ$8,IF(BW56=$CD$9,$CJ$9,$CJ$10)))","v":80},null,null,null,null,null,null,null,null,null,{"$f":"IF(CB$19>$Z56,\"--\",IF(CB56=$CP$8,$DA$8,IF(CB56=$CP$9,$DA$9,$DA$10))*IF(CG56=$CD$8,$CJ$8,IF(CG56=$CD$9,$CJ$9,$CJ$10)))","v":80},null,null,null,null,null,null,null,null,null,{"$f":"IF(CL$19>$Z56,\"--\",IF(CL56=$CP$8,$DA$8,IF(CL56=$CP$9,$DA$9,$DA$10))*IF(CQ56=$CD$8,$CJ$8,IF(CQ56=$CD$9,$CJ$9,$CJ$10)))","v":"--"},null,null,null,null,null,null,null,null,null,{"$f":"IF(CV$19>$Z56,\"--\",IF(CV56=$CP$8,$DA$8,IF(CV56=$CP$9,$DA$9,$DA$10))*IF(DA56=$CD$8,$CJ$8,IF(DA56=$CD$9,$CJ$9,$CJ$10)))","v":"--"},null,null,null,null,null,null,null,null,null,{"$f":"IF(DF$19>$Z56,\"--\",IF(DF56=$CP$8,$DA$8,IF(DF56=$CP$9,$DA$9,$DA$10))*IF(DK56=$CD$8,$CJ$8,IF(DK56=$CD$9,$CJ$9,$CJ$10)))","v":"--"},null,null,null,null,null,null,null,null,null,{"$f":"IF(DP$19>$Z56,\"--\",IF(DP56=$CP$8,$DA$8,IF(DP56=$CP$9,$DA$9,$DA$10))*IF(DU56=$CD$8,$CJ$8,IF(DU56=$CD$9,$CJ$9,$CJ$10)))","v":"--"},null,null,null,null,null,null,null,null,null,{"$f":"IF(DZ$19>$Z56,\"--\",IF(DZ56=$CP$8,$DA$8,IF(DZ56=$CP$9,$DA$9,$DA$10))*IF(EE56=$CD$8,$CJ$8,IF(EE56=$CD$9,$CJ$9,$CJ$10)))","v":"--"},null,null,null,null,null,null,null,null,null,{"$f":"IF(EJ$19>$Z56,\"--\",IF(EJ56=$CP$8,$DA$8,IF(EJ56=$CP$9,$DA$9,$DA$10))*IF(EO56=$CD$8,$CJ$8,IF(EO56=$CD$9,$CJ$9,$CJ$10)))","v":"--"},null,null,null,null,null,null,null,null,null,{"$f":"IF(ET$19>$Z56,\"--\",IF(ET56=$CP$8,$DA$8,IF(ET56=$CP$9,$DA$9,$DA$10))*IF(EY56=$CD$8,$CJ$8,IF(EY56=$CD$9,$CJ$9,$CJ$10)))","v":"--"},null,null,null,null,null,null,null,null,null,{"$f":"IF(FD$19>$Z56,\"--\",IF(FD56=$CP$8,$DA$8,IF(FD56=$CP$9,$DA$9,$DA$10))*IF(FI56=$CD$8,$CJ$8,IF(FI56=$CD$9,$CJ$9,$CJ$10)))","v":"--"},null,null,null,null,null,null,null,null,null,{"$f":"IF(FN$19>$Z56,\"--\",IF(FN56=$CP$8,$DA$8,IF(FN56=$CP$9,$DA$9,$DA$10))*IF(FS56=$CD$8,$CJ$8,IF(FS56=$CD$9,$CJ$9,$CJ$10)))","v":"--"},null,null,null,null,null,null,null,null,null,{"$f":"IF(FX$19>$Z56,\"--\",IF(FX56=$CP$8,$DA$8,IF(FX56=$CP$9,$DA$9,$DA$10))*IF(GC56=$CD$8,$CJ$8,IF(GC56=$CD$9,$CJ$9,$CJ$10)))","v":"--"}]
[]
[null,null,null,null,null,null,null,null,null,null,null,null,null,null,null,null,null,null,null,"E-W",null,null,null,null,null,6,null,null,null,"On-Street Lane",null,null,null,null,"<20mph",null,null,null,null,"On-Street Lane",null,null,null,null,"<20mph",null,null,null,null,"On-Street Lane",null,null,null,null,"<20mph",null,null,null,null,"On-Street Lane",null,null,null,null,"<20mph",null,null,null,null,"On-Street Lane",null,null,null,null,"<20mph",null,null,null,null,"On-Street Lane",null,null,null,null,"<20mph",null,null,null,null,"On-Street Lane",null,null,null,null,"<20mph",null,null,null,null,"On-Street Lane",null,null,null,null,"<20mph",null,null,null,null,"On-Street Lane",null,null,null,null,"<20mph",null,null,null,null,"On-Street Lane",null,null,null,null,"<20mph",null,null,null,null,"On-Street Lane",null,null,null,null,"<20mph",null,null,null,null,"On-Street Lane",null,null,null,null,"<20mph",null,null,null,null,"Separate Path",null,null,null,null,"<20mph",null,null,null,null,"Separate Path",null,null,null,null,"<20mph",null,null,null,null,"Separate Path",null,null,null,null,"<20mph",null,null,null,null,"Separate Path",null,null,null,null,"<20mph",null,null,null,null,null,null,null,null,{"$f":"IF(GV58<=$BX$11,$BR$11,IF(GV58<=$BX$10,$BR$10,IF(GV58<=$BX$9,$BR$9,$BR$8)))","v":"Excellent"},null,null,null,null,{"$f":"MIN(HA58:ND59)","v":80},null,null,null,null,{"$f":"AVERAGE(HA58:ND59)","v":80},null,null,null,null,{"$f":"IF(AD$19>$Z58,\"--\",IF(AD58=$CP$8,$DA$8,IF(AD58=$CP$9,$DA$9,$DA$10))*IF(AI58=$CD$8,$CJ$8,IF(AI58=$CD$9,$CJ$9,$CJ$10)))","v":80},null,null,null,null,null,null,null,null,null,{"$f":"IF(AN$19>$Z58,\"--\",IF(AN58=$CP$8,$DA$8,IF(AN58=$CP$9,$DA$9,$DA$10))*IF(AS58=$CD$8,$CJ$8,IF(AS58=$CD$9,$CJ$9,$CJ$10)))","v":80},null,null,null,null,null,null,null,null,null,{"$f":"IF(AX$19>$Z58,\"--\",IF(AX58=$CP$8,$DA$8,IF(AX58=$CP$9,$DA$9,$DA$10))*IF(BC58=$CD$8,$CJ$8,IF(BC58=$CD$9,$CJ$9,$CJ$10)))","v":80},null,null,null,null,null,null,null,null,null,{"$f":"IF(BH$19>$Z58,\"--\",IF(BH58=$CP$8,$DA$8,IF(BH58=$CP$9,$DA$9,$DA$10))*IF(BM58=$CD$8,$CJ$8,IF(BM58=$CD$9,$CJ$9,$CJ$10)))","v":80},null,null,null,null,null,null,null,null,null,{"$f":"IF(BR$19>$Z58,\"--\",IF(BR58=$CP$8,$DA$8,IF(BR58=$CP$9,$DA$9,$DA$10))*IF(BW58=$CD$8,$CJ$8,IF(BW58=$CD$9,$CJ$9,$CJ$10)))","v":80},null,null,null,null,null,null,null,null,null,{"$f":"IF(CB$19>$Z58,\"--\",IF(CB58=$CP$8,$DA$8,IF(CB58=$CP$9,$DA$9,$DA$10))*IF(CG58=$CD$8,$CJ$8,IF(CG58=$CD$9,$CJ$9,$CJ$10)))","v":80},null,null,null,null,null,null,null,null,null,{"$f":"IF(CL$19>$Z58,\"--\",IF(CL58=$CP$8,$DA$8,IF(CL58=$CP$9,$DA$9,$DA$10))*IF(CQ58=$CD$8,$CJ$8,IF(CQ58=$CD$9,$CJ$9,$CJ$10)))","v":"--"},null,null,null,null,null,null,null,null,null,{"$f":"IF(CV$19>$Z58,\"--\",IF(CV58=$CP$8,$DA$8,IF(CV58=$CP$9,$DA$9,$DA$10))*IF(DA58=$CD$8,$CJ$8,IF(DA58=$CD$9,$CJ$9,$CJ$10)))","v":"--"},null,null,null,null,null,null,null,null,null,{"$f":"IF(DF$19>$Z58,\"--\",IF(DF58=$CP$8,$DA$8,IF(DF58=$CP$9,$DA$9,$DA$10))*IF(DK58=$CD$8,$CJ$8,IF(DK58=$CD$9,$CJ$9,$CJ$10)))","v":"--"},null,null,null,null,null,null,null,null,null,{"$f":"IF(DP$19>$Z58,\"--\",IF(DP58=$CP$8,$DA$8,IF(DP58=$CP$9,$DA$9,$DA$10))*IF(DU58=$CD$8,$CJ$8,IF(DU58=$CD$9,$CJ$9,$CJ$10)))","v":"--"},null,null,null,null,null,null,null,null,null,{"$f":"IF(DZ$19>$Z58,\"--\",IF(DZ58=$CP$8,$DA$8,IF(DZ58=$CP$9,$DA$9,$DA$10))*IF(EE58=$CD$8,$CJ$8,IF(EE58=$CD$9,$CJ$9,$CJ$10)))","v":"--"},null,null,null,null,null,null,null,null,null,{"$f":"IF(EJ$19>$Z58,\"--\",IF(EJ58=$CP$8,$DA$8,IF(EJ58=$CP$9,$DA$9,$DA$10))*IF(EO58=$CD$8,$CJ$8,IF(EO58=$CD$9,$CJ$9,$CJ$10)))","v":"--"},null,null,null,null,null,null,null,null,null,{"$f":"IF(ET$19>$Z58,\"--\",IF(ET58=$CP$8,$DA$8,IF(ET58=$CP$9,$DA$9,$DA$10))*IF(EY58=$CD$8,$CJ$8,IF(EY58=$CD$9,$CJ$9,$CJ$10)))","v":"--"},null,null,null,null,null,null,null,null,null,{"$f":"IF(FD$19>$Z58,\"--\",IF(FD58=$CP$8,$DA$8,IF(FD58=$CP$9,$DA$9,$DA$10))*IF(FI58=$CD$8,$CJ$8,IF(FI58=$CD$9,$CJ$9,$CJ$10)))","v":"--"},null,null,null,null,null,null,null,null,null,{"$f":"IF(FN$19>$Z58,\"--\",IF(FN58=$CP$8,$DA$8,IF(FN58=$CP$9,$DA$9,$DA$10))*IF(FS58=$CD$8,$CJ$8,IF(FS58=$CD$9,$CJ$9,$CJ$10)))","v":"--"},null,null,null,null,null,null,null,null,null,{"$f":"IF(FX$19>$Z58,\"--\",IF(FX58=$CP$8,$DA$8,IF(FX58=$CP$9,$DA$9,$DA$10))*IF(GC58=$CD$8,$CJ$8,IF(GC58=$CD$9,$CJ$9,$CJ$10)))","v":"--"}]
[]
[{"$f":"'3 - Alt Num Lanes Input'!E60","v":"Unsignalized Restricted Crossing U-Turn"},null,null,null,null,null,null,null,null,null,null,null,null,null,null,null,null,null,null,"N-S",null,null,null,null,null,6,null,null,null,"On-Street Lane",null,null,null,null,"<20mph",null,null,null,null,"On-Street Lane",null,null,null,null,"<20mph",null,null,null,null,"On-Street Lane",null,null,null,null,"<20mph",null,null,null,null,"On-Street Lane",null,null,null,null,"<20mph",null,null,null,null,"On-Street Lane",null,null,null,null,"<20mph",null,null,null,null,"On-Street Lane",null,null,null,null,"<20mph",null,null,null,null,"On-Street Lane",null,null,null,null,"<20mph",null,null,null,null,"On-Street Lane",null,null,null,null,"<20mph",null,null,null,null,"On-Street Lane",null,null,null,null,"<20mph",null,null,null,null,"On-Street Lane",null,null,null,null,"<20mph",null,null,null,null,"On-Street Lane",null,null,null,null,"<20mph",null,null,null,null,"On-Street Lane",null,null,null,null,"<20mph",null,null,null,null,"Separate Path",null,null,null,null,"<20mph",null,null,null,null,"Separate Path",null,null,null,null,"<20mph",null,null,null,null,"Separate Path",null,null,null,null,"<20mph",null,null,null,null,"Separate Path",null,null,null,null,"<20mph",null,null,null,null,null,null,null,null,{"$f":"IF(GV60<=$BX$11,$BR$11,IF(GV60<=$BX$10,$BR$10,IF(GV60<=$BX$9,$BR$9,$BR$8)))","v":"Excellent"},null,null,null,null,{"$f":"MIN(HA60:ND61)","v":80},null,null,null,null,{"$f":"AVERAGE(HA60:ND61)","v":80},null,null,null,null,{"$f":"IF(AD$19>$Z60,\"--\",IF(AD60=$CP$8,$DA$8,IF(AD60=$CP$9,$DA$9,$DA$10))*IF(AI60=$CD$8,$CJ$8,IF(AI60=$CD$9,$CJ$9,$CJ$10)))","v":80},null,null,null,null,null,null,null,null,null,{"$f":"IF(AN$19>$Z60,\"--\",IF(AN60=$CP$8,$DA$8,IF(AN60=$CP$9,$DA$9,$DA$10))*IF(AS60=$CD$8,$CJ$8,IF(AS60=$CD$9,$CJ$9,$CJ$10)))","v":80},null,null,null,null,null,null,null,null,null,{"$f":"IF(AX$19>$Z60,\"--\",IF(AX60=$CP$8,$DA$8,IF(AX60=$CP$9,$DA$9,$DA$10))*IF(BC60=$CD$8,$CJ$8,IF(BC60=$CD$9,$CJ$9,$CJ$10)))","v":80},null,null,null,null,null,null,null,null,null,{"$f":"IF(BH$19>$Z60,\"--\",IF(BH60=$CP$8,$DA$8,IF(BH60=$CP$9,$DA$9,$DA$10))*IF(BM60=$CD$8,$CJ$8,IF(BM60=$CD$9,$CJ$9,$CJ$10)))","v":80},null,null,null,null,null,null,null,null,null,{"$f":"IF(BR$19>$Z60,\"--\",IF(BR60=$CP$8,$DA$8,IF(BR60=$CP$9,$DA$9,$DA$10))*IF(BW60=$CD$8,$CJ$8,IF(BW60=$CD$9,$CJ$9,$CJ$10)))","v":80},null,null,null,null,null,null,null,null,null,{"$f":"IF(CB$19>$Z60,\"--\",IF(CB60=$CP$8,$DA$8,IF(CB60=$CP$9,$DA$9,$DA$10))*IF(CG60=$CD$8,$CJ$8,IF(CG60=$CD$9,$CJ$9,$CJ$10)))","v":80},null,null,null,null,null,null,null,null,null,{"$f":"IF(CL$19>$Z60,\"--\",IF(CL60=$CP$8,$DA$8,IF(CL60=$CP$9,$DA$9,$DA$10))*IF(CQ60=$CD$8,$CJ$8,IF(CQ60=$CD$9,$CJ$9,$CJ$10)))","v":"--"},null,null,null,null,null,null,null,null,null,{"$f":"IF(CV$19>$Z60,\"--\",IF(CV60=$CP$8,$DA$8,IF(CV60=$CP$9,$DA$9,$DA$10))*IF(DA60=$CD$8,$CJ$8,IF(DA60=$CD$9,$CJ$9,$CJ$10)))","v":"--"},null,null,null,null,null,null,null,null,null,{"$f":"IF(DF$19>$Z60,\"--\",IF(DF60=$CP$8,$DA$8,IF(DF60=$CP$9,$DA$9,$DA$10))*IF(DK60=$CD$8,$CJ$8,IF(DK60=$CD$9,$CJ$9,$CJ$10)))","v":"--"},null,null,null,null,null,null,null,null,null,{"$f":"IF(DP$19>$Z60,\"--\",IF(DP60=$CP$8,$DA$8,IF(DP60=$CP$9,$DA$9,$DA$10))*IF(DU60=$CD$8,$CJ$8,IF(DU60=$CD$9,$CJ$9,$CJ$10)))","v":"--"},null,null,null,null,null,null,null,null,null,{"$f":"IF(DZ$19>$Z60,\"--\",IF(DZ60=$CP$8,$DA$8,IF(DZ60=$CP$9,$DA$9,$DA$10))*IF(EE60=$CD$8,$CJ$8,IF(EE60=$CD$9,$CJ$9,$CJ$10)))","v":"--"},null,null,null,null,null,null,null,null,null,{"$f":"IF(EJ$19>$Z60,\"--\",IF(EJ60=$CP$8,$DA$8,IF(EJ60=$CP$9,$DA$9,$DA$10))*IF(EO60=$CD$8,$CJ$8,IF(EO60=$CD$9,$CJ$9,$CJ$10)))","v":"--"},null,null,null,null,null,null,null,null,null,{"$f":"IF(ET$19>$Z60,\"--\",IF(ET60=$CP$8,$DA$8,IF(ET60=$CP$9,$DA$9,$DA$10))*IF(EY60=$CD$8,$CJ$8,IF(EY60=$CD$9,$CJ$9,$CJ$10)))","v":"--"},null,null,null,null,null,null,null,null,null,{"$f":"IF(FD$19>$Z60,\"--\",IF(FD60=$CP$8,$DA$8,IF(FD60=$CP$9,$DA$9,$DA$10))*IF(FI60=$CD$8,$CJ$8,IF(FI60=$CD$9,$CJ$9,$CJ$10)))","v":"--"},null,null,null,null,null,null,null,null,null,{"$f":"IF(FN$19>$Z60,\"--\",IF(FN60=$CP$8,$DA$8,IF(FN60=$CP$9,$DA$9,$DA$10))*IF(FS60=$CD$8,$CJ$8,IF(FS60=$CD$9,$CJ$9,$CJ$10)))","v":"--"},null,null,null,null,null,null,null,null,null,{"$f":"IF(FX$19>$Z60,\"--\",IF(FX60=$CP$8,$DA$8,IF(FX60=$CP$9,$DA$9,$DA$10))*IF(GC60=$CD$8,$CJ$8,IF(GC60=$CD$9,$CJ$9,$CJ$10)))","v":"--"}]
[]
[null,null,null,null,null,null,null,null,null,null,null,null,null,null,null,null,null,null,null,"E-W",null,null,null,null,null,6,null,null,null,"On-Street Lane",null,null,null,null,"<20mph",null,null,null,null,"On-Street Lane",null,null,null,null,"<20mph",null,null,null,null,"On-Street Lane",null,null,null,null,"<20mph",null,null,null,null,"On-Street Lane",null,null,null,null,"<20mph",null,null,null,null,"On-Street Lane",null,null,null,null,"<20mph",null,null,null,null,"On-Street Lane",null,null,null,null,"<20mph",null,null,null,null,"On-Street Lane",null,null,null,null,"<20mph",null,null,null,null,"On-Street Lane",null,null,null,null,"<20mph",null,null,null,null,"On-Street Lane",null,null,null,null,"<20mph",null,null,null,null,"On-Street Lane",null,null,null,null,"<20mph",null,null,null,null,"On-Street Lane",null,null,null,null,"<20mph",null,null,null,null,"On-Street Lane",null,null,null,null,"<20mph",null,null,null,null,"Separate Path",null,null,null,null,"<20mph",null,null,null,null,"Separate Path",null,null,null,null,"<20mph",null,null,null,null,"Separate Path",null,null,null,null,"<20mph",null,null,null,null,"Separate Path",null,null,null,null,"<20mph",null,null,null,null,null,null,null,null,{"$f":"IF(GV62<=$BX$11,$BR$11,IF(GV62<=$BX$10,$BR$10,IF(GV62<=$BX$9,$BR$9,$BR$8)))","v":"Excellent"},null,null,null,null,{"$f":"MIN(HA62:ND63)","v":80},null,null,null,null,{"$f":"AVERAGE(HA62:ND63)","v":80},null,null,null,null,{"$f":"IF(AD$19>$Z62,\"--\",IF(AD62=$CP$8,$DA$8,IF(AD62=$CP$9,$DA$9,$DA$10))*IF(AI62=$CD$8,$CJ$8,IF(AI62=$CD$9,$CJ$9,$CJ$10)))","v":80},null,null,null,null,null,null,null,null,null,{"$f":"IF(AN$19>$Z62,\"--\",IF(AN62=$CP$8,$DA$8,IF(AN62=$CP$9,$DA$9,$DA$10))*IF(AS62=$CD$8,$CJ$8,IF(AS62=$CD$9,$CJ$9,$CJ$10)))","v":80},null,null,null,null,null,null,null,null,null,{"$f":"IF(AX$19>$Z62,\"--\",IF(AX62=$CP$8,$DA$8,IF(AX62=$CP$9,$DA$9,$DA$10))*IF(BC62=$CD$8,$CJ$8,IF(BC62=$CD$9,$CJ$9,$CJ$10)))","v":80},null,null,null,null,null,null,null,null,null,{"$f":"IF(BH$19>$Z62,\"--\",IF(BH62=$CP$8,$DA$8,IF(BH62=$CP$9,$DA$9,$DA$10))*IF(BM62=$CD$8,$CJ$8,IF(BM62=$CD$9,$CJ$9,$CJ$10)))","v":80},null,null,null,null,null,null,null,null,null,{"$f":"IF(BR$19>$Z62,\"--\",IF(BR62=$CP$8,$DA$8,IF(BR62=$CP$9,$DA$9,$DA$10))*IF(BW62=$CD$8,$CJ$8,IF(BW62=$CD$9,$CJ$9,$CJ$10)))","v":80},null,null,null,null,null,null,null,null,null,{"$f":"IF(CB$19>$Z62,\"--\",IF(CB62=$CP$8,$DA$8,IF(CB62=$CP$9,$DA$9,$DA$10))*IF(CG62=$CD$8,$CJ$8,IF(CG62=$CD$9,$CJ$9,$CJ$10)))","v":80},null,null,null,null,null,null,null,null,null,{"$f":"IF(CL$19>$Z62,\"--\",IF(CL62=$CP$8,$DA$8,IF(CL62=$CP$9,$DA$9,$DA$10))*IF(CQ62=$CD$8,$CJ$8,IF(CQ62=$CD$9,$CJ$9,$CJ$10)))","v":"--"},null,null,null,null,null,null,null,null,null,{"$f":"IF(CV$19>$Z62,\"--\",IF(CV62=$CP$8,$DA$8,IF(CV62=$CP$9,$DA$9,$DA$10))*IF(DA62=$CD$8,$CJ$8,IF(DA62=$CD$9,$CJ$9,$CJ$10)))","v":"--"},null,null,null,null,null,null,null,null,null,{"$f":"IF(DF$19>$Z62,\"--\",IF(DF62=$CP$8,$DA$8,IF(DF62=$CP$9,$DA$9,$DA$10))*IF(DK62=$CD$8,$CJ$8,IF(DK62=$CD$9,$CJ$9,$CJ$10)))","v":"--"},null,null,null,null,null,null,null,null,null,{"$f":"IF(DP$19>$Z62,\"--\",IF(DP62=$CP$8,$DA$8,IF(DP62=$CP$9,$DA$9,$DA$10))*IF(DU62=$CD$8,$CJ$8,IF(DU62=$CD$9,$CJ$9,$CJ$10)))","v":"--"},null,null,null,null,null,null,null,null,null,{"$f":"IF(DZ$19>$Z62,\"--\",IF(DZ62=$CP$8,$DA$8,IF(DZ62=$CP$9,$DA$9,$DA$10))*IF(EE62=$CD$8,$CJ$8,IF(EE62=$CD$9,$CJ$9,$CJ$10)))","v":"--"},null,null,null,null,null,null,null,null,null,{"$f":"IF(EJ$19>$Z62,\"--\",IF(EJ62=$CP$8,$DA$8,IF(EJ62=$CP$9,$DA$9,$DA$10))*IF(EO62=$CD$8,$CJ$8,IF(EO62=$CD$9,$CJ$9,$CJ$10)))","v":"--"},null,null,null,null,null,null,null,null,null,{"$f":"IF(ET$19>$Z62,\"--\",IF(ET62=$CP$8,$DA$8,IF(ET62=$CP$9,$DA$9,$DA$10))*IF(EY62=$CD$8,$CJ$8,IF(EY62=$CD$9,$CJ$9,$CJ$10)))","v":"--"},null,null,null,null,null,null,null,null,null,{"$f":"IF(FD$19>$Z62,\"--\",IF(FD62=$CP$8,$DA$8,IF(FD62=$CP$9,$DA$9,$DA$10))*IF(FI62=$CD$8,$CJ$8,IF(FI62=$CD$9,$CJ$9,$CJ$10)))","v":"--"},null,null,null,null,null,null,null,null,null,{"$f":"IF(FN$19>$Z62,\"--\",IF(FN62=$CP$8,$DA$8,IF(FN62=$CP$9,$DA$9,$DA$10))*IF(FS62=$CD$8,$CJ$8,IF(FS62=$CD$9,$CJ$9,$CJ$10)))","v":"--"},null,null,null,null,null,null,null,null,null,{"$f":"IF(FX$19>$Z62,\"--\",IF(FX62=$CP$8,$DA$8,IF(FX62=$CP$9,$DA$9,$DA$10))*IF(GC62=$CD$8,$CJ$8,IF(GC62=$CD$9,$CJ$9,$CJ$10)))","v":"--"}]
[]
["Median U-Turn",null,null,null,null,null,null,null,null,null,null,null,null,null,null,null,null,null,null,"N-S",null,null,null,null,null,6,null,null,null,"On-Street Lane",null,null,null,null,"<20mph",null,null,null,null,"On-Street Lane",null,null,null,null,"<20mph",null,null,null,null,"On-Street Lane",null,null,null,null,"<20mph",null,null,null,null,"On-Street Lane",null,null,null,null,"<20mph",null,null,null,null,"On-Street Lane",null,null,null,null,"<20mph",null,null,null,null,"On-Street Lane",null,null,null,null,"<20mph",null,null,null,null,"On-Street Lane",null,null,null,null,"<20mph",null,null,null,null,"On-Street Lane",null,null,null,null,"<20mph",null,null,null,null,"On-Street Lane",null,null,null,null,"<20mph",null,null,null,null,"On-Street Lane",null,null,null,null,"<20mph",null,null,null,null,"On-Street Lane",null,null,null,null,"<20mph",null,null,null,null,"On-Street Lane",null,null,null,null,"<20mph",null,null,null,null,"Separate Path",null,null,null,null,"<20mph",null,null,null,null,"Separate Path",null,null,null,null,"<20mph",null,null,null,null,"Separate Path",null,null,null,null,"<20mph",null,null,null,null,"Separate Path",null,null,null,null,"<20mph",null,null,null,null,null,null,null,null,{"$f":"IF(GV64<=$BX$11,$BR$11,IF(GV64<=$BX$10,$BR$10,IF(GV64<=$BX$9,$BR$9,$BR$8)))","v":"Excellent"},null,null,null,null,{"$f":"MIN(HA64:ND65)","v":80},null,null,null,null,{"$f":"AVERAGE(HA64:ND65)","v":80},null,null,null,null,{"$f":"IF(AD$19>$Z64,\"--\",IF(AD64=$CP$8,$DA$8,IF(AD64=$CP$9,$DA$9,$DA$10))*IF(AI64=$CD$8,$CJ$8,IF(AI64=$CD$9,$CJ$9,$CJ$10)))","v":80},null,null,null,null,null,null,null,null,null,{"$f":"IF(AN$19>$Z64,\"--\",IF(AN64=$CP$8,$DA$8,IF(AN64=$CP$9,$DA$9,$DA$10))*IF(AS64=$CD$8,$CJ$8,IF(AS64=$CD$9,$CJ$9,$CJ$10)))","v":80},null,null,null,null,null,null,null,null,null,{"$f":"IF(AX$19>$Z64,\"--\",IF(AX64=$CP$8,$DA$8,IF(AX64=$CP$9,$DA$9,$DA$10))*IF(BC64=$CD$8,$CJ$8,IF(BC64=$CD$9,$CJ$9,$CJ$10)))","v":80},null,null,null,null,null,null,null,null,null,{"$f":"IF(BH$19>$Z64,\"--\",IF(BH64=$CP$8,$DA$8,IF(BH64=$CP$9,$DA$9,$DA$10))*IF(BM64=$CD$8,$CJ$8,IF(BM64=$CD$9,$CJ$9,$CJ$10)))","v":80},null,null,null,null,null,null,null,null,null,{"$f":"IF(BR$19>$Z64,\"--\",IF(BR64=$CP$8,$DA$8,IF(BR64=$CP$9,$DA$9,$DA$10))*IF(BW64=$CD$8,$CJ$8,IF(BW64=$CD$9,$CJ$9,$CJ$10)))","v":80},null,null,null,null,null,null,null,null,null,{"$f":"IF(CB$19>$Z64,\"--\",IF(CB64=$CP$8,$DA$8,IF(CB64=$CP$9,$DA$9,$DA$10))*IF(CG64=$CD$8,$CJ$8,IF(CG64=$CD$9,$CJ$9,$CJ$10)))","v":80},null,null,null,null,null,null,null,null,null,{"$f":"IF(CL$19>$Z64,\"--\",IF(CL64=$CP$8,$DA$8,IF(CL64=$CP$9,$DA$9,$DA$10))*IF(CQ64=$CD$8,$CJ$8,IF(CQ64=$CD$9,$CJ$9,$CJ$10)))","v":"--"},null,null,null,null,null,null,null,null,null,{"$f":"IF(CV$19>$Z64,\"--\",IF(CV64=$CP$8,$DA$8,IF(CV64=$CP$9,$DA$9,$DA$10))*IF(DA64=$CD$8,$CJ$8,IF(DA64=$CD$9,$CJ$9,$CJ$10)))","v":"--"},null,null,null,null,null,null,null,null,null,{"$f":"IF(DF$19>$Z64,\"--\",IF(DF64=$CP$8,$DA$8,IF(DF64=$CP$9,$DA$9,$DA$10))*IF(DK64=$CD$8,$CJ$8,IF(DK64=$CD$9,$CJ$9,$CJ$10)))","v":"--"},null,null,null,null,null,null,null,null,null,{"$f":"IF(DP$19>$Z64,\"--\",IF(DP64=$CP$8,$DA$8,IF(DP64=$CP$9,$DA$9,$DA$10))*IF(DU64=$CD$8,$CJ$8,IF(DU64=$CD$9,$CJ$9,$CJ$10)))","v":"--"},null,null,null,null,null,null,null,null,null,{"$f":"IF(DZ$19>$Z64,\"--\",IF(DZ64=$CP$8,$DA$8,IF(DZ64=$CP$9,$DA$9,$DA$10))*IF(EE64=$CD$8,$CJ$8,IF(EE64=$CD$9,$CJ$9,$CJ$10)))","v":"--"},null,null,null,null,null,null,null,null,null,{"$f":"IF(EJ$19>$Z64,\"--\",IF(EJ64=$CP$8,$DA$8,IF(EJ64=$CP$9,$DA$9,$DA$10))*IF(EO64=$CD$8,$CJ$8,IF(EO64=$CD$9,$CJ$9,$CJ$10)))","v":"--"},null,null,null,null,null,null,null,null,null,{"$f":"IF(ET$19>$Z64,\"--\",IF(ET64=$CP$8,$DA$8,IF(ET64=$CP$9,$DA$9,$DA$10))*IF(EY64=$CD$8,$CJ$8,IF(EY64=$CD$9,$CJ$9,$CJ$10)))","v":"--"},null,null,null,null,null,null,null,null,null,{"$f":"IF(FD$19>$Z64,\"--\",IF(FD64=$CP$8,$DA$8,IF(FD64=$CP$9,$DA$9,$DA$10))*IF(FI64=$CD$8,$CJ$8,IF(FI64=$CD$9,$CJ$9,$CJ$10)))","v":"--"},null,null,null,null,null,null,null,null,null,{"$f":"IF(FN$19>$Z64,\"--\",IF(FN64=$CP$8,$DA$8,IF(FN64=$CP$9,$DA$9,$DA$10))*IF(FS64=$CD$8,$CJ$8,IF(FS64=$CD$9,$CJ$9,$CJ$10)))","v":"--"},null,null,null,null,null,null,null,null,null,{"$f":"IF(FX$19>$Z64,\"--\",IF(FX64=$CP$8,$DA$8,IF(FX64=$CP$9,$DA$9,$DA$10))*IF(GC64=$CD$8,$CJ$8,IF(GC64=$CD$9,$CJ$9,$CJ$10)))","v":"--"}]
[]
[null,null,null,null,null,null,null,null,null,null,null,null,null,null,null,null,null,null,null,"E-W",null,null,null,null,null,6,null,null,null,"On-Street Lane",null,null,null,null,"<20mph",null,null,null,null,"On-Street Lane",null,null,null,null,"<20mph",null,null,null,null,"On-Street Lane",null,null,null,null,"<20mph",null,null,null,null,"On-Street Lane",null,null,null,null,"<20mph",null,null,null,null,"On-Street Lane",null,null,null,null,"<20mph",null,null,null,null,"On-Street Lane",null,null,null,null,"<20mph",null,null,null,null,"On-Street Lane",null,null,null,null,"<20mph",null,null,null,null,"On-Street Lane",null,null,null,null,"<20mph",null,null,null,null,"On-Street Lane",null,null,null,null,"<20mph",null,null,null,null,"On-Street Lane",null,null,null,null,"<20mph",null,null,null,null,"On-Street Lane",null,null,null,null,"<20mph",null,null,null,null,"On-Street Lane",null,null,null,null,"<20mph",null,null,null,null,"Separate Path",null,null,null,null,"<20mph",null,null,null,null,"Separate Path",null,null,null,null,"<20mph",null,null,null,null,"Separate Path",null,null,null,null,"<20mph",null,null,null,null,"Separate Path",null,null,null,null,"<20mph",null,null,null,null,null,null,null,null,{"$f":"IF(GV66<=$BX$11,$BR$11,IF(GV66<=$BX$10,$BR$10,IF(GV66<=$BX$9,$BR$9,$BR$8)))","v":"Excellent"},null,null,null,null,{"$f":"MIN(HA66:ND67)","v":80},null,null,null,null,{"$f":"AVERAGE(HA66:ND67)","v":80},null,null,null,null,{"$f":"IF(AD$19>$Z66,\"--\",IF(AD66=$CP$8,$DA$8,IF(AD66=$CP$9,$DA$9,$DA$10))*IF(AI66=$CD$8,$CJ$8,IF(AI66=$CD$9,$CJ$9,$CJ$10)))","v":80},null,null,null,null,null,null,null,null,null,{"$f":"IF(AN$19>$Z66,\"--\",IF(AN66=$CP$8,$DA$8,IF(AN66=$CP$9,$DA$9,$DA$10))*IF(AS66=$CD$8,$CJ$8,IF(AS66=$CD$9,$CJ$9,$CJ$10)))","v":80},null,null,null,null,null,null,null,null,null,{"$f":"IF(AX$19>$Z66,\"--\",IF(AX66=$CP$8,$DA$8,IF(AX66=$CP$9,$DA$9,$DA$10))*IF(BC66=$CD$8,$CJ$8,IF(BC66=$CD$9,$CJ$9,$CJ$10)))","v":80},null,null,null,null,null,null,null,null,null,{"$f":"IF(BH$19>$Z66,\"--\",IF(BH66=$CP$8,$DA$8,IF(BH66=$CP$9,$DA$9,$DA$10))*IF(BM66=$CD$8,$CJ$8,IF(BM66=$CD$9,$CJ$9,$CJ$10)))","v":80},null,null,null,null,null,null,null,null,null,{"$f":"IF(BR$19>$Z66,\"--\",IF(BR66=$CP$8,$DA$8,IF(BR66=$CP$9,$DA$9,$DA$10))*IF(BW66=$CD$8,$CJ$8,IF(BW66=$CD$9,$CJ$9,$CJ$10)))","v":80},null,null,null,null,null,null,null,null,null,{"$f":"IF(CB$19>$Z66,\"--\",IF(CB66=$CP$8,$DA$8,IF(CB66=$CP$9,$DA$9,$DA$10))*IF(CG66=$CD$8,$CJ$8,IF(CG66=$CD$9,$CJ$9,$CJ$10)))","v":80},null,null,null,null,null,null,null,null,null,{"$f":"IF(CL$19>$Z66,\"--\",IF(CL66=$CP$8,$DA$8,IF(CL66=$CP$9,$DA$9,$DA$10))*IF(CQ66=$CD$8,$CJ$8,IF(CQ66=$CD$9,$CJ$9,$CJ$10)))","v":"--"},null,null,null,null,null,null,null,null,null,{"$f":"IF(CV$19>$Z66,\"--\",IF(CV66=$CP$8,$DA$8,IF(CV66=$CP$9,$DA$9,$DA$10))*IF(DA66=$CD$8,$CJ$8,IF(DA66=$CD$9,$CJ$9,$CJ$10)))","v":"--"},null,null,null,null,null,null,null,null,null,{"$f":"IF(DF$19>$Z66,\"--\",IF(DF66=$CP$8,$DA$8,IF(DF66=$CP$9,$DA$9,$DA$10))*IF(DK66=$CD$8,$CJ$8,IF(DK66=$CD$9,$CJ$9,$CJ$10)))","v":"--"},null,null,null,null,null,null,null,null,null,{"$f":"IF(DP$19>$Z66,\"--\",IF(DP66=$CP$8,$DA$8,IF(DP66=$CP$9,$DA$9,$DA$10))*IF(DU66=$CD$8,$CJ$8,IF(DU66=$CD$9,$CJ$9,$CJ$10)))","v":"--"},null,null,null,null,null,null,null,null,null,{"$f":"IF(DZ$19>$Z66,\"--\",IF(DZ66=$CP$8,$DA$8,IF(DZ66=$CP$9,$DA$9,$DA$10))*IF(EE66=$CD$8,$CJ$8,IF(EE66=$CD$9,$CJ$9,$CJ$10)))","v":"--"},null,null,null,null,null,null,null,null,null,{"$f":"IF(EJ$19>$Z66,\"--\",IF(EJ66=$CP$8,$DA$8,IF(EJ66=$CP$9,$DA$9,$DA$10))*IF(EO66=$CD$8,$CJ$8,IF(EO66=$CD$9,$CJ$9,$CJ$10)))","v":"--"},null,null,null,null,null,null,null,null,null,{"$f":"IF(ET$19>$Z66,\"--\",IF(ET66=$CP$8,$DA$8,IF(ET66=$CP$9,$DA$9,$DA$10))*IF(EY66=$CD$8,$CJ$8,IF(EY66=$CD$9,$CJ$9,$CJ$10)))","v":"--"},null,null,null,null,null,null,null,null,null,{"$f":"IF(FD$19>$Z66,\"--\",IF(FD66=$CP$8,$DA$8,IF(FD66=$CP$9,$DA$9,$DA$10))*IF(FI66=$CD$8,$CJ$8,IF(FI66=$CD$9,$CJ$9,$CJ$10)))","v":"--"},null,null,null,null,null,null,null,null,null,{"$f":"IF(FN$19>$Z66,\"--\",IF(FN66=$CP$8,$DA$8,IF(FN66=$CP$9,$DA$9,$DA$10))*IF(FS66=$CD$8,$CJ$8,IF(FS66=$CD$9,$CJ$9,$CJ$10)))","v":"--"},null,null,null,null,null,null,null,null,null,{"$f":"IF(FX$19>$Z66,\"--\",IF(FX66=$CP$8,$DA$8,IF(FX66=$CP$9,$DA$9,$DA$10))*IF(GC66=$CD$8,$CJ$8,IF(GC66=$CD$9,$CJ$9,$CJ$10)))","v":"--"}]
[]
["Partial Median U-Turn",null,null,null,null,null,null,null,null,null,null,null,null,null,null,null,null,null,null,"N-S",null,null,null,null,null,6,null,null,null,"On-Street Lane",null,null,null,null,"<20mph",null,null,null,null,"On-Street Lane",null,null,null,null,"<20mph",null,null,null,null,"On-Street Lane",null,null,null,null,"<20mph",null,null,null,null,"On-Street Lane",null,null,null,null,"<20mph",null,null,null,null,"On-Street Lane",null,null,null,null,"<20mph",null,null,null,null,"On-Street Lane",null,null,null,null,"<20mph",null,null,null,null,"On-Street Lane",null,null,null,null,"<20mph",null,null,null,null,"On-Street Lane",null,null,null,null,"<20mph",null,null,null,null,"On-Street Lane",null,null,null,null,"<20mph",null,null,null,null,"On-Street Lane",null,null,null,null,"<20mph",null,null,null,null,"On-Street Lane",null,null,null,null,"<20mph",null,null,null,null,"On-Street Lane",null,null,null,null,"<20mph",null,null,null,null,"Separate Path",null,null,null,null,"<20mph",null,null,null,null,"Separate Path",null,null,null,null,"<20mph",null,null,null,null,"Separate Path",null,null,null,null,"<20mph",null,null,null,null,"Separate Path",null,null,null,null,"<20mph",null,null,null,null,null,null,null,null,{"$f":"IF(GV68<=$BX$11,$BR$11,IF(GV68<=$BX$10,$BR$10,IF(GV68<=$BX$9,$BR$9,$BR$8)))","v":"Excellent"},null,null,null,null,{"$f":"MIN(HA68:ND69)","v":80},null,null,null,null,{"$f":"AVERAGE(HA68:ND69)","v":80},null,null,null,null,{"$f":"IF(AD$19>$Z68,\"--\",IF(AD68=$CP$8,$DA$8,IF(AD68=$CP$9,$DA$9,$DA$10))*IF(AI68=$CD$8,$CJ$8,IF(AI68=$CD$9,$CJ$9,$CJ$10)))","v":80},null,null,null,null,null,null,null,null,null,{"$f":"IF(AN$19>$Z68,\"--\",IF(AN68=$CP$8,$DA$8,IF(AN68=$CP$9,$DA$9,$DA$10))*IF(AS68=$CD$8,$CJ$8,IF(AS68=$CD$9,$CJ$9,$CJ$10)))","v":80},null,null,null,null,null,null,null,null,null,{"$f":"IF(AX$19>$Z68,\"--\",IF(AX68=$CP$8,$DA$8,IF(AX68=$CP$9,$DA$9,$DA$10))*IF(BC68=$CD$8,$CJ$8,IF(BC68=$CD$9,$CJ$9,$CJ$10)))","v":80},null,null,null,null,null,null,null,null,null,{"$f":"IF(BH$19>$Z68,\"--\",IF(BH68=$CP$8,$DA$8,IF(BH68=$CP$9,$DA$9,$DA$10))*IF(BM68=$CD$8,$CJ$8,IF(BM68=$CD$9,$CJ$9,$CJ$10)))","v":80},null,null,null,null,null,null,null,null,null,{"$f":"IF(BR$19>$Z68,\"--\",IF(BR68=$CP$8,$DA$8,IF(BR68=$CP$9,$DA$9,$DA$10))*IF(BW68=$CD$8,$CJ$8,IF(BW68=$CD$9,$CJ$9,$CJ$10)))","v":80},null,null,null,null,null,null,null,null,null,{"$f":"IF(CB$19>$Z68,\"--\",IF(CB68=$CP$8,$DA$8,IF(CB68=$CP$9,$DA$9,$DA$10))*IF(CG68=$CD$8,$CJ$8,IF(CG68=$CD$9,$CJ$9,$CJ$10)))","v":80},null,null,null,null,null,null,null,null,null,{"$f":"IF(CL$19>$Z68,\"--\",IF(CL68=$CP$8,$DA$8,IF(CL68=$CP$9,$DA$9,$DA$10))*IF(CQ68=$CD$8,$CJ$8,IF(CQ68=$CD$9,$CJ$9,$CJ$10)))","v":"--"},null,null,null,null,null,null,null,null,null,{"$f":"IF(CV$19>$Z68,\"--\",IF(CV68=$CP$8,$DA$8,IF(CV68=$CP$9,$DA$9,$DA$10))*IF(DA68=$CD$8,$CJ$8,IF(DA68=$CD$9,$CJ$9,$CJ$10)))","v":"--"},null,null,null,null,null,null,null,null,null,{"$f":"IF(DF$19>$Z68,\"--\",IF(DF68=$CP$8,$DA$8,IF(DF68=$CP$9,$DA$9,$DA$10))*IF(DK68=$CD$8,$CJ$8,IF(DK68=$CD$9,$CJ$9,$CJ$10)))","v":"--"},null,null,null,null,null,null,null,null,null,{"$f":"IF(DP$19>$Z68,\"--\",IF(DP68=$CP$8,$DA$8,IF(DP68=$CP$9,$DA$9,$DA$10))*IF(DU68=$CD$8,$CJ$8,IF(DU68=$CD$9,$CJ$9,$CJ$10)))","v":"--"},null,null,null,null,null,null,null,null,null,{"$f":"IF(DZ$19>$Z68,\"--\",IF(DZ68=$CP$8,$DA$8,IF(DZ68=$CP$9,$DA$9,$DA$10))*IF(EE68=$CD$8,$CJ$8,IF(EE68=$CD$9,$CJ$9,$CJ$10)))","v":"--"},null,null,null,null,null,null,null,null,null,{"$f":"IF(EJ$19>$Z68,\"--\",IF(EJ68=$CP$8,$DA$8,IF(EJ68=$CP$9,$DA$9,$DA$10))*IF(EO68=$CD$8,$CJ$8,IF(EO68=$CD$9,$CJ$9,$CJ$10)))","v":"--"},null,null,null,null,null,null,null,null,null,{"$f":"IF(ET$19>$Z68,\"--\",IF(ET68=$CP$8,$DA$8,IF(ET68=$CP$9,$DA$9,$DA$10))*IF(EY68=$CD$8,$CJ$8,IF(EY68=$CD$9,$CJ$9,$CJ$10)))","v":"--"},null,null,null,null,null,null,null,null,null,{"$f":"IF(FD$19>$Z68,\"--\",IF(FD68=$CP$8,$DA$8,IF(FD68=$CP$9,$DA$9,$DA$10))*IF(FI68=$CD$8,$CJ$8,IF(FI68=$CD$9,$CJ$9,$CJ$10)))","v":"--"},null,null,null,null,null,null,null,null,null,{"$f":"IF(FN$19>$Z68,\"--\",IF(FN68=$CP$8,$DA$8,IF(FN68=$CP$9,$DA$9,$DA$10))*IF(FS68=$CD$8,$CJ$8,IF(FS68=$CD$9,$CJ$9,$CJ$10)))","v":"--"},null,null,null,null,null,null,null,null,null,{"$f":"IF(FX$19>$Z68,\"--\",IF(FX68=$CP$8,$DA$8,IF(FX68=$CP$9,$DA$9,$DA$10))*IF(GC68=$CD$8,$CJ$8,IF(GC68=$CD$9,$CJ$9,$CJ$10)))","v":"--"}]
[]
[null,null,null,null,null,null,null,null,null,null,null,null,null,null,null,null,null,null,null,"E-W",null,null,null,null,null,6,null,null,null,"On-Street Lane",null,null,null,null,"<20mph",null,null,null,null,"On-Street Lane",null,null,null,null,"<20mph",null,null,null,null,"On-Street Lane",null,null,null,null,"<20mph",null,null,null,null,"On-Street Lane",null,null,null,null,"<20mph",null,null,null,null,"On-Street Lane",null,null,null,null,"<20mph",null,null,null,null,"On-Street Lane",null,null,null,null,"<20mph",null,null,null,null,"On-Street Lane",null,null,null,null,"<20mph",null,null,null,null,"On-Street Lane",null,null,null,null,"<20mph",null,null,null,null,"On-Street Lane",null,null,null,null,"<20mph",null,null,null,null,"On-Street Lane",null,null,null,null,"<20mph",null,null,null,null,"On-Street Lane",null,null,null,null,"<20mph",null,null,null,null,"On-Street Lane",null,null,null,null,"<20mph",null,null,null,null,"Separate Path",null,null,null,null,"<20mph",null,null,null,null,"Separate Path",null,null,null,null,"<20mph",null,null,null,null,"Separate Path",null,null,null,null,"<20mph",null,null,null,null,"Separate Path",null,null,null,null,"<20mph",null,null,null,null,null,null,null,null,{"$f":"IF(GV70<=$BX$11,$BR$11,IF(GV70<=$BX$10,$BR$10,IF(GV70<=$BX$9,$BR$9,$BR$8)))","v":"Excellent"},null,null,null,null,{"$f":"MIN(HA70:ND71)","v":80},null,null,null,null,{"$f":"AVERAGE(HA70:ND71)","v":80},null,null,null,null,{"$f":"IF(AD$19>$Z70,\"--\",IF(AD70=$CP$8,$DA$8,IF(AD70=$CP$9,$DA$9,$DA$10))*IF(AI70=$CD$8,$CJ$8,IF(AI70=$CD$9,$CJ$9,$CJ$10)))","v":80},null,null,null,null,null,null,null,null,null,{"$f":"IF(AN$19>$Z70,\"--\",IF(AN70=$CP$8,$DA$8,IF(AN70=$CP$9,$DA$9,$DA$10))*IF(AS70=$CD$8,$CJ$8,IF(AS70=$CD$9,$CJ$9,$CJ$10)))","v":80},null,null,null,null,null,null,null,null,null,{"$f":"IF(AX$19>$Z70,\"--\",IF(AX70=$CP$8,$DA$8,IF(AX70=$CP$9,$DA$9,$DA$10))*IF(BC70=$CD$8,$CJ$8,IF(BC70=$CD$9,$CJ$9,$CJ$10)))","v":80},null,null,null,null,null,null,null,null,null,{"$f":"IF(BH$19>$Z70,\"--\",IF(BH70=$CP$8,$DA$8,IF(BH70=$CP$9,$DA$9,$DA$10))*IF(BM70=$CD$8,$CJ$8,IF(BM70=$CD$9,$CJ$9,$CJ$10)))","v":80},null,null,null,null,null,null,null,null,null,{"$f":"IF(BR$19>$Z70,\"--\",IF(BR70=$CP$8,$DA$8,IF(BR70=$CP$9,$DA$9,$DA$10))*IF(BW70=$CD$8,$CJ$8,IF(BW70=$CD$9,$CJ$9,$CJ$10)))","v":80},null,null,null,null,null,null,null,null,null,{"$f":"IF(CB$19>$Z70,\"--\",IF(CB70=$CP$8,$DA$8,IF(CB70=$CP$9,$DA$9,$DA$10))*IF(CG70=$CD$8,$CJ$8,IF(CG70=$CD$9,$CJ$9,$CJ$10)))","v":80},null,null,null,null,null,null,null,null,null,{"$f":"IF(CL$19>$Z70,\"--\",IF(CL70=$CP$8,$DA$8,IF(CL70=$CP$9,$DA$9,$DA$10))*IF(CQ70=$CD$8,$CJ$8,IF(CQ70=$CD$9,$CJ$9,$CJ$10)))","v":"--"},null,null,null,null,null,null,null,null,null,{"$f":"IF(CV$19>$Z70,\"--\",IF(CV70=$CP$8,$DA$8,IF(CV70=$CP$9,$DA$9,$DA$10))*IF(DA70=$CD$8,$CJ$8,IF(DA70=$CD$9,$CJ$9,$CJ$10)))","v":"--"},null,null,null,null,null,null,null,null,null,{"$f":"IF(DF$19>$Z70,\"--\",IF(DF70=$CP$8,$DA$8,IF(DF70=$CP$9,$DA$9,$DA$10))*IF(DK70=$CD$8,$CJ$8,IF(DK70=$CD$9,$CJ$9,$CJ$10)))","v":"--"},null,null,null,null,null,null,null,null,null,{"$f":"IF(DP$19>$Z70,\"--\",IF(DP70=$CP$8,$DA$8,IF(DP70=$CP$9,$DA$9,$DA$10))*IF(DU70=$CD$8,$CJ$8,IF(DU70=$CD$9,$CJ$9,$CJ$10)))","v":"--"},null,null,null,null,null,null,null,null,null,{"$f":"IF(DZ$19>$Z70,\"--\",IF(DZ70=$CP$8,$DA$8,IF(DZ70=$CP$9,$DA$9,$DA$10))*IF(EE70=$CD$8,$CJ$8,IF(EE70=$CD$9,$CJ$9,$CJ$10)))","v":"--"},null,null,null,null,null,null,null,null,null,{"$f":"IF(EJ$19>$Z70,\"--\",IF(EJ70=$CP$8,$DA$8,IF(EJ70=$CP$9,$DA$9,$DA$10))*IF(EO70=$CD$8,$CJ$8,IF(EO70=$CD$9,$CJ$9,$CJ$10)))","v":"--"},null,null,null,null,null,null,null,null,null,{"$f":"IF(ET$19>$Z70,\"--\",IF(ET70=$CP$8,$DA$8,IF(ET70=$CP$9,$DA$9,$DA$10))*IF(EY70=$CD$8,$CJ$8,IF(EY70=$CD$9,$CJ$9,$CJ$10)))","v":"--"},null,null,null,null,null,null,null,null,null,{"$f":"IF(FD$19>$Z70,\"--\",IF(FD70=$CP$8,$DA$8,IF(FD70=$CP$9,$DA$9,$DA$10))*IF(FI70=$CD$8,$CJ$8,IF(FI70=$CD$9,$CJ$9,$CJ$10)))","v":"--"},null,null,null,null,null,null,null,null,null,{"$f":"IF(FN$19>$Z70,\"--\",IF(FN70=$CP$8,$DA$8,IF(FN70=$CP$9,$DA$9,$DA$10))*IF(FS70=$CD$8,$CJ$8,IF(FS70=$CD$9,$CJ$9,$CJ$10)))","v":"--"},null,null,null,null,null,null,null,null,null,{"$f":"IF(FX$19>$Z70,\"--\",IF(FX70=$CP$8,$DA$8,IF(FX70=$CP$9,$DA$9,$DA$10))*IF(GC70=$CD$8,$CJ$8,IF(GC70=$CD$9,$CJ$9,$CJ$10)))","v":"--"}]
[]
["Bowtie",null,null,null,null,null,null,null,null,null,null,null,null,null,null,null,null,null,null,"N-S",null,null,null,null,null,6,null,null,null,"On-Street Lane",null,null,null,null,"<20mph",null,null,null,null,"On-Street Lane",null,null,null,null,"<20mph",null,null,null,null,"On-Street Lane",null,null,null,null,"<20mph",null,null,null,null,"On-Street Lane",null,null,null,null,"<20mph",null,null,null,null,"On-Street Lane",null,null,null,null,"<20mph",null,null,null,null,"On-Street Lane",null,null,null,null,"<20mph",null,null,null,null,"On-Street Lane",null,null,null,null,"<20mph",null,null,null,null,"On-Street Lane",null,null,null,null,"<20mph",null,null,null,null,"On-Street Lane",null,null,null,null,"<20mph",null,null,null,null,"On-Street Lane",null,null,null,null,"<20mph",null,null,null,null,"On-Street Lane",null,null,null,null,"<20mph",null,null,null,null,"On-Street Lane",null,null,null,null,"<20mph",null,null,null,null,"Separate Path",null,null,null,null,"<20mph",null,null,null,null,"Separate Path",null,null,null,null,"<20mph",null,null,null,null,"Separate Path",null,null,null,null,"<20mph",null,null,null,null,"Separate Path",null,null,null,null,"<20mph",null,null,null,null,null,null,null,null,{"$f":"IF(GV72<=$BX$11,$BR$11,IF(GV72<=$BX$10,$BR$10,IF(GV72<=$BX$9,$BR$9,$BR$8)))","v":"Excellent"},null,null,null,null,{"$f":"MIN(HA72:ND73)","v":80},null,null,null,null,{"$f":"AVERAGE(HA72:ND73)","v":80},null,null,null,null,{"$f":"IF(AD$19>$Z72,\"--\",IF(AD72=$CP$8,$DA$8,IF(AD72=$CP$9,$DA$9,$DA$10))*IF(AI72=$CD$8,$CJ$8,IF(AI72=$CD$9,$CJ$9,$CJ$10)))","v":80},null,null,null,null,null,null,null,null,null,{"$f":"IF(AN$19>$Z72,\"--\",IF(AN72=$CP$8,$DA$8,IF(AN72=$CP$9,$DA$9,$DA$10))*IF(AS72=$CD$8,$CJ$8,IF(AS72=$CD$9,$CJ$9,$CJ$10)))","v":80},null,null,null,null,null,null,null,null,null,{"$f":"IF(AX$19>$Z72,\"--\",IF(AX72=$CP$8,$DA$8,IF(AX72=$CP$9,$DA$9,$DA$10))*IF(BC72=$CD$8,$CJ$8,IF(BC72=$CD$9,$CJ$9,$CJ$10)))","v":80},null,null,null,null,null,null,null,null,null,{"$f":"IF(BH$19>$Z72,\"--\",IF(BH72=$CP$8,$DA$8,IF(BH72=$CP$9,$DA$9,$DA$10))*IF(BM72=$CD$8,$CJ$8,IF(BM72=$CD$9,$CJ$9,$CJ$10)))","v":80},null,null,null,null,null,null,null,null,null,{"$f":"IF(BR$19>$Z72,\"--\",IF(BR72=$CP$8,$DA$8,IF(BR72=$CP$9,$DA$9,$DA$10))*IF(BW72=$CD$8,$CJ$8,IF(BW72=$CD$9,$CJ$9,$CJ$10)))","v":80},null,null,null,null,null,null,null,null,null,{"$f":"IF(CB$19>$Z72,\"--\",IF(CB72=$CP$8,$DA$8,IF(CB72=$CP$9,$DA$9,$DA$10))*IF(CG72=$CD$8,$CJ$8,IF(CG72=$CD$9,$CJ$9,$CJ$10)))","v":80},null,null,null,null,null,null,null,null,null,{"$f":"IF(CL$19>$Z72,\"--\",IF(CL72=$CP$8,$DA$8,IF(CL72=$CP$9,$DA$9,$DA$10))*IF(CQ72=$CD$8,$CJ$8,IF(CQ72=$CD$9,$CJ$9,$CJ$10)))","v":"--"},null,null,null,null,null,null,null,null,null,{"$f":"IF(CV$19>$Z72,\"--\",IF(CV72=$CP$8,$DA$8,IF(CV72=$CP$9,$DA$9,$DA$10))*IF(DA72=$CD$8,$CJ$8,IF(DA72=$CD$9,$CJ$9,$CJ$10)))","v":"--"},null,null,null,null,null,null,null,null,null,{"$f":"IF(DF$19>$Z72,\"--\",IF(DF72=$CP$8,$DA$8,IF(DF72=$CP$9,$DA$9,$DA$10))*IF(DK72=$CD$8,$CJ$8,IF(DK72=$CD$9,$CJ$9,$CJ$10)))","v":"--"},null,null,null,null,null,null,null,null,null,{"$f":"IF(DP$19>$Z72,\"--\",IF(DP72=$CP$8,$DA$8,IF(DP72=$CP$9,$DA$9,$DA$10))*IF(DU72=$CD$8,$CJ$8,IF(DU72=$CD$9,$CJ$9,$CJ$10)))","v":"--"},null,null,null,null,null,null,null,null,null,{"$f":"IF(DZ$19>$Z72,\"--\",IF(DZ72=$CP$8,$DA$8,IF(DZ72=$CP$9,$DA$9,$DA$10))*IF(EE72=$CD$8,$CJ$8,IF(EE72=$CD$9,$CJ$9,$CJ$10)))","v":"--"},null,null,null,null,null,null,null,null,null,{"$f":"IF(EJ$19>$Z72,\"--\",IF(EJ72=$CP$8,$DA$8,IF(EJ72=$CP$9,$DA$9,$DA$10))*IF(EO72=$CD$8,$CJ$8,IF(EO72=$CD$9,$CJ$9,$CJ$10)))","v":"--"},null,null,null,null,null,null,null,null,null,{"$f":"IF(ET$19>$Z72,\"--\",IF(ET72=$CP$8,$DA$8,IF(ET72=$CP$9,$DA$9,$DA$10))*IF(EY72=$CD$8,$CJ$8,IF(EY72=$CD$9,$CJ$9,$CJ$10)))","v":"--"},null,null,null,null,null,null,null,null,null,{"$f":"IF(FD$19>$Z72,\"--\",IF(FD72=$CP$8,$DA$8,IF(FD72=$CP$9,$DA$9,$DA$10))*IF(FI72=$CD$8,$CJ$8,IF(FI72=$CD$9,$CJ$9,$CJ$10)))","v":"--"},null,null,null,null,null,null,null,null,null,{"$f":"IF(FN$19>$Z72,\"--\",IF(FN72=$CP$8,$DA$8,IF(FN72=$CP$9,$DA$9,$DA$10))*IF(FS72=$CD$8,$CJ$8,IF(FS72=$CD$9,$CJ$9,$CJ$10)))","v":"--"},null,null,null,null,null,null,null,null,null,{"$f":"IF(FX$19>$Z72,\"--\",IF(FX72=$CP$8,$DA$8,IF(FX72=$CP$9,$DA$9,$DA$10))*IF(GC72=$CD$8,$CJ$8,IF(GC72=$CD$9,$CJ$9,$CJ$10)))","v":"--"}]
[]
[null,null,null,null,null,null,null,null,null,null,null,null,null,null,null,null,null,null,null,"E-W",null,null,null,null,null,6,null,null,null,"On-Street Lane",null,null,null,null,"<20mph",null,null,null,null,"On-Street Lane",null,null,null,null,"<20mph",null,null,null,null,"On-Street Lane",null,null,null,null,"<20mph",null,null,null,null,"On-Street Lane",null,null,null,null,"<20mph",null,null,null,null,"On-Street Lane",null,null,null,null,"<20mph",null,null,null,null,"On-Street Lane",null,null,null,null,"<20mph",null,null,null,null,"On-Street Lane",null,null,null,null,"<20mph",null,null,null,null,"On-Street Lane",null,null,null,null,"<20mph",null,null,null,null,"On-Street Lane",null,null,null,null,"<20mph",null,null,null,null,"On-Street Lane",null,null,null,null,"<20mph",null,null,null,null,"On-Street Lane",null,null,null,null,"<20mph",null,null,null,null,"On-Street Lane",null,null,null,null,"<20mph",null,null,null,null,"Separate Path",null,null,null,null,"<20mph",null,null,null,null,"Separate Path",null,null,null,null,"<20mph",null,null,null,null,"Separate Path",null,null,null,null,"<20mph",null,null,null,null,"Separate Path",null,null,null,null,"<20mph",null,null,null,null,null,null,null,null,{"$f":"IF(GV74<=$BX$11,$BR$11,IF(GV74<=$BX$10,$BR$10,IF(GV74<=$BX$9,$BR$9,$BR$8)))","v":"Excellent"},null,null,null,null,{"$f":"MIN(HA74:ND75)","v":80},null,null,null,null,{"$f":"AVERAGE(HA74:ND75)","v":80},null,null,null,null,{"$f":"IF(AD$19>$Z74,\"--\",IF(AD74=$CP$8,$DA$8,IF(AD74=$CP$9,$DA$9,$DA$10))*IF(AI74=$CD$8,$CJ$8,IF(AI74=$CD$9,$CJ$9,$CJ$10)))","v":80},null,null,null,null,null,null,null,null,null,{"$f":"IF(AN$19>$Z74,\"--\",IF(AN74=$CP$8,$DA$8,IF(AN74=$CP$9,$DA$9,$DA$10))*IF(AS74=$CD$8,$CJ$8,IF(AS74=$CD$9,$CJ$9,$CJ$10)))","v":80},null,null,null,null,null,null,null,null,null,{"$f":"IF(AX$19>$Z74,\"--\",IF(AX74=$CP$8,$DA$8,IF(AX74=$CP$9,$DA$9,$DA$10))*IF(BC74=$CD$8,$CJ$8,IF(BC74=$CD$9,$CJ$9,$CJ$10)))","v":80},null,null,null,null,null,null,null,null,null,{"$f":"IF(BH$19>$Z74,\"--\",IF(BH74=$CP$8,$DA$8,IF(BH74=$CP$9,$DA$9,$DA$10))*IF(BM74=$CD$8,$CJ$8,IF(BM74=$CD$9,$CJ$9,$CJ$10)))","v":80},null,null,null,null,null,null,null,null,null,{"$f":"IF(BR$19>$Z74,\"--\",IF(BR74=$CP$8,$DA$8,IF(BR74=$CP$9,$DA$9,$DA$10))*IF(BW74=$CD$8,$CJ$8,IF(BW74=$CD$9,$CJ$9,$CJ$10)))","v":80},null,null,null,null,null,null,null,null,null,{"$f":"IF(CB$19>$Z74,\"--\",IF(CB74=$CP$8,$DA$8,IF(CB74=$CP$9,$DA$9,$DA$10))*IF(CG74=$CD$8,$CJ$8,IF(CG74=$CD$9,$CJ$9,$CJ$10)))","v":80},null,null,null,null,null,null,null,null,null,{"$f":"IF(CL$19>$Z74,\"--\",IF(CL74=$CP$8,$DA$8,IF(CL74=$CP$9,$DA$9,$DA$10))*IF(CQ74=$CD$8,$CJ$8,IF(CQ74=$CD$9,$CJ$9,$CJ$10)))","v":"--"},null,null,null,null,null,null,null,null,null,{"$f":"IF(CV$19>$Z74,\"--\",IF(CV74=$CP$8,$DA$8,IF(CV74=$CP$9,$DA$9,$DA$10))*IF(DA74=$CD$8,$CJ$8,IF(DA74=$CD$9,$CJ$9,$CJ$10)))","v":"--"},null,null,null,null,null,null,null,null,null,{"$f":"IF(DF$19>$Z74,\"--\",IF(DF74=$CP$8,$DA$8,IF(DF74=$CP$9,$DA$9,$DA$10))*IF(DK74=$CD$8,$CJ$8,IF(DK74=$CD$9,$CJ$9,$CJ$10)))","v":"--"},null,null,null,null,null,null,null,null,null,{"$f":"IF(DP$19>$Z74,\"--\",IF(DP74=$CP$8,$DA$8,IF(DP74=$CP$9,$DA$9,$DA$10))*IF(DU74=$CD$8,$CJ$8,IF(DU74=$CD$9,$CJ$9,$CJ$10)))","v":"--"},null,null,null,null,null,null,null,null,null,{"$f":"IF(DZ$19>$Z74,\"--\",IF(DZ74=$CP$8,$DA$8,IF(DZ74=$CP$9,$DA$9,$DA$10))*IF(EE74=$CD$8,$CJ$8,IF(EE74=$CD$9,$CJ$9,$CJ$10)))","v":"--"},null,null,null,null,null,null,null,null,null,{"$f":"IF(EJ$19>$Z74,\"--\",IF(EJ74=$CP$8,$DA$8,IF(EJ74=$CP$9,$DA$9,$DA$10))*IF(EO74=$CD$8,$CJ$8,IF(EO74=$CD$9,$CJ$9,$CJ$10)))","v":"--"},null,null,null,null,null,null,null,null,null,{"$f":"IF(ET$19>$Z74,\"--\",IF(ET74=$CP$8,$DA$8,IF(ET74=$CP$9,$DA$9,$DA$10))*IF(EY74=$CD$8,$CJ$8,IF(EY74=$CD$9,$CJ$9,$CJ$10)))","v":"--"},null,null,null,null,null,null,null,null,null,{"$f":"IF(FD$19>$Z74,\"--\",IF(FD74=$CP$8,$DA$8,IF(FD74=$CP$9,$DA$9,$DA$10))*IF(FI74=$CD$8,$CJ$8,IF(FI74=$CD$9,$CJ$9,$CJ$10)))","v":"--"},null,null,null,null,null,null,null,null,null,{"$f":"IF(FN$19>$Z74,\"--\",IF(FN74=$CP$8,$DA$8,IF(FN74=$CP$9,$DA$9,$DA$10))*IF(FS74=$CD$8,$CJ$8,IF(FS74=$CD$9,$CJ$9,$CJ$10)))","v":"--"},null,null,null,null,null,null,null,null,null,{"$f":"IF(FX$19>$Z74,\"--\",IF(FX74=$CP$8,$DA$8,IF(FX74=$CP$9,$DA$9,$DA$10))*IF(GC74=$CD$8,$CJ$8,IF(GC74=$CD$9,$CJ$9,$CJ$10)))","v":"--"}]
[]
["Split Intersection",null,null,null,null,null,null,null,null,null,null,null,null,null,null,null,null,null,null,"N-S",null,null,null,null,null,6,null,null,null,"On-Street Lane",null,null,null,null,"<20mph",null,null,null,null,"On-Street Lane",null,null,null,null,"<20mph",null,null,null,null,"On-Street Lane",null,null,null,null,"<20mph",null,null,null,null,"On-Street Lane",null,null,null,null,"<20mph",null,null,null,null,"On-Street Lane",null,null,null,null,"<20mph",null,null,null,null,"On-Street Lane",null,null,null,null,"<20mph",null,null,null,null,"On-Street Lane",null,null,null,null,"<20mph",null,null,null,null,"On-Street Lane",null,null,null,null,"<20mph",null,null,null,null,"On-Street Lane",null,null,null,null,"<20mph",null,null,null,null,"On-Street Lane",null,null,null,null,"<20mph",null,null,null,null,"On-Street Lane",null,null,null,null,"<20mph",null,null,null,null,"On-Street Lane",null,null,null,null,"<20mph",null,null,null,null,"Separate Path",null,null,null,null,"<20mph",null,null,null,null,"Separate Path",null,null,null,null,"<20mph",null,null,null,null,"Separate Path",null,null,null,null,"<20mph",null,null,null,null,"Separate Path",null,null,null,null,"<20mph",null,null,null,null,null,null,null,null,{"$f":"IF(GV76<=$BX$11,$BR$11,IF(GV76<=$BX$10,$BR$10,IF(GV76<=$BX$9,$BR$9,$BR$8)))","v":"Excellent"},null,null,null,null,{"$f":"MIN(HA76:ND77)","v":80},null,null,null,null,{"$f":"AVERAGE(HA76:ND77)","v":80},null,null,null,null,{"$f":"IF(AD$19>$Z76,\"--\",IF(AD76=$CP$8,$DA$8,IF(AD76=$CP$9,$DA$9,$DA$10))*IF(AI76=$CD$8,$CJ$8,IF(AI76=$CD$9,$CJ$9,$CJ$10)))","v":80},null,null,null,null,null,null,null,null,null,{"$f":"IF(AN$19>$Z76,\"--\",IF(AN76=$CP$8,$DA$8,IF(AN76=$CP$9,$DA$9,$DA$10))*IF(AS76=$CD$8,$CJ$8,IF(AS76=$CD$9,$CJ$9,$CJ$10)))","v":80},null,null,null,null,null,null,null,null,null,{"$f":"IF(AX$19>$Z76,\"--\",IF(AX76=$CP$8,$DA$8,IF(AX76=$CP$9,$DA$9,$DA$10))*IF(BC76=$CD$8,$CJ$8,IF(BC76=$CD$9,$CJ$9,$CJ$10)))","v":80},null,null,null,null,null,null,null,null,null,{"$f":"IF(BH$19>$Z76,\"--\",IF(BH76=$CP$8,$DA$8,IF(BH76=$CP$9,$DA$9,$DA$10))*IF(BM76=$CD$8,$CJ$8,IF(BM76=$CD$9,$CJ$9,$CJ$10)))","v":80},null,null,null,null,null,null,null,null,null,{"$f":"IF(BR$19>$Z76,\"--\",IF(BR76=$CP$8,$DA$8,IF(BR76=$CP$9,$DA$9,$DA$10))*IF(BW76=$CD$8,$CJ$8,IF(BW76=$CD$9,$CJ$9,$CJ$10)))","v":80},null,null,null,null,null,null,null,null,null,{"$f":"IF(CB$19>$Z76,\"--\",IF(CB76=$CP$8,$DA$8,IF(CB76=$CP$9,$DA$9,$DA$10))*IF(CG76=$CD$8,$CJ$8,IF(CG76=$CD$9,$CJ$9,$CJ$10)))","v":80},null,null,null,null,null,null,null,null,null,{"$f":"IF(CL$19>$Z76,\"--\",IF(CL76=$CP$8,$DA$8,IF(CL76=$CP$9,$DA$9,$DA$10))*IF(CQ76=$CD$8,$CJ$8,IF(CQ76=$CD$9,$CJ$9,$CJ$10)))","v":"--"},null,null,null,null,null,null,null,null,null,{"$f":"IF(CV$19>$Z76,\"--\",IF(CV76=$CP$8,$DA$8,IF(CV76=$CP$9,$DA$9,$DA$10))*IF(DA76=$CD$8,$CJ$8,IF(DA76=$CD$9,$CJ$9,$CJ$10)))","v":"--"},null,null,null,null,null,null,null,null,null,{"$f":"IF(DF$19>$Z76,\"--\",IF(DF76=$CP$8,$DA$8,IF(DF76=$CP$9,$DA$9,$DA$10))*IF(DK76=$CD$8,$CJ$8,IF(DK76=$CD$9,$CJ$9,$CJ$10)))","v":"--"},null,null,null,null,null,null,null,null,null,{"$f":"IF(DP$19>$Z76,\"--\",IF(DP76=$CP$8,$DA$8,IF(DP76=$CP$9,$DA$9,$DA$10))*IF(DU76=$CD$8,$CJ$8,IF(DU76=$CD$9,$CJ$9,$CJ$10)))","v":"--"},null,null,null,null,null,null,null,null,null,{"$f":"IF(DZ$19>$Z76,\"--\",IF(DZ76=$CP$8,$DA$8,IF(DZ76=$CP$9,$DA$9,$DA$10))*IF(EE76=$CD$8,$CJ$8,IF(EE76=$CD$9,$CJ$9,$CJ$10)))","v":"--"},null,null,null,null,null,null,null,null,null,{"$f":"IF(EJ$19>$Z76,\"--\",IF(EJ76=$CP$8,$DA$8,IF(EJ76=$CP$9,$DA$9,$DA$10))*IF(EO76=$CD$8,$CJ$8,IF(EO76=$CD$9,$CJ$9,$CJ$10)))","v":"--"},null,null,null,null,null,null,null,null,null,{"$f":"IF(ET$19>$Z76,\"--\",IF(ET76=$CP$8,$DA$8,IF(ET76=$CP$9,$DA$9,$DA$10))*IF(EY76=$CD$8,$CJ$8,IF(EY76=$CD$9,$CJ$9,$CJ$10)))","v":"--"},null,null,null,null,null,null,null,null,null,{"$f":"IF(FD$19>$Z76,\"--\",IF(FD76=$CP$8,$DA$8,IF(FD76=$CP$9,$DA$9,$DA$10))*IF(FI76=$CD$8,$CJ$8,IF(FI76=$CD$9,$CJ$9,$CJ$10)))","v":"--"},null,null,null,null,null,null,null,null,null,{"$f":"IF(FN$19>$Z76,\"--\",IF(FN76=$CP$8,$DA$8,IF(FN76=$CP$9,$DA$9,$DA$10))*IF(FS76=$CD$8,$CJ$8,IF(FS76=$CD$9,$CJ$9,$CJ$10)))","v":"--"},null,null,null,null,null,null,null,null,null,{"$f":"IF(FX$19>$Z76,\"--\",IF(FX76=$CP$8,$DA$8,IF(FX76=$CP$9,$DA$9,$DA$10))*IF(GC76=$CD$8,$CJ$8,IF(GC76=$CD$9,$CJ$9,$CJ$10)))","v":"--"}]
[]
[null,null,null,null,null,null,null,null,null,null,null,null,null,null,null,null,null,null,null,"E-W",null,null,null,null,null,6,null,null,null,"On-Street Lane",null,null,null,null,"<20mph",null,null,null,null,"On-Street Lane",null,null,null,null,"<20mph",null,null,null,null,"On-Street Lane",null,null,null,null,"<20mph",null,null,null,null,"On-Street Lane",null,null,null,null,"<20mph",null,null,null,null,"On-Street Lane",null,null,null,null,"<20mph",null,null,null,null,"On-Street Lane",null,null,null,null,"<20mph",null,null,null,null,"On-Street Lane",null,null,null,null,"<20mph",null,null,null,null,"On-Street Lane",null,null,null,null,"<20mph",null,null,null,null,"On-Street Lane",null,null,null,null,"<20mph",null,null,null,null,"On-Street Lane",null,null,null,null,"<20mph",null,null,null,null,"On-Street Lane",null,null,null,null,"<20mph",null,null,null,null,"On-Street Lane",null,null,null,null,"<20mph",null,null,null,null,"Separate Path",null,null,null,null,"<20mph",null,null,null,null,"Separate Path",null,null,null,null,"<20mph",null,null,null,null,"Separate Path",null,null,null,null,"<20mph",null,null,null,null,"Separate Path",null,null,null,null,"<20mph",null,null,null,null,null,null,null,null,{"$f":"IF(GV78<=$BX$11,$BR$11,IF(GV78<=$BX$10,$BR$10,IF(GV78<=$BX$9,$BR$9,$BR$8)))","v":"Excellent"},null,null,null,null,{"$f":"MIN(HA78:ND79)","v":80},null,null,null,null,{"$f":"AVERAGE(HA78:ND79)","v":80},null,null,null,null,{"$f":"IF(AD$19>$Z78,\"--\",IF(AD78=$CP$8,$DA$8,IF(AD78=$CP$9,$DA$9,$DA$10))*IF(AI78=$CD$8,$CJ$8,IF(AI78=$CD$9,$CJ$9,$CJ$10)))","v":80},null,null,null,null,null,null,null,null,null,{"$f":"IF(AN$19>$Z78,\"--\",IF(AN78=$CP$8,$DA$8,IF(AN78=$CP$9,$DA$9,$DA$10))*IF(AS78=$CD$8,$CJ$8,IF(AS78=$CD$9,$CJ$9,$CJ$10)))","v":80},null,null,null,null,null,null,null,null,null,{"$f":"IF(AX$19>$Z78,\"--\",IF(AX78=$CP$8,$DA$8,IF(AX78=$CP$9,$DA$9,$DA$10))*IF(BC78=$CD$8,$CJ$8,IF(BC78=$CD$9,$CJ$9,$CJ$10)))","v":80},null,null,null,null,null,null,null,null,null,{"$f":"IF(BH$19>$Z78,\"--\",IF(BH78=$CP$8,$DA$8,IF(BH78=$CP$9,$DA$9,$DA$10))*IF(BM78=$CD$8,$CJ$8,IF(BM78=$CD$9,$CJ$9,$CJ$10)))","v":80},null,null,null,null,null,null,null,null,null,{"$f":"IF(BR$19>$Z78,\"--\",IF(BR78=$CP$8,$DA$8,IF(BR78=$CP$9,$DA$9,$DA$10))*IF(BW78=$CD$8,$CJ$8,IF(BW78=$CD$9,$CJ$9,$CJ$10)))","v":80},null,null,null,null,null,null,null,null,null,{"$f":"IF(CB$19>$Z78,\"--\",IF(CB78=$CP$8,$DA$8,IF(CB78=$CP$9,$DA$9,$DA$10))*IF(CG78=$CD$8,$CJ$8,IF(CG78=$CD$9,$CJ$9,$CJ$10)))","v":80},null,null,null,null,null,null,null,null,null,{"$f":"IF(CL$19>$Z78,\"--\",IF(CL78=$CP$8,$DA$8,IF(CL78=$CP$9,$DA$9,$DA$10))*IF(CQ78=$CD$8,$CJ$8,IF(CQ78=$CD$9,$CJ$9,$CJ$10)))","v":"--"},null,null,null,null,null,null,null,null,null,{"$f":"IF(CV$19>$Z78,\"--\",IF(CV78=$CP$8,$DA$8,IF(CV78=$CP$9,$DA$9,$DA$10))*IF(DA78=$CD$8,$CJ$8,IF(DA78=$CD$9,$CJ$9,$CJ$10)))","v":"--"},null,null,null,null,null,null,null,null,null,{"$f":"IF(DF$19>$Z78,\"--\",IF(DF78=$CP$8,$DA$8,IF(DF78=$CP$9,$DA$9,$DA$10))*IF(DK78=$CD$8,$CJ$8,IF(DK78=$CD$9,$CJ$9,$CJ$10)))","v":"--"},null,null,null,null,null,null,null,null,null,{"$f":"IF(DP$19>$Z78,\"--\",IF(DP78=$CP$8,$DA$8,IF(DP78=$CP$9,$DA$9,$DA$10))*IF(DU78=$CD$8,$CJ$8,IF(DU78=$CD$9,$CJ$9,$CJ$10)))","v":"--"},null,null,null,null,null,null,null,null,null,{"$f":"IF(DZ$19>$Z78,\"--\",IF(DZ78=$CP$8,$DA$8,IF(DZ78=$CP$9,$DA$9,$DA$10))*IF(EE78=$CD$8,$CJ$8,IF(EE78=$CD$9,$CJ$9,$CJ$10)))","v":"--"},null,null,null,null,null,null,null,null,null,{"$f":"IF(EJ$19>$Z78,\"--\",IF(EJ78=$CP$8,$DA$8,IF(EJ78=$CP$9,$DA$9,$DA$10))*IF(EO78=$CD$8,$CJ$8,IF(EO78=$CD$9,$CJ$9,$CJ$10)))","v":"--"},null,null,null,null,null,null,null,null,null,{"$f":"IF(ET$19>$Z78,\"--\",IF(ET78=$CP$8,$DA$8,IF(ET78=$CP$9,$DA$9,$DA$10))*IF(EY78=$CD$8,$CJ$8,IF(EY78=$CD$9,$CJ$9,$CJ$10)))","v":"--"},null,null,null,null,null,null,null,null,null,{"$f":"IF(FD$19>$Z78,\"--\",IF(FD78=$CP$8,$DA$8,IF(FD78=$CP$9,$DA$9,$DA$10))*IF(FI78=$CD$8,$CJ$8,IF(FI78=$CD$9,$CJ$9,$CJ$10)))","v":"--"},null,null,null,null,null,null,null,null,null,{"$f":"IF(FN$19>$Z78,\"--\",IF(FN78=$CP$8,$DA$8,IF(FN78=$CP$9,$DA$9,$DA$10))*IF(FS78=$CD$8,$CJ$8,IF(FS78=$CD$9,$CJ$9,$CJ$10)))","v":"--"},null,null,null,null,null,null,null,null,null,{"$f":"IF(FX$19>$Z78,\"--\",IF(FX78=$CP$8,$DA$8,IF(FX78=$CP$9,$DA$9,$DA$10))*IF(GC78=$CD$8,$CJ$8,IF(GC78=$CD$9,$CJ$9,$CJ$10)))","v":"--"}]
[]
[]
["Bicycle Segment Configurations for Separated Intersections",null,null,null,null,null,null,null,null,null,null,null,null,null,null,null,null,null,null,null,null,null,null,null,null,null,null,null,null,null,null,null,null,null,null,null,null,null,null,null,null,null,null,null,null,null,null,null,null,null,null,null,null,null,null,null,null,null,null,null,null,null,null,null,null,null,null,null,null,null,null,null,null,null,null,null,null,null,null,null,null,null,null,null,null,null,null,null,null,null,null,null,null,null,null,null,null,null,null,null,null,null,null,null,null,null,null,null,null,null,null,null,null,null,null,null,null,null,null,null,null,null,null,null,null,null,null,null,null,null,null,null,null,null,null,null,null,null,null,null,null,null,null,null,null,null,null,null,null,null,null,null,null,null,null,null,null,null,null,null,null,null,null,null,null,null,null,null,null,null,null,null,null,null,null,null,null,null,null,null,null,null,null,null,null,null,null,null,null,null,null,null,null,"Bicycle Multimodal Scoring for Grade-Separated Intersections"]
[]
["TYPE OF INTERSECTION",null,null,null,null,null,null,null,null,null,null,null,null,null,null,null,null,null,null,"Sheet",null,null,null,null,null,"# Of\nSeg.",null,null,null,"Segment #1",null,null,null,null,null,null,null,null,null,"Segment #2",null,null,null,null,null,null,null,null,null,"Segment #3",null,null,null,null,null,null,null,null,null,"Segment #4",null,null,null,null,null,null,null,null,null,"Segment #5",null,null,null,null,null,null,null,null,null,"Segment #6",null,null,null,null,null,null,null,null,null,"Segment #7",null,null,null,null,null,null,null,null,null,"Segment #8",null,null,null,null,null,null,null,null,null,"Segment #9",null,null,null,null,null,null,null,null,null,"Segment #10",null,null,null,null,null,null,null,null,null,"Segment #11",null,null,null,null,null,null,null,null,null,"Segment #12",null,null,null,null,null,null,null,null,null,"Crossing #13",null,null,null,null,null,null,null,null,null,"Crossing #14",null,null,null,null,null,null,null,null,null,"Crossing #15",null,null,null,null,null,null,null,null,null,"Crossing #16",null,null,null,null,null,null,null,null,null,null,null,null,null,"Intx Scores",null,null,null,null,null,null,null,null,null,null,null,null,null,null,"Individual Crossing Scores"]
[]
[null,null,null,null,null,null,null,null,null,null,null,null,null,null,null,null,null,null,null,null,null,null,null,null,null,null,null,null,null,"Bike Lane",null,null,null,null,"Veh Speed",null,null,null,null,"Bike Lane",null,null,null,null,"Veh Speed",null,null,null,null,"Bike Lane",null,null,null,null,"Veh Speed",null,null,null,null,"Bike Lane",null,null,null,null,"Veh Speed",null,null,null,null,"Bike Lane",null,null,null,null,"Veh Speed",null,null,null,null,"Bike Lane",null,null,null,null,"Veh Speed",null,null,null,null,"Bike Lane",null,null,null,null,"Veh Speed",null,null,null,null,"Bike Lane",null,null,null,null,"Veh Speed",null,null,null,null,"Bike Lane",null,null,null,null,"Veh Speed",null,null,null,null,"Bike Lane",null,null,null,null,"Veh Speed",null,null,null,null,"Bike Lane",null,null,null,null,"Veh Speed",null,null,null,null,"Bike Lane",null,null,null,null,"Veh Speed",null,null,null,null,"Bike Lane",null,null,null,null,"Veh Speed",null,null,null,null,"Bike Lane",null,null,null,null,"Veh Speed",null,null,null,null,"Bike Lane",null,null,null,null,"Veh Speed",null,null,null,null,"Bike Lane",null,null,null,null,"Veh Speed",null,null,null,null,null,null,null,null,"Worst",null,null,null,null,"Worst",null,null,null,null,"Avg",null,null,null,null,"#1",null,null,null,null,null,null,null,null,null,"#2",null,null,null,null,null,null,null,null,null,"#3",null,null,null,null,null,null,null,null,null,"#4",null,null,null,null,null,null,null,null,null,"#5",null,null,null,null,null,null,null,null,null,"#6",null,null,null,null,null,null,null,null,null,"#7",null,null,null,null,null,null,null,null,null,"#8",null,null,null,null,null,null,null,null,null,"#9",null,null,null,null,null,null,null,null,null,"#10",null,null,null,null,null,null,null,null,null,"#11",null,null,null,null,null,null,null,null,null,"#12",null,null,null,null,null,null,null,null,null,"#13",null,null,null,null,null,null,null,null,null,"#14",null,null,null,null,null,null,null,null,null,"#15",null,null,null,null,null,null,null,null,null,"#16"]
[]
["Echelon",null,null,null,null,null,null,null,null,null,null,null,null,null,null,null,null,null,null,"N-S",null,null,null,null,null,4,null,null,null,"On-Street Lane",null,null,null,null,">30mph",null,null,null,null,"On-Street Lane",null,null,null,null,">30mph",null,null,null,null,"On-Street Lane",null,null,null,null,"<20mph",null,null,null,null,"On-Street Lane",null,null,null,null,"<20mph",null,null,null,null,"On-Street Lane",null,null,null,null,"<20mph",null,null,null,null,"On-Street Lane",null,null,null,null,">30mph",null,null,null,null,"On-Street Lane",null,null,null,null,">30mph",null,null,null,null,"On-Street Lane",null,null,null,null,"Stop / Signal",null,null,null,null,"On-Street Lane",null,null,null,null,"Stop / Signal",null,null,null,null,"On-Street Lane",null,null,null,null,"<20mph",null,null,null,null,"On-Street Lane",null,null,null,null,">30mph",null,null,null,null,"On-Street Lane",null,null,null,null,">30mph",null,null,null,null,"Separate Path",null,null,null,null,"Stop / Signal",null,null,null,null,"Separate Path",null,null,null,null,"Stop / Signal",null,null,null,null,"Separate Path",null,null,null,null,"<20mph",null,null,null,null,"Separate Path",null,null,null,null,"<20mph",null,null,null,null,null,null,null,null,{"$f":"IF(GV87<=$BX$11,$BR$11,IF(GV87<=$BX$10,$BR$10,IF(GV87<=$BX$9,$BR$9,$BR$8)))","v":"Good"},null,null,null,null,{"$f":"MIN(HA87:ND88)","v":48},null,null,null,null,{"$f":"AVERAGE(HA87:ND88)","v":64},null,null,null,null,{"$f":"IF(AD$19>$Z87,\"--\",IF(AD87=$CP$8,$DA$8,IF(AD87=$CP$9,$DA$9,$DA$10))*IF(AI87=$CD$8,$CJ$8,IF(AI87=$CD$9,$CJ$9,$CJ$10)))","v":48},null,null,null,null,null,null,null,null,null,{"$f":"IF(AN$19>$Z87,\"--\",IF(AN87=$CP$8,$DA$8,IF(AN87=$CP$9,$DA$9,$DA$10))*IF(AS87=$CD$8,$CJ$8,IF(AS87=$CD$9,$CJ$9,$CJ$10)))","v":48},null,null,null,null,null,null,null,null,null,{"$f":"IF(AX$19>$Z87,\"--\",IF(AX87=$CP$8,$DA$8,IF(AX87=$CP$9,$DA$9,$DA$10))*IF(BC87=$CD$8,$CJ$8,IF(BC87=$CD$9,$CJ$9,$CJ$10)))","v":80},null,null,null,null,null,null,null,null,null,{"$f":"IF(BH$19>$Z87,\"--\",IF(BH87=$CP$8,$DA$8,IF(BH87=$CP$9,$DA$9,$DA$10))*IF(BM87=$CD$8,$CJ$8,IF(BM87=$CD$9,$CJ$9,$CJ$10)))","v":80},null,null,null,null,null,null,null,null,null,{"$f":"IF(BR$19>$Z87,\"--\",IF(BR87=$CP$8,$DA$8,IF(BR87=$CP$9,$DA$9,$DA$10))*IF(BW87=$CD$8,$CJ$8,IF(BW87=$CD$9,$CJ$9,$CJ$10)))","v":"--"},null,null,null,null,null,null,null,null,null,{"$f":"IF(CB$19>$Z87,\"--\",IF(CB87=$CP$8,$DA$8,IF(CB87=$CP$9,$DA$9,$DA$10))*IF(CG87=$CD$8,$CJ$8,IF(CG87=$CD$9,$CJ$9,$CJ$10)))","v":"--"},null,null,null,null,null,null,null,null,null,{"$f":"IF(CL$19>$Z87,\"--\",IF(CL87=$CP$8,$DA$8,IF(CL87=$CP$9,$DA$9,$DA$10))*IF(CQ87=$CD$8,$CJ$8,IF(CQ87=$CD$9,$CJ$9,$CJ$10)))","v":"--"},null,null,null,null,null,null,null,null,null,{"$f":"IF(CV$19>$Z87,\"--\",IF(CV87=$CP$8,$DA$8,IF(CV87=$CP$9,$DA$9,$DA$10))*IF(DA87=$CD$8,$CJ$8,IF(DA87=$CD$9,$CJ$9,$CJ$10)))","v":"--"},null,null,null,null,null,null,null,null,null,{"$f":"IF(DF$19>$Z87,\"--\",IF(DF87=$CP$8,$DA$8,IF(DF87=$CP$9,$DA$9,$DA$10))*IF(DK87=$CD$8,$CJ$8,IF(DK87=$CD$9,$CJ$9,$CJ$10)))","v":"--"},null,null,null,null,null,null,null,null,null,{"$f":"IF(DP$19>$Z87,\"--\",IF(DP87=$CP$8,$DA$8,IF(DP87=$CP$9,$DA$9,$DA$10))*IF(DU87=$CD$8,$CJ$8,IF(DU87=$CD$9,$CJ$9,$CJ$10)))","v":"--"},null,null,null,null,null,null,null,null,null,{"$f":"IF(DZ$19>$Z87,\"--\",IF(DZ87=$CP$8,$DA$8,IF(DZ87=$CP$9,$DA$9,$DA$10))*IF(EE87=$CD$8,$CJ$8,IF(EE87=$CD$9,$CJ$9,$CJ$10)))","v":"--"},null,null,null,null,null,null,null,null,null,{"$f":"IF(EJ$19>$Z87,\"--\",IF(EJ87=$CP$8,$DA$8,IF(EJ87=$CP$9,$DA$9,$DA$10))*IF(EO87=$CD$8,$CJ$8,IF(EO87=$CD$9,$CJ$9,$CJ$10)))","v":"--"},null,null,null,null,null,null,null,null,null,{"$f":"IF(ET$19>$Z87,\"--\",IF(ET87=$CP$8,$DA$8,IF(ET87=$CP$9,$DA$9,$DA$10))*IF(EY87=$CD$8,$CJ$8,IF(EY87=$CD$9,$CJ$9,$CJ$10)))","v":"--"},null,null,null,null,null,null,null,null,null,{"$f":"IF(FD$19>$Z87,\"--\",IF(FD87=$CP$8,$DA$8,IF(FD87=$CP$9,$DA$9,$DA$10))*IF(FI87=$CD$8,$CJ$8,IF(FI87=$CD$9,$CJ$9,$CJ$10)))","v":"--"},null,null,null,null,null,null,null,null,null,{"$f":"IF(FN$19>$Z87,\"--\",IF(FN87=$CP$8,$DA$8,IF(FN87=$CP$9,$DA$9,$DA$10))*IF(FS87=$CD$8,$CJ$8,IF(FS87=$CD$9,$CJ$9,$CJ$10)))","v":"--"},null,null,null,null,null,null,null,null,null,{"$f":"IF(FX$19>$Z87,\"--\",IF(FX87=$CP$8,$DA$8,IF(FX87=$CP$9,$DA$9,$DA$10))*IF(GC87=$CD$8,$CJ$8,IF(GC87=$CD$9,$CJ$9,$CJ$10)))","v":"--"}]
[]
[null,null,null,null,null,null,null,null,null,null,null,null,null,null,null,null,null,null,null,"E-W",null,null,null,null,null,4,null,null,null,"On-Street Lane",null,null,null,null,">30mph",null,null,null,null,"On-Street Lane",null,null,null,null,">30mph",null,null,null,null,"On-Street Lane",null,null,null,null,"<20mph",null,null,null,null,"On-Street Lane",null,null,null,null,"<20mph",null,null,null,null,"On-Street Lane",null,null,null,null,"<20mph",null,null,null,null,"On-Street Lane",null,null,null,null,">30mph",null,null,null,null,"On-Street Lane",null,null,null,null,">30mph",null,null,null,null,"On-Street Lane",null,null,null,null,"Stop / Signal",null,null,null,null,"On-Street Lane",null,null,null,null,"Stop / Signal",null,null,null,null,"On-Street Lane",null,null,null,null,"<20mph",null,null,null,null,"On-Street Lane",null,null,null,null,">30mph",null,null,null,null,"On-Street Lane",null,null,null,null,">30mph",null,null,null,null,"Separate Path",null,null,null,null,"Stop / Signal",null,null,null,null,"Separate Path",null,null,null,null,"Stop / Signal",null,null,null,null,"Separate Path",null,null,null,null,"<20mph",null,null,null,null,"Separate Path",null,null,null,null,"<20mph",null,null,null,null,null,null,null,null,{"$f":"IF(GV89<=$BX$11,$BR$11,IF(GV89<=$BX$10,$BR$10,IF(GV89<=$BX$9,$BR$9,$BR$8)))","v":"Good"},null,null,null,null,{"$f":"MIN(HA89:ND90)","v":48},null,null,null,null,{"$f":"AVERAGE(HA89:ND90)","v":64},null,null,null,null,{"$f":"IF(AD$19>$Z89,\"--\",IF(AD89=$CP$8,$DA$8,IF(AD89=$CP$9,$DA$9,$DA$10))*IF(AI89=$CD$8,$CJ$8,IF(AI89=$CD$9,$CJ$9,$CJ$10)))","v":48},null,null,null,null,null,null,null,null,null,{"$f":"IF(AN$19>$Z89,\"--\",IF(AN89=$CP$8,$DA$8,IF(AN89=$CP$9,$DA$9,$DA$10))*IF(AS89=$CD$8,$CJ$8,IF(AS89=$CD$9,$CJ$9,$CJ$10)))","v":48},null,null,null,null,null,null,null,null,null,{"$f":"IF(AX$19>$Z89,\"--\",IF(AX89=$CP$8,$DA$8,IF(AX89=$CP$9,$DA$9,$DA$10))*IF(BC89=$CD$8,$CJ$8,IF(BC89=$CD$9,$CJ$9,$CJ$10)))","v":80},null,null,null,null,null,null,null,null,null,{"$f":"IF(BH$19>$Z89,\"--\",IF(BH89=$CP$8,$DA$8,IF(BH89=$CP$9,$DA$9,$DA$10))*IF(BM89=$CD$8,$CJ$8,IF(BM89=$CD$9,$CJ$9,$CJ$10)))","v":80},null,null,null,null,null,null,null,null,null,{"$f":"IF(BR$19>$Z89,\"--\",IF(BR89=$CP$8,$DA$8,IF(BR89=$CP$9,$DA$9,$DA$10))*IF(BW89=$CD$8,$CJ$8,IF(BW89=$CD$9,$CJ$9,$CJ$10)))","v":"--"},null,null,null,null,null,null,null,null,null,{"$f":"IF(CB$19>$Z89,\"--\",IF(CB89=$CP$8,$DA$8,IF(CB89=$CP$9,$DA$9,$DA$10))*IF(CG89=$CD$8,$CJ$8,IF(CG89=$CD$9,$CJ$9,$CJ$10)))","v":"--"},null,null,null,null,null,null,null,null,null,{"$f":"IF(CL$19>$Z89,\"--\",IF(CL89=$CP$8,$DA$8,IF(CL89=$CP$9,$DA$9,$DA$10))*IF(CQ89=$CD$8,$CJ$8,IF(CQ89=$CD$9,$CJ$9,$CJ$10)))","v":"--"},null,null,null,null,null,null,null,null,null,{"$f":"IF(CV$19>$Z89,\"--\",IF(CV89=$CP$8,$DA$8,IF(CV89=$CP$9,$DA$9,$DA$10))*IF(DA89=$CD$8,$CJ$8,IF(DA89=$CD$9,$CJ$9,$CJ$10)))","v":"--"},null,null,null,null,null,null,null,null,null,{"$f":"IF(DF$19>$Z89,\"--\",IF(DF89=$CP$8,$DA$8,IF(DF89=$CP$9,$DA$9,$DA$10))*IF(DK89=$CD$8,$CJ$8,IF(DK89=$CD$9,$CJ$9,$CJ$10)))","v":"--"},null,null,null,null,null,null,null,null,null,{"$f":"IF(DP$19>$Z89,\"--\",IF(DP89=$CP$8,$DA$8,IF(DP89=$CP$9,$DA$9,$DA$10))*IF(DU89=$CD$8,$CJ$8,IF(DU89=$CD$9,$CJ$9,$CJ$10)))","v":"--"},null,null,null,null,null,null,null,null,null,{"$f":"IF(DZ$19>$Z89,\"--\",IF(DZ89=$CP$8,$DA$8,IF(DZ89=$CP$9,$DA$9,$DA$10))*IF(EE89=$CD$8,$CJ$8,IF(EE89=$CD$9,$CJ$9,$CJ$10)))","v":"--"},null,null,null,null,null,null,null,null,null,{"$f":"IF(EJ$19>$Z89,\"--\",IF(EJ89=$CP$8,$DA$8,IF(EJ89=$CP$9,$DA$9,$DA$10))*IF(EO89=$CD$8,$CJ$8,IF(EO89=$CD$9,$CJ$9,$CJ$10)))","v":"--"},null,null,null,null,null,null,null,null,null,{"$f":"IF(ET$19>$Z89,\"--\",IF(ET89=$CP$8,$DA$8,IF(ET89=$CP$9,$DA$9,$DA$10))*IF(EY89=$CD$8,$CJ$8,IF(EY89=$CD$9,$CJ$9,$CJ$10)))","v":"--"},null,null,null,null,null,null,null,null,null,{"$f":"IF(FD$19>$Z89,\"--\",IF(FD89=$CP$8,$DA$8,IF(FD89=$CP$9,$DA$9,$DA$10))*IF(FI89=$CD$8,$CJ$8,IF(FI89=$CD$9,$CJ$9,$CJ$10)))","v":"--"},null,null,null,null,null,null,null,null,null,{"$f":"IF(FN$19>$Z89,\"--\",IF(FN89=$CP$8,$DA$8,IF(FN89=$CP$9,$DA$9,$DA$10))*IF(FS89=$CD$8,$CJ$8,IF(FS89=$CD$9,$CJ$9,$CJ$10)))","v":"--"},null,null,null,null,null,null,null,null,null,{"$f":"IF(FX$19>$Z89,\"--\",IF(FX89=$CP$8,$DA$8,IF(FX89=$CP$9,$DA$9,$DA$10))*IF(GC89=$CD$8,$CJ$8,IF(GC89=$CD$9,$CJ$9,$CJ$10)))","v":"--"}]
[]
["Center Turn Overpass",null,null,null,null,null,null,null,null,null,null,null,null,null,null,null,null,null,null,"FULL",null,null,null,null,null,4,null,null,null,"On-Street Lane",null,null,null,null,"<20mph",null,null,null,null,"On-Street Lane",null,null,null,null,"<20mph",null,null,null,null,"On-Street Lane",null,null,null,null,"<20mph",null,null,null,null,"On-Street Lane",null,null,null,null,"<20mph",null,null,null,null,"On-Street Lane",null,null,null,null,"<20mph",null,null,null,null,"On-Street Lane",null,null,null,null,"<20mph",null,null,null,null,"On-Street Lane",null,null,null,null,"<20mph",null,null,null,null,"On-Street Lane",null,null,null,null,"<20mph",null,null,null,null,"On-Street Lane",null,null,null,null,"<20mph",null,null,null,null,"On-Street Lane",null,null,null,null,"<20mph",null,null,null,null,"On-Street Lane",null,null,null,null,"<20mph",null,null,null,null,"On-Street Lane",null,null,null,null,"<20mph",null,null,null,null,"Separate Path",null,null,null,null,"<20mph",null,null,null,null,"Separate Path",null,null,null,null,"<20mph",null,null,null,null,"Separate Path",null,null,null,null,"<20mph",null,null,null,null,"Separate Path",null,null,null,null,"<20mph",null,null,null,null,null,null,null,null,{"$f":"IF(GV91<=$BX$11,$BR$11,IF(GV91<=$BX$10,$BR$10,IF(GV91<=$BX$9,$BR$9,$BR$8)))","v":"Excellent"},null,null,null,null,{"$f":"MIN(HA91:ND92)","v":80},null,null,null,null,{"$f":"AVERAGE(HA91:ND92)","v":80},null,null,null,null,{"$f":"IF(AD$19>$Z91,\"--\",IF(AD91=$CP$8,$DA$8,IF(AD91=$CP$9,$DA$9,$DA$10))*IF(AI91=$CD$8,$CJ$8,IF(AI91=$CD$9,$CJ$9,$CJ$10)))","v":80},null,null,null,null,null,null,null,null,null,{"$f":"IF(AN$19>$Z91,\"--\",IF(AN91=$CP$8,$DA$8,IF(AN91=$CP$9,$DA$9,$DA$10))*IF(AS91=$CD$8,$CJ$8,IF(AS91=$CD$9,$CJ$9,$CJ$10)))","v":80},null,null,null,null,null,null,null,null,null,{"$f":"IF(AX$19>$Z91,\"--\",IF(AX91=$CP$8,$DA$8,IF(AX91=$CP$9,$DA$9,$DA$10))*IF(BC91=$CD$8,$CJ$8,IF(BC91=$CD$9,$CJ$9,$CJ$10)))","v":80},null,null,null,null,null,null,null,null,null,{"$f":"IF(BH$19>$Z91,\"--\",IF(BH91=$CP$8,$DA$8,IF(BH91=$CP$9,$DA$9,$DA$10))*IF(BM91=$CD$8,$CJ$8,IF(BM91=$CD$9,$CJ$9,$CJ$10)))","v":80},null,null,null,null,null,null,null,null,null,{"$f":"IF(BR$19>$Z91,\"--\",IF(BR91=$CP$8,$DA$8,IF(BR91=$CP$9,$DA$9,$DA$10))*IF(BW91=$CD$8,$CJ$8,IF(BW91=$CD$9,$CJ$9,$CJ$10)))","v":"--"},null,null,null,null,null,null,null,null,null,{"$f":"IF(CB$19>$Z91,\"--\",IF(CB91=$CP$8,$DA$8,IF(CB91=$CP$9,$DA$9,$DA$10))*IF(CG91=$CD$8,$CJ$8,IF(CG91=$CD$9,$CJ$9,$CJ$10)))","v":"--"},null,null,null,null,null,null,null,null,null,{"$f":"IF(CL$19>$Z91,\"--\",IF(CL91=$CP$8,$DA$8,IF(CL91=$CP$9,$DA$9,$DA$10))*IF(CQ91=$CD$8,$CJ$8,IF(CQ91=$CD$9,$CJ$9,$CJ$10)))","v":"--"},null,null,null,null,null,null,null,null,null,{"$f":"IF(CV$19>$Z91,\"--\",IF(CV91=$CP$8,$DA$8,IF(CV91=$CP$9,$DA$9,$DA$10))*IF(DA91=$CD$8,$CJ$8,IF(DA91=$CD$9,$CJ$9,$CJ$10)))","v":"--"},null,null,null,null,null,null,null,null,null,{"$f":"IF(DF$19>$Z91,\"--\",IF(DF91=$CP$8,$DA$8,IF(DF91=$CP$9,$DA$9,$DA$10))*IF(DK91=$CD$8,$CJ$8,IF(DK91=$CD$9,$CJ$9,$CJ$10)))","v":"--"},null,null,null,null,null,null,null,null,null,{"$f":"IF(DP$19>$Z91,\"--\",IF(DP91=$CP$8,$DA$8,IF(DP91=$CP$9,$DA$9,$DA$10))*IF(DU91=$CD$8,$CJ$8,IF(DU91=$CD$9,$CJ$9,$CJ$10)))","v":"--"},null,null,null,null,null,null,null,null,null,{"$f":"IF(DZ$19>$Z91,\"--\",IF(DZ91=$CP$8,$DA$8,IF(DZ91=$CP$9,$DA$9,$DA$10))*IF(EE91=$CD$8,$CJ$8,IF(EE91=$CD$9,$CJ$9,$CJ$10)))","v":"--"},null,null,null,null,null,null,null,null,null,{"$f":"IF(EJ$19>$Z91,\"--\",IF(EJ91=$CP$8,$DA$8,IF(EJ91=$CP$9,$DA$9,$DA$10))*IF(EO91=$CD$8,$CJ$8,IF(EO91=$CD$9,$CJ$9,$CJ$10)))","v":"--"},null,null,null,null,null,null,null,null,null,{"$f":"IF(ET$19>$Z91,\"--\",IF(ET91=$CP$8,$DA$8,IF(ET91=$CP$9,$DA$9,$DA$10))*IF(EY91=$CD$8,$CJ$8,IF(EY91=$CD$9,$CJ$9,$CJ$10)))","v":"--"},null,null,null,null,null,null,null,null,null,{"$f":"IF(FD$19>$Z91,\"--\",IF(FD91=$CP$8,$DA$8,IF(FD91=$CP$9,$DA$9,$DA$10))*IF(FI91=$CD$8,$CJ$8,IF(FI91=$CD$9,$CJ$9,$CJ$10)))","v":"--"},null,null,null,null,null,null,null,null,null,{"$f":"IF(FN$19>$Z91,\"--\",IF(FN91=$CP$8,$DA$8,IF(FN91=$CP$9,$DA$9,$DA$10))*IF(FS91=$CD$8,$CJ$8,IF(FS91=$CD$9,$CJ$9,$CJ$10)))","v":"--"},null,null,null,null,null,null,null,null,null,{"$f":"IF(FX$19>$Z91,\"--\",IF(FX91=$CP$8,$DA$8,IF(FX91=$CP$9,$DA$9,$DA$10))*IF(GC91=$CD$8,$CJ$8,IF(GC91=$CD$9,$CJ$9,$CJ$10)))","v":"--"}]
[]
[]
[]
[]
[]
[]
[]
[]
[]
[]
[]
[]
["Bicycle Segment Configurations for Roundabouts",null,null,null,null,null,null,null,null,null,null,null,null,null,null,null,null,null,null,null,null,null,null,null,null,null,null,null,null,null,null,null,null,null,null,null,null,null,null,null,null,null,null,null,null,null,null,null,null,null,null,null,null,null,null,null,null,null,null,null,null,null,null,null,null,null,null,null,null,null,null,null,null,null,null,null,null,null,null,null,null,null,null,null,null,null,null,null,null,null,null,null,null,null,null,null,null,null,null,null,null,null,null,null,null,null,null,null,null,null,null,null,null,null,null,null,null,null,null,null,null,null,null,null,null,null,null,null,null,null,null,null,null,null,null,null,null,null,null,null,null,null,null,null,null,null,null,null,null,null,null,null,null,null,null,null,null,null,null,null,null,null,null,null,null,null,null,null,null,null,null,null,null,null,null,null,null,null,null,null,null,null,null,null,null,null,null,null,null,null,null,null,null,"Bicycle Multimodal Scoring for Roundabouts"]
[]
["TYPE OF ROUNDABOUT",null,null,null,null,null,null,null,null,null,null,null,null,null,null,null,null,null,null,"Sheet",null,null,null,null,null,"# Of\n Seg.",null,null,null,"Segment #1",null,null,null,null,null,null,null,null,null,"Segment #2",null,null,null,null,null,null,null,null,null,"Segment #3",null,null,null,null,null,null,null,null,null,"Segment #4",null,null,null,null,null,null,null,null,null,"Segment #5",null,null,null,null,null,null,null,null,null,"Segment #6",null,null,null,null,null,null,null,null,null,"Segment #7",null,null,null,null,null,null,null,null,null,"Segment #8",null,null,null,null,null,null,null,null,null,"Segment #9",null,null,null,null,null,null,null,null,null,"Segment #10",null,null,null,null,null,null,null,null,null,"Segment #11",null,null,null,null,null,null,null,null,null,"Segment #12",null,null,null,null,null,null,null,null,null,"Crossing #13",null,null,null,null,null,null,null,null,null,"Crossing #14",null,null,null,null,null,null,null,null,null,"Crossing #15",null,null,null,null,null,null,null,null,null,"Crossing #16",null,null,null,null,null,null,null,null,null,null,null,null,null,"Intx Scores",null,null,null,null,null,null,null,null,null,null,null,null,null,null,"Individual Crossing Scores"]
[]
[null,null,null,null,null,null,null,null,null,null,null,null,null,null,null,null,null,null,null,null,null,null,null,null,null,null,null,null,null,"Bike Lane",null,null,null,null,"Veh Speed",null,null,null,null,"Bike Lane",null,null,null,null,"Veh Speed",null,null,null,null,"Bike Lane",null,null,null,null,"Veh Speed",null,null,null,null,"Bike Lane",null,null,null,null,"Veh Speed",null,null,null,null,"Bike Lane",null,null,null,null,"Veh Speed",null,null,null,null,"Bike Lane",null,null,null,null,"Veh Speed",null,null,null,null,"Bike Lane",null,null,null,null,"Veh Speed",null,null,null,null,"Bike Lane",null,null,null,null,"Veh Speed",null,null,null,null,"Bike Lane",null,null,null,null,"Veh Speed",null,null,null,null,"Bike Lane",null,null,null,null,"Veh Speed",null,null,null,null,"Bike Lane",null,null,null,null,"Veh Speed",null,null,null,null,"Bike Lane",null,null,null,null,"Veh Speed",null,null,null,null,"Bike Lane",null,null,null,null,"Veh Speed",null,null,null,null,"Bike Lane",null,null,null,null,"Veh Speed",null,null,null,null,"Bike Lane",null,null,null,null,"Veh Speed",null,null,null,null,"Bike Lane",null,null,null,null,"Veh Speed",null,null,null,null,null,null,null,null,"Worst",null,null,null,null,"Worst",null,null,null,null,"Avg",null,null,null,null,"#1",null,null,null,null,null,null,null,null,null,"#2",null,null,null,null,null,null,null,null,null,"#3",null,null,null,null,null,null,null,null,null,"#4",null,null,null,null,null,null,null,null,null,"#5",null,null,null,null,null,null,null,null,null,"#6",null,null,null,null,null,null,null,null,null,"#7",null,null,null,null,null,null,null,null,null,"#8",null,null,null,null,null,null,null,null,null,"#9",null,null,null,null,null,null,null,null,null,"#10",null,null,null,null,null,null,null,null,null,"#11",null,null,null,null,null,null,null,null,null,"#12",null,null,null,null,null,null,null,null,null,"#13",null,null,null,null,null,null,null,null,null,"#14",null,null,null,null,null,null,null,null,null,"#15",null,null,null,null,null,null,null,null,null,"#16"]
[]
["50 ICD Miniroundabout",null,null,null,null,null,null,null,null,null,null,null,null,null,null,null,null,null,null,"50 ICD",null,null,null,null,null,4,null,null,null,"On-Street Lane",null,null,null,null,">30mph",null,null,null,null,"On-Street Lane",null,null,null,null,">30mph",null,null,null,null,"On-Street Lane",null,null,null,null,"<20mph",null,null,null,null,"On-Street Lane",null,null,null,null,"<20mph",null,null,null,null,"On-Street Lane",null,null,null,null,"<20mph",null,null,null,null,"On-Street Lane",null,null,null,null,">30mph",null,null,null,null,"On-Street Lane",null,null,null,null,">30mph",null,null,null,null,"On-Street Lane",null,null,null,null,"Stop / Signal",null,null,null,null,"On-Street Lane",null,null,null,null,"Stop / Signal",null,null,null,null,"On-Street Lane",null,null,null,null,"<20mph",null,null,null,null,"On-Street Lane",null,null,null,null,">30mph",null,null,null,null,"On-Street Lane",null,null,null,null,">30mph",null,null,null,null,"Separate Path",null,null,null,null,"Stop / Signal",null,null,null,null,"Separate Path",null,null,null,null,"Stop / Signal",null,null,null,null,"Separate Path",null,null,null,null,"<20mph",null,null,null,null,"Separate Path",null,null,null,null,"<20mph",null,null,null,null,null,null,null,null,{"$f":"IF(GV110<=$BX$11,$BR$11,IF(GV110<=$BX$10,$BR$10,IF(GV110<=$BX$9,$BR$9,$BR$8)))","v":"Good"},null,null,null,null,{"$f":"MIN(HA110:ND111)","v":48},null,null,null,null,{"$f":"AVERAGE(HA110:ND111)","v":64},null,null,null,null,{"$f":"IF(AD$19>$Z110,\"--\",IF(AD110=$CP$8,$DA$8,IF(AD110=$CP$9,$DA$9,$DA$10))*IF(AI110=$CD$8,$CJ$8,IF(AI110=$CD$9,$CJ$9,$CJ$10)))","v":48},null,null,null,null,null,null,null,null,null,{"$f":"IF(AN$19>$Z110,\"--\",IF(AN110=$CP$8,$DA$8,IF(AN110=$CP$9,$DA$9,$DA$10))*IF(AS110=$CD$8,$CJ$8,IF(AS110=$CD$9,$CJ$9,$CJ$10)))","v":48},null,null,null,null,null,null,null,null,null,{"$f":"IF(AX$19>$Z110,\"--\",IF(AX110=$CP$8,$DA$8,IF(AX110=$CP$9,$DA$9,$DA$10))*IF(BC110=$CD$8,$CJ$8,IF(BC110=$CD$9,$CJ$9,$CJ$10)))","v":80},null,null,null,null,null,null,null,null,null,{"$f":"IF(BH$19>$Z110,\"--\",IF(BH110=$CP$8,$DA$8,IF(BH110=$CP$9,$DA$9,$DA$10))*IF(BM110=$CD$8,$CJ$8,IF(BM110=$CD$9,$CJ$9,$CJ$10)))","v":80},null,null,null,null,null,null,null,null,null,{"$f":"IF(BR$19>$Z110,\"--\",IF(BR110=$CP$8,$DA$8,IF(BR110=$CP$9,$DA$9,$DA$10))*IF(BW110=$CD$8,$CJ$8,IF(BW110=$CD$9,$CJ$9,$CJ$10)))","v":"--"},null,null,null,null,null,null,null,null,null,{"$f":"IF(CB$19>$Z110,\"--\",IF(CB110=$CP$8,$DA$8,IF(CB110=$CP$9,$DA$9,$DA$10))*IF(CG110=$CD$8,$CJ$8,IF(CG110=$CD$9,$CJ$9,$CJ$10)))","v":"--"},null,null,null,null,null,null,null,null,null,{"$f":"IF(CL$19>$Z110,\"--\",IF(CL110=$CP$8,$DA$8,IF(CL110=$CP$9,$DA$9,$DA$10))*IF(CQ110=$CD$8,$CJ$8,IF(CQ110=$CD$9,$CJ$9,$CJ$10)))","v":"--"},null,null,null,null,null,null,null,null,null,{"$f":"IF(CV$19>$Z110,\"--\",IF(CV110=$CP$8,$DA$8,IF(CV110=$CP$9,$DA$9,$DA$10))*IF(DA110=$CD$8,$CJ$8,IF(DA110=$CD$9,$CJ$9,$CJ$10)))","v":"--"},null,null,null,null,null,null,null,null,null,{"$f":"IF(DF$19>$Z110,\"--\",IF(DF110=$CP$8,$DA$8,IF(DF110=$CP$9,$DA$9,$DA$10))*IF(DK110=$CD$8,$CJ$8,IF(DK110=$CD$9,$CJ$9,$CJ$10)))","v":"--"},null,null,null,null,null,null,null,null,null,{"$f":"IF(DP$19>$Z110,\"--\",IF(DP110=$CP$8,$DA$8,IF(DP110=$CP$9,$DA$9,$DA$10))*IF(DU110=$CD$8,$CJ$8,IF(DU110=$CD$9,$CJ$9,$CJ$10)))","v":"--"},null,null,null,null,null,null,null,null,null,{"$f":"IF(DZ$19>$Z110,\"--\",IF(DZ110=$CP$8,$DA$8,IF(DZ110=$CP$9,$DA$9,$DA$10))*IF(EE110=$CD$8,$CJ$8,IF(EE110=$CD$9,$CJ$9,$CJ$10)))","v":"--"},null,null,null,null,null,null,null,null,null,{"$f":"IF(EJ$19>$Z110,\"--\",IF(EJ110=$CP$8,$DA$8,IF(EJ110=$CP$9,$DA$9,$DA$10))*IF(EO110=$CD$8,$CJ$8,IF(EO110=$CD$9,$CJ$9,$CJ$10)))","v":"--"},null,null,null,null,null,null,null,null,null,{"$f":"IF(ET$19>$Z110,\"--\",IF(ET110=$CP$8,$DA$8,IF(ET110=$CP$9,$DA$9,$DA$10))*IF(EY110=$CD$8,$CJ$8,IF(EY110=$CD$9,$CJ$9,$CJ$10)))","v":"--"},null,null,null,null,null,null,null,null,null,{"$f":"IF(FD$19>$Z110,\"--\",IF(FD110=$CP$8,$DA$8,IF(FD110=$CP$9,$DA$9,$DA$10))*IF(FI110=$CD$8,$CJ$8,IF(FI110=$CD$9,$CJ$9,$CJ$10)))","v":"--"},null,null,null,null,null,null,null,null,null,{"$f":"IF(FN$19>$Z110,\"--\",IF(FN110=$CP$8,$DA$8,IF(FN110=$CP$9,$DA$9,$DA$10))*IF(FS110=$CD$8,$CJ$8,IF(FS110=$CD$9,$CJ$9,$CJ$10)))","v":"--"},null,null,null,null,null,null,null,null,null,{"$f":"IF(FX$19>$Z110,\"--\",IF(FX110=$CP$8,$DA$8,IF(FX110=$CP$9,$DA$9,$DA$10))*IF(GC110=$CD$8,$CJ$8,IF(GC110=$CD$9,$CJ$9,$CJ$10)))","v":"--"}]
[]
["75 ICD Miniroundabout",null,null,null,null,null,null,null,null,null,null,null,null,null,null,null,null,null,null,"75 ICD",null,null,null,null,null,4,null,null,null,"On-Street Lane",null,null,null,null,">30mph",null,null,null,null,"On-Street Lane",null,null,null,null,">30mph",null,null,null,null,"On-Street Lane",null,null,null,null,"<20mph",null,null,null,null,"On-Street Lane",null,null,null,null,"<20mph",null,null,null,null,"On-Street Lane",null,null,null,null,"<20mph",null,null,null,null,"On-Street Lane",null,null,null,null,">30mph",null,null,null,null,"On-Street Lane",null,null,null,null,">30mph",null,null,null,null,"On-Street Lane",null,null,null,null,"Stop / Signal",null,null,null,null,"On-Street Lane",null,null,null,null,"Stop / Signal",null,null,null,null,"On-Street Lane",null,null,null,null,"<20mph",null,null,null,null,"On-Street Lane",null,null,null,null,">30mph",null,null,null,null,"On-Street Lane",null,null,null,null,">30mph",null,null,null,null,"Separate Path",null,null,null,null,"Stop / Signal",null,null,null,null,"Separate Path",null,null,null,null,"Stop / Signal",null,null,null,null,"Separate Path",null,null,null,null,"<20mph",null,null,null,null,"Separate Path",null,null,null,null,"<20mph",null,null,null,null,null,null,null,null,{"$f":"IF(GV112<=$BX$11,$BR$11,IF(GV112<=$BX$10,$BR$10,IF(GV112<=$BX$9,$BR$9,$BR$8)))","v":"Good"},null,null,null,null,{"$f":"MIN(HA112:ND113)","v":48},null,null,null,null,{"$f":"AVERAGE(HA112:ND113)","v":64},null,null,null,null,{"$f":"IF(AD$19>$Z112,\"--\",IF(AD112=$CP$8,$DA$8,IF(AD112=$CP$9,$DA$9,$DA$10))*IF(AI112=$CD$8,$CJ$8,IF(AI112=$CD$9,$CJ$9,$CJ$10)))","v":48},null,null,null,null,null,null,null,null,null,{"$f":"IF(AN$19>$Z112,\"--\",IF(AN112=$CP$8,$DA$8,IF(AN112=$CP$9,$DA$9,$DA$10))*IF(AS112=$CD$8,$CJ$8,IF(AS112=$CD$9,$CJ$9,$CJ$10)))","v":48},null,null,null,null,null,null,null,null,null,{"$f":"IF(AX$19>$Z112,\"--\",IF(AX112=$CP$8,$DA$8,IF(AX112=$CP$9,$DA$9,$DA$10))*IF(BC112=$CD$8,$CJ$8,IF(BC112=$CD$9,$CJ$9,$CJ$10)))","v":80},null,null,null,null,null,null,null,null,null,{"$f":"IF(BH$19>$Z112,\"--\",IF(BH112=$CP$8,$DA$8,IF(BH112=$CP$9,$DA$9,$DA$10))*IF(BM112=$CD$8,$CJ$8,IF(BM112=$CD$9,$CJ$9,$CJ$10)))","v":80},null,null,null,null,null,null,null,null,null,{"$f":"IF(BR$19>$Z112,\"--\",IF(BR112=$CP$8,$DA$8,IF(BR112=$CP$9,$DA$9,$DA$10))*IF(BW112=$CD$8,$CJ$8,IF(BW112=$CD$9,$CJ$9,$CJ$10)))","v":"--"},null,null,null,null,null,null,null,null,null,{"$f":"IF(CB$19>$Z112,\"--\",IF(CB112=$CP$8,$DA$8,IF(CB112=$CP$9,$DA$9,$DA$10))*IF(CG112=$CD$8,$CJ$8,IF(CG112=$CD$9,$CJ$9,$CJ$10)))","v":"--"},null,null,null,null,null,null,null,null,null,{"$f":"IF(CL$19>$Z112,\"--\",IF(CL112=$CP$8,$DA$8,IF(CL112=$CP$9,$DA$9,$DA$10))*IF(CQ112=$CD$8,$CJ$8,IF(CQ112=$CD$9,$CJ$9,$CJ$10)))","v":"--"},null,null,null,null,null,null,null,null,null,{"$f":"IF(CV$19>$Z112,\"--\",IF(CV112=$CP$8,$DA$8,IF(CV112=$CP$9,$DA$9,$DA$10))*IF(DA112=$CD$8,$CJ$8,IF(DA112=$CD$9,$CJ$9,$CJ$10)))","v":"--"},null,null,null,null,null,null,null,null,null,{"$f":"IF(DF$19>$Z112,\"--\",IF(DF112=$CP$8,$DA$8,IF(DF112=$CP$9,$DA$9,$DA$10))*IF(DK112=$CD$8,$CJ$8,IF(DK112=$CD$9,$CJ$9,$CJ$10)))","v":"--"},null,null,null,null,null,null,null,null,null,{"$f":"IF(DP$19>$Z112,\"--\",IF(DP112=$CP$8,$DA$8,IF(DP112=$CP$9,$DA$9,$DA$10))*IF(DU112=$CD$8,$CJ$8,IF(DU112=$CD$9,$CJ$9,$CJ$10)))","v":"--"},null,null,null,null,null,null,null,null,null,{"$f":"IF(DZ$19>$Z112,\"--\",IF(DZ112=$CP$8,$DA$8,IF(DZ112=$CP$9,$DA$9,$DA$10))*IF(EE112=$CD$8,$CJ$8,IF(EE112=$CD$9,$CJ$9,$CJ$10)))","v":"--"},null,null,null,null,null,null,null,null,null,{"$f":"IF(EJ$19>$Z112,\"--\",IF(EJ112=$CP$8,$DA$8,IF(EJ112=$CP$9,$DA$9,$DA$10))*IF(EO112=$CD$8,$CJ$8,IF(EO112=$CD$9,$CJ$9,$CJ$10)))","v":"--"},null,null,null,null,null,null,null,null,null,{"$f":"IF(ET$19>$Z112,\"--\",IF(ET112=$CP$8,$DA$8,IF(ET112=$CP$9,$DA$9,$DA$10))*IF(EY112=$CD$8,$CJ$8,IF(EY112=$CD$9,$CJ$9,$CJ$10)))","v":"--"},null,null,null,null,null,null,null,null,null,{"$f":"IF(FD$19>$Z112,\"--\",IF(FD112=$CP$8,$DA$8,IF(FD112=$CP$9,$DA$9,$DA$10))*IF(FI112=$CD$8,$CJ$8,IF(FI112=$CD$9,$CJ$9,$CJ$10)))","v":"--"},null,null,null,null,null,null,null,null,null,{"$f":"IF(FN$19>$Z112,\"--\",IF(FN112=$CP$8,$DA$8,IF(FN112=$CP$9,$DA$9,$DA$10))*IF(FS112=$CD$8,$CJ$8,IF(FS112=$CD$9,$CJ$9,$CJ$10)))","v":"--"},null,null,null,null,null,null,null,null,null,{"$f":"IF(FX$19>$Z112,\"--\",IF(FX112=$CP$8,$DA$8,IF(FX112=$CP$9,$DA$9,$DA$10))*IF(GC112=$CD$8,$CJ$8,IF(GC112=$CD$9,$CJ$9,$CJ$10)))","v":"--"}]
[]
["Single Lane Roundabout",null,null,null,null,null,null,null,null,null,null,null,null,null,null,null,null,null,null,"1 X 1",null,null,null,null,null,4,null,null,null,"On-Street Lane",null,null,null,null,"<20mph",null,null,null,null,"On-Street Lane",null,null,null,null,"<20mph",null,null,null,null,"On-Street Lane",null,null,null,null,"<20mph",null,null,null,null,"On-Street Lane",null,null,null,null,"<20mph",null,null,null,null,"On-Street Lane",null,null,null,null,"<20mph",null,null,null,null,"On-Street Lane",null,null,null,null,"<20mph",null,null,null,null,"On-Street Lane",null,null,null,null,"<20mph",null,null,null,null,"On-Street Lane",null,null,null,null,"<20mph",null,null,null,null,"On-Street Lane",null,null,null,null,"<20mph",null,null,null,null,"On-Street Lane",null,null,null,null,"<20mph",null,null,null,null,"On-Street Lane",null,null,null,null,"<20mph",null,null,null,null,"On-Street Lane",null,null,null,null,"<20mph",null,null,null,null,"Separate Path",null,null,null,null,"<20mph",null,null,null,null,"Separate Path",null,null,null,null,"<20mph",null,null,null,null,"Separate Path",null,null,null,null,"<20mph",null,null,null,null,"Separate Path",null,null,null,null,"<20mph",null,null,null,null,null,null,null,null,{"$f":"IF(GV114<=$BX$11,$BR$11,IF(GV114<=$BX$10,$BR$10,IF(GV114<=$BX$9,$BR$9,$BR$8)))","v":"Excellent"},null,null,null,null,{"$f":"MIN(HA114:ND115)","v":80},null,null,null,null,{"$f":"AVERAGE(HA114:ND115)","v":80},null,null,null,null,{"$f":"IF(AD$19>$Z114,\"--\",IF(AD114=$CP$8,$DA$8,IF(AD114=$CP$9,$DA$9,$DA$10))*IF(AI114=$CD$8,$CJ$8,IF(AI114=$CD$9,$CJ$9,$CJ$10)))","v":80},null,null,null,null,null,null,null,null,null,{"$f":"IF(AN$19>$Z114,\"--\",IF(AN114=$CP$8,$DA$8,IF(AN114=$CP$9,$DA$9,$DA$10))*IF(AS114=$CD$8,$CJ$8,IF(AS114=$CD$9,$CJ$9,$CJ$10)))","v":80},null,null,null,null,null,null,null,null,null,{"$f":"IF(AX$19>$Z114,\"--\",IF(AX114=$CP$8,$DA$8,IF(AX114=$CP$9,$DA$9,$DA$10))*IF(BC114=$CD$8,$CJ$8,IF(BC114=$CD$9,$CJ$9,$CJ$10)))","v":80},null,null,null,null,null,null,null,null,null,{"$f":"IF(BH$19>$Z114,\"--\",IF(BH114=$CP$8,$DA$8,IF(BH114=$CP$9,$DA$9,$DA$10))*IF(BM114=$CD$8,$CJ$8,IF(BM114=$CD$9,$CJ$9,$CJ$10)))","v":80},null,null,null,null,null,null,null,null,null,{"$f":"IF(BR$19>$Z114,\"--\",IF(BR114=$CP$8,$DA$8,IF(BR114=$CP$9,$DA$9,$DA$10))*IF(BW114=$CD$8,$CJ$8,IF(BW114=$CD$9,$CJ$9,$CJ$10)))","v":"--"},null,null,null,null,null,null,null,null,null,{"$f":"IF(CB$19>$Z114,\"--\",IF(CB114=$CP$8,$DA$8,IF(CB114=$CP$9,$DA$9,$DA$10))*IF(CG114=$CD$8,$CJ$8,IF(CG114=$CD$9,$CJ$9,$CJ$10)))","v":"--"},null,null,null,null,null,null,null,null,null,{"$f":"IF(CL$19>$Z114,\"--\",IF(CL114=$CP$8,$DA$8,IF(CL114=$CP$9,$DA$9,$DA$10))*IF(CQ114=$CD$8,$CJ$8,IF(CQ114=$CD$9,$CJ$9,$CJ$10)))","v":"--"},null,null,null,null,null,null,null,null,null,{"$f":"IF(CV$19>$Z114,\"--\",IF(CV114=$CP$8,$DA$8,IF(CV114=$CP$9,$DA$9,$DA$10))*IF(DA114=$CD$8,$CJ$8,IF(DA114=$CD$9,$CJ$9,$CJ$10)))","v":"--"},null,null,null,null,null,null,null,null,null,{"$f":"IF(DF$19>$Z114,\"--\",IF(DF114=$CP$8,$DA$8,IF(DF114=$CP$9,$DA$9,$DA$10))*IF(DK114=$CD$8,$CJ$8,IF(DK114=$CD$9,$CJ$9,$CJ$10)))","v":"--"},null,null,null,null,null,null,null,null,null,{"$f":"IF(DP$19>$Z114,\"--\",IF(DP114=$CP$8,$DA$8,IF(DP114=$CP$9,$DA$9,$DA$10))*IF(DU114=$CD$8,$CJ$8,IF(DU114=$CD$9,$CJ$9,$CJ$10)))","v":"--"},null,null,null,null,null,null,null,null,null,{"$f":"IF(DZ$19>$Z114,\"--\",IF(DZ114=$CP$8,$DA$8,IF(DZ114=$CP$9,$DA$9,$DA$10))*IF(EE114=$CD$8,$CJ$8,IF(EE114=$CD$9,$CJ$9,$CJ$10)))","v":"--"},null,null,null,null,null,null,null,null,null,{"$f":"IF(EJ$19>$Z114,\"--\",IF(EJ114=$CP$8,$DA$8,IF(EJ114=$CP$9,$DA$9,$DA$10))*IF(EO114=$CD$8,$CJ$8,IF(EO114=$CD$9,$CJ$9,$CJ$10)))","v":"--"},null,null,null,null,null,null,null,null,null,{"$f":"IF(ET$19>$Z114,\"--\",IF(ET114=$CP$8,$DA$8,IF(ET114=$CP$9,$DA$9,$DA$10))*IF(EY114=$CD$8,$CJ$8,IF(EY114=$CD$9,$CJ$9,$CJ$10)))","v":"--"},null,null,null,null,null,null,null,null,null,{"$f":"IF(FD$19>$Z114,\"--\",IF(FD114=$CP$8,$DA$8,IF(FD114=$CP$9,$DA$9,$DA$10))*IF(FI114=$CD$8,$CJ$8,IF(FI114=$CD$9,$CJ$9,$CJ$10)))","v":"--"},null,null,null,null,null,null,null,null,null,{"$f":"IF(FN$19>$Z114,\"--\",IF(FN114=$CP$8,$DA$8,IF(FN114=$CP$9,$DA$9,$DA$10))*IF(FS114=$CD$8,$CJ$8,IF(FS114=$CD$9,$CJ$9,$CJ$10)))","v":"--"},null,null,null,null,null,null,null,null,null,{"$f":"IF(FX$19>$Z114,\"--\",IF(FX114=$CP$8,$DA$8,IF(FX114=$CP$9,$DA$9,$DA$10))*IF(GC114=$CD$8,$CJ$8,IF(GC114=$CD$9,$CJ$9,$CJ$10)))","v":"--"}]
[]
["Mixed Lane roundabout (1NSx2EW)",null,null,null,null,null,null,null,null,null,null,null,null,null,null,null,null,null,null,"1 X 2",null,null,null,null,null,4,null,null,null,"On-Street Lane",null,null,null,null,"<20mph",null,null,null,null,"On-Street Lane",null,null,null,null,"<20mph",null,null,null,null,"On-Street Lane",null,null,null,null,"<20mph",null,null,null,null,"On-Street Lane",null,null,null,null,"<20mph",null,null,null,null,"On-Street Lane",null,null,null,null,"<20mph",null,null,null,null,"On-Street Lane",null,null,null,null,"<20mph",null,null,null,null,"On-Street Lane",null,null,null,null,"<20mph",null,null,null,null,"On-Street Lane",null,null,null,null,"<20mph",null,null,null,null,"On-Street Lane",null,null,null,null,"<20mph",null,null,null,null,"On-Street Lane",null,null,null,null,"<20mph",null,null,null,null,"On-Street Lane",null,null,null,null,"<20mph",null,null,null,null,"On-Street Lane",null,null,null,null,"<20mph",null,null,null,null,"Separate Path",null,null,null,null,"<20mph",null,null,null,null,"Separate Path",null,null,null,null,"<20mph",null,null,null,null,"Separate Path",null,null,null,null,"<20mph",null,null,null,null,"Separate Path",null,null,null,null,"<20mph",null,null,null,null,null,null,null,null,{"$f":"IF(GV116<=$BX$11,$BR$11,IF(GV116<=$BX$10,$BR$10,IF(GV116<=$BX$9,$BR$9,$BR$8)))","v":"Excellent"},null,null,null,null,{"$f":"MIN(HA116:ND117)","v":80},null,null,null,null,{"$f":"AVERAGE(HA116:ND117)","v":80},null,null,null,null,{"$f":"IF(AD$19>$Z116,\"--\",IF(AD116=$CP$8,$DA$8,IF(AD116=$CP$9,$DA$9,$DA$10))*IF(AI116=$CD$8,$CJ$8,IF(AI116=$CD$9,$CJ$9,$CJ$10)))","v":80},null,null,null,null,null,null,null,null,null,{"$f":"IF(AN$19>$Z116,\"--\",IF(AN116=$CP$8,$DA$8,IF(AN116=$CP$9,$DA$9,$DA$10))*IF(AS116=$CD$8,$CJ$8,IF(AS116=$CD$9,$CJ$9,$CJ$10)))","v":80},null,null,null,null,null,null,null,null,null,{"$f":"IF(AX$19>$Z116,\"--\",IF(AX116=$CP$8,$DA$8,IF(AX116=$CP$9,$DA$9,$DA$10))*IF(BC116=$CD$8,$CJ$8,IF(BC116=$CD$9,$CJ$9,$CJ$10)))","v":80},null,null,null,null,null,null,null,null,null,{"$f":"IF(BH$19>$Z116,\"--\",IF(BH116=$CP$8,$DA$8,IF(BH116=$CP$9,$DA$9,$DA$10))*IF(BM116=$CD$8,$CJ$8,IF(BM116=$CD$9,$CJ$9,$CJ$10)))","v":80},null,null,null,null,null,null,null,null,null,{"$f":"IF(BR$19>$Z116,\"--\",IF(BR116=$CP$8,$DA$8,IF(BR116=$CP$9,$DA$9,$DA$10))*IF(BW116=$CD$8,$CJ$8,IF(BW116=$CD$9,$CJ$9,$CJ$10)))","v":"--"},null,null,null,null,null,null,null,null,null,{"$f":"IF(CB$19>$Z116,\"--\",IF(CB116=$CP$8,$DA$8,IF(CB116=$CP$9,$DA$9,$DA$10))*IF(CG116=$CD$8,$CJ$8,IF(CG116=$CD$9,$CJ$9,$CJ$10)))","v":"--"},null,null,null,null,null,null,null,null,null,{"$f":"IF(CL$19>$Z116,\"--\",IF(CL116=$CP$8,$DA$8,IF(CL116=$CP$9,$DA$9,$DA$10))*IF(CQ116=$CD$8,$CJ$8,IF(CQ116=$CD$9,$CJ$9,$CJ$10)))","v":"--"},null,null,null,null,null,null,null,null,null,{"$f":"IF(CV$19>$Z116,\"--\",IF(CV116=$CP$8,$DA$8,IF(CV116=$CP$9,$DA$9,$DA$10))*IF(DA116=$CD$8,$CJ$8,IF(DA116=$CD$9,$CJ$9,$CJ$10)))","v":"--"},null,null,null,null,null,null,null,null,null,{"$f":"IF(DF$19>$Z116,\"--\",IF(DF116=$CP$8,$DA$8,IF(DF116=$CP$9,$DA$9,$DA$10))*IF(DK116=$CD$8,$CJ$8,IF(DK116=$CD$9,$CJ$9,$CJ$10)))","v":"--"},null,null,null,null,null,null,null,null,null,{"$f":"IF(DP$19>$Z116,\"--\",IF(DP116=$CP$8,$DA$8,IF(DP116=$CP$9,$DA$9,$DA$10))*IF(DU116=$CD$8,$CJ$8,IF(DU116=$CD$9,$CJ$9,$CJ$10)))","v":"--"},null,null,null,null,null,null,null,null,null,{"$f":"IF(DZ$19>$Z116,\"--\",IF(DZ116=$CP$8,$DA$8,IF(DZ116=$CP$9,$DA$9,$DA$10))*IF(EE116=$CD$8,$CJ$8,IF(EE116=$CD$9,$CJ$9,$CJ$10)))","v":"--"},null,null,null,null,null,null,null,null,null,{"$f":"IF(EJ$19>$Z116,\"--\",IF(EJ116=$CP$8,$DA$8,IF(EJ116=$CP$9,$DA$9,$DA$10))*IF(EO116=$CD$8,$CJ$8,IF(EO116=$CD$9,$CJ$9,$CJ$10)))","v":"--"},null,null,null,null,null,null,null,null,null,{"$f":"IF(ET$19>$Z116,\"--\",IF(ET116=$CP$8,$DA$8,IF(ET116=$CP$9,$DA$9,$DA$10))*IF(EY116=$CD$8,$CJ$8,IF(EY116=$CD$9,$CJ$9,$CJ$10)))","v":"--"},null,null,null,null,null,null,null,null,null,{"$f":"IF(FD$19>$Z116,\"--\",IF(FD116=$CP$8,$DA$8,IF(FD116=$CP$9,$DA$9,$DA$10))*IF(FI116=$CD$8,$CJ$8,IF(FI116=$CD$9,$CJ$9,$CJ$10)))","v":"--"},null,null,null,null,null,null,null,null,null,{"$f":"IF(FN$19>$Z116,\"--\",IF(FN116=$CP$8,$DA$8,IF(FN116=$CP$9,$DA$9,$DA$10))*IF(FS116=$CD$8,$CJ$8,IF(FS116=$CD$9,$CJ$9,$CJ$10)))","v":"--"},null,null,null,null,null,null,null,null,null,{"$f":"IF(FX$19>$Z116,\"--\",IF(FX116=$CP$8,$DA$8,IF(FX116=$CP$9,$DA$9,$DA$10))*IF(GC116=$CD$8,$CJ$8,IF(GC116=$CD$9,$CJ$9,$CJ$10)))","v":"--"}]
[]
["Mixed Lane Roundabout (2NSx1EW)",null,null,null,null,null,null,null,null,null,null,null,null,null,null,null,null,null,null,"2 X 1",null,null,null,null,null,4,null,null,null,"On-Street Lane",null,null,null,null,"<20mph",null,null,null,null,"On-Street Lane",null,null,null,null,"<20mph",null,null,null,null,"On-Street Lane",null,null,null,null,"<20mph",null,null,null,null,"On-Street Lane",null,null,null,null,"<20mph",null,null,null,null,"On-Street Lane",null,null,null,null,"<20mph",null,null,null,null,"On-Street Lane",null,null,null,null,"<20mph",null,null,null,null,"On-Street Lane",null,null,null,null,"<20mph",null,null,null,null,"On-Street Lane",null,null,null,null,"<20mph",null,null,null,null,"On-Street Lane",null,null,null,null,"<20mph",null,null,null,null,"On-Street Lane",null,null,null,null,"<20mph",null,null,null,null,"On-Street Lane",null,null,null,null,"<20mph",null,null,null,null,"On-Street Lane",null,null,null,null,"<20mph",null,null,null,null,"Separate Path",null,null,null,null,"<20mph",null,null,null,null,"Separate Path",null,null,null,null,"<20mph",null,null,null,null,"Separate Path",null,null,null,null,"<20mph",null,null,null,null,"Separate Path",null,null,null,null,"<20mph",null,null,null,null,null,null,null,null,{"$f":"IF(GV118<=$BX$11,$BR$11,IF(GV118<=$BX$10,$BR$10,IF(GV118<=$BX$9,$BR$9,$BR$8)))","v":"Excellent"},null,null,null,null,{"$f":"MIN(HA118:ND119)","v":80},null,null,null,null,{"$f":"AVERAGE(HA118:ND119)","v":80},null,null,null,null,{"$f":"IF(AD$19>$Z118,\"--\",IF(AD118=$CP$8,$DA$8,IF(AD118=$CP$9,$DA$9,$DA$10))*IF(AI118=$CD$8,$CJ$8,IF(AI118=$CD$9,$CJ$9,$CJ$10)))","v":80},null,null,null,null,null,null,null,null,null,{"$f":"IF(AN$19>$Z118,\"--\",IF(AN118=$CP$8,$DA$8,IF(AN118=$CP$9,$DA$9,$DA$10))*IF(AS118=$CD$8,$CJ$8,IF(AS118=$CD$9,$CJ$9,$CJ$10)))","v":80},null,null,null,null,null,null,null,null,null,{"$f":"IF(AX$19>$Z118,\"--\",IF(AX118=$CP$8,$DA$8,IF(AX118=$CP$9,$DA$9,$DA$10))*IF(BC118=$CD$8,$CJ$8,IF(BC118=$CD$9,$CJ$9,$CJ$10)))","v":80},null,null,null,null,null,null,null,null,null,{"$f":"IF(BH$19>$Z118,\"--\",IF(BH118=$CP$8,$DA$8,IF(BH118=$CP$9,$DA$9,$DA$10))*IF(BM118=$CD$8,$CJ$8,IF(BM118=$CD$9,$CJ$9,$CJ$10)))","v":80},null,null,null,null,null,null,null,null,null,{"$f":"IF(BR$19>$Z118,\"--\",IF(BR118=$CP$8,$DA$8,IF(BR118=$CP$9,$DA$9,$DA$10))*IF(BW118=$CD$8,$CJ$8,IF(BW118=$CD$9,$CJ$9,$CJ$10)))","v":"--"},null,null,null,null,null,null,null,null,null,{"$f":"IF(CB$19>$Z118,\"--\",IF(CB118=$CP$8,$DA$8,IF(CB118=$CP$9,$DA$9,$DA$10))*IF(CG118=$CD$8,$CJ$8,IF(CG118=$CD$9,$CJ$9,$CJ$10)))","v":"--"},null,null,null,null,null,null,null,null,null,{"$f":"IF(CL$19>$Z118,\"--\",IF(CL118=$CP$8,$DA$8,IF(CL118=$CP$9,$DA$9,$DA$10))*IF(CQ118=$CD$8,$CJ$8,IF(CQ118=$CD$9,$CJ$9,$CJ$10)))","v":"--"},null,null,null,null,null,null,null,null,null,{"$f":"IF(CV$19>$Z118,\"--\",IF(CV118=$CP$8,$DA$8,IF(CV118=$CP$9,$DA$9,$DA$10))*IF(DA118=$CD$8,$CJ$8,IF(DA118=$CD$9,$CJ$9,$CJ$10)))","v":"--"},null,null,null,null,null,null,null,null,null,{"$f":"IF(DF$19>$Z118,\"--\",IF(DF118=$CP$8,$DA$8,IF(DF118=$CP$9,$DA$9,$DA$10))*IF(DK118=$CD$8,$CJ$8,IF(DK118=$CD$9,$CJ$9,$CJ$10)))","v":"--"},null,null,null,null,null,null,null,null,null,{"$f":"IF(DP$19>$Z118,\"--\",IF(DP118=$CP$8,$DA$8,IF(DP118=$CP$9,$DA$9,$DA$10))*IF(DU118=$CD$8,$CJ$8,IF(DU118=$CD$9,$CJ$9,$CJ$10)))","v":"--"},null,null,null,null,null,null,null,null,null,{"$f":"IF(DZ$19>$Z118,\"--\",IF(DZ118=$CP$8,$DA$8,IF(DZ118=$CP$9,$DA$9,$DA$10))*IF(EE118=$CD$8,$CJ$8,IF(EE118=$CD$9,$CJ$9,$CJ$10)))","v":"--"},null,null,null,null,null,null,null,null,null,{"$f":"IF(EJ$19>$Z118,\"--\",IF(EJ118=$CP$8,$DA$8,IF(EJ118=$CP$9,$DA$9,$DA$10))*IF(EO118=$CD$8,$CJ$8,IF(EO118=$CD$9,$CJ$9,$CJ$10)))","v":"--"},null,null,null,null,null,null,null,null,null,{"$f":"IF(ET$19>$Z118,\"--\",IF(ET118=$CP$8,$DA$8,IF(ET118=$CP$9,$DA$9,$DA$10))*IF(EY118=$CD$8,$CJ$8,IF(EY118=$CD$9,$CJ$9,$CJ$10)))","v":"--"},null,null,null,null,null,null,null,null,null,{"$f":"IF(FD$19>$Z118,\"--\",IF(FD118=$CP$8,$DA$8,IF(FD118=$CP$9,$DA$9,$DA$10))*IF(FI118=$CD$8,$CJ$8,IF(FI118=$CD$9,$CJ$9,$CJ$10)))","v":"--"},null,null,null,null,null,null,null,null,null,{"$f":"IF(FN$19>$Z118,\"--\",IF(FN118=$CP$8,$DA$8,IF(FN118=$CP$9,$DA$9,$DA$10))*IF(FS118=$CD$8,$CJ$8,IF(FS118=$CD$9,$CJ$9,$CJ$10)))","v":"--"},null,null,null,null,null,null,null,null,null,{"$f":"IF(FX$19>$Z118,\"--\",IF(FX118=$CP$8,$DA$8,IF(FX118=$CP$9,$DA$9,$DA$10))*IF(GC118=$CD$8,$CJ$8,IF(GC118=$CD$9,$CJ$9,$CJ$10)))","v":"--"}]
[]
["Two Lane Roundabout",null,null,null,null,null,null,null,null,null,null,null,null,null,null,null,null,null,null,"2 X 2",null,null,null,null,null,4,null,null,null,"On-Street Lane",null,null,null,null,"<20mph",null,null,null,null,"On-Street Lane",null,null,null,null,"<20mph",null,null,null,null,"On-Street Lane",null,null,null,null,"<20mph",null,null,null,null,"On-Street Lane",null,null,null,null,"<20mph",null,null,null,null,"On-Street Lane",null,null,null,null,"<20mph",null,null,null,null,"On-Street Lane",null,null,null,null,"<20mph",null,null,null,null,"On-Street Lane",null,null,null,null,"<20mph",null,null,null,null,"On-Street Lane",null,null,null,null,"<20mph",null,null,null,null,"On-Street Lane",null,null,null,null,"<20mph",null,null,null,null,"On-Street Lane",null,null,null,null,"<20mph",null,null,null,null,"On-Street Lane",null,null,null,null,"<20mph",null,null,null,null,"On-Street Lane",null,null,null,null,"<20mph",null,null,null,null,"Separate Path",null,null,null,null,"<20mph",null,null,null,null,"Separate Path",null,null,null,null,"<20mph",null,null,null,null,"Separate Path",null,null,null,null,"<20mph",null,null,null,null,"Separate Path",null,null,null,null,"<20mph",null,null,null,null,null,null,null,null,{"$f":"IF(GV120<=$BX$11,$BR$11,IF(GV120<=$BX$10,$BR$10,IF(GV120<=$BX$9,$BR$9,$BR$8)))","v":"Excellent"},null,null,null,null,{"$f":"MIN(HA120:ND121)","v":80},null,null,null,null,{"$f":"AVERAGE(HA120:ND121)","v":80},null,null,null,null,{"$f":"IF(AD$19>$Z120,\"--\",IF(AD120=$CP$8,$DA$8,IF(AD120=$CP$9,$DA$9,$DA$10))*IF(AI120=$CD$8,$CJ$8,IF(AI120=$CD$9,$CJ$9,$CJ$10)))","v":80},null,null,null,null,null,null,null,null,null,{"$f":"IF(AN$19>$Z120,\"--\",IF(AN120=$CP$8,$DA$8,IF(AN120=$CP$9,$DA$9,$DA$10))*IF(AS120=$CD$8,$CJ$8,IF(AS120=$CD$9,$CJ$9,$CJ$10)))","v":80},null,null,null,null,null,null,null,null,null,{"$f":"IF(AX$19>$Z120,\"--\",IF(AX120=$CP$8,$DA$8,IF(AX120=$CP$9,$DA$9,$DA$10))*IF(BC120=$CD$8,$CJ$8,IF(BC120=$CD$9,$CJ$9,$CJ$10)))","v":80},null,null,null,null,null,null,null,null,null,{"$f":"IF(BH$19>$Z120,\"--\",IF(BH120=$CP$8,$DA$8,IF(BH120=$CP$9,$DA$9,$DA$10))*IF(BM120=$CD$8,$CJ$8,IF(BM120=$CD$9,$CJ$9,$CJ$10)))","v":80},null,null,null,null,null,null,null,null,null,{"$f":"IF(BR$19>$Z120,\"--\",IF(BR120=$CP$8,$DA$8,IF(BR120=$CP$9,$DA$9,$DA$10))*IF(BW120=$CD$8,$CJ$8,IF(BW120=$CD$9,$CJ$9,$CJ$10)))","v":"--"},null,null,null,null,null,null,null,null,null,{"$f":"IF(CB$19>$Z120,\"--\",IF(CB120=$CP$8,$DA$8,IF(CB120=$CP$9,$DA$9,$DA$10))*IF(CG120=$CD$8,$CJ$8,IF(CG120=$CD$9,$CJ$9,$CJ$10)))","v":"--"},null,null,null,null,null,null,null,null,null,{"$f":"IF(CL$19>$Z120,\"--\",IF(CL120=$CP$8,$DA$8,IF(CL120=$CP$9,$DA$9,$DA$10))*IF(CQ120=$CD$8,$CJ$8,IF(CQ120=$CD$9,$CJ$9,$CJ$10)))","v":"--"},null,null,null,null,null,null,null,null,null,{"$f":"IF(CV$19>$Z120,\"--\",IF(CV120=$CP$8,$DA$8,IF(CV120=$CP$9,$DA$9,$DA$10))*IF(DA120=$CD$8,$CJ$8,IF(DA120=$CD$9,$CJ$9,$CJ$10)))","v":"--"},null,null,null,null,null,null,null,null,null,{"$f":"IF(DF$19>$Z120,\"--\",IF(DF120=$CP$8,$DA$8,IF(DF120=$CP$9,$DA$9,$DA$10))*IF(DK120=$CD$8,$CJ$8,IF(DK120=$CD$9,$CJ$9,$CJ$10)))","v":"--"},null,null,null,null,null,null,null,null,null,{"$f":"IF(DP$19>$Z120,\"--\",IF(DP120=$CP$8,$DA$8,IF(DP120=$CP$9,$DA$9,$DA$10))*IF(DU120=$CD$8,$CJ$8,IF(DU120=$CD$9,$CJ$9,$CJ$10)))","v":"--"},null,null,null,null,null,null,null,null,null,{"$f":"IF(DZ$19>$Z120,\"--\",IF(DZ120=$CP$8,$DA$8,IF(DZ120=$CP$9,$DA$9,$DA$10))*IF(EE120=$CD$8,$CJ$8,IF(EE120=$CD$9,$CJ$9,$CJ$10)))","v":"--"},null,null,null,null,null,null,null,null,null,{"$f":"IF(EJ$19>$Z120,\"--\",IF(EJ120=$CP$8,$DA$8,IF(EJ120=$CP$9,$DA$9,$DA$10))*IF(EO120=$CD$8,$CJ$8,IF(EO120=$CD$9,$CJ$9,$CJ$10)))","v":"--"},null,null,null,null,null,null,null,null,null,{"$f":"IF(ET$19>$Z120,\"--\",IF(ET120=$CP$8,$DA$8,IF(ET120=$CP$9,$DA$9,$DA$10))*IF(EY120=$CD$8,$CJ$8,IF(EY120=$CD$9,$CJ$9,$CJ$10)))","v":"--"},null,null,null,null,null,null,null,null,null,{"$f":"IF(FD$19>$Z120,\"--\",IF(FD120=$CP$8,$DA$8,IF(FD120=$CP$9,$DA$9,$DA$10))*IF(FI120=$CD$8,$CJ$8,IF(FI120=$CD$9,$CJ$9,$CJ$10)))","v":"--"},null,null,null,null,null,null,null,null,null,{"$f":"IF(FN$19>$Z120,\"--\",IF(FN120=$CP$8,$DA$8,IF(FN120=$CP$9,$DA$9,$DA$10))*IF(FS120=$CD$8,$CJ$8,IF(FS120=$CD$9,$CJ$9,$CJ$10)))","v":"--"},null,null,null,null,null,null,null,null,null,{"$f":"IF(FX$19>$Z120,\"--\",IF(FX120=$CP$8,$DA$8,IF(FX120=$CP$9,$DA$9,$DA$10))*IF(GC120=$CD$8,$CJ$8,IF(GC120=$CD$9,$CJ$9,$CJ$10)))","v":"--"}]
[]
["Three Lane Roundabout",null,null,null,null,null,null,null,null,null,null,null,null,null,null,null,null,null,null,"3 X 3",null,null,null,null,null,4,null,null,null,"On-Street Lane",null,null,null,null,"<20mph",null,null,null,null,"On-Street Lane",null,null,null,null,"<20mph",null,null,null,null,"On-Street Lane",null,null,null,null,"<20mph",null,null,null,null,"On-Street Lane",null,null,null,null,"<20mph",null,null,null,null,"On-Street Lane",null,null,null,null,"<20mph",null,null,null,null,"On-Street Lane",null,null,null,null,"<20mph",null,null,null,null,"On-Street Lane",null,null,null,null,"<20mph",null,null,null,null,"On-Street Lane",null,null,null,null,"<20mph",null,null,null,null,"On-Street Lane",null,null,null,null,"<20mph",null,null,null,null,"On-Street Lane",null,null,null,null,"<20mph",null,null,null,null,"On-Street Lane",null,null,null,null,"<20mph",null,null,null,null,"On-Street Lane",null,null,null,null,"<20mph",null,null,null,null,"Separate Path",null,null,null,null,"<20mph",null,null,null,null,"Separate Path",null,null,null,null,"<20mph",null,null,null,null,"Separate Path",null,null,null,null,"<20mph",null,null,null,null,"Separate Path",null,null,null,null,"<20mph",null,null,null,null,null,null,null,null,{"$f":"IF(GV122<=$BX$11,$BR$11,IF(GV122<=$BX$10,$BR$10,IF(GV122<=$BX$9,$BR$9,$BR$8)))","v":"Excellent"},null,null,null,null,{"$f":"MIN(HA122:ND123)","v":80},null,null,null,null,{"$f":"AVERAGE(HA122:ND123)","v":80},null,null,null,null,{"$f":"IF(AD$19>$Z122,\"--\",IF(AD122=$CP$8,$DA$8,IF(AD122=$CP$9,$DA$9,$DA$10))*IF(AI122=$CD$8,$CJ$8,IF(AI122=$CD$9,$CJ$9,$CJ$10)))","v":80},null,null,null,null,null,null,null,null,null,{"$f":"IF(AN$19>$Z122,\"--\",IF(AN122=$CP$8,$DA$8,IF(AN122=$CP$9,$DA$9,$DA$10))*IF(AS122=$CD$8,$CJ$8,IF(AS122=$CD$9,$CJ$9,$CJ$10)))","v":80},null,null,null,null,null,null,null,null,null,{"$f":"IF(AX$19>$Z122,\"--\",IF(AX122=$CP$8,$DA$8,IF(AX122=$CP$9,$DA$9,$DA$10))*IF(BC122=$CD$8,$CJ$8,IF(BC122=$CD$9,$CJ$9,$CJ$10)))","v":80},null,null,null,null,null,null,null,null,null,{"$f":"IF(BH$19>$Z122,\"--\",IF(BH122=$CP$8,$DA$8,IF(BH122=$CP$9,$DA$9,$DA$10))*IF(BM122=$CD$8,$CJ$8,IF(BM122=$CD$9,$CJ$9,$CJ$10)))","v":80},null,null,null,null,null,null,null,null,null,{"$f":"IF(BR$19>$Z122,\"--\",IF(BR122=$CP$8,$DA$8,IF(BR122=$CP$9,$DA$9,$DA$10))*IF(BW122=$CD$8,$CJ$8,IF(BW122=$CD$9,$CJ$9,$CJ$10)))","v":"--"},null,null,null,null,null,null,null,null,null,{"$f":"IF(CB$19>$Z122,\"--\",IF(CB122=$CP$8,$DA$8,IF(CB122=$CP$9,$DA$9,$DA$10))*IF(CG122=$CD$8,$CJ$8,IF(CG122=$CD$9,$CJ$9,$CJ$10)))","v":"--"},null,null,null,null,null,null,null,null,null,{"$f":"IF(CL$19>$Z122,\"--\",IF(CL122=$CP$8,$DA$8,IF(CL122=$CP$9,$DA$9,$DA$10))*IF(CQ122=$CD$8,$CJ$8,IF(CQ122=$CD$9,$CJ$9,$CJ$10)))","v":"--"},null,null,null,null,null,null,null,null,null,{"$f":"IF(CV$19>$Z122,\"--\",IF(CV122=$CP$8,$DA$8,IF(CV122=$CP$9,$DA$9,$DA$10))*IF(DA122=$CD$8,$CJ$8,IF(DA122=$CD$9,$CJ$9,$CJ$10)))","v":"--"},null,null,null,null,null,null,null,null,null,{"$f":"IF(DF$19>$Z122,\"--\",IF(DF122=$CP$8,$DA$8,IF(DF122=$CP$9,$DA$9,$DA$10))*IF(DK122=$CD$8,$CJ$8,IF(DK122=$CD$9,$CJ$9,$CJ$10)))","v":"--"},null,null,null,null,null,null,null,null,null,{"$f":"IF(DP$19>$Z122,\"--\",IF(DP122=$CP$8,$DA$8,IF(DP122=$CP$9,$DA$9,$DA$10))*IF(DU122=$CD$8,$CJ$8,IF(DU122=$CD$9,$CJ$9,$CJ$10)))","v":"--"},null,null,null,null,null,null,null,null,null,{"$f":"IF(DZ$19>$Z122,\"--\",IF(DZ122=$CP$8,$DA$8,IF(DZ122=$CP$9,$DA$9,$DA$10))*IF(EE122=$CD$8,$CJ$8,IF(EE122=$CD$9,$CJ$9,$CJ$10)))","v":"--"},null,null,null,null,null,null,null,null,null,{"$f":"IF(EJ$19>$Z122,\"--\",IF(EJ122=$CP$8,$DA$8,IF(EJ122=$CP$9,$DA$9,$DA$10))*IF(EO122=$CD$8,$CJ$8,IF(EO122=$CD$9,$CJ$9,$CJ$10)))","v":"--"},null,null,null,null,null,null,null,null,null,{"$f":"IF(ET$19>$Z122,\"--\",IF(ET122=$CP$8,$DA$8,IF(ET122=$CP$9,$DA$9,$DA$10))*IF(EY122=$CD$8,$CJ$8,IF(EY122=$CD$9,$CJ$9,$CJ$10)))","v":"--"},null,null,null,null,null,null,null,null,null,{"$f":"IF(FD$19>$Z122,\"--\",IF(FD122=$CP$8,$DA$8,IF(FD122=$CP$9,$DA$9,$DA$10))*IF(FI122=$CD$8,$CJ$8,IF(FI122=$CD$9,$CJ$9,$CJ$10)))","v":"--"},null,null,null,null,null,null,null,null,null,{"$f":"IF(FN$19>$Z122,\"--\",IF(FN122=$CP$8,$DA$8,IF(FN122=$CP$9,$DA$9,$DA$10))*IF(FS122=$CD$8,$CJ$8,IF(FS122=$CD$9,$CJ$9,$CJ$10)))","v":"--"},null,null,null,null,null,null,null,null,null,{"$f":"IF(FX$19>$Z122,\"--\",IF(FX122=$CP$8,$DA$8,IF(FX122=$CP$9,$DA$9,$DA$10))*IF(GC122=$CD$8,$CJ$8,IF(GC122=$CD$9,$CJ$9,$CJ$10)))","v":"--"}]
[]
[]
["Bicycle Segment Configurations for Interchanges",null,null,null,null,null,null,null,null,null,null,null,null,null,null,null,null,null,null,null,null,null,null,null,null,null,null,null,null,null,null,null,null,null,null,null,null,null,null,null,null,null,null,null,null,null,null,null,null,null,null,null,null,null,null,null,null,null,null,null,null,null,null,null,null,null,null,null,null,null,null,null,null,null,null,null,null,null,null,null,null,null,null,null,null,null,null,null,null,null,null,null,null,null,null,null,null,null,null,null,null,null,null,null,null,null,null,null,null,null,null,null,null,null,null,null,null,null,null,null,null,null,null,null,null,null,null,null,null,null,null,null,null,null,null,null,null,null,null,null,null,null,null,null,null,null,null,null,null,null,null,null,null,null,null,null,null,null,null,null,null,null,null,null,null,null,null,null,null,null,null,null,null,null,null,null,null,null,null,null,null,null,null,null,null,null,null,null,null,null,null,null,null,"Bicycle Multimodal Scoring for Interchanges"]
[]
["TYPE OF INTERCHANGE",null,null,null,null,null,null,null,null,null,null,null,null,null,null,null,null,null,null,"Sheet",null,null,null,null,null,"# Of\nSeg.",null,null,null,"Segment #1",null,null,null,null,null,null,null,null,null,"Segment #2",null,null,null,null,null,null,null,null,null,"Segment #3",null,null,null,null,null,null,null,null,null,"Segment #4",null,null,null,null,null,null,null,null,null,"Segment #5",null,null,null,null,null,null,null,null,null,"Segment #6",null,null,null,null,null,null,null,null,null,"Segment #7",null,null,null,null,null,null,null,null,null,"Segment #8",null,null,null,null,null,null,null,null,null,"Segment #9",null,null,null,null,null,null,null,null,null,"Segment #10",null,null,null,null,null,null,null,null,null,"Segment #11",null,null,null,null,null,null,null,null,null,"Segment #12",null,null,null,null,null,null,null,null,null,"Crossing #13",null,null,null,null,null,null,null,null,null,"Crossing #14",null,null,null,null,null,null,null,null,null,"Crossing #15",null,null,null,null,null,null,null,null,null,"Crossing #16",null,null,null,null,null,null,null,null,null,null,null,null,null,"Intx Scores",null,null,null,null,null,null,null,null,null,null,null,null,null,null,"Individual Crossing Scores"]
[]
[null,null,null,null,null,null,null,null,null,null,null,null,null,null,null,null,null,null,null,null,null,null,null,null,null,null,null,null,null,"Bike Lane",null,null,null,null,"Veh Speed",null,null,null,null,"Bike Lane",null,null,null,null,"Veh Speed",null,null,null,null,"Bike Lane",null,null,null,null,"Veh Speed",null,null,null,null,"Bike Lane",null,null,null,null,"Veh Speed",null,null,null,null,"Bike Lane",null,null,null,null,"Veh Speed",null,null,null,null,"Bike Lane",null,null,null,null,"Veh Speed",null,null,null,null,"Bike Lane",null,null,null,null,"Veh Speed",null,null,null,null,"Bike Lane",null,null,null,null,"Veh Speed",null,null,null,null,"Bike Lane",null,null,null,null,"Veh Speed",null,null,null,null,"Bike Lane",null,null,null,null,"Veh Speed",null,null,null,null,"Bike Lane",null,null,null,null,"Veh Speed",null,null,null,null,"Bike Lane",null,null,null,null,"Veh Speed",null,null,null,null,"Bike Lane",null,null,null,null,"Veh Speed",null,null,null,null,"Bike Lane",null,null,null,null,"Veh Speed",null,null,null,null,"Bike Lane",null,null,null,null,"Veh Speed",null,null,null,null,"Bike Lane",null,null,null,null,"Veh Speed",null,null,null,null,null,null,null,null,"Worst",null,null,null,null,"Worst",null,null,null,null,"Avg",null,null,null,null,"#1",null,null,null,null,null,null,null,null,null,"#2",null,null,null,null,null,null,null,null,null,"#3",null,null,null,null,null,null,null,null,null,"#4",null,null,null,null,null,null,null,null,null,"#5",null,null,null,null,null,null,null,null,null,"#6",null,null,null,null,null,null,null,null,null,"#7",null,null,null,null,null,null,null,null,null,"#8",null,null,null,null,null,null,null,null,null,"#9",null,null,null,null,null,null,null,null,null,"#10",null,null,null,null,null,null,null,null,null,"#11",null,null,null,null,null,null,null,null,null,"#12",null,null,null,null,null,null,null,null,null,"#13",null,null,null,null,null,null,null,null,null,"#14",null,null,null,null,null,null,null,null,null,"#15",null,null,null,null,null,null,null,null,null,"#16"]
[]
["Diamond",null,null,null,null,null,null,null,null,null,null,null,null,null,null,null,null,null,null,"N-S",null,null,null,null,null,6,null,null,null,"On-Street Lane",null,null,null,null,">30mph",null,null,null,null,"On-Street Lane",null,null,null,null,">30mph",null,null,null,null,"On-Street Lane",null,null,null,null,"Stop / Signal",null,null,null,null,"On-Street Lane",null,null,null,null,"Stop / Signal",null,null,null,null,"On-Street Lane",null,null,null,null,"<20mph",null,null,null,null,"On-Street Lane",null,null,null,null,">30mph",null,null,null,null,"On-Street Lane",null,null,null,null,">30mph",null,null,null,null,"On-Street Lane",null,null,null,null,"Stop / Signal",null,null,null,null,"On-Street Lane",null,null,null,null,"Stop / Signal",null,null,null,null,"On-Street Lane",null,null,null,null,"<20mph",null,null,null,null,"On-Street Lane",null,null,null,null,">30mph",null,null,null,null,"On-Street Lane",null,null,null,null,">30mph",null,null,null,null,"Separate Path",null,null,null,null,"Stop / Signal",null,null,null,null,"Separate Path",null,null,null,null,"Stop / Signal",null,null,null,null,"Separate Path",null,null,null,null,"<20mph",null,null,null,null,"Separate Path",null,null,null,null,"<20mph",null,null,null,null,null,null,null,null,{"$f":"IF(GV131<=$BX$11,$BR$11,IF(GV131<=$BX$10,$BR$10,IF(GV131<=$BX$9,$BR$9,$BR$8)))","v":"Fair"},null,null,null,null,{"$f":"MIN(HA131:ND132)","v":48},null,null,null,null,{"$f":"AVERAGE(HA131:ND132)","v":53.333333333333336},null,null,null,null,{"$f":"IF(AD$19>$Z131,\"--\",IF(AD131=$CP$8,$DA$8,IF(AD131=$CP$9,$DA$9,$DA$10))*IF(AI131=$CD$8,$CJ$8,IF(AI131=$CD$9,$CJ$9,$CJ$10)))","v":48},null,null,null,null,null,null,null,null,null,{"$f":"IF(AN$19>$Z131,\"--\",IF(AN131=$CP$8,$DA$8,IF(AN131=$CP$9,$DA$9,$DA$10))*IF(AS131=$CD$8,$CJ$8,IF(AS131=$CD$9,$CJ$9,$CJ$10)))","v":48},null,null,null,null,null,null,null,null,null,{"$f":"IF(AX$19>$Z131,\"--\",IF(AX131=$CP$8,$DA$8,IF(AX131=$CP$9,$DA$9,$DA$10))*IF(BC131=$CD$8,$CJ$8,IF(BC131=$CD$9,$CJ$9,$CJ$10)))","v":48},null,null,null,null,null,null,null,null,null,{"$f":"IF(BH$19>$Z131,\"--\",IF(BH131=$CP$8,$DA$8,IF(BH131=$CP$9,$DA$9,$DA$10))*IF(BM131=$CD$8,$CJ$8,IF(BM131=$CD$9,$CJ$9,$CJ$10)))","v":48},null,null,null,null,null,null,null,null,null,{"$f":"IF(BR$19>$Z131,\"--\",IF(BR131=$CP$8,$DA$8,IF(BR131=$CP$9,$DA$9,$DA$10))*IF(BW131=$CD$8,$CJ$8,IF(BW131=$CD$9,$CJ$9,$CJ$10)))","v":80},null,null,null,null,null,null,null,null,null,{"$f":"IF(CB$19>$Z131,\"--\",IF(CB131=$CP$8,$DA$8,IF(CB131=$CP$9,$DA$9,$DA$10))*IF(CG131=$CD$8,$CJ$8,IF(CG131=$CD$9,$CJ$9,$CJ$10)))","v":48},null,null,null,null,null,null,null,null,null,{"$f":"IF(CL$19>$Z131,\"--\",IF(CL131=$CP$8,$DA$8,IF(CL131=$CP$9,$DA$9,$DA$10))*IF(CQ131=$CD$8,$CJ$8,IF(CQ131=$CD$9,$CJ$9,$CJ$10)))","v":"--"},null,null,null,null,null,null,null,null,null,{"$f":"IF(CV$19>$Z131,\"--\",IF(CV131=$CP$8,$DA$8,IF(CV131=$CP$9,$DA$9,$DA$10))*IF(DA131=$CD$8,$CJ$8,IF(DA131=$CD$9,$CJ$9,$CJ$10)))","v":"--"},null,null,null,null,null,null,null,null,null,{"$f":"IF(DF$19>$Z131,\"--\",IF(DF131=$CP$8,$DA$8,IF(DF131=$CP$9,$DA$9,$DA$10))*IF(DK131=$CD$8,$CJ$8,IF(DK131=$CD$9,$CJ$9,$CJ$10)))","v":"--"},null,null,null,null,null,null,null,null,null,{"$f":"IF(DP$19>$Z131,\"--\",IF(DP131=$CP$8,$DA$8,IF(DP131=$CP$9,$DA$9,$DA$10))*IF(DU131=$CD$8,$CJ$8,IF(DU131=$CD$9,$CJ$9,$CJ$10)))","v":"--"},null,null,null,null,null,null,null,null,null,{"$f":"IF(DZ$19>$Z131,\"--\",IF(DZ131=$CP$8,$DA$8,IF(DZ131=$CP$9,$DA$9,$DA$10))*IF(EE131=$CD$8,$CJ$8,IF(EE131=$CD$9,$CJ$9,$CJ$10)))","v":"--"},null,null,null,null,null,null,null,null,null,{"$f":"IF(EJ$19>$Z131,\"--\",IF(EJ131=$CP$8,$DA$8,IF(EJ131=$CP$9,$DA$9,$DA$10))*IF(EO131=$CD$8,$CJ$8,IF(EO131=$CD$9,$CJ$9,$CJ$10)))","v":"--"},null,null,null,null,null,null,null,null,null,{"$f":"IF(ET$19>$Z131,\"--\",IF(ET131=$CP$8,$DA$8,IF(ET131=$CP$9,$DA$9,$DA$10))*IF(EY131=$CD$8,$CJ$8,IF(EY131=$CD$9,$CJ$9,$CJ$10)))","v":"--"},null,null,null,null,null,null,null,null,null,{"$f":"IF(FD$19>$Z131,\"--\",IF(FD131=$CP$8,$DA$8,IF(FD131=$CP$9,$DA$9,$DA$10))*IF(FI131=$CD$8,$CJ$8,IF(FI131=$CD$9,$CJ$9,$CJ$10)))","v":"--"},null,null,null,null,null,null,null,null,null,{"$f":"IF(FN$19>$Z131,\"--\",IF(FN131=$CP$8,$DA$8,IF(FN131=$CP$9,$DA$9,$DA$10))*IF(FS131=$CD$8,$CJ$8,IF(FS131=$CD$9,$CJ$9,$CJ$10)))","v":"--"},null,null,null,null,null,null,null,null,null,{"$f":"IF(FX$19>$Z131,\"--\",IF(FX131=$CP$8,$DA$8,IF(FX131=$CP$9,$DA$9,$DA$10))*IF(GC131=$CD$8,$CJ$8,IF(GC131=$CD$9,$CJ$9,$CJ$10)))","v":"--"}]
[]
[null,null,null,null,null,null,null,null,null,null,null,null,null,null,null,null,null,null,null,"E-W",null,null,null,null,null,6,null,null,null,"On-Street Lane",null,null,null,null,">30mph",null,null,null,null,"On-Street Lane",null,null,null,null,">30mph",null,null,null,null,"On-Street Lane",null,null,null,null,"Stop / Signal",null,null,null,null,"On-Street Lane",null,null,null,null,"Stop / Signal",null,null,null,null,"On-Street Lane",null,null,null,null,"<20mph",null,null,null,null,"On-Street Lane",null,null,null,null,">30mph",null,null,null,null,"On-Street Lane",null,null,null,null,">30mph",null,null,null,null,"On-Street Lane",null,null,null,null,"Stop / Signal",null,null,null,null,"On-Street Lane",null,null,null,null,"Stop / Signal",null,null,null,null,"On-Street Lane",null,null,null,null,"<20mph",null,null,null,null,"On-Street Lane",null,null,null,null,">30mph",null,null,null,null,"On-Street Lane",null,null,null,null,">30mph",null,null,null,null,"Separate Path",null,null,null,null,"Stop / Signal",null,null,null,null,"Separate Path",null,null,null,null,"Stop / Signal",null,null,null,null,"Separate Path",null,null,null,null,"<20mph",null,null,null,null,"Separate Path",null,null,null,null,"<20mph",null,null,null,null,null,null,null,null,{"$f":"IF(GV133<=$BX$11,$BR$11,IF(GV133<=$BX$10,$BR$10,IF(GV133<=$BX$9,$BR$9,$BR$8)))","v":"Fair"},null,null,null,null,{"$f":"MIN(HA133:ND134)","v":48},null,null,null,null,{"$f":"AVERAGE(HA133:ND134)","v":53.333333333333336},null,null,null,null,{"$f":"IF(AD$19>$Z133,\"--\",IF(AD133=$CP$8,$DA$8,IF(AD133=$CP$9,$DA$9,$DA$10))*IF(AI133=$CD$8,$CJ$8,IF(AI133=$CD$9,$CJ$9,$CJ$10)))","v":48},null,null,null,null,null,null,null,null,null,{"$f":"IF(AN$19>$Z133,\"--\",IF(AN133=$CP$8,$DA$8,IF(AN133=$CP$9,$DA$9,$DA$10))*IF(AS133=$CD$8,$CJ$8,IF(AS133=$CD$9,$CJ$9,$CJ$10)))","v":48},null,null,null,null,null,null,null,null,null,{"$f":"IF(AX$19>$Z133,\"--\",IF(AX133=$CP$8,$DA$8,IF(AX133=$CP$9,$DA$9,$DA$10))*IF(BC133=$CD$8,$CJ$8,IF(BC133=$CD$9,$CJ$9,$CJ$10)))","v":48},null,null,null,null,null,null,null,null,null,{"$f":"IF(BH$19>$Z133,\"--\",IF(BH133=$CP$8,$DA$8,IF(BH133=$CP$9,$DA$9,$DA$10))*IF(BM133=$CD$8,$CJ$8,IF(BM133=$CD$9,$CJ$9,$CJ$10)))","v":48},null,null,null,null,null,null,null,null,null,{"$f":"IF(BR$19>$Z133,\"--\",IF(BR133=$CP$8,$DA$8,IF(BR133=$CP$9,$DA$9,$DA$10))*IF(BW133=$CD$8,$CJ$8,IF(BW133=$CD$9,$CJ$9,$CJ$10)))","v":80},null,null,null,null,null,null,null,null,null,{"$f":"IF(CB$19>$Z133,\"--\",IF(CB133=$CP$8,$DA$8,IF(CB133=$CP$9,$DA$9,$DA$10))*IF(CG133=$CD$8,$CJ$8,IF(CG133=$CD$9,$CJ$9,$CJ$10)))","v":48},null,null,null,null,null,null,null,null,null,{"$f":"IF(CL$19>$Z133,\"--\",IF(CL133=$CP$8,$DA$8,IF(CL133=$CP$9,$DA$9,$DA$10))*IF(CQ133=$CD$8,$CJ$8,IF(CQ133=$CD$9,$CJ$9,$CJ$10)))","v":"--"},null,null,null,null,null,null,null,null,null,{"$f":"IF(CV$19>$Z133,\"--\",IF(CV133=$CP$8,$DA$8,IF(CV133=$CP$9,$DA$9,$DA$10))*IF(DA133=$CD$8,$CJ$8,IF(DA133=$CD$9,$CJ$9,$CJ$10)))","v":"--"},null,null,null,null,null,null,null,null,null,{"$f":"IF(DF$19>$Z133,\"--\",IF(DF133=$CP$8,$DA$8,IF(DF133=$CP$9,$DA$9,$DA$10))*IF(DK133=$CD$8,$CJ$8,IF(DK133=$CD$9,$CJ$9,$CJ$10)))","v":"--"},null,null,null,null,null,null,null,null,null,{"$f":"IF(DP$19>$Z133,\"--\",IF(DP133=$CP$8,$DA$8,IF(DP133=$CP$9,$DA$9,$DA$10))*IF(DU133=$CD$8,$CJ$8,IF(DU133=$CD$9,$CJ$9,$CJ$10)))","v":"--"},null,null,null,null,null,null,null,null,null,{"$f":"IF(DZ$19>$Z133,\"--\",IF(DZ133=$CP$8,$DA$8,IF(DZ133=$CP$9,$DA$9,$DA$10))*IF(EE133=$CD$8,$CJ$8,IF(EE133=$CD$9,$CJ$9,$CJ$10)))","v":"--"},null,null,null,null,null,null,null,null,null,{"$f":"IF(EJ$19>$Z133,\"--\",IF(EJ133=$CP$8,$DA$8,IF(EJ133=$CP$9,$DA$9,$DA$10))*IF(EO133=$CD$8,$CJ$8,IF(EO133=$CD$9,$CJ$9,$CJ$10)))","v":"--"},null,null,null,null,null,null,null,null,null,{"$f":"IF(ET$19>$Z133,\"--\",IF(ET133=$CP$8,$DA$8,IF(ET133=$CP$9,$DA$9,$DA$10))*IF(EY133=$CD$8,$CJ$8,IF(EY133=$CD$9,$CJ$9,$CJ$10)))","v":"--"},null,null,null,null,null,null,null,null,null,{"$f":"IF(FD$19>$Z133,\"--\",IF(FD133=$CP$8,$DA$8,IF(FD133=$CP$9,$DA$9,$DA$10))*IF(FI133=$CD$8,$CJ$8,IF(FI133=$CD$9,$CJ$9,$CJ$10)))","v":"--"},null,null,null,null,null,null,null,null,null,{"$f":"IF(FN$19>$Z133,\"--\",IF(FN133=$CP$8,$DA$8,IF(FN133=$CP$9,$DA$9,$DA$10))*IF(FS133=$CD$8,$CJ$8,IF(FS133=$CD$9,$CJ$9,$CJ$10)))","v":"--"},null,null,null,null,null,null,null,null,null,{"$f":"IF(FX$19>$Z133,\"--\",IF(FX133=$CP$8,$DA$8,IF(FX133=$CP$9,$DA$9,$DA$10))*IF(GC133=$CD$8,$CJ$8,IF(GC133=$CD$9,$CJ$9,$CJ$10)))","v":"--"}]
[]
["Partial Cloverleaf A",null,null,null,null,null,null,null,null,null,null,null,null,null,null,null,null,null,null,"N-S",null,null,null,null,null,6,null,null,null,"On-Street Lane",null,null,null,null,"<20mph",null,null,null,null,"On-Street Lane",null,null,null,null,"<20mph",null,null,null,null,"On-Street Lane",null,null,null,null,"<20mph",null,null,null,null,"On-Street Lane",null,null,null,null,"<20mph",null,null,null,null,"On-Street Lane",null,null,null,null,"<20mph",null,null,null,null,"On-Street Lane",null,null,null,null,"<20mph",null,null,null,null,"On-Street Lane",null,null,null,null,"<20mph",null,null,null,null,"On-Street Lane",null,null,null,null,"<20mph",null,null,null,null,"On-Street Lane",null,null,null,null,"<20mph",null,null,null,null,"On-Street Lane",null,null,null,null,"<20mph",null,null,null,null,"On-Street Lane",null,null,null,null,"<20mph",null,null,null,null,"On-Street Lane",null,null,null,null,"<20mph",null,null,null,null,"Separate Path",null,null,null,null,"<20mph",null,null,null,null,"Separate Path",null,null,null,null,"<20mph",null,null,null,null,"Separate Path",null,null,null,null,"<20mph",null,null,null,null,"Separate Path",null,null,null,null,"<20mph",null,null,null,null,null,null,null,null,{"$f":"IF(GV135<=$BX$11,$BR$11,IF(GV135<=$BX$10,$BR$10,IF(GV135<=$BX$9,$BR$9,$BR$8)))","v":"Excellent"},null,null,null,null,{"$f":"MIN(HA135:ND136)","v":80},null,null,null,null,{"$f":"AVERAGE(HA135:ND136)","v":80},null,null,null,null,{"$f":"IF(AD$19>$Z135,\"--\",IF(AD135=$CP$8,$DA$8,IF(AD135=$CP$9,$DA$9,$DA$10))*IF(AI135=$CD$8,$CJ$8,IF(AI135=$CD$9,$CJ$9,$CJ$10)))","v":80},null,null,null,null,null,null,null,null,null,{"$f":"IF(AN$19>$Z135,\"--\",IF(AN135=$CP$8,$DA$8,IF(AN135=$CP$9,$DA$9,$DA$10))*IF(AS135=$CD$8,$CJ$8,IF(AS135=$CD$9,$CJ$9,$CJ$10)))","v":80},null,null,null,null,null,null,null,null,null,{"$f":"IF(AX$19>$Z135,\"--\",IF(AX135=$CP$8,$DA$8,IF(AX135=$CP$9,$DA$9,$DA$10))*IF(BC135=$CD$8,$CJ$8,IF(BC135=$CD$9,$CJ$9,$CJ$10)))","v":80},null,null,null,null,null,null,null,null,null,{"$f":"IF(BH$19>$Z135,\"--\",IF(BH135=$CP$8,$DA$8,IF(BH135=$CP$9,$DA$9,$DA$10))*IF(BM135=$CD$8,$CJ$8,IF(BM135=$CD$9,$CJ$9,$CJ$10)))","v":80},null,null,null,null,null,null,null,null,null,{"$f":"IF(BR$19>$Z135,\"--\",IF(BR135=$CP$8,$DA$8,IF(BR135=$CP$9,$DA$9,$DA$10))*IF(BW135=$CD$8,$CJ$8,IF(BW135=$CD$9,$CJ$9,$CJ$10)))","v":80},null,null,null,null,null,null,null,null,null,{"$f":"IF(CB$19>$Z135,\"--\",IF(CB135=$CP$8,$DA$8,IF(CB135=$CP$9,$DA$9,$DA$10))*IF(CG135=$CD$8,$CJ$8,IF(CG135=$CD$9,$CJ$9,$CJ$10)))","v":80},null,null,null,null,null,null,null,null,null,{"$f":"IF(CL$19>$Z135,\"--\",IF(CL135=$CP$8,$DA$8,IF(CL135=$CP$9,$DA$9,$DA$10))*IF(CQ135=$CD$8,$CJ$8,IF(CQ135=$CD$9,$CJ$9,$CJ$10)))","v":"--"},null,null,null,null,null,null,null,null,null,{"$f":"IF(CV$19>$Z135,\"--\",IF(CV135=$CP$8,$DA$8,IF(CV135=$CP$9,$DA$9,$DA$10))*IF(DA135=$CD$8,$CJ$8,IF(DA135=$CD$9,$CJ$9,$CJ$10)))","v":"--"},null,null,null,null,null,null,null,null,null,{"$f":"IF(DF$19>$Z135,\"--\",IF(DF135=$CP$8,$DA$8,IF(DF135=$CP$9,$DA$9,$DA$10))*IF(DK135=$CD$8,$CJ$8,IF(DK135=$CD$9,$CJ$9,$CJ$10)))","v":"--"},null,null,null,null,null,null,null,null,null,{"$f":"IF(DP$19>$Z135,\"--\",IF(DP135=$CP$8,$DA$8,IF(DP135=$CP$9,$DA$9,$DA$10))*IF(DU135=$CD$8,$CJ$8,IF(DU135=$CD$9,$CJ$9,$CJ$10)))","v":"--"},null,null,null,null,null,null,null,null,null,{"$f":"IF(DZ$19>$Z135,\"--\",IF(DZ135=$CP$8,$DA$8,IF(DZ135=$CP$9,$DA$9,$DA$10))*IF(EE135=$CD$8,$CJ$8,IF(EE135=$CD$9,$CJ$9,$CJ$10)))","v":"--"},null,null,null,null,null,null,null,null,null,{"$f":"IF(EJ$19>$Z135,\"--\",IF(EJ135=$CP$8,$DA$8,IF(EJ135=$CP$9,$DA$9,$DA$10))*IF(EO135=$CD$8,$CJ$8,IF(EO135=$CD$9,$CJ$9,$CJ$10)))","v":"--"},null,null,null,null,null,null,null,null,null,{"$f":"IF(ET$19>$Z135,\"--\",IF(ET135=$CP$8,$DA$8,IF(ET135=$CP$9,$DA$9,$DA$10))*IF(EY135=$CD$8,$CJ$8,IF(EY135=$CD$9,$CJ$9,$CJ$10)))","v":"--"},null,null,null,null,null,null,null,null,null,{"$f":"IF(FD$19>$Z135,\"--\",IF(FD135=$CP$8,$DA$8,IF(FD135=$CP$9,$DA$9,$DA$10))*IF(FI135=$CD$8,$CJ$8,IF(FI135=$CD$9,$CJ$9,$CJ$10)))","v":"--"},null,null,null,null,null,null,null,null,null,{"$f":"IF(FN$19>$Z135,\"--\",IF(FN135=$CP$8,$DA$8,IF(FN135=$CP$9,$DA$9,$DA$10))*IF(FS135=$CD$8,$CJ$8,IF(FS135=$CD$9,$CJ$9,$CJ$10)))","v":"--"},null,null,null,null,null,null,null,null,null,{"$f":"IF(FX$19>$Z135,\"--\",IF(FX135=$CP$8,$DA$8,IF(FX135=$CP$9,$DA$9,$DA$10))*IF(GC135=$CD$8,$CJ$8,IF(GC135=$CD$9,$CJ$9,$CJ$10)))","v":"--"}]
[]
[null,null,null,null,null,null,null,null,null,null,null,null,null,null,null,null,null,null,null,"E-W",null,null,null,null,null,6,null,null,null,"On-Street Lane",null,null,null,null,"<20mph",null,null,null,null,"On-Street Lane",null,null,null,null,"<20mph",null,null,null,null,"On-Street Lane",null,null,null,null,"<20mph",null,null,null,null,"On-Street Lane",null,null,null,null,"<20mph",null,null,null,null,"On-Street Lane",null,null,null,null,"<20mph",null,null,null,null,"On-Street Lane",null,null,null,null,"<20mph",null,null,null,null,"On-Street Lane",null,null,null,null,"<20mph",null,null,null,null,"On-Street Lane",null,null,null,null,"<20mph",null,null,null,null,"On-Street Lane",null,null,null,null,"<20mph",null,null,null,null,"On-Street Lane",null,null,null,null,"<20mph",null,null,null,null,"On-Street Lane",null,null,null,null,"<20mph",null,null,null,null,"On-Street Lane",null,null,null,null,"<20mph",null,null,null,null,"Separate Path",null,null,null,null,"<20mph",null,null,null,null,"Separate Path",null,null,null,null,"<20mph",null,null,null,null,"Separate Path",null,null,null,null,"<20mph",null,null,null,null,"Separate Path",null,null,null,null,"<20mph",null,null,null,null,null,null,null,null,{"$f":"IF(GV137<=$BX$11,$BR$11,IF(GV137<=$BX$10,$BR$10,IF(GV137<=$BX$9,$BR$9,$BR$8)))","v":"Excellent"},null,null,null,null,{"$f":"MIN(HA137:ND138)","v":80},null,null,null,null,{"$f":"AVERAGE(HA137:ND138)","v":80},null,null,null,null,{"$f":"IF(AD$19>$Z137,\"--\",IF(AD137=$CP$8,$DA$8,IF(AD137=$CP$9,$DA$9,$DA$10))*IF(AI137=$CD$8,$CJ$8,IF(AI137=$CD$9,$CJ$9,$CJ$10)))","v":80},null,null,null,null,null,null,null,null,null,{"$f":"IF(AN$19>$Z137,\"--\",IF(AN137=$CP$8,$DA$8,IF(AN137=$CP$9,$DA$9,$DA$10))*IF(AS137=$CD$8,$CJ$8,IF(AS137=$CD$9,$CJ$9,$CJ$10)))","v":80},null,null,null,null,null,null,null,null,null,{"$f":"IF(AX$19>$Z137,\"--\",IF(AX137=$CP$8,$DA$8,IF(AX137=$CP$9,$DA$9,$DA$10))*IF(BC137=$CD$8,$CJ$8,IF(BC137=$CD$9,$CJ$9,$CJ$10)))","v":80},null,null,null,null,null,null,null,null,null,{"$f":"IF(BH$19>$Z137,\"--\",IF(BH137=$CP$8,$DA$8,IF(BH137=$CP$9,$DA$9,$DA$10))*IF(BM137=$CD$8,$CJ$8,IF(BM137=$CD$9,$CJ$9,$CJ$10)))","v":80},null,null,null,null,null,null,null,null,null,{"$f":"IF(BR$19>$Z137,\"--\",IF(BR137=$CP$8,$DA$8,IF(BR137=$CP$9,$DA$9,$DA$10))*IF(BW137=$CD$8,$CJ$8,IF(BW137=$CD$9,$CJ$9,$CJ$10)))","v":80},null,null,null,null,null,null,null,null,null,{"$f":"IF(CB$19>$Z137,\"--\",IF(CB137=$CP$8,$DA$8,IF(CB137=$CP$9,$DA$9,$DA$10))*IF(CG137=$CD$8,$CJ$8,IF(CG137=$CD$9,$CJ$9,$CJ$10)))","v":80},null,null,null,null,null,null,null,null,null,{"$f":"IF(CL$19>$Z137,\"--\",IF(CL137=$CP$8,$DA$8,IF(CL137=$CP$9,$DA$9,$DA$10))*IF(CQ137=$CD$8,$CJ$8,IF(CQ137=$CD$9,$CJ$9,$CJ$10)))","v":"--"},null,null,null,null,null,null,null,null,null,{"$f":"IF(CV$19>$Z137,\"--\",IF(CV137=$CP$8,$DA$8,IF(CV137=$CP$9,$DA$9,$DA$10))*IF(DA137=$CD$8,$CJ$8,IF(DA137=$CD$9,$CJ$9,$CJ$10)))","v":"--"},null,null,null,null,null,null,null,null,null,{"$f":"IF(DF$19>$Z137,\"--\",IF(DF137=$CP$8,$DA$8,IF(DF137=$CP$9,$DA$9,$DA$10))*IF(DK137=$CD$8,$CJ$8,IF(DK137=$CD$9,$CJ$9,$CJ$10)))","v":"--"},null,null,null,null,null,null,null,null,null,{"$f":"IF(DP$19>$Z137,\"--\",IF(DP137=$CP$8,$DA$8,IF(DP137=$CP$9,$DA$9,$DA$10))*IF(DU137=$CD$8,$CJ$8,IF(DU137=$CD$9,$CJ$9,$CJ$10)))","v":"--"},null,null,null,null,null,null,null,null,null,{"$f":"IF(DZ$19>$Z137,\"--\",IF(DZ137=$CP$8,$DA$8,IF(DZ137=$CP$9,$DA$9,$DA$10))*IF(EE137=$CD$8,$CJ$8,IF(EE137=$CD$9,$CJ$9,$CJ$10)))","v":"--"},null,null,null,null,null,null,null,null,null,{"$f":"IF(EJ$19>$Z137,\"--\",IF(EJ137=$CP$8,$DA$8,IF(EJ137=$CP$9,$DA$9,$DA$10))*IF(EO137=$CD$8,$CJ$8,IF(EO137=$CD$9,$CJ$9,$CJ$10)))","v":"--"},null,null,null,null,null,null,null,null,null,{"$f":"IF(ET$19>$Z137,\"--\",IF(ET137=$CP$8,$DA$8,IF(ET137=$CP$9,$DA$9,$DA$10))*IF(EY137=$CD$8,$CJ$8,IF(EY137=$CD$9,$CJ$9,$CJ$10)))","v":"--"},null,null,null,null,null,null,null,null,null,{"$f":"IF(FD$19>$Z137,\"--\",IF(FD137=$CP$8,$DA$8,IF(FD137=$CP$9,$DA$9,$DA$10))*IF(FI137=$CD$8,$CJ$8,IF(FI137=$CD$9,$CJ$9,$CJ$10)))","v":"--"},null,null,null,null,null,null,null,null,null,{"$f":"IF(FN$19>$Z137,\"--\",IF(FN137=$CP$8,$DA$8,IF(FN137=$CP$9,$DA$9,$DA$10))*IF(FS137=$CD$8,$CJ$8,IF(FS137=$CD$9,$CJ$9,$CJ$10)))","v":"--"},null,null,null,null,null,null,null,null,null,{"$f":"IF(FX$19>$Z137,\"--\",IF(FX137=$CP$8,$DA$8,IF(FX137=$CP$9,$DA$9,$DA$10))*IF(GC137=$CD$8,$CJ$8,IF(GC137=$CD$9,$CJ$9,$CJ$10)))","v":"--"}]
[]
["Partial Cloverleaf B",null,null,null,null,null,null,null,null,null,null,null,null,null,null,null,null,null,null,"N-S",null,null,null,null,null,6,null,null,null,"On-Street Lane",null,null,null,null,"<20mph",null,null,null,null,"On-Street Lane",null,null,null,null,"<20mph",null,null,null,null,"On-Street Lane",null,null,null,null,"<20mph",null,null,null,null,"On-Street Lane",null,null,null,null,"<20mph",null,null,null,null,"On-Street Lane",null,null,null,null,"<20mph",null,null,null,null,"On-Street Lane",null,null,null,null,"<20mph",null,null,null,null,"On-Street Lane",null,null,null,null,"<20mph",null,null,null,null,"On-Street Lane",null,null,null,null,"<20mph",null,null,null,null,"On-Street Lane",null,null,null,null,"<20mph",null,null,null,null,"On-Street Lane",null,null,null,null,"<20mph",null,null,null,null,"On-Street Lane",null,null,null,null,"<20mph",null,null,null,null,"On-Street Lane",null,null,null,null,"<20mph",null,null,null,null,"Separate Path",null,null,null,null,"<20mph",null,null,null,null,"Separate Path",null,null,null,null,"<20mph",null,null,null,null,"Separate Path",null,null,null,null,"<20mph",null,null,null,null,"Separate Path",null,null,null,null,"<20mph",null,null,null,null,null,null,null,null,{"$f":"IF(GV139<=$BX$11,$BR$11,IF(GV139<=$BX$10,$BR$10,IF(GV139<=$BX$9,$BR$9,$BR$8)))","v":"Excellent"},null,null,null,null,{"$f":"MIN(HA139:ND140)","v":80},null,null,null,null,{"$f":"AVERAGE(HA139:ND140)","v":80},null,null,null,null,{"$f":"IF(AD$19>$Z139,\"--\",IF(AD139=$CP$8,$DA$8,IF(AD139=$CP$9,$DA$9,$DA$10))*IF(AI139=$CD$8,$CJ$8,IF(AI139=$CD$9,$CJ$9,$CJ$10)))","v":80},null,null,null,null,null,null,null,null,null,{"$f":"IF(AN$19>$Z139,\"--\",IF(AN139=$CP$8,$DA$8,IF(AN139=$CP$9,$DA$9,$DA$10))*IF(AS139=$CD$8,$CJ$8,IF(AS139=$CD$9,$CJ$9,$CJ$10)))","v":80},null,null,null,null,null,null,null,null,null,{"$f":"IF(AX$19>$Z139,\"--\",IF(AX139=$CP$8,$DA$8,IF(AX139=$CP$9,$DA$9,$DA$10))*IF(BC139=$CD$8,$CJ$8,IF(BC139=$CD$9,$CJ$9,$CJ$10)))","v":80},null,null,null,null,null,null,null,null,null,{"$f":"IF(BH$19>$Z139,\"--\",IF(BH139=$CP$8,$DA$8,IF(BH139=$CP$9,$DA$9,$DA$10))*IF(BM139=$CD$8,$CJ$8,IF(BM139=$CD$9,$CJ$9,$CJ$10)))","v":80},null,null,null,null,null,null,null,null,null,{"$f":"IF(BR$19>$Z139,\"--\",IF(BR139=$CP$8,$DA$8,IF(BR139=$CP$9,$DA$9,$DA$10))*IF(BW139=$CD$8,$CJ$8,IF(BW139=$CD$9,$CJ$9,$CJ$10)))","v":80},null,null,null,null,null,null,null,null,null,{"$f":"IF(CB$19>$Z139,\"--\",IF(CB139=$CP$8,$DA$8,IF(CB139=$CP$9,$DA$9,$DA$10))*IF(CG139=$CD$8,$CJ$8,IF(CG139=$CD$9,$CJ$9,$CJ$10)))","v":80},null,null,null,null,null,null,null,null,null,{"$f":"IF(CL$19>$Z139,\"--\",IF(CL139=$CP$8,$DA$8,IF(CL139=$CP$9,$DA$9,$DA$10))*IF(CQ139=$CD$8,$CJ$8,IF(CQ139=$CD$9,$CJ$9,$CJ$10)))","v":"--"},null,null,null,null,null,null,null,null,null,{"$f":"IF(CV$19>$Z139,\"--\",IF(CV139=$CP$8,$DA$8,IF(CV139=$CP$9,$DA$9,$DA$10))*IF(DA139=$CD$8,$CJ$8,IF(DA139=$CD$9,$CJ$9,$CJ$10)))","v":"--"},null,null,null,null,null,null,null,null,null,{"$f":"IF(DF$19>$Z139,\"--\",IF(DF139=$CP$8,$DA$8,IF(DF139=$CP$9,$DA$9,$DA$10))*IF(DK139=$CD$8,$CJ$8,IF(DK139=$CD$9,$CJ$9,$CJ$10)))","v":"--"},null,null,null,null,null,null,null,null,null,{"$f":"IF(DP$19>$Z139,\"--\",IF(DP139=$CP$8,$DA$8,IF(DP139=$CP$9,$DA$9,$DA$10))*IF(DU139=$CD$8,$CJ$8,IF(DU139=$CD$9,$CJ$9,$CJ$10)))","v":"--"},null,null,null,null,null,null,null,null,null,{"$f":"IF(DZ$19>$Z139,\"--\",IF(DZ139=$CP$8,$DA$8,IF(DZ139=$CP$9,$DA$9,$DA$10))*IF(EE139=$CD$8,$CJ$8,IF(EE139=$CD$9,$CJ$9,$CJ$10)))","v":"--"},null,null,null,null,null,null,null,null,null,{"$f":"IF(EJ$19>$Z139,\"--\",IF(EJ139=$CP$8,$DA$8,IF(EJ139=$CP$9,$DA$9,$DA$10))*IF(EO139=$CD$8,$CJ$8,IF(EO139=$CD$9,$CJ$9,$CJ$10)))","v":"--"},null,null,null,null,null,null,null,null,null,{"$f":"IF(ET$19>$Z139,\"--\",IF(ET139=$CP$8,$DA$8,IF(ET139=$CP$9,$DA$9,$DA$10))*IF(EY139=$CD$8,$CJ$8,IF(EY139=$CD$9,$CJ$9,$CJ$10)))","v":"--"},null,null,null,null,null,null,null,null,null,{"$f":"IF(FD$19>$Z139,\"--\",IF(FD139=$CP$8,$DA$8,IF(FD139=$CP$9,$DA$9,$DA$10))*IF(FI139=$CD$8,$CJ$8,IF(FI139=$CD$9,$CJ$9,$CJ$10)))","v":"--"},null,null,null,null,null,null,null,null,null,{"$f":"IF(FN$19>$Z139,\"--\",IF(FN139=$CP$8,$DA$8,IF(FN139=$CP$9,$DA$9,$DA$10))*IF(FS139=$CD$8,$CJ$8,IF(FS139=$CD$9,$CJ$9,$CJ$10)))","v":"--"},null,null,null,null,null,null,null,null,null,{"$f":"IF(FX$19>$Z139,\"--\",IF(FX139=$CP$8,$DA$8,IF(FX139=$CP$9,$DA$9,$DA$10))*IF(GC139=$CD$8,$CJ$8,IF(GC139=$CD$9,$CJ$9,$CJ$10)))","v":"--"}]
[]
[null,null,null,null,null,null,null,null,null,null,null,null,null,null,null,null,null,null,null,"E-W",null,null,null,null,null,6,null,null,null,"On-Street Lane",null,null,null,null,"<20mph",null,null,null,null,"On-Street Lane",null,null,null,null,"<20mph",null,null,null,null,"On-Street Lane",null,null,null,null,"<20mph",null,null,null,null,"On-Street Lane",null,null,null,null,"<20mph",null,null,null,null,"On-Street Lane",null,null,null,null,"<20mph",null,null,null,null,"On-Street Lane",null,null,null,null,"<20mph",null,null,null,null,"On-Street Lane",null,null,null,null,"<20mph",null,null,null,null,"On-Street Lane",null,null,null,null,"<20mph",null,null,null,null,"On-Street Lane",null,null,null,null,"<20mph",null,null,null,null,"On-Street Lane",null,null,null,null,"<20mph",null,null,null,null,"On-Street Lane",null,null,null,null,"<20mph",null,null,null,null,"On-Street Lane",null,null,null,null,"<20mph",null,null,null,null,"Separate Path",null,null,null,null,"<20mph",null,null,null,null,"Separate Path",null,null,null,null,"<20mph",null,null,null,null,"Separate Path",null,null,null,null,"<20mph",null,null,null,null,"Separate Path",null,null,null,null,"<20mph",null,null,null,null,null,null,null,null,{"$f":"IF(GV141<=$BX$11,$BR$11,IF(GV141<=$BX$10,$BR$10,IF(GV141<=$BX$9,$BR$9,$BR$8)))","v":"Excellent"},null,null,null,null,{"$f":"MIN(HA141:ND142)","v":80},null,null,null,null,{"$f":"AVERAGE(HA141:ND142)","v":80},null,null,null,null,{"$f":"IF(AD$19>$Z141,\"--\",IF(AD141=$CP$8,$DA$8,IF(AD141=$CP$9,$DA$9,$DA$10))*IF(AI141=$CD$8,$CJ$8,IF(AI141=$CD$9,$CJ$9,$CJ$10)))","v":80},null,null,null,null,null,null,null,null,null,{"$f":"IF(AN$19>$Z141,\"--\",IF(AN141=$CP$8,$DA$8,IF(AN141=$CP$9,$DA$9,$DA$10))*IF(AS141=$CD$8,$CJ$8,IF(AS141=$CD$9,$CJ$9,$CJ$10)))","v":80},null,null,null,null,null,null,null,null,null,{"$f":"IF(AX$19>$Z141,\"--\",IF(AX141=$CP$8,$DA$8,IF(AX141=$CP$9,$DA$9,$DA$10))*IF(BC141=$CD$8,$CJ$8,IF(BC141=$CD$9,$CJ$9,$CJ$10)))","v":80},null,null,null,null,null,null,null,null,null,{"$f":"IF(BH$19>$Z141,\"--\",IF(BH141=$CP$8,$DA$8,IF(BH141=$CP$9,$DA$9,$DA$10))*IF(BM141=$CD$8,$CJ$8,IF(BM141=$CD$9,$CJ$9,$CJ$10)))","v":80},null,null,null,null,null,null,null,null,null,{"$f":"IF(BR$19>$Z141,\"--\",IF(BR141=$CP$8,$DA$8,IF(BR141=$CP$9,$DA$9,$DA$10))*IF(BW141=$CD$8,$CJ$8,IF(BW141=$CD$9,$CJ$9,$CJ$10)))","v":80},null,null,null,null,null,null,null,null,null,{"$f":"IF(CB$19>$Z141,\"--\",IF(CB141=$CP$8,$DA$8,IF(CB141=$CP$9,$DA$9,$DA$10))*IF(CG141=$CD$8,$CJ$8,IF(CG141=$CD$9,$CJ$9,$CJ$10)))","v":80},null,null,null,null,null,null,null,null,null,{"$f":"IF(CL$19>$Z141,\"--\",IF(CL141=$CP$8,$DA$8,IF(CL141=$CP$9,$DA$9,$DA$10))*IF(CQ141=$CD$8,$CJ$8,IF(CQ141=$CD$9,$CJ$9,$CJ$10)))","v":"--"},null,null,null,null,null,null,null,null,null,{"$f":"IF(CV$19>$Z141,\"--\",IF(CV141=$CP$8,$DA$8,IF(CV141=$CP$9,$DA$9,$DA$10))*IF(DA141=$CD$8,$CJ$8,IF(DA141=$CD$9,$CJ$9,$CJ$10)))","v":"--"},null,null,null,null,null,null,null,null,null,{"$f":"IF(DF$19>$Z141,\"--\",IF(DF141=$CP$8,$DA$8,IF(DF141=$CP$9,$DA$9,$DA$10))*IF(DK141=$CD$8,$CJ$8,IF(DK141=$CD$9,$CJ$9,$CJ$10)))","v":"--"},null,null,null,null,null,null,null,null,null,{"$f":"IF(DP$19>$Z141,\"--\",IF(DP141=$CP$8,$DA$8,IF(DP141=$CP$9,$DA$9,$DA$10))*IF(DU141=$CD$8,$CJ$8,IF(DU141=$CD$9,$CJ$9,$CJ$10)))","v":"--"},null,null,null,null,null,null,null,null,null,{"$f":"IF(DZ$19>$Z141,\"--\",IF(DZ141=$CP$8,$DA$8,IF(DZ141=$CP$9,$DA$9,$DA$10))*IF(EE141=$CD$8,$CJ$8,IF(EE141=$CD$9,$CJ$9,$CJ$10)))","v":"--"},null,null,null,null,null,null,null,null,null,{"$f":"IF(EJ$19>$Z141,\"--\",IF(EJ141=$CP$8,$DA$8,IF(EJ141=$CP$9,$DA$9,$DA$10))*IF(EO141=$CD$8,$CJ$8,IF(EO141=$CD$9,$CJ$9,$CJ$10)))","v":"--"},null,null,null,null,null,null,null,null,null,{"$f":"IF(ET$19>$Z141,\"--\",IF(ET141=$CP$8,$DA$8,IF(ET141=$CP$9,$DA$9,$DA$10))*IF(EY141=$CD$8,$CJ$8,IF(EY141=$CD$9,$CJ$9,$CJ$10)))","v":"--"},null,null,null,null,null,null,null,null,null,{"$f":"IF(FD$19>$Z141,\"--\",IF(FD141=$CP$8,$DA$8,IF(FD141=$CP$9,$DA$9,$DA$10))*IF(FI141=$CD$8,$CJ$8,IF(FI141=$CD$9,$CJ$9,$CJ$10)))","v":"--"},null,null,null,null,null,null,null,null,null,{"$f":"IF(FN$19>$Z141,\"--\",IF(FN141=$CP$8,$DA$8,IF(FN141=$CP$9,$DA$9,$DA$10))*IF(FS141=$CD$8,$CJ$8,IF(FS141=$CD$9,$CJ$9,$CJ$10)))","v":"--"},null,null,null,null,null,null,null,null,null,{"$f":"IF(FX$19>$Z141,\"--\",IF(FX141=$CP$8,$DA$8,IF(FX141=$CP$9,$DA$9,$DA$10))*IF(GC141=$CD$8,$CJ$8,IF(GC141=$CD$9,$CJ$9,$CJ$10)))","v":"--"}]
[]
["Displaced Left Turn",null,null,null,null,null,null,null,null,null,null,null,null,null,null,null,null,null,null,"N-S",null,null,null,null,null,6,null,null,null,"On-Street Lane",null,null,null,null,"<20mph",null,null,null,null,"On-Street Lane",null,null,null,null,"<20mph",null,null,null,null,"On-Street Lane",null,null,null,null,"<20mph",null,null,null,null,"On-Street Lane",null,null,null,null,"<20mph",null,null,null,null,"On-Street Lane",null,null,null,null,"<20mph",null,null,null,null,"On-Street Lane",null,null,null,null,"<20mph",null,null,null,null,"On-Street Lane",null,null,null,null,"<20mph",null,null,null,null,"On-Street Lane",null,null,null,null,"<20mph",null,null,null,null,"On-Street Lane",null,null,null,null,"<20mph",null,null,null,null,"On-Street Lane",null,null,null,null,"<20mph",null,null,null,null,"On-Street Lane",null,null,null,null,"<20mph",null,null,null,null,"On-Street Lane",null,null,null,null,"<20mph",null,null,null,null,"Separate Path",null,null,null,null,"<20mph",null,null,null,null,"Separate Path",null,null,null,null,"<20mph",null,null,null,null,"Separate Path",null,null,null,null,"<20mph",null,null,null,null,"Separate Path",null,null,null,null,"<20mph",null,null,null,null,null,null,null,null,{"$f":"IF(GV143<=$BX$11,$BR$11,IF(GV143<=$BX$10,$BR$10,IF(GV143<=$BX$9,$BR$9,$BR$8)))","v":"Excellent"},null,null,null,null,{"$f":"MIN(HA143:ND144)","v":80},null,null,null,null,{"$f":"AVERAGE(HA143:ND144)","v":80},null,null,null,null,{"$f":"IF(AD$19>$Z143,\"--\",IF(AD143=$CP$8,$DA$8,IF(AD143=$CP$9,$DA$9,$DA$10))*IF(AI143=$CD$8,$CJ$8,IF(AI143=$CD$9,$CJ$9,$CJ$10)))","v":80},null,null,null,null,null,null,null,null,null,{"$f":"IF(AN$19>$Z143,\"--\",IF(AN143=$CP$8,$DA$8,IF(AN143=$CP$9,$DA$9,$DA$10))*IF(AS143=$CD$8,$CJ$8,IF(AS143=$CD$9,$CJ$9,$CJ$10)))","v":80},null,null,null,null,null,null,null,null,null,{"$f":"IF(AX$19>$Z143,\"--\",IF(AX143=$CP$8,$DA$8,IF(AX143=$CP$9,$DA$9,$DA$10))*IF(BC143=$CD$8,$CJ$8,IF(BC143=$CD$9,$CJ$9,$CJ$10)))","v":80},null,null,null,null,null,null,null,null,null,{"$f":"IF(BH$19>$Z143,\"--\",IF(BH143=$CP$8,$DA$8,IF(BH143=$CP$9,$DA$9,$DA$10))*IF(BM143=$CD$8,$CJ$8,IF(BM143=$CD$9,$CJ$9,$CJ$10)))","v":80},null,null,null,null,null,null,null,null,null,{"$f":"IF(BR$19>$Z143,\"--\",IF(BR143=$CP$8,$DA$8,IF(BR143=$CP$9,$DA$9,$DA$10))*IF(BW143=$CD$8,$CJ$8,IF(BW143=$CD$9,$CJ$9,$CJ$10)))","v":80},null,null,null,null,null,null,null,null,null,{"$f":"IF(CB$19>$Z143,\"--\",IF(CB143=$CP$8,$DA$8,IF(CB143=$CP$9,$DA$9,$DA$10))*IF(CG143=$CD$8,$CJ$8,IF(CG143=$CD$9,$CJ$9,$CJ$10)))","v":80},null,null,null,null,null,null,null,null,null,{"$f":"IF(CL$19>$Z143,\"--\",IF(CL143=$CP$8,$DA$8,IF(CL143=$CP$9,$DA$9,$DA$10))*IF(CQ143=$CD$8,$CJ$8,IF(CQ143=$CD$9,$CJ$9,$CJ$10)))","v":"--"},null,null,null,null,null,null,null,null,null,{"$f":"IF(CV$19>$Z143,\"--\",IF(CV143=$CP$8,$DA$8,IF(CV143=$CP$9,$DA$9,$DA$10))*IF(DA143=$CD$8,$CJ$8,IF(DA143=$CD$9,$CJ$9,$CJ$10)))","v":"--"},null,null,null,null,null,null,null,null,null,{"$f":"IF(DF$19>$Z143,\"--\",IF(DF143=$CP$8,$DA$8,IF(DF143=$CP$9,$DA$9,$DA$10))*IF(DK143=$CD$8,$CJ$8,IF(DK143=$CD$9,$CJ$9,$CJ$10)))","v":"--"},null,null,null,null,null,null,null,null,null,{"$f":"IF(DP$19>$Z143,\"--\",IF(DP143=$CP$8,$DA$8,IF(DP143=$CP$9,$DA$9,$DA$10))*IF(DU143=$CD$8,$CJ$8,IF(DU143=$CD$9,$CJ$9,$CJ$10)))","v":"--"},null,null,null,null,null,null,null,null,null,{"$f":"IF(DZ$19>$Z143,\"--\",IF(DZ143=$CP$8,$DA$8,IF(DZ143=$CP$9,$DA$9,$DA$10))*IF(EE143=$CD$8,$CJ$8,IF(EE143=$CD$9,$CJ$9,$CJ$10)))","v":"--"},null,null,null,null,null,null,null,null,null,{"$f":"IF(EJ$19>$Z143,\"--\",IF(EJ143=$CP$8,$DA$8,IF(EJ143=$CP$9,$DA$9,$DA$10))*IF(EO143=$CD$8,$CJ$8,IF(EO143=$CD$9,$CJ$9,$CJ$10)))","v":"--"},null,null,null,null,null,null,null,null,null,{"$f":"IF(ET$19>$Z143,\"--\",IF(ET143=$CP$8,$DA$8,IF(ET143=$CP$9,$DA$9,$DA$10))*IF(EY143=$CD$8,$CJ$8,IF(EY143=$CD$9,$CJ$9,$CJ$10)))","v":"--"},null,null,null,null,null,null,null,null,null,{"$f":"IF(FD$19>$Z143,\"--\",IF(FD143=$CP$8,$DA$8,IF(FD143=$CP$9,$DA$9,$DA$10))*IF(FI143=$CD$8,$CJ$8,IF(FI143=$CD$9,$CJ$9,$CJ$10)))","v":"--"},null,null,null,null,null,null,null,null,null,{"$f":"IF(FN$19>$Z143,\"--\",IF(FN143=$CP$8,$DA$8,IF(FN143=$CP$9,$DA$9,$DA$10))*IF(FS143=$CD$8,$CJ$8,IF(FS143=$CD$9,$CJ$9,$CJ$10)))","v":"--"},null,null,null,null,null,null,null,null,null,{"$f":"IF(FX$19>$Z143,\"--\",IF(FX143=$CP$8,$DA$8,IF(FX143=$CP$9,$DA$9,$DA$10))*IF(GC143=$CD$8,$CJ$8,IF(GC143=$CD$9,$CJ$9,$CJ$10)))","v":"--"}]
[]
[null,null,null,null,null,null,null,null,null,null,null,null,null,null,null,null,null,null,null,"E-W",null,null,null,null,null,6,null,null,null,"On-Street Lane",null,null,null,null,"<20mph",null,null,null,null,"On-Street Lane",null,null,null,null,"<20mph",null,null,null,null,"On-Street Lane",null,null,null,null,"<20mph",null,null,null,null,"On-Street Lane",null,null,null,null,"<20mph",null,null,null,null,"On-Street Lane",null,null,null,null,"<20mph",null,null,null,null,"On-Street Lane",null,null,null,null,"<20mph",null,null,null,null,"On-Street Lane",null,null,null,null,"<20mph",null,null,null,null,"On-Street Lane",null,null,null,null,"<20mph",null,null,null,null,"On-Street Lane",null,null,null,null,"<20mph",null,null,null,null,"On-Street Lane",null,null,null,null,"<20mph",null,null,null,null,"On-Street Lane",null,null,null,null,"<20mph",null,null,null,null,"On-Street Lane",null,null,null,null,"<20mph",null,null,null,null,"Separate Path",null,null,null,null,"<20mph",null,null,null,null,"Separate Path",null,null,null,null,"<20mph",null,null,null,null,"Separate Path",null,null,null,null,"<20mph",null,null,null,null,"Separate Path",null,null,null,null,"<20mph",null,null,null,null,null,null,null,null,{"$f":"IF(GV145<=$BX$11,$BR$11,IF(GV145<=$BX$10,$BR$10,IF(GV145<=$BX$9,$BR$9,$BR$8)))","v":"Excellent"},null,null,null,null,{"$f":"MIN(HA145:ND146)","v":80},null,null,null,null,{"$f":"AVERAGE(HA145:ND146)","v":80},null,null,null,null,{"$f":"IF(AD$19>$Z145,\"--\",IF(AD145=$CP$8,$DA$8,IF(AD145=$CP$9,$DA$9,$DA$10))*IF(AI145=$CD$8,$CJ$8,IF(AI145=$CD$9,$CJ$9,$CJ$10)))","v":80},null,null,null,null,null,null,null,null,null,{"$f":"IF(AN$19>$Z145,\"--\",IF(AN145=$CP$8,$DA$8,IF(AN145=$CP$9,$DA$9,$DA$10))*IF(AS145=$CD$8,$CJ$8,IF(AS145=$CD$9,$CJ$9,$CJ$10)))","v":80},null,null,null,null,null,null,null,null,null,{"$f":"IF(AX$19>$Z145,\"--\",IF(AX145=$CP$8,$DA$8,IF(AX145=$CP$9,$DA$9,$DA$10))*IF(BC145=$CD$8,$CJ$8,IF(BC145=$CD$9,$CJ$9,$CJ$10)))","v":80},null,null,null,null,null,null,null,null,null,{"$f":"IF(BH$19>$Z145,\"--\",IF(BH145=$CP$8,$DA$8,IF(BH145=$CP$9,$DA$9,$DA$10))*IF(BM145=$CD$8,$CJ$8,IF(BM145=$CD$9,$CJ$9,$CJ$10)))","v":80},null,null,null,null,null,null,null,null,null,{"$f":"IF(BR$19>$Z145,\"--\",IF(BR145=$CP$8,$DA$8,IF(BR145=$CP$9,$DA$9,$DA$10))*IF(BW145=$CD$8,$CJ$8,IF(BW145=$CD$9,$CJ$9,$CJ$10)))","v":80},null,null,null,null,null,null,null,null,null,{"$f":"IF(CB$19>$Z145,\"--\",IF(CB145=$CP$8,$DA$8,IF(CB145=$CP$9,$DA$9,$DA$10))*IF(CG145=$CD$8,$CJ$8,IF(CG145=$CD$9,$CJ$9,$CJ$10)))","v":80},null,null,null,null,null,null,null,null,null,{"$f":"IF(CL$19>$Z145,\"--\",IF(CL145=$CP$8,$DA$8,IF(CL145=$CP$9,$DA$9,$DA$10))*IF(CQ145=$CD$8,$CJ$8,IF(CQ145=$CD$9,$CJ$9,$CJ$10)))","v":"--"},null,null,null,null,null,null,null,null,null,{"$f":"IF(CV$19>$Z145,\"--\",IF(CV145=$CP$8,$DA$8,IF(CV145=$CP$9,$DA$9,$DA$10))*IF(DA145=$CD$8,$CJ$8,IF(DA145=$CD$9,$CJ$9,$CJ$10)))","v":"--"},null,null,null,null,null,null,null,null,null,{"$f":"IF(DF$19>$Z145,\"--\",IF(DF145=$CP$8,$DA$8,IF(DF145=$CP$9,$DA$9,$DA$10))*IF(DK145=$CD$8,$CJ$8,IF(DK145=$CD$9,$CJ$9,$CJ$10)))","v":"--"},null,null,null,null,null,null,null,null,null,{"$f":"IF(DP$19>$Z145,\"--\",IF(DP145=$CP$8,$DA$8,IF(DP145=$CP$9,$DA$9,$DA$10))*IF(DU145=$CD$8,$CJ$8,IF(DU145=$CD$9,$CJ$9,$CJ$10)))","v":"--"},null,null,null,null,null,null,null,null,null,{"$f":"IF(DZ$19>$Z145,\"--\",IF(DZ145=$CP$8,$DA$8,IF(DZ145=$CP$9,$DA$9,$DA$10))*IF(EE145=$CD$8,$CJ$8,IF(EE145=$CD$9,$CJ$9,$CJ$10)))","v":"--"},null,null,null,null,null,null,null,null,null,{"$f":"IF(EJ$19>$Z145,\"--\",IF(EJ145=$CP$8,$DA$8,IF(EJ145=$CP$9,$DA$9,$DA$10))*IF(EO145=$CD$8,$CJ$8,IF(EO145=$CD$9,$CJ$9,$CJ$10)))","v":"--"},null,null,null,null,null,null,null,null,null,{"$f":"IF(ET$19>$Z145,\"--\",IF(ET145=$CP$8,$DA$8,IF(ET145=$CP$9,$DA$9,$DA$10))*IF(EY145=$CD$8,$CJ$8,IF(EY145=$CD$9,$CJ$9,$CJ$10)))","v":"--"},null,null,null,null,null,null,null,null,null,{"$f":"IF(FD$19>$Z145,\"--\",IF(FD145=$CP$8,$DA$8,IF(FD145=$CP$9,$DA$9,$DA$10))*IF(FI145=$CD$8,$CJ$8,IF(FI145=$CD$9,$CJ$9,$CJ$10)))","v":"--"},null,null,null,null,null,null,null,null,null,{"$f":"IF(FN$19>$Z145,\"--\",IF(FN145=$CP$8,$DA$8,IF(FN145=$CP$9,$DA$9,$DA$10))*IF(FS145=$CD$8,$CJ$8,IF(FS145=$CD$9,$CJ$9,$CJ$10)))","v":"--"},null,null,null,null,null,null,null,null,null,{"$f":"IF(FX$19>$Z145,\"--\",IF(FX145=$CP$8,$DA$8,IF(FX145=$CP$9,$DA$9,$DA$10))*IF(GC145=$CD$8,$CJ$8,IF(GC145=$CD$9,$CJ$9,$CJ$10)))","v":"--"}]
[]
["Contraflow Left Interchange",null,null,null,null,null,null,null,null,null,null,null,null,null,null,null,null,null,null,"N-S",null,null,null,null,null,6,null,null,null,"On-Street Lane",null,null,null,null,"<20mph",null,null,null,null,"On-Street Lane",null,null,null,null,"<20mph",null,null,null,null,"On-Street Lane",null,null,null,null,"<20mph",null,null,null,null,"On-Street Lane",null,null,null,null,"<20mph",null,null,null,null,"On-Street Lane",null,null,null,null,"<20mph",null,null,null,null,"On-Street Lane",null,null,null,null,"<20mph",null,null,null,null,"On-Street Lane",null,null,null,null,"<20mph",null,null,null,null,"On-Street Lane",null,null,null,null,"<20mph",null,null,null,null,"On-Street Lane",null,null,null,null,"<20mph",null,null,null,null,"On-Street Lane",null,null,null,null,"<20mph",null,null,null,null,"On-Street Lane",null,null,null,null,"<20mph",null,null,null,null,"On-Street Lane",null,null,null,null,"<20mph",null,null,null,null,"Separate Path",null,null,null,null,"<20mph",null,null,null,null,"Separate Path",null,null,null,null,"<20mph",null,null,null,null,"Separate Path",null,null,null,null,"<20mph",null,null,null,null,"Separate Path",null,null,null,null,"<20mph",null,null,null,null,null,null,null,null,{"$f":"IF(GV147<=$BX$11,$BR$11,IF(GV147<=$BX$10,$BR$10,IF(GV147<=$BX$9,$BR$9,$BR$8)))","v":"Excellent"},null,null,null,null,{"$f":"MIN(HA147:ND148)","v":80},null,null,null,null,{"$f":"AVERAGE(HA147:ND148)","v":80},null,null,null,null,{"$f":"IF(AD$19>$Z147,\"--\",IF(AD147=$CP$8,$DA$8,IF(AD147=$CP$9,$DA$9,$DA$10))*IF(AI147=$CD$8,$CJ$8,IF(AI147=$CD$9,$CJ$9,$CJ$10)))","v":80},null,null,null,null,null,null,null,null,null,{"$f":"IF(AN$19>$Z147,\"--\",IF(AN147=$CP$8,$DA$8,IF(AN147=$CP$9,$DA$9,$DA$10))*IF(AS147=$CD$8,$CJ$8,IF(AS147=$CD$9,$CJ$9,$CJ$10)))","v":80},null,null,null,null,null,null,null,null,null,{"$f":"IF(AX$19>$Z147,\"--\",IF(AX147=$CP$8,$DA$8,IF(AX147=$CP$9,$DA$9,$DA$10))*IF(BC147=$CD$8,$CJ$8,IF(BC147=$CD$9,$CJ$9,$CJ$10)))","v":80},null,null,null,null,null,null,null,null,null,{"$f":"IF(BH$19>$Z147,\"--\",IF(BH147=$CP$8,$DA$8,IF(BH147=$CP$9,$DA$9,$DA$10))*IF(BM147=$CD$8,$CJ$8,IF(BM147=$CD$9,$CJ$9,$CJ$10)))","v":80},null,null,null,null,null,null,null,null,null,{"$f":"IF(BR$19>$Z147,\"--\",IF(BR147=$CP$8,$DA$8,IF(BR147=$CP$9,$DA$9,$DA$10))*IF(BW147=$CD$8,$CJ$8,IF(BW147=$CD$9,$CJ$9,$CJ$10)))","v":80},null,null,null,null,null,null,null,null,null,{"$f":"IF(CB$19>$Z147,\"--\",IF(CB147=$CP$8,$DA$8,IF(CB147=$CP$9,$DA$9,$DA$10))*IF(CG147=$CD$8,$CJ$8,IF(CG147=$CD$9,$CJ$9,$CJ$10)))","v":80},null,null,null,null,null,null,null,null,null,{"$f":"IF(CL$19>$Z147,\"--\",IF(CL147=$CP$8,$DA$8,IF(CL147=$CP$9,$DA$9,$DA$10))*IF(CQ147=$CD$8,$CJ$8,IF(CQ147=$CD$9,$CJ$9,$CJ$10)))","v":"--"},null,null,null,null,null,null,null,null,null,{"$f":"IF(CV$19>$Z147,\"--\",IF(CV147=$CP$8,$DA$8,IF(CV147=$CP$9,$DA$9,$DA$10))*IF(DA147=$CD$8,$CJ$8,IF(DA147=$CD$9,$CJ$9,$CJ$10)))","v":"--"},null,null,null,null,null,null,null,null,null,{"$f":"IF(DF$19>$Z147,\"--\",IF(DF147=$CP$8,$DA$8,IF(DF147=$CP$9,$DA$9,$DA$10))*IF(DK147=$CD$8,$CJ$8,IF(DK147=$CD$9,$CJ$9,$CJ$10)))","v":"--"},null,null,null,null,null,null,null,null,null,{"$f":"IF(DP$19>$Z147,\"--\",IF(DP147=$CP$8,$DA$8,IF(DP147=$CP$9,$DA$9,$DA$10))*IF(DU147=$CD$8,$CJ$8,IF(DU147=$CD$9,$CJ$9,$CJ$10)))","v":"--"},null,null,null,null,null,null,null,null,null,{"$f":"IF(DZ$19>$Z147,\"--\",IF(DZ147=$CP$8,$DA$8,IF(DZ147=$CP$9,$DA$9,$DA$10))*IF(EE147=$CD$8,$CJ$8,IF(EE147=$CD$9,$CJ$9,$CJ$10)))","v":"--"},null,null,null,null,null,null,null,null,null,{"$f":"IF(EJ$19>$Z147,\"--\",IF(EJ147=$CP$8,$DA$8,IF(EJ147=$CP$9,$DA$9,$DA$10))*IF(EO147=$CD$8,$CJ$8,IF(EO147=$CD$9,$CJ$9,$CJ$10)))","v":"--"},null,null,null,null,null,null,null,null,null,{"$f":"IF(ET$19>$Z147,\"--\",IF(ET147=$CP$8,$DA$8,IF(ET147=$CP$9,$DA$9,$DA$10))*IF(EY147=$CD$8,$CJ$8,IF(EY147=$CD$9,$CJ$9,$CJ$10)))","v":"--"},null,null,null,null,null,null,null,null,null,{"$f":"IF(FD$19>$Z147,\"--\",IF(FD147=$CP$8,$DA$8,IF(FD147=$CP$9,$DA$9,$DA$10))*IF(FI147=$CD$8,$CJ$8,IF(FI147=$CD$9,$CJ$9,$CJ$10)))","v":"--"},null,null,null,null,null,null,null,null,null,{"$f":"IF(FN$19>$Z147,\"--\",IF(FN147=$CP$8,$DA$8,IF(FN147=$CP$9,$DA$9,$DA$10))*IF(FS147=$CD$8,$CJ$8,IF(FS147=$CD$9,$CJ$9,$CJ$10)))","v":"--"},null,null,null,null,null,null,null,null,null,{"$f":"IF(FX$19>$Z147,\"--\",IF(FX147=$CP$8,$DA$8,IF(FX147=$CP$9,$DA$9,$DA$10))*IF(GC147=$CD$8,$CJ$8,IF(GC147=$CD$9,$CJ$9,$CJ$10)))","v":"--"}]
[]
[null,null,null,null,null,null,null,null,null,null,null,null,null,null,null,null,null,null,null,"E-W",null,null,null,null,null,6,null,null,null,"On-Street Lane",null,null,null,null,"<20mph",null,null,null,null,"On-Street Lane",null,null,null,null,"<20mph",null,null,null,null,"On-Street Lane",null,null,null,null,"<20mph",null,null,null,null,"On-Street Lane",null,null,null,null,"<20mph",null,null,null,null,"On-Street Lane",null,null,null,null,"<20mph",null,null,null,null,"On-Street Lane",null,null,null,null,"<20mph",null,null,null,null,"On-Street Lane",null,null,null,null,"<20mph",null,null,null,null,"On-Street Lane",null,null,null,null,"<20mph",null,null,null,null,"On-Street Lane",null,null,null,null,"<20mph",null,null,null,null,"On-Street Lane",null,null,null,null,"<20mph",null,null,null,null,"On-Street Lane",null,null,null,null,"<20mph",null,null,null,null,"On-Street Lane",null,null,null,null,"<20mph",null,null,null,null,"Separate Path",null,null,null,null,"<20mph",null,null,null,null,"Separate Path",null,null,null,null,"<20mph",null,null,null,null,"Separate Path",null,null,null,null,"<20mph",null,null,null,null,"Separate Path",null,null,null,null,"<20mph",null,null,null,null,null,null,null,null,{"$f":"IF(GV149<=$BX$11,$BR$11,IF(GV149<=$BX$10,$BR$10,IF(GV149<=$BX$9,$BR$9,$BR$8)))","v":"Excellent"},null,null,null,null,{"$f":"MIN(HA149:ND150)","v":80},null,null,null,null,{"$f":"AVERAGE(HA149:ND150)","v":80},null,null,null,null,{"$f":"IF(AD$19>$Z149,\"--\",IF(AD149=$CP$8,$DA$8,IF(AD149=$CP$9,$DA$9,$DA$10))*IF(AI149=$CD$8,$CJ$8,IF(AI149=$CD$9,$CJ$9,$CJ$10)))","v":80},null,null,null,null,null,null,null,null,null,{"$f":"IF(AN$19>$Z149,\"--\",IF(AN149=$CP$8,$DA$8,IF(AN149=$CP$9,$DA$9,$DA$10))*IF(AS149=$CD$8,$CJ$8,IF(AS149=$CD$9,$CJ$9,$CJ$10)))","v":80},null,null,null,null,null,null,null,null,null,{"$f":"IF(AX$19>$Z149,\"--\",IF(AX149=$CP$8,$DA$8,IF(AX149=$CP$9,$DA$9,$DA$10))*IF(BC149=$CD$8,$CJ$8,IF(BC149=$CD$9,$CJ$9,$CJ$10)))","v":80},null,null,null,null,null,null,null,null,null,{"$f":"IF(BH$19>$Z149,\"--\",IF(BH149=$CP$8,$DA$8,IF(BH149=$CP$9,$DA$9,$DA$10))*IF(BM149=$CD$8,$CJ$8,IF(BM149=$CD$9,$CJ$9,$CJ$10)))","v":80},null,null,null,null,null,null,null,null,null,{"$f":"IF(BR$19>$Z149,\"--\",IF(BR149=$CP$8,$DA$8,IF(BR149=$CP$9,$DA$9,$DA$10))*IF(BW149=$CD$8,$CJ$8,IF(BW149=$CD$9,$CJ$9,$CJ$10)))","v":80},null,null,null,null,null,null,null,null,null,{"$f":"IF(CB$19>$Z149,\"--\",IF(CB149=$CP$8,$DA$8,IF(CB149=$CP$9,$DA$9,$DA$10))*IF(CG149=$CD$8,$CJ$8,IF(CG149=$CD$9,$CJ$9,$CJ$10)))","v":80},null,null,null,null,null,null,null,null,null,{"$f":"IF(CL$19>$Z149,\"--\",IF(CL149=$CP$8,$DA$8,IF(CL149=$CP$9,$DA$9,$DA$10))*IF(CQ149=$CD$8,$CJ$8,IF(CQ149=$CD$9,$CJ$9,$CJ$10)))","v":"--"},null,null,null,null,null,null,null,null,null,{"$f":"IF(CV$19>$Z149,\"--\",IF(CV149=$CP$8,$DA$8,IF(CV149=$CP$9,$DA$9,$DA$10))*IF(DA149=$CD$8,$CJ$8,IF(DA149=$CD$9,$CJ$9,$CJ$10)))","v":"--"},null,null,null,null,null,null,null,null,null,{"$f":"IF(DF$19>$Z149,\"--\",IF(DF149=$CP$8,$DA$8,IF(DF149=$CP$9,$DA$9,$DA$10))*IF(DK149=$CD$8,$CJ$8,IF(DK149=$CD$9,$CJ$9,$CJ$10)))","v":"--"},null,null,null,null,null,null,null,null,null,{"$f":"IF(DP$19>$Z149,\"--\",IF(DP149=$CP$8,$DA$8,IF(DP149=$CP$9,$DA$9,$DA$10))*IF(DU149=$CD$8,$CJ$8,IF(DU149=$CD$9,$CJ$9,$CJ$10)))","v":"--"},null,null,null,null,null,null,null,null,null,{"$f":"IF(DZ$19>$Z149,\"--\",IF(DZ149=$CP$8,$DA$8,IF(DZ149=$CP$9,$DA$9,$DA$10))*IF(EE149=$CD$8,$CJ$8,IF(EE149=$CD$9,$CJ$9,$CJ$10)))","v":"--"},null,null,null,null,null,null,null,null,null,{"$f":"IF(EJ$19>$Z149,\"--\",IF(EJ149=$CP$8,$DA$8,IF(EJ149=$CP$9,$DA$9,$DA$10))*IF(EO149=$CD$8,$CJ$8,IF(EO149=$CD$9,$CJ$9,$CJ$10)))","v":"--"},null,null,null,null,null,null,null,null,null,{"$f":"IF(ET$19>$Z149,\"--\",IF(ET149=$CP$8,$DA$8,IF(ET149=$CP$9,$DA$9,$DA$10))*IF(EY149=$CD$8,$CJ$8,IF(EY149=$CD$9,$CJ$9,$CJ$10)))","v":"--"},null,null,null,null,null,null,null,null,null,{"$f":"IF(FD$19>$Z149,\"--\",IF(FD149=$CP$8,$DA$8,IF(FD149=$CP$9,$DA$9,$DA$10))*IF(FI149=$CD$8,$CJ$8,IF(FI149=$CD$9,$CJ$9,$CJ$10)))","v":"--"},null,null,null,null,null,null,null,null,null,{"$f":"IF(FN$19>$Z149,\"--\",IF(FN149=$CP$8,$DA$8,IF(FN149=$CP$9,$DA$9,$DA$10))*IF(FS149=$CD$8,$CJ$8,IF(FS149=$CD$9,$CJ$9,$CJ$10)))","v":"--"},null,null,null,null,null,null,null,null,null,{"$f":"IF(FX$19>$Z149,\"--\",IF(FX149=$CP$8,$DA$8,IF(FX149=$CP$9,$DA$9,$DA$10))*IF(GC149=$CD$8,$CJ$8,IF(GC149=$CD$9,$CJ$9,$CJ$10)))","v":"--"}]
[]
["Diverging Diamond Interchange",null,null,null,null,null,null,null,null,null,null,null,null,null,null,null,null,null,null,"N-S",null,null,null,null,null,6,null,null,null,"On-Street Lane",null,null,null,null,"<20mph",null,null,null,null,"On-Street Lane",null,null,null,null,"<20mph",null,null,null,null,"On-Street Lane",null,null,null,null,"<20mph",null,null,null,null,"On-Street Lane",null,null,null,null,"<20mph",null,null,null,null,"On-Street Lane",null,null,null,null,"<20mph",null,null,null,null,"On-Street Lane",null,null,null,null,"<20mph",null,null,null,null,"On-Street Lane",null,null,null,null,"<20mph",null,null,null,null,"On-Street Lane",null,null,null,null,"<20mph",null,null,null,null,"On-Street Lane",null,null,null,null,"<20mph",null,null,null,null,"On-Street Lane",null,null,null,null,"<20mph",null,null,null,null,"On-Street Lane",null,null,null,null,"<20mph",null,null,null,null,"On-Street Lane",null,null,null,null,"<20mph",null,null,null,null,"Separate Path",null,null,null,null,"<20mph",null,null,null,null,"Separate Path",null,null,null,null,"<20mph",null,null,null,null,"Separate Path",null,null,null,null,"<20mph",null,null,null,null,"Separate Path",null,null,null,null,"<20mph",null,null,null,null,null,null,null,null,{"$f":"IF(GV151<=$BX$11,$BR$11,IF(GV151<=$BX$10,$BR$10,IF(GV151<=$BX$9,$BR$9,$BR$8)))","v":"Excellent"},null,null,null,null,{"$f":"MIN(HA151:ND152)","v":80},null,null,null,null,{"$f":"AVERAGE(HA151:ND152)","v":80},null,null,null,null,{"$f":"IF(AD$19>$Z151,\"--\",IF(AD151=$CP$8,$DA$8,IF(AD151=$CP$9,$DA$9,$DA$10))*IF(AI151=$CD$8,$CJ$8,IF(AI151=$CD$9,$CJ$9,$CJ$10)))","v":80},null,null,null,null,null,null,null,null,null,{"$f":"IF(AN$19>$Z151,\"--\",IF(AN151=$CP$8,$DA$8,IF(AN151=$CP$9,$DA$9,$DA$10))*IF(AS151=$CD$8,$CJ$8,IF(AS151=$CD$9,$CJ$9,$CJ$10)))","v":80},null,null,null,null,null,null,null,null,null,{"$f":"IF(AX$19>$Z151,\"--\",IF(AX151=$CP$8,$DA$8,IF(AX151=$CP$9,$DA$9,$DA$10))*IF(BC151=$CD$8,$CJ$8,IF(BC151=$CD$9,$CJ$9,$CJ$10)))","v":80},null,null,null,null,null,null,null,null,null,{"$f":"IF(BH$19>$Z151,\"--\",IF(BH151=$CP$8,$DA$8,IF(BH151=$CP$9,$DA$9,$DA$10))*IF(BM151=$CD$8,$CJ$8,IF(BM151=$CD$9,$CJ$9,$CJ$10)))","v":80},null,null,null,null,null,null,null,null,null,{"$f":"IF(BR$19>$Z151,\"--\",IF(BR151=$CP$8,$DA$8,IF(BR151=$CP$9,$DA$9,$DA$10))*IF(BW151=$CD$8,$CJ$8,IF(BW151=$CD$9,$CJ$9,$CJ$10)))","v":80},null,null,null,null,null,null,null,null,null,{"$f":"IF(CB$19>$Z151,\"--\",IF(CB151=$CP$8,$DA$8,IF(CB151=$CP$9,$DA$9,$DA$10))*IF(CG151=$CD$8,$CJ$8,IF(CG151=$CD$9,$CJ$9,$CJ$10)))","v":80},null,null,null,null,null,null,null,null,null,{"$f":"IF(CL$19>$Z151,\"--\",IF(CL151=$CP$8,$DA$8,IF(CL151=$CP$9,$DA$9,$DA$10))*IF(CQ151=$CD$8,$CJ$8,IF(CQ151=$CD$9,$CJ$9,$CJ$10)))","v":"--"},null,null,null,null,null,null,null,null,null,{"$f":"IF(CV$19>$Z151,\"--\",IF(CV151=$CP$8,$DA$8,IF(CV151=$CP$9,$DA$9,$DA$10))*IF(DA151=$CD$8,$CJ$8,IF(DA151=$CD$9,$CJ$9,$CJ$10)))","v":"--"},null,null,null,null,null,null,null,null,null,{"$f":"IF(DF$19>$Z151,\"--\",IF(DF151=$CP$8,$DA$8,IF(DF151=$CP$9,$DA$9,$DA$10))*IF(DK151=$CD$8,$CJ$8,IF(DK151=$CD$9,$CJ$9,$CJ$10)))","v":"--"},null,null,null,null,null,null,null,null,null,{"$f":"IF(DP$19>$Z151,\"--\",IF(DP151=$CP$8,$DA$8,IF(DP151=$CP$9,$DA$9,$DA$10))*IF(DU151=$CD$8,$CJ$8,IF(DU151=$CD$9,$CJ$9,$CJ$10)))","v":"--"},null,null,null,null,null,null,null,null,null,{"$f":"IF(DZ$19>$Z151,\"--\",IF(DZ151=$CP$8,$DA$8,IF(DZ151=$CP$9,$DA$9,$DA$10))*IF(EE151=$CD$8,$CJ$8,IF(EE151=$CD$9,$CJ$9,$CJ$10)))","v":"--"},null,null,null,null,null,null,null,null,null,{"$f":"IF(EJ$19>$Z151,\"--\",IF(EJ151=$CP$8,$DA$8,IF(EJ151=$CP$9,$DA$9,$DA$10))*IF(EO151=$CD$8,$CJ$8,IF(EO151=$CD$9,$CJ$9,$CJ$10)))","v":"--"},null,null,null,null,null,null,null,null,null,{"$f":"IF(ET$19>$Z151,\"--\",IF(ET151=$CP$8,$DA$8,IF(ET151=$CP$9,$DA$9,$DA$10))*IF(EY151=$CD$8,$CJ$8,IF(EY151=$CD$9,$CJ$9,$CJ$10)))","v":"--"},null,null,null,null,null,null,null,null,null,{"$f":"IF(FD$19>$Z151,\"--\",IF(FD151=$CP$8,$DA$8,IF(FD151=$CP$9,$DA$9,$DA$10))*IF(FI151=$CD$8,$CJ$8,IF(FI151=$CD$9,$CJ$9,$CJ$10)))","v":"--"},null,null,null,null,null,null,null,null,null,{"$f":"IF(FN$19>$Z151,\"--\",IF(FN151=$CP$8,$DA$8,IF(FN151=$CP$9,$DA$9,$DA$10))*IF(FS151=$CD$8,$CJ$8,IF(FS151=$CD$9,$CJ$9,$CJ$10)))","v":"--"},null,null,null,null,null,null,null,null,null,{"$f":"IF(FX$19>$Z151,\"--\",IF(FX151=$CP$8,$DA$8,IF(FX151=$CP$9,$DA$9,$DA$10))*IF(GC151=$CD$8,$CJ$8,IF(GC151=$CD$9,$CJ$9,$CJ$10)))","v":"--"}]
[]
[null,null,null,null,null,null,null,null,null,null,null,null,null,null,null,null,null,null,null,"E-W",null,null,null,null,null,6,null,null,null,"On-Street Lane",null,null,null,null,"<20mph",null,null,null,null,"On-Street Lane",null,null,null,null,"<20mph",null,null,null,null,"On-Street Lane",null,null,null,null,"<20mph",null,null,null,null,"On-Street Lane",null,null,null,null,"<20mph",null,null,null,null,"On-Street Lane",null,null,null,null,"<20mph",null,null,null,null,"On-Street Lane",null,null,null,null,"<20mph",null,null,null,null,"On-Street Lane",null,null,null,null,"<20mph",null,null,null,null,"On-Street Lane",null,null,null,null,"<20mph",null,null,null,null,"On-Street Lane",null,null,null,null,"<20mph",null,null,null,null,"On-Street Lane",null,null,null,null,"<20mph",null,null,null,null,"On-Street Lane",null,null,null,null,"<20mph",null,null,null,null,"On-Street Lane",null,null,null,null,"<20mph",null,null,null,null,"Separate Path",null,null,null,null,"<20mph",null,null,null,null,"Separate Path",null,null,null,null,"<20mph",null,null,null,null,"Separate Path",null,null,null,null,"<20mph",null,null,null,null,"Separate Path",null,null,null,null,"<20mph",null,null,null,null,null,null,null,null,{"$f":"IF(GV153<=$BX$11,$BR$11,IF(GV153<=$BX$10,$BR$10,IF(GV153<=$BX$9,$BR$9,$BR$8)))","v":"Excellent"},null,null,null,null,{"$f":"MIN(HA153:ND154)","v":80},null,null,null,null,{"$f":"AVERAGE(HA153:ND154)","v":80},null,null,null,null,{"$f":"IF(AD$19>$Z153,\"--\",IF(AD153=$CP$8,$DA$8,IF(AD153=$CP$9,$DA$9,$DA$10))*IF(AI153=$CD$8,$CJ$8,IF(AI153=$CD$9,$CJ$9,$CJ$10)))","v":80},null,null,null,null,null,null,null,null,null,{"$f":"IF(AN$19>$Z153,\"--\",IF(AN153=$CP$8,$DA$8,IF(AN153=$CP$9,$DA$9,$DA$10))*IF(AS153=$CD$8,$CJ$8,IF(AS153=$CD$9,$CJ$9,$CJ$10)))","v":80},null,null,null,null,null,null,null,null,null,{"$f":"IF(AX$19>$Z153,\"--\",IF(AX153=$CP$8,$DA$8,IF(AX153=$CP$9,$DA$9,$DA$10))*IF(BC153=$CD$8,$CJ$8,IF(BC153=$CD$9,$CJ$9,$CJ$10)))","v":80},null,null,null,null,null,null,null,null,null,{"$f":"IF(BH$19>$Z153,\"--\",IF(BH153=$CP$8,$DA$8,IF(BH153=$CP$9,$DA$9,$DA$10))*IF(BM153=$CD$8,$CJ$8,IF(BM153=$CD$9,$CJ$9,$CJ$10)))","v":80},null,null,null,null,null,null,null,null,null,{"$f":"IF(BR$19>$Z153,\"--\",IF(BR153=$CP$8,$DA$8,IF(BR153=$CP$9,$DA$9,$DA$10))*IF(BW153=$CD$8,$CJ$8,IF(BW153=$CD$9,$CJ$9,$CJ$10)))","v":80},null,null,null,null,null,null,null,null,null,{"$f":"IF(CB$19>$Z153,\"--\",IF(CB153=$CP$8,$DA$8,IF(CB153=$CP$9,$DA$9,$DA$10))*IF(CG153=$CD$8,$CJ$8,IF(CG153=$CD$9,$CJ$9,$CJ$10)))","v":80},null,null,null,null,null,null,null,null,null,{"$f":"IF(CL$19>$Z153,\"--\",IF(CL153=$CP$8,$DA$8,IF(CL153=$CP$9,$DA$9,$DA$10))*IF(CQ153=$CD$8,$CJ$8,IF(CQ153=$CD$9,$CJ$9,$CJ$10)))","v":"--"},null,null,null,null,null,null,null,null,null,{"$f":"IF(CV$19>$Z153,\"--\",IF(CV153=$CP$8,$DA$8,IF(CV153=$CP$9,$DA$9,$DA$10))*IF(DA153=$CD$8,$CJ$8,IF(DA153=$CD$9,$CJ$9,$CJ$10)))","v":"--"},null,null,null,null,null,null,null,null,null,{"$f":"IF(DF$19>$Z153,\"--\",IF(DF153=$CP$8,$DA$8,IF(DF153=$CP$9,$DA$9,$DA$10))*IF(DK153=$CD$8,$CJ$8,IF(DK153=$CD$9,$CJ$9,$CJ$10)))","v":"--"},null,null,null,null,null,null,null,null,null,{"$f":"IF(DP$19>$Z153,\"--\",IF(DP153=$CP$8,$DA$8,IF(DP153=$CP$9,$DA$9,$DA$10))*IF(DU153=$CD$8,$CJ$8,IF(DU153=$CD$9,$CJ$9,$CJ$10)))","v":"--"},null,null,null,null,null,null,null,null,null,{"$f":"IF(DZ$19>$Z153,\"--\",IF(DZ153=$CP$8,$DA$8,IF(DZ153=$CP$9,$DA$9,$DA$10))*IF(EE153=$CD$8,$CJ$8,IF(EE153=$CD$9,$CJ$9,$CJ$10)))","v":"--"},null,null,null,null,null,null,null,null,null,{"$f":"IF(EJ$19>$Z153,\"--\",IF(EJ153=$CP$8,$DA$8,IF(EJ153=$CP$9,$DA$9,$DA$10))*IF(EO153=$CD$8,$CJ$8,IF(EO153=$CD$9,$CJ$9,$CJ$10)))","v":"--"},null,null,null,null,null,null,null,null,null,{"$f":"IF(ET$19>$Z153,\"--\",IF(ET153=$CP$8,$DA$8,IF(ET153=$CP$9,$DA$9,$DA$10))*IF(EY153=$CD$8,$CJ$8,IF(EY153=$CD$9,$CJ$9,$CJ$10)))","v":"--"},null,null,null,null,null,null,null,null,null,{"$f":"IF(FD$19>$Z153,\"--\",IF(FD153=$CP$8,$DA$8,IF(FD153=$CP$9,$DA$9,$DA$10))*IF(FI153=$CD$8,$CJ$8,IF(FI153=$CD$9,$CJ$9,$CJ$10)))","v":"--"},null,null,null,null,null,null,null,null,null,{"$f":"IF(FN$19>$Z153,\"--\",IF(FN153=$CP$8,$DA$8,IF(FN153=$CP$9,$DA$9,$DA$10))*IF(FS153=$CD$8,$CJ$8,IF(FS153=$CD$9,$CJ$9,$CJ$10)))","v":"--"},null,null,null,null,null,null,null,null,null,{"$f":"IF(FX$19>$Z153,\"--\",IF(FX153=$CP$8,$DA$8,IF(FX153=$CP$9,$DA$9,$DA$10))*IF(GC153=$CD$8,$CJ$8,IF(GC153=$CD$9,$CJ$9,$CJ$10)))","v":"--"}]
[]
["Single Point ",null,null,null,null,null,null,null,null,null,null,null,null,null,null,null,null,null,null,"N-S",null,null,null,null,null,6,null,null,null,"On-Street Lane",null,null,null,null,"<20mph",null,null,null,null,"On-Street Lane",null,null,null,null,"<20mph",null,null,null,null,"On-Street Lane",null,null,null,null,"<20mph",null,null,null,null,"On-Street Lane",null,null,null,null,"<20mph",null,null,null,null,"On-Street Lane",null,null,null,null,"<20mph",null,null,null,null,"On-Street Lane",null,null,null,null,"<20mph",null,null,null,null,"On-Street Lane",null,null,null,null,"<20mph",null,null,null,null,"On-Street Lane",null,null,null,null,"<20mph",null,null,null,null,"On-Street Lane",null,null,null,null,"<20mph",null,null,null,null,"On-Street Lane",null,null,null,null,"<20mph",null,null,null,null,"On-Street Lane",null,null,null,null,"<20mph",null,null,null,null,"On-Street Lane",null,null,null,null,"<20mph",null,null,null,null,"Separate Path",null,null,null,null,"<20mph",null,null,null,null,"Separate Path",null,null,null,null,"<20mph",null,null,null,null,"Separate Path",null,null,null,null,"<20mph",null,null,null,null,"Separate Path",null,null,null,null,"<20mph",null,null,null,null,null,null,null,null,{"$f":"IF(GV155<=$BX$11,$BR$11,IF(GV155<=$BX$10,$BR$10,IF(GV155<=$BX$9,$BR$9,$BR$8)))","v":"Excellent"},null,null,null,null,{"$f":"MIN(HA155:ND156)","v":80},null,null,null,null,{"$f":"AVERAGE(HA155:ND156)","v":80},null,null,null,null,{"$f":"IF(AD$19>$Z155,\"--\",IF(AD155=$CP$8,$DA$8,IF(AD155=$CP$9,$DA$9,$DA$10))*IF(AI155=$CD$8,$CJ$8,IF(AI155=$CD$9,$CJ$9,$CJ$10)))","v":80},null,null,null,null,null,null,null,null,null,{"$f":"IF(AN$19>$Z155,\"--\",IF(AN155=$CP$8,$DA$8,IF(AN155=$CP$9,$DA$9,$DA$10))*IF(AS155=$CD$8,$CJ$8,IF(AS155=$CD$9,$CJ$9,$CJ$10)))","v":80},null,null,null,null,null,null,null,null,null,{"$f":"IF(AX$19>$Z155,\"--\",IF(AX155=$CP$8,$DA$8,IF(AX155=$CP$9,$DA$9,$DA$10))*IF(BC155=$CD$8,$CJ$8,IF(BC155=$CD$9,$CJ$9,$CJ$10)))","v":80},null,null,null,null,null,null,null,null,null,{"$f":"IF(BH$19>$Z155,\"--\",IF(BH155=$CP$8,$DA$8,IF(BH155=$CP$9,$DA$9,$DA$10))*IF(BM155=$CD$8,$CJ$8,IF(BM155=$CD$9,$CJ$9,$CJ$10)))","v":80},null,null,null,null,null,null,null,null,null,{"$f":"IF(BR$19>$Z155,\"--\",IF(BR155=$CP$8,$DA$8,IF(BR155=$CP$9,$DA$9,$DA$10))*IF(BW155=$CD$8,$CJ$8,IF(BW155=$CD$9,$CJ$9,$CJ$10)))","v":80},null,null,null,null,null,null,null,null,null,{"$f":"IF(CB$19>$Z155,\"--\",IF(CB155=$CP$8,$DA$8,IF(CB155=$CP$9,$DA$9,$DA$10))*IF(CG155=$CD$8,$CJ$8,IF(CG155=$CD$9,$CJ$9,$CJ$10)))","v":80},null,null,null,null,null,null,null,null,null,{"$f":"IF(CL$19>$Z155,\"--\",IF(CL155=$CP$8,$DA$8,IF(CL155=$CP$9,$DA$9,$DA$10))*IF(CQ155=$CD$8,$CJ$8,IF(CQ155=$CD$9,$CJ$9,$CJ$10)))","v":"--"},null,null,null,null,null,null,null,null,null,{"$f":"IF(CV$19>$Z155,\"--\",IF(CV155=$CP$8,$DA$8,IF(CV155=$CP$9,$DA$9,$DA$10))*IF(DA155=$CD$8,$CJ$8,IF(DA155=$CD$9,$CJ$9,$CJ$10)))","v":"--"},null,null,null,null,null,null,null,null,null,{"$f":"IF(DF$19>$Z155,\"--\",IF(DF155=$CP$8,$DA$8,IF(DF155=$CP$9,$DA$9,$DA$10))*IF(DK155=$CD$8,$CJ$8,IF(DK155=$CD$9,$CJ$9,$CJ$10)))","v":"--"},null,null,null,null,null,null,null,null,null,{"$f":"IF(DP$19>$Z155,\"--\",IF(DP155=$CP$8,$DA$8,IF(DP155=$CP$9,$DA$9,$DA$10))*IF(DU155=$CD$8,$CJ$8,IF(DU155=$CD$9,$CJ$9,$CJ$10)))","v":"--"},null,null,null,null,null,null,null,null,null,{"$f":"IF(DZ$19>$Z155,\"--\",IF(DZ155=$CP$8,$DA$8,IF(DZ155=$CP$9,$DA$9,$DA$10))*IF(EE155=$CD$8,$CJ$8,IF(EE155=$CD$9,$CJ$9,$CJ$10)))","v":"--"},null,null,null,null,null,null,null,null,null,{"$f":"IF(EJ$19>$Z155,\"--\",IF(EJ155=$CP$8,$DA$8,IF(EJ155=$CP$9,$DA$9,$DA$10))*IF(EO155=$CD$8,$CJ$8,IF(EO155=$CD$9,$CJ$9,$CJ$10)))","v":"--"},null,null,null,null,null,null,null,null,null,{"$f":"IF(ET$19>$Z155,\"--\",IF(ET155=$CP$8,$DA$8,IF(ET155=$CP$9,$DA$9,$DA$10))*IF(EY155=$CD$8,$CJ$8,IF(EY155=$CD$9,$CJ$9,$CJ$10)))","v":"--"},null,null,null,null,null,null,null,null,null,{"$f":"IF(FD$19>$Z155,\"--\",IF(FD155=$CP$8,$DA$8,IF(FD155=$CP$9,$DA$9,$DA$10))*IF(FI155=$CD$8,$CJ$8,IF(FI155=$CD$9,$CJ$9,$CJ$10)))","v":"--"},null,null,null,null,null,null,null,null,null,{"$f":"IF(FN$19>$Z155,\"--\",IF(FN155=$CP$8,$DA$8,IF(FN155=$CP$9,$DA$9,$DA$10))*IF(FS155=$CD$8,$CJ$8,IF(FS155=$CD$9,$CJ$9,$CJ$10)))","v":"--"},null,null,null,null,null,null,null,null,null,{"$f":"IF(FX$19>$Z155,\"--\",IF(FX155=$CP$8,$DA$8,IF(FX155=$CP$9,$DA$9,$DA$10))*IF(GC155=$CD$8,$CJ$8,IF(GC155=$CD$9,$CJ$9,$CJ$10)))","v":"--"}]
[]
[null,null,null,null,null,null,null,null,null,null,null,null,null,null,null,null,null,null,null,"E-W",null,null,null,null,null,6,null,null,null,"On-Street Lane",null,null,null,null,"<20mph",null,null,null,null,"On-Street Lane",null,null,null,null,"<20mph",null,null,null,null,"On-Street Lane",null,null,null,null,"<20mph",null,null,null,null,"On-Street Lane",null,null,null,null,"<20mph",null,null,null,null,"On-Street Lane",null,null,null,null,"<20mph",null,null,null,null,"On-Street Lane",null,null,null,null,"<20mph",null,null,null,null,"On-Street Lane",null,null,null,null,"<20mph",null,null,null,null,"On-Street Lane",null,null,null,null,"<20mph",null,null,null,null,"On-Street Lane",null,null,null,null,"<20mph",null,null,null,null,"On-Street Lane",null,null,null,null,"<20mph",null,null,null,null,"On-Street Lane",null,null,null,null,"<20mph",null,null,null,null,"On-Street Lane",null,null,null,null,"<20mph",null,null,null,null,"Separate Path",null,null,null,null,"<20mph",null,null,null,null,"Separate Path",null,null,null,null,"<20mph",null,null,null,null,"Separate Path",null,null,null,null,"<20mph",null,null,null,null,"Separate Path",null,null,null,null,"<20mph",null,null,null,null,null,null,null,null,{"$f":"IF(GV157<=$BX$11,$BR$11,IF(GV157<=$BX$10,$BR$10,IF(GV157<=$BX$9,$BR$9,$BR$8)))","v":"Excellent"},null,null,null,null,{"$f":"MIN(HA157:ND158)","v":80},null,null,null,null,{"$f":"AVERAGE(HA157:ND158)","v":80},null,null,null,null,{"$f":"IF(AD$19>$Z157,\"--\",IF(AD157=$CP$8,$DA$8,IF(AD157=$CP$9,$DA$9,$DA$10))*IF(AI157=$CD$8,$CJ$8,IF(AI157=$CD$9,$CJ$9,$CJ$10)))","v":80},null,null,null,null,null,null,null,null,null,{"$f":"IF(AN$19>$Z157,\"--\",IF(AN157=$CP$8,$DA$8,IF(AN157=$CP$9,$DA$9,$DA$10))*IF(AS157=$CD$8,$CJ$8,IF(AS157=$CD$9,$CJ$9,$CJ$10)))","v":80},null,null,null,null,null,null,null,null,null,{"$f":"IF(AX$19>$Z157,\"--\",IF(AX157=$CP$8,$DA$8,IF(AX157=$CP$9,$DA$9,$DA$10))*IF(BC157=$CD$8,$CJ$8,IF(BC157=$CD$9,$CJ$9,$CJ$10)))","v":80},null,null,null,null,null,null,null,null,null,{"$f":"IF(BH$19>$Z157,\"--\",IF(BH157=$CP$8,$DA$8,IF(BH157=$CP$9,$DA$9,$DA$10))*IF(BM157=$CD$8,$CJ$8,IF(BM157=$CD$9,$CJ$9,$CJ$10)))","v":80},null,null,null,null,null,null,null,null,null,{"$f":"IF(BR$19>$Z157,\"--\",IF(BR157=$CP$8,$DA$8,IF(BR157=$CP$9,$DA$9,$DA$10))*IF(BW157=$CD$8,$CJ$8,IF(BW157=$CD$9,$CJ$9,$CJ$10)))","v":80},null,null,null,null,null,null,null,null,null,{"$f":"IF(CB$19>$Z157,\"--\",IF(CB157=$CP$8,$DA$8,IF(CB157=$CP$9,$DA$9,$DA$10))*IF(CG157=$CD$8,$CJ$8,IF(CG157=$CD$9,$CJ$9,$CJ$10)))","v":80},null,null,null,null,null,null,null,null,null,{"$f":"IF(CL$19>$Z157,\"--\",IF(CL157=$CP$8,$DA$8,IF(CL157=$CP$9,$DA$9,$DA$10))*IF(CQ157=$CD$8,$CJ$8,IF(CQ157=$CD$9,$CJ$9,$CJ$10)))","v":"--"},null,null,null,null,null,null,null,null,null,{"$f":"IF(CV$19>$Z157,\"--\",IF(CV157=$CP$8,$DA$8,IF(CV157=$CP$9,$DA$9,$DA$10))*IF(DA157=$CD$8,$CJ$8,IF(DA157=$CD$9,$CJ$9,$CJ$10)))","v":"--"},null,null,null,null,null,null,null,null,null,{"$f":"IF(DF$19>$Z157,\"--\",IF(DF157=$CP$8,$DA$8,IF(DF157=$CP$9,$DA$9,$DA$10))*IF(DK157=$CD$8,$CJ$8,IF(DK157=$CD$9,$CJ$9,$CJ$10)))","v":"--"},null,null,null,null,null,null,null,null,null,{"$f":"IF(DP$19>$Z157,\"--\",IF(DP157=$CP$8,$DA$8,IF(DP157=$CP$9,$DA$9,$DA$10))*IF(DU157=$CD$8,$CJ$8,IF(DU157=$CD$9,$CJ$9,$CJ$10)))","v":"--"},null,null,null,null,null,null,null,null,null,{"$f":"IF(DZ$19>$Z157,\"--\",IF(DZ157=$CP$8,$DA$8,IF(DZ157=$CP$9,$DA$9,$DA$10))*IF(EE157=$CD$8,$CJ$8,IF(EE157=$CD$9,$CJ$9,$CJ$10)))","v":"--"},null,null,null,null,null,null,null,null,null,{"$f":"IF(EJ$19>$Z157,\"--\",IF(EJ157=$CP$8,$DA$8,IF(EJ157=$CP$9,$DA$9,$DA$10))*IF(EO157=$CD$8,$CJ$8,IF(EO157=$CD$9,$CJ$9,$CJ$10)))","v":"--"},null,null,null,null,null,null,null,null,null,{"$f":"IF(ET$19>$Z157,\"--\",IF(ET157=$CP$8,$DA$8,IF(ET157=$CP$9,$DA$9,$DA$10))*IF(EY157=$CD$8,$CJ$8,IF(EY157=$CD$9,$CJ$9,$CJ$10)))","v":"--"},null,null,null,null,null,null,null,null,null,{"$f":"IF(FD$19>$Z157,\"--\",IF(FD157=$CP$8,$DA$8,IF(FD157=$CP$9,$DA$9,$DA$10))*IF(FI157=$CD$8,$CJ$8,IF(FI157=$CD$9,$CJ$9,$CJ$10)))","v":"--"},null,null,null,null,null,null,null,null,null,{"$f":"IF(FN$19>$Z157,\"--\",IF(FN157=$CP$8,$DA$8,IF(FN157=$CP$9,$DA$9,$DA$10))*IF(FS157=$CD$8,$CJ$8,IF(FS157=$CD$9,$CJ$9,$CJ$10)))","v":"--"},null,null,null,null,null,null,null,null,null,{"$f":"IF(FX$19>$Z157,\"--\",IF(FX157=$CP$8,$DA$8,IF(FX157=$CP$9,$DA$9,$DA$10))*IF(GC157=$CD$8,$CJ$8,IF(GC157=$CD$9,$CJ$9,$CJ$10)))","v":"--"}]
[]
["Single Point with Roundabout",null,null,null,null,null,null,null,null,null,null,null,null,null,null,null,null,null,null,"N-S",null,null,null,null,null,6,null,null,null,"On-Street Lane",null,null,null,null,"<20mph",null,null,null,null,"On-Street Lane",null,null,null,null,"<20mph",null,null,null,null,"On-Street Lane",null,null,null,null,"<20mph",null,null,null,null,"On-Street Lane",null,null,null,null,"<20mph",null,null,null,null,"On-Street Lane",null,null,null,null,"<20mph",null,null,null,null,"On-Street Lane",null,null,null,null,"<20mph",null,null,null,null,"On-Street Lane",null,null,null,null,"<20mph",null,null,null,null,"On-Street Lane",null,null,null,null,"<20mph",null,null,null,null,"On-Street Lane",null,null,null,null,"<20mph",null,null,null,null,"On-Street Lane",null,null,null,null,"<20mph",null,null,null,null,"On-Street Lane",null,null,null,null,"<20mph",null,null,null,null,"On-Street Lane",null,null,null,null,"<20mph",null,null,null,null,"Separate Path",null,null,null,null,"<20mph",null,null,null,null,"Separate Path",null,null,null,null,"<20mph",null,null,null,null,"Separate Path",null,null,null,null,"<20mph",null,null,null,null,"Separate Path",null,null,null,null,"<20mph",null,null,null,null,null,null,null,null,{"$f":"IF(GV159<=$BX$11,$BR$11,IF(GV159<=$BX$10,$BR$10,IF(GV159<=$BX$9,$BR$9,$BR$8)))","v":"Excellent"},null,null,null,null,{"$f":"MIN(HA159:ND160)","v":80},null,null,null,null,{"$f":"AVERAGE(HA159:ND160)","v":80},null,null,null,null,{"$f":"IF(AD$19>$Z159,\"--\",IF(AD159=$CP$8,$DA$8,IF(AD159=$CP$9,$DA$9,$DA$10))*IF(AI159=$CD$8,$CJ$8,IF(AI159=$CD$9,$CJ$9,$CJ$10)))","v":80},null,null,null,null,null,null,null,null,null,{"$f":"IF(AN$19>$Z159,\"--\",IF(AN159=$CP$8,$DA$8,IF(AN159=$CP$9,$DA$9,$DA$10))*IF(AS159=$CD$8,$CJ$8,IF(AS159=$CD$9,$CJ$9,$CJ$10)))","v":80},null,null,null,null,null,null,null,null,null,{"$f":"IF(AX$19>$Z159,\"--\",IF(AX159=$CP$8,$DA$8,IF(AX159=$CP$9,$DA$9,$DA$10))*IF(BC159=$CD$8,$CJ$8,IF(BC159=$CD$9,$CJ$9,$CJ$10)))","v":80},null,null,null,null,null,null,null,null,null,{"$f":"IF(BH$19>$Z159,\"--\",IF(BH159=$CP$8,$DA$8,IF(BH159=$CP$9,$DA$9,$DA$10))*IF(BM159=$CD$8,$CJ$8,IF(BM159=$CD$9,$CJ$9,$CJ$10)))","v":80},null,null,null,null,null,null,null,null,null,{"$f":"IF(BR$19>$Z159,\"--\",IF(BR159=$CP$8,$DA$8,IF(BR159=$CP$9,$DA$9,$DA$10))*IF(BW159=$CD$8,$CJ$8,IF(BW159=$CD$9,$CJ$9,$CJ$10)))","v":80},null,null,null,null,null,null,null,null,null,{"$f":"IF(CB$19>$Z159,\"--\",IF(CB159=$CP$8,$DA$8,IF(CB159=$CP$9,$DA$9,$DA$10))*IF(CG159=$CD$8,$CJ$8,IF(CG159=$CD$9,$CJ$9,$CJ$10)))","v":80},null,null,null,null,null,null,null,null,null,{"$f":"IF(CL$19>$Z159,\"--\",IF(CL159=$CP$8,$DA$8,IF(CL159=$CP$9,$DA$9,$DA$10))*IF(CQ159=$CD$8,$CJ$8,IF(CQ159=$CD$9,$CJ$9,$CJ$10)))","v":"--"},null,null,null,null,null,null,null,null,null,{"$f":"IF(CV$19>$Z159,\"--\",IF(CV159=$CP$8,$DA$8,IF(CV159=$CP$9,$DA$9,$DA$10))*IF(DA159=$CD$8,$CJ$8,IF(DA159=$CD$9,$CJ$9,$CJ$10)))","v":"--"},null,null,null,null,null,null,null,null,null,{"$f":"IF(DF$19>$Z159,\"--\",IF(DF159=$CP$8,$DA$8,IF(DF159=$CP$9,$DA$9,$DA$10))*IF(DK159=$CD$8,$CJ$8,IF(DK159=$CD$9,$CJ$9,$CJ$10)))","v":"--"},null,null,null,null,null,null,null,null,null,{"$f":"IF(DP$19>$Z159,\"--\",IF(DP159=$CP$8,$DA$8,IF(DP159=$CP$9,$DA$9,$DA$10))*IF(DU159=$CD$8,$CJ$8,IF(DU159=$CD$9,$CJ$9,$CJ$10)))","v":"--"},null,null,null,null,null,null,null,null,null,{"$f":"IF(DZ$19>$Z159,\"--\",IF(DZ159=$CP$8,$DA$8,IF(DZ159=$CP$9,$DA$9,$DA$10))*IF(EE159=$CD$8,$CJ$8,IF(EE159=$CD$9,$CJ$9,$CJ$10)))","v":"--"},null,null,null,null,null,null,null,null,null,{"$f":"IF(EJ$19>$Z159,\"--\",IF(EJ159=$CP$8,$DA$8,IF(EJ159=$CP$9,$DA$9,$DA$10))*IF(EO159=$CD$8,$CJ$8,IF(EO159=$CD$9,$CJ$9,$CJ$10)))","v":"--"},null,null,null,null,null,null,null,null,null,{"$f":"IF(ET$19>$Z159,\"--\",IF(ET159=$CP$8,$DA$8,IF(ET159=$CP$9,$DA$9,$DA$10))*IF(EY159=$CD$8,$CJ$8,IF(EY159=$CD$9,$CJ$9,$CJ$10)))","v":"--"},null,null,null,null,null,null,null,null,null,{"$f":"IF(FD$19>$Z159,\"--\",IF(FD159=$CP$8,$DA$8,IF(FD159=$CP$9,$DA$9,$DA$10))*IF(FI159=$CD$8,$CJ$8,IF(FI159=$CD$9,$CJ$9,$CJ$10)))","v":"--"},null,null,null,null,null,null,null,null,null,{"$f":"IF(FN$19>$Z159,\"--\",IF(FN159=$CP$8,$DA$8,IF(FN159=$CP$9,$DA$9,$DA$10))*IF(FS159=$CD$8,$CJ$8,IF(FS159=$CD$9,$CJ$9,$CJ$10)))","v":"--"},null,null,null,null,null,null,null,null,null,{"$f":"IF(FX$19>$Z159,\"--\",IF(FX159=$CP$8,$DA$8,IF(FX159=$CP$9,$DA$9,$DA$10))*IF(GC159=$CD$8,$CJ$8,IF(GC159=$CD$9,$CJ$9,$CJ$10)))","v":"--"}]
[]
[null,null,null,null,null,null,null,null,null,null,null,null,null,null,null,null,null,null,null,"E-W",null,null,null,null,null,6,null,null,null,"On-Street Lane",null,null,null,null,"<20mph",null,null,null,null,"On-Street Lane",null,null,null,null,"<20mph",null,null,null,null,"On-Street Lane",null,null,null,null,"<20mph",null,null,null,null,"On-Street Lane",null,null,null,null,"<20mph",null,null,null,null,"On-Street Lane",null,null,null,null,"<20mph",null,null,null,null,"On-Street Lane",null,null,null,null,"<20mph",null,null,null,null,"On-Street Lane",null,null,null,null,"<20mph",null,null,null,null,"On-Street Lane",null,null,null,null,"<20mph",null,null,null,null,"On-Street Lane",null,null,null,null,"<20mph",null,null,null,null,"On-Street Lane",null,null,null,null,"<20mph",null,null,null,null,"On-Street Lane",null,null,null,null,"<20mph",null,null,null,null,"On-Street Lane",null,null,null,null,"<20mph",null,null,null,null,"Separate Path",null,null,null,null,"<20mph",null,null,null,null,"Separate Path",null,null,null,null,"<20mph",null,null,null,null,"Separate Path",null,null,null,null,"<20mph",null,null,null,null,"Separate Path",null,null,null,null,"<20mph",null,null,null,null,null,null,null,null,{"$f":"IF(GV161<=$BX$11,$BR$11,IF(GV161<=$BX$10,$BR$10,IF(GV161<=$BX$9,$BR$9,$BR$8)))","v":"Excellent"},null,null,null,null,{"$f":"MIN(HA161:ND162)","v":80},null,null,null,null,{"$f":"AVERAGE(HA161:ND162)","v":80},null,null,null,null,{"$f":"IF(AD$19>$Z161,\"--\",IF(AD161=$CP$8,$DA$8,IF(AD161=$CP$9,$DA$9,$DA$10))*IF(AI161=$CD$8,$CJ$8,IF(AI161=$CD$9,$CJ$9,$CJ$10)))","v":80},null,null,null,null,null,null,null,null,null,{"$f":"IF(AN$19>$Z161,\"--\",IF(AN161=$CP$8,$DA$8,IF(AN161=$CP$9,$DA$9,$DA$10))*IF(AS161=$CD$8,$CJ$8,IF(AS161=$CD$9,$CJ$9,$CJ$10)))","v":80},null,null,null,null,null,null,null,null,null,{"$f":"IF(AX$19>$Z161,\"--\",IF(AX161=$CP$8,$DA$8,IF(AX161=$CP$9,$DA$9,$DA$10))*IF(BC161=$CD$8,$CJ$8,IF(BC161=$CD$9,$CJ$9,$CJ$10)))","v":80},null,null,null,null,null,null,null,null,null,{"$f":"IF(BH$19>$Z161,\"--\",IF(BH161=$CP$8,$DA$8,IF(BH161=$CP$9,$DA$9,$DA$10))*IF(BM161=$CD$8,$CJ$8,IF(BM161=$CD$9,$CJ$9,$CJ$10)))","v":80},null,null,null,null,null,null,null,null,null,{"$f":"IF(BR$19>$Z161,\"--\",IF(BR161=$CP$8,$DA$8,IF(BR161=$CP$9,$DA$9,$DA$10))*IF(BW161=$CD$8,$CJ$8,IF(BW161=$CD$9,$CJ$9,$CJ$10)))","v":80},null,null,null,null,null,null,null,null,null,{"$f":"IF(CB$19>$Z161,\"--\",IF(CB161=$CP$8,$DA$8,IF(CB161=$CP$9,$DA$9,$DA$10))*IF(CG161=$CD$8,$CJ$8,IF(CG161=$CD$9,$CJ$9,$CJ$10)))","v":80},null,null,null,null,null,null,null,null,null,{"$f":"IF(CL$19>$Z161,\"--\",IF(CL161=$CP$8,$DA$8,IF(CL161=$CP$9,$DA$9,$DA$10))*IF(CQ161=$CD$8,$CJ$8,IF(CQ161=$CD$9,$CJ$9,$CJ$10)))","v":"--"},null,null,null,null,null,null,null,null,null,{"$f":"IF(CV$19>$Z161,\"--\",IF(CV161=$CP$8,$DA$8,IF(CV161=$CP$9,$DA$9,$DA$10))*IF(DA161=$CD$8,$CJ$8,IF(DA161=$CD$9,$CJ$9,$CJ$10)))","v":"--"},null,null,null,null,null,null,null,null,null,{"$f":"IF(DF$19>$Z161,\"--\",IF(DF161=$CP$8,$DA$8,IF(DF161=$CP$9,$DA$9,$DA$10))*IF(DK161=$CD$8,$CJ$8,IF(DK161=$CD$9,$CJ$9,$CJ$10)))","v":"--"},null,null,null,null,null,null,null,null,null,{"$f":"IF(DP$19>$Z161,\"--\",IF(DP161=$CP$8,$DA$8,IF(DP161=$CP$9,$DA$9,$DA$10))*IF(DU161=$CD$8,$CJ$8,IF(DU161=$CD$9,$CJ$9,$CJ$10)))","v":"--"},null,null,null,null,null,null,null,null,null,{"$f":"IF(DZ$19>$Z161,\"--\",IF(DZ161=$CP$8,$DA$8,IF(DZ161=$CP$9,$DA$9,$DA$10))*IF(EE161=$CD$8,$CJ$8,IF(EE161=$CD$9,$CJ$9,$CJ$10)))","v":"--"},null,null,null,null,null,null,null,null,null,{"$f":"IF(EJ$19>$Z161,\"--\",IF(EJ161=$CP$8,$DA$8,IF(EJ161=$CP$9,$DA$9,$DA$10))*IF(EO161=$CD$8,$CJ$8,IF(EO161=$CD$9,$CJ$9,$CJ$10)))","v":"--"},null,null,null,null,null,null,null,null,null,{"$f":"IF(ET$19>$Z161,\"--\",IF(ET161=$CP$8,$DA$8,IF(ET161=$CP$9,$DA$9,$DA$10))*IF(EY161=$CD$8,$CJ$8,IF(EY161=$CD$9,$CJ$9,$CJ$10)))","v":"--"},null,null,null,null,null,null,null,null,null,{"$f":"IF(FD$19>$Z161,\"--\",IF(FD161=$CP$8,$DA$8,IF(FD161=$CP$9,$DA$9,$DA$10))*IF(FI161=$CD$8,$CJ$8,IF(FI161=$CD$9,$CJ$9,$CJ$10)))","v":"--"},null,null,null,null,null,null,null,null,null,{"$f":"IF(FN$19>$Z161,\"--\",IF(FN161=$CP$8,$DA$8,IF(FN161=$CP$9,$DA$9,$DA$10))*IF(FS161=$CD$8,$CJ$8,IF(FS161=$CD$9,$CJ$9,$CJ$10)))","v":"--"},null,null,null,null,null,null,null,null,null,{"$f":"IF(FX$19>$Z161,\"--\",IF(FX161=$CP$8,$DA$8,IF(FX161=$CP$9,$DA$9,$DA$10))*IF(GC161=$CD$8,$CJ$8,IF(GC161=$CD$9,$CJ$9,$CJ$10)))","v":"--"}]

{"sheet":"4a - Summary Results","index":9,"n_rows":32,"n_cols":65,"rows_kept":32,"cut":false,"hidden":false,"merged":[[30,62,30,64],[25,62,25,64],[26,62,26,64],[27,62,27,64],[28,62,28,64],[29,62,29,64],[20,62,20,64],[21,62,21,64],[22,62,22,64],[23,62,23,64],[24,62,24,64],[6,62,6,64],[7,62,7,64],[8,62,8,64],[9,62,9,64],[28,43,29,50],[24,35,25,42],[24,43,25,50],[26,35,27,42],[26,43,27,50],[14,43,15,50],[20,43,21,50],[22,43,23,50],[14,35,15,42],[15,62,15,64],[16,62,16,64],[17,62,17,64],[18,62,18,64],[19,62,19,64],[10,62,10,64],[11,62,11,64],[12,62,12,64],[13,62,13,64],[14,62,14,64],[6,43,9,50],[28,1,29,19],[28,20,29,26],[20,35,21,42],[24,1,25,19],[24,20,25,26],[26,1,27,19],[26,20,27,26],[28,35,29,42],[20,1,21,19],[20,20,21,26],[22,1,23,19],[22,20,23,26],[22,35,23,42],[20,27,21,30],[22,27,23,30],[24,27,25,30],[26,27,27,30],[28,27,29,30],[20,31,21,34],[22,31,23,34],[24,31,25,34],[26,31,27,34],[28,31,29,34],[18,1,19,19],[18,20,19,26],[18,35,19,42],[18,43,19,50],[16,20,17,26],[16,35,17,42],[16,43,17,50],[12,35,13,42],[12,43,13,50],[10,35,11,42],[10,43,11,50],[6,27,8,30],[10,27,11,30],[12,27,13,30],[14,27,15,30],[16,27,17,30],[18,27,19,30],[6,31,8,34],[10,31,11,34],[12,31,13,34],[14,31,15,34],[16,31,17,34],[18,31,19,34],[31,1,32,43],[0,0,1,64],[2,0,3,64],[26,0,27,0],[28,0,29,0],[6,0,9,0],[12,0,13,0],[24,0,25,0],[14,0,15,0],[10,0,11,0],[16,0,17,0],[18,0,19,0],[20,0,21,0],[22,0,23,0],[6,20,9,26],[6,35,9,42],[6,1,9,19],[10,1,11,19],[12,1,13,19],[14,1,15,19],[16,1,17,19],[12,20,13,26],[10,20,11,26],[14,20,15,26]]}
["Capacity Analysis for Planning of Junctions"]
[]
["Dynamic Results Summary"]
[]
[]
[null,null,null,null,null,null,null,null,null,null,null,null,null,null,null,null,null,null,null,null,null,null,null,null,null,null,null,null,null,null,null,null,null,null,null,null,null,null,null,null,null,null,null,null,null,null,null,null,null,null,null,null,null,null,null,null,null,null,null,null,null,null,null,"Yes","No"]
[null,"TYPE OF INTERSECTION",null,null,null,null,null,null,null,null,null,null,null,null,null,null,null,null,null,null,"Overall V/C Ratio ",null,null,null,null,null,null,"V/C Ranking",null,null,null,"Multimodal Score",null,null,null,"Pedestrian Accommodations",null,null,null,null,null,null,null,"Bicycle Accommodations"]
[null,null,null,null,null,null,null,null,null,null,null,null,null,null,null,null,null,null,null,null,null,null,null,null,null,null,null,null,null,null,null,null,null,null,null,null,null,null,null,null,null,null,null,null,null,null,null,null,null,null,null,null,null,null,null,null,null,null,null,{"$f":"IF(BJ8=$BL$6,TRUE,FALSE)","v":false}]
[]
[null,null,null,null,null,null,null,null,null,null,null,null,null,null,null,null,null,null,null,null,null,null,null,null,null,null,null,null,null,null,null,null,null,null,null,null,null,null,null,null,null,null,null,null,null,null,null,null,null,null,null,null,null,null,null,null,null,null,null,{"$f":"IF(BJ10=$BL$6,TRUE,FALSE)","v":false}]
[null,{"$f":"IF(ISNUMBER(U11),SumComp!AQ4,\"--\")","v":"Partial Cloverleaf B E-W"},null,null,null,null,null,null,null,null,null,null,null,null,null,null,null,null,null,null,{"$f":"IF(SumComp!AK4<1000000,SumComp!AK4,\"--\")","v":0.09},null,null,null,null,null,null,{"$f":"IF(ISNUMBER(U11),RANK(U11,$U$11:$AA$30,1),\"--\")","v":1},null,null,null,null,null,null,null,{"$f":"IF(ISNUMBER($U11),SumComp!AT4,\"--\")","v":"Good"},null,null,null,null,null,null,null,{"$f":"IF(ISNUMBER($U11),SumComp!AU4,\"--\")","v":"Excellent"}]
[]
[null,{"$f":"IF(ISNUMBER(U13),SumComp!AQ6,\"--\")","v":"Continuous Green T N"},null,null,null,null,null,null,null,null,null,null,null,null,null,null,null,null,null,null,{"$f":"IF(SumComp!AK6<1000000,SumComp!AK6,\"--\")","v":0.1},null,null,null,null,null,null,{"$f":"IF(ISNUMBER(U13),RANK(U13,$U$11:$AA$30,1),\"--\")","v":2},null,null,null,null,null,null,null,{"$f":"IF(ISNUMBER($U13),SumComp!AT6,\"--\")","v":"Good"},null,null,null,null,null,null,null,{"$f":"IF(ISNUMBER($U13),SumComp!AU6,\"--\")","v":"Excellent"}]
[]
[null,{"$f":"IF(ISNUMBER(U15),SumComp!AQ8,\"--\")","v":"Partial Cloverleaf A E-W"},null,null,null,null,null,null,null,null,null,null,null,null,null,null,null,null,null,null,{"$f":"IF(SumComp!AK8<1000000,SumComp!AK8,\"--\")","v":0.12},null,null,null,null,null,null,{"$f":"IF(ISNUMBER(U15),RANK(U15,$U$11:$AA$30,1),\"--\")","v":3},null,null,null,null,null,null,null,{"$f":"IF(ISNUMBER($U15),SumComp!AT8,\"--\")","v":"Good"},null,null,null,null,null,null,null,{"$f":"IF(ISNUMBER($U15),SumComp!AU8,\"--\")","v":"Excellent"}]
[]
[null,{"$f":"IF(ISNUMBER(U17),SumComp!AQ10,\"--\")","v":"Continuous Green T W"},null,null,null,null,null,null,null,null,null,null,null,null,null,null,null,null,null,null,{"$f":"IF(SumComp!AK10<1000000,SumComp!AK10,\"--\")","v":0.14000000000000001},null,null,null,null,null,null,{"$f":"IF(ISNUMBER(U17),RANK(U17,$U$11:$AA$30,1),\"--\")","v":4},null,null,null,null,null,null,null,{"$f":"IF(ISNUMBER($U17),SumComp!AT10,\"--\")","v":"Good"},null,null,null,null,null,null,null,{"$f":"IF(ISNUMBER($U17),SumComp!AU10,\"--\")","v":"Excellent"}]
[]
[null,{"$f":"IF(ISNUMBER(U19),SumComp!AQ12,\"--\")","v":"Continuous Green T S"},null,null,null,null,null,null,null,null,null,null,null,null,null,null,null,null,null,null,{"$f":"IF(SumComp!AK12<1000000,SumComp!AK12,\"--\")","v":0.14000000000000001},null,null,null,null,null,null,{"$f":"IF(ISNUMBER(U19),RANK(U19,$U$11:$AA$30,1),\"--\")","v":4},null,null,null,null,null,null,null,{"$f":"IF(ISNUMBER($U19),SumComp!AT12,\"--\")","v":"Good"},null,null,null,null,null,null,null,{"$f":"IF(ISNUMBER($U19),SumComp!AU12,\"--\")","v":"Excellent"}]
[]
[null,{"$f":"IF(ISNUMBER(U21),SumComp!AQ14,\"--\")","v":"Continuous Green T E"},null,null,null,null,null,null,null,null,null,null,null,null,null,null,null,null,null,null,{"$f":"IF(SumComp!AK14<1000000,SumComp!AK14,\"--\")","v":0.18},null,null,null,null,null,null,{"$f":"IF(ISNUMBER(U21),RANK(U21,$U$11:$AA$30,1),\"--\")","v":6},null,null,null,null,null,null,null,{"$f":"IF(ISNUMBER($U21),SumComp!AT14,\"--\")","v":"Good"},null,null,null,null,null,null,null,{"$f":"IF(ISNUMBER($U21),SumComp!AU14,\"--\")","v":"Excellent"}]
[]
[null,{"$f":"IF(ISNUMBER(U23),SumComp!AQ16,\"--\")","v":"Partial Cloverleaf A N-S"},null,null,null,null,null,null,null,null,null,null,null,null,null,null,null,null,null,null,{"$f":"IF(SumComp!AK16<1000000,SumComp!AK16,\"--\")","v":0.19},null,null,null,null,null,null,{"$f":"IF(ISNUMBER(U23),RANK(U23,$U$11:$AA$30,1),\"--\")","v":7},null,null,null,null,null,null,null,{"$f":"IF(ISNUMBER($U23),SumComp!AT16,\"--\")","v":"Good"},null,null,null,null,null,null,null,{"$f":"IF(ISNUMBER($U23),SumComp!AU16,\"--\")","v":"Excellent"}]
[]
[null,{"$f":"IF(ISNUMBER(U25),SumComp!AQ18,\"--\")","v":"Partial Cloverleaf B N-S"},null,null,null,null,null,null,null,null,null,null,null,null,null,null,null,null,null,null,{"$f":"IF(SumComp!AK18<1000000,SumComp!AK18,\"--\")","v":0.19},null,null,null,null,null,null,{"$f":"IF(ISNUMBER(U25),RANK(U25,$U$11:$AA$30,1),\"--\")","v":7},null,null,null,null,null,null,null,{"$f":"IF(ISNUMBER($U25),SumComp!AT18,\"--\")","v":"Good"},null,null,null,null,null,null,null,{"$f":"IF(ISNUMBER($U25),SumComp!AU18,\"--\")","v":"Excellent"}]
[]
[null,{"$f":"IF(ISNUMBER(U27),SumComp!AQ20,\"--\")","v":"Displaced Left Turn"},null,null,null,null,null,null,null,null,null,null,null,null,null,null,null,null,null,null,{"$f":"IF(SumComp!AK20<1000000,SumComp!AK20,\"--\")","v":0.2},null,null,null,null,null,null,{"$f":"IF(ISNUMBER(U27),RANK(U27,$U$11:$AA$30,1),\"--\")","v":9},null,null,null,null,null,null,null,{"$f":"IF(ISNUMBER($U27),SumComp!AT20,\"--\")","v":"Good"},null,null,null,null,null,null,null,{"$f":"IF(ISNUMBER($U27),SumComp!AU20,\"--\")","v":"Excellent"}]
[]
[null,{"$f":"IF(ISNUMBER(U29),SumComp!AQ22,\"--\")","v":"Diverging Diamond Interchange E-W"},null,null,null,null,null,null,null,null,null,null,null,null,null,null,null,null,null,null,{"$f":"IF(SumComp!AK22<1000000,SumComp!AK22,\"--\")","v":0.2},null,null,null,null,null,null,{"$f":"IF(ISNUMBER(U29),RANK(U29,$U$11:$AA$30,1),\"--\")","v":9},null,null,null,null,null,null,null,{"$f":"IF(ISNUMBER($U29),SumComp!AT22,\"--\")","v":"Good"},null,null,null,null,null,null,null,{"$f":"IF(ISNUMBER($U29),SumComp!AU22,\"--\")","v":"Excellent"}]
[]
[]
[null,"Use the \"yes/no\" drop-down menus in Step 2 (Base and Alt Selection) to exclude intersection types from summary rankings, if they are not applicable."]

{"sheet":"4b - Detailed Results","index":10,"n_rows":161,"n_cols":78,"rows_kept":161,"cut":false,"hidden":false,"merged":[[160,23,161,25],[160,26,161,28],[160,29,161,31],[160,32,161,34],[160,35,161,37],[160,38,161,40],[158,50,159,52],[158,53,159,55],[158,56,159,58],[158,59,159,65],[158,66,159,69],[158,70,159,73],[158,32,159,34],[158,35,159,37],[158,38,159,40],[158,41,159,43],[158,44,159,46],[158,47,159,49],[156,76,157,76],[156,77,157,77],[158,4,161,16],[158,17,159,22],[158,23,159,25],[158,26,159,28],[158,29,159,31],[156,44,157,46],[156,47,157,49],[156,50,157,52],[156,53,157,55],[156,56,157,58],[156,59,157,65],[154,4,157,16],[160,59,161,65],[160,66,161,69],[160,70,161,73],[160,74,161,75],[160,76,161,76],[160,77,161,77],[160,41,161,43],[160,44,161,46],[160,47,161,49],[160,50,161,52],[160,53,161,55],[160,56,161,58],[158,74,159,75],[154,76,155,76],[154,77,155,77],[158,76,159,76],[158,77,159,77],[160,17,161,22],[156,17,157,22],[156,23,157,25],[156,26,157,28],[156,29,157,31],[156,32,157,34],[156,35,157,37],[156,38,157,40],[156,41,157,43],[154,53,155,55],[154,56,155,58],[154,59,155,65],[154,66,155,69],[154,70,155,73],[154,74,155,75],[154,35,155,37],[154,38,155,40],[154,41,155,43],[154,44,155,46],[154,47,155,49],[154,50,155,52],[154,17,155,22],[154,23,155,25],[154,26,155,28],[154,29,155,31],[154,32,155,34],[156,66,157,69],[156,70,157,73],[156,74,157,75],[152,23,153,25],[152,26,153,28],[152,29,153,31],[152,32,153,34],[152,35,153,37],[152,38,153,40],[150,50,151,52],[150,53,151,55],[150,56,151,58],[150,59,151,65],[150,66,151,69],[150,70,151,73],[150,32,151,34],[150,35,151,37],[150,38,151,40],[150,41,151,43],[150,44,151,46],[150,47,151,49],[148,76,149,76],[148,77,149,77],[150,4,153,16],[150,17,151,22],[150,23,151,25],[150,26,151,28],[150,29,151,31],[148,44,149,46],[148,47,149,49],[148,50,149,52],[148,53,149,55],[148,56,149,58],[148,59,149,65],[146,4,149,16],[152,59,153,65],[152,66,153,69],[152,70,153,73],[152,74,153,75],[152,76,153,76],[152,77,153,77],[152,41,153,43],[152,44,153,46],[152,47,153,49],[152,50,153,52],[152,53,153,55],[152,56,153,58],[150,74,151,75],[146,76,147,76],[146,77,147,77],[150,76,151,76],[150,77,151,77],[152,17,153,22],[148,17,149,22],[148,23,149,25],[148,26,149,28],[148,29,149,31],[148,32,149,34],[148,35,149,37],[148,38,149,40],[148,41,149,43],[146,53,147,55],[146,56,147,58],[146,59,147,65],[146,66,147,69],[146,70,147,73],[146,74,147,75],[146,35,147,37],[146,38,147,40],[146,41,147,43],[146,44,147,46],[146,47,147,49],[146,50,147,52],[146,17,147,22],[146,23,147,25],[146,26,147,28],[146,29,147,31],[146,32,147,34],[148,66,149,69],[148,70,149,73],[148,74,149,75],[144,23,145,25],[144,26,145,28],[144,29,145,31],[144,32,145,34],[144,35,145,37],[144,38,145,40],[142,50,143,52],[142,53,143,55],[142,56,143,58],[142,59,143,65],[142,66,143,69],[142,70,143,73],[142,32,143,34],[142,35,143,37],[142,38,143,40],[142,41,143,43],[142,44,143,46],[142,47,143,49],[140,76,141,76],[140,77,141,77],[142,4,145,16],[142,17,143,22],[142,23,143,25],[142,26,143,28],[142,29,143,31],[140,44,141,46],[140,47,141,49],[140,50,141,52],[140,53,141,55],[140,56,141,58],[140,59,141,65],[138,4,141,16],[144,59,145,65],[144,66,145,69],[144,70,145,73],[144,74,145,75],[144,76,145,76],[144,77,145,77],[144,41,145,43],[144,44,145,46],[144,47,145,49],[144,50,145,52],[144,53,145,55],[144,56,145,58],[142,74,143,75],[138,76,139,76],[138,77,139,77],[142,76,143,76],[142,77,143,77],[144,17,145,22],[140,17,141,22],[140,23,141,25],[140,26,141,28],[140,29,141,31],[140,32,141,34],[140,35,141,37],[140,38,141,40],[140,41,141,43],[138,53,139,55],[138,56,139,58],[138,59,139,65],[138,66,139,69],[138,70,139,73],[138,74,139,75],[138,35,139,37],[138,38,139,40],[138,41,139,43],[138,44,139,46],[138,47,139,49],[138,50,139,52],[138,17,139,22],[138,23,139,25],[138,26,139,28],[138,29,139,31],[138,32,139,34],[140,66,141,69],[140,70,141,73],[140,74,141,75],[136,23,137,25],[136,26,137,28],[136,29,137,31],[136,32,137,34],[136,35,137,37],[136,38,137,40],[134,50,135,52],[134,53,135,55],[134,56,135,58],[134,59,135,65],[134,66,135,69],[134,70,135,73],[134,32,135,34],[134,35,135,37],[134,38,135,40],[134,41,135,43],[134,44,135,46],[134,47,135,49],[132,76,133,76],[132,77,133,77],[134,4,137,16],[134,17,135,22],[134,23,135,25],[134,26,135,28],[134,29,135,31],[132,44,133,46],[132,47,133,49],[132,50,133,52],[132,53,133,55],[132,56,133,58],[132,59,133,65],[130,4,133,16],[136,59,137,65],[136,66,137,69],[136,70,137,73],[136,74,137,75],[136,76,137,76],[136,77,137,77],[136,41,137,43],[136,44,137,46],[136,47,137,49],[136,50,137,52],[136,53,137,55],[136,56,137,58],[134,74,135,75],[130,76,131,76],[130,77,131,77],[134,76,135,76],[134,77,135,77],[136,17,137,22],[132,17,133,22],[132,23,133,25],[132,26,133,28],[132,29,133,31],[132,32,133,34],[132,35,133,37],[132,38,133,40],[132,41,133,43],[130,53,131,55],[130,56,131,58],[130,59,131,65],[130,66,131,69],[130,70,131,73],[130,74,131,75],[130,35,131,37],[130,38,131,40],[130,41,131,43],[130,44,131,46],[130,47,131,49],[130,50,131,52],[130,17,131,22],[130,23,131,25],[130,26,131,28],[130,29,131,31],[130,32,131,34],[132,66,133,69],[132,70,133,73],[132,74,133,75],[128,41,129,43],[128,44,129,46],[128,47,129,49],[128,50,129,52],[128,53,129,55],[128,56,129,58],[126,59,129,65],[126,66,129,69],[126,70,129,73],[126,74,129,75],[128,23,129,25],[128,26,129,28],[128,29,129,31],[128,32,129,34],[128,35,129,37],[128,38,129,40],[121,77,122,77],[124,4,125,75],[126,4,129,16],[126,17,129,22],[126,23,127,28],[126,29,127,34],[126,35,127,40],[126,41,127,46],[126,47,127,52],[126,53,127,58],[121,55,122,58],[121,59,122,65],[121,66,122,69],[121,70,122,73],[121,74,122,75],[121,76,122,76],[121,31,122,34],[121,35,122,38],[121,39,122,42],[121,43,122,46],[121,47,122,50],[121,51,122,54],[119,70,120,73],[119,74,120,75],[119,76,120,76],[119,77,120,77],[121,4,122,10],[121,11,122,14],[121,15,122,18],[121,19,122,22],[121,23,122,26],[121,27,122,30],[119,43,120,46],[119,47,120,50],[119,51,120,54],[119,55,120,58],[119,59,120,65],[119,66,120,69],[113,66,114,69],[113,70,114,73],[113,74,114,75],[113,76,114,76],[117,77,118,77],[119,4,120,10],[119,11,120,14],[119,15,120,18],[119,19,120,22],[119,23,120,26],[119,27,120,30],[119,31,120,34],[119,35,120,38],[119,39,120,42],[117,55,118,58],[117,59,118,65],[117,66,118,69],[117,70,118,73],[117,74,118,75],[117,76,118,76],[117,31,118,34],[117,35,118,38],[117,39,118,42],[117,43,118,46],[117,47,118,50],[117,51,118,54],[111,27,112,30],[111,31,112,34],[111,35,112,38],[111,39,112,42],[115,70,116,73],[115,74,116,75],[115,76,116,76],[115,77,116,77],[117,4,118,10],[117,11,118,14],[117,15,118,18],[117,19,118,22],[117,23,118,26],[117,27,118,30],[115,43,116,46],[115,47,116,50],[115,51,116,54],[115,55,116,58],[115,59,116,65],[115,66,116,69],[113,77,114,77],[115,4,116,10],[115,11,116,14],[115,15,116,18],[115,19,116,22],[115,23,116,26],[115,27,116,30],[115,31,116,34],[115,35,116,38],[115,39,116,42],[113,55,114,58],[113,59,114,65],[109,11,110,14],[109,15,110,18],[109,19,110,22],[109,23,110,26],[109,27,110,30],[113,31,114,34],[113,35,114,38],[113,39,114,42],[113,43,114,46],[113,47,114,50],[113,51,114,54],[111,70,112,73],[111,74,112,75],[111,76,112,76],[111,77,112,77],[113,4,114,10],[113,11,114,14],[113,15,114,18],[113,19,114,22],[113,23,114,26],[113,27,114,30],[111,43,112,46],[111,47,112,50],[111,51,112,54],[111,55,112,58],[111,59,112,65],[111,66,112,69],[111,4,112,10],[111,11,112,14],[111,15,112,18],[111,19,112,22],[111,23,112,26],[107,11,108,14],[107,15,108,18],[107,19,108,22],[107,23,108,26],[107,27,108,30],[107,31,108,34],[107,35,108,38],[107,39,108,42],[109,77,110,77],[97,1,98,78],[99,1,100,78],[103,4,104,75],[105,4,108,10],[105,11,106,22],[105,23,106,34],[105,35,106,46],[105,47,106,58],[105,59,108,65],[105,66,108,69],[109,55,110,58],[109,59,110,65],[109,66,110,69],[109,70,110,73],[109,74,110,75],[109,76,110,76],[109,31,110,34],[109,35,110,38],[109,39,110,42],[109,43,110,46],[109,47,110,50],[109,51,110,54],[109,4,110,10],[92,74,93,75],[92,76,93,76],[92,77,93,77],[92,41,93,43],[92,44,93,46],[92,47,93,49],[92,50,93,52],[92,53,93,55],[92,56,93,58],[107,43,108,46],[107,47,108,50],[107,51,108,54],[107,55,108,58],[90,74,91,75],[90,76,91,76],[90,77,91,77],[105,70,108,73],[105,74,108,75],[92,17,93,22],[92,23,93,25],[92,26,93,28],[92,29,93,31],[92,32,93,34],[92,35,93,37],[92,38,93,40],[90,50,91,52],[90,53,91,55],[90,56,91,58],[90,59,91,65],[90,66,91,69],[90,70,91,73],[90,32,91,34],[90,35,91,37],[90,38,91,40],[90,41,91,43],[90,44,91,46],[90,47,91,49],[92,59,93,65],[92,66,93,69],[92,70,93,73],[88,66,89,69],[88,70,89,73],[88,74,89,75],[88,76,89,76],[88,77,89,77],[90,4,91,16],[90,17,91,22],[90,23,91,25],[90,26,91,28],[90,29,91,31],[88,44,89,46],[88,47,89,49],[88,50,89,52],[88,53,89,55],[88,56,89,58],[88,59,89,65],[86,76,87,76],[86,77,87,77],[88,17,89,22],[88,23,89,25],[88,26,89,28],[88,29,89,31],[88,32,89,34],[88,35,89,37],[88,38,89,40],[88,41,89,43],[86,53,87,55],[86,56,87,58],[86,59,87,65],[86,66,87,69],[86,70,87,73],[86,74,87,75],[86,35,87,37],[86,38,87,40],[86,41,87,43],[86,44,87,46],[86,47,87,49],[86,50,87,52],[86,4,89,16],[86,17,87,22],[86,23,87,25],[86,26,87,28],[86,29,87,31],[86,32,87,34],[84,35,85,37],[84,38,85,40],[84,41,85,43],[84,44,85,46],[84,47,85,49],[84,50,85,52],[82,47,83,52],[82,53,83,58],[82,59,85,65],[82,66,85,69],[82,70,85,73],[82,74,85,75],[84,53,85,55],[84,56,85,58],[82,4,85,16],[82,17,85,22],[82,23,83,28],[82,29,83,34],[82,35,83,40],[82,41,83,46],[84,23,85,25],[84,26,85,28],[84,29,85,31],[84,32,85,34],[77,74,78,75],[77,76,78,76],[77,77,78,77],[80,4,81,75],[77,44,78,46],[77,47,78,49],[77,50,78,52],[77,53,78,55],[77,56,78,58],[77,59,78,65],[75,70,76,73],[75,74,76,75],[75,76,76,76],[75,77,76,77],[77,23,78,28],[77,29,78,31],[77,32,78,34],[77,35,78,37],[77,38,78,40],[77,41,78,43],[75,47,76,49],[75,50,76,52],[75,53,76,55],[75,56,76,58],[75,59,76,65],[75,66,76,69],[75,4,78,22],[75,23,76,28],[75,29,76,31],[75,32,76,34],[75,35,76,37],[75,38,76,40],[75,44,76,46],[73,53,74,55],[73,56,74,58],[73,59,74,65],[73,66,74,69],[73,70,74,73],[73,74,74,75],[71,77,72,77],[73,23,74,28],[73,29,74,31],[73,32,74,34],[73,35,74,37],[73,38,74,40],[73,41,74,43],[73,44,74,46],[73,47,74,49],[73,50,74,52],[71,56,72,58],[71,59,72,65],[71,66,72,69],[71,70,72,73],[71,74,72,75],[71,76,72,76],[77,66,78,69],[77,70,78,73],[69,70,70,73],[69,74,70,75],[69,76,70,76],[69,77,70,77],[71,4,74,22],[71,23,72,28],[71,29,72,31],[71,32,72,34],[71,35,72,37],[69,44,70,46],[69,47,70,49],[69,50,70,52],[69,53,70,55],[69,56,70,58],[69,59,70,65],[69,23,70,28],[69,29,70,31],[69,32,70,34],[69,35,70,37],[69,38,70,40],[69,41,70,43],[73,76,74,76],[73,77,74,77],[67,4,70,22],[67,23,68,28],[67,29,68,31],[67,32,68,34],[67,35,68,37],[67,38,68,40],[75,41,76,43],[63,4,66,22],[71,38,72,40],[71,41,72,43],[71,44,72,46],[71,47,72,49],[71,50,72,52],[71,53,72,55],[69,66,70,69],[63,47,64,49],[61,56,62,58],[61,59,62,65],[61,66,62,69],[59,4,62,22],[59,23,60,28],[59,29,60,31],[59,32,60,34],[59,35,60,37],[59,38,60,40],[61,23,62,28],[61,29,62,31],[61,32,62,34],[61,35,62,37],[61,70,62,73],[61,74,62,75],[61,76,62,76],[61,38,62,40],[67,59,68,65],[67,66,68,69],[67,70,68,73],[67,74,68,75],[67,76,68,76],[67,77,68,77],[67,41,68,43],[67,44,68,46],[67,47,68,49],[67,50,68,52],[67,53,68,55],[67,56,68,58],[65,70,66,73],[65,74,66,75],[65,76,66,76],[65,77,66,77],[65,47,66,49],[65,50,66,52],[65,53,66,55],[65,56,66,58],[65,59,66,65],[65,66,66,69],[59,76,60,76],[59,77,60,77],[59,41,60,43],[59,44,60,46],[59,47,60,49],[59,50,60,52],[59,53,60,55],[59,56,60,58],[63,74,64,75],[63,76,64,76],[63,77,64,77],[65,23,66,28],[65,29,66,31],[65,32,66,34],[65,35,66,37],[65,38,66,40],[65,41,66,43],[65,44,66,46],[63,50,64,52],[63,53,64,55],[63,56,64,58],[63,59,64,65],[63,66,64,69],[63,70,64,73],[61,77,62,77],[63,23,64,28],[63,29,64,31],[63,32,64,34],[63,35,64,37],[63,38,64,40],[63,41,64,43],[63,44,64,46],[57,59,58,65],[57,66,58,69],[57,70,58,73],[57,74,58,75],[57,76,58,76],[57,77,58,77],[57,41,58,43],[57,44,58,46],[57,47,58,49],[57,50,58,52],[57,53,58,55],[57,56,58,58],[55,4,58,22],[61,41,62,43],[61,44,62,46],[61,47,62,49],[61,50,62,52],[61,53,62,55],[59,59,60,65],[59,66,60,69],[59,70,60,73],[59,74,60,75],[55,66,56,69],[55,70,56,73],[55,74,56,75],[55,76,56,76],[55,77,56,77],[57,23,58,28],[57,29,58,31],[57,32,58,34],[57,35,58,37],[57,38,58,40],[55,44,56,46],[55,47,56,49],[55,50,56,52],[55,53,56,55],[55,56,56,58],[55,59,56,65],[53,74,54,75],[53,76,54,76],[53,77,54,77],[55,23,56,28],[55,29,56,31],[55,32,56,34],[55,35,56,37],[55,38,56,40],[55,41,56,43],[53,50,54,52],[53,53,54,55],[53,56,54,58],[53,59,54,65],[53,66,54,69],[53,70,54,73],[53,4,54,22],[53,23,54,28],[53,29,54,31],[53,32,54,34],[53,35,54,37],[53,38,54,40],[53,41,54,43],[53,44,54,46],[53,47,54,49],[51,56,52,58],[51,59,52,65],[51,66,52,69],[51,70,52,73],[51,74,52,75],[51,76,52,76],[51,38,52,40],[51,41,52,43],[51,44,52,46],[51,47,52,49],[51,50,52,52],[51,53,52,55],[45,74,46,75],[45,76,46,76],[45,77,46,77],[49,59,50,65],[49,66,50,69],[49,70,50,73],[49,74,50,75],[49,76,50,76],[49,77,50,77],[49,41,50,43],[49,44,50,46],[49,47,50,49],[49,50,50,52],[49,53,50,55],[49,56,50,58],[49,4,52,22],[49,23,50,28],[49,29,50,31],[49,32,50,34],[49,35,50,37],[49,38,50,40],[51,23,52,28],[51,29,52,31],[51,32,52,34],[51,35,52,37],[51,77,52,77],[41,77,42,77],[47,23,48,28],[47,29,48,31],[47,32,48,34],[47,35,48,37],[47,38,48,40],[45,44,46,46],[45,47,46,49],[45,50,46,52],[45,53,46,55],[45,56,46,58],[45,59,46,65],[45,23,46,28],[45,29,46,31],[45,32,46,34],[45,35,46,37],[45,38,46,40],[45,41,46,43],[47,59,48,65],[47,66,48,69],[47,70,48,73],[47,74,48,75],[47,76,48,76],[47,77,48,77],[47,41,48,43],[47,44,48,46],[47,47,48,49],[47,50,48,52],[47,53,48,55],[47,56,48,58],[45,66,46,69],[45,70,46,73],[39,77,40,77],[41,4,48,22],[41,23,42,28],[41,29,42,31],[41,32,42,34],[41,35,42,37],[41,38,42,40],[41,41,42,43],[39,50,40,52],[39,53,40,55],[39,56,40,58],[39,59,40,65],[39,66,40,69],[39,70,40,73],[33,4,40,22],[33,23,34,28],[33,29,34,31],[33,32,34,34],[33,35,34,37],[43,59,44,65],[43,66,44,69],[43,70,44,73],[43,74,44,75],[43,76,44,76],[43,77,44,77],[43,41,44,43],[43,44,44,46],[43,47,44,49],[43,50,44,52],[43,53,44,55],[43,56,44,58],[41,66,42,69],[37,47,38,49],[37,50,38,52],[35,56,36,58],[35,59,36,65],[35,66,36,69],[35,70,36,73],[35,74,36,75],[35,76,36,76],[43,23,44,28],[43,29,44,31],[43,32,44,34],[43,35,44,37],[43,38,44,40],[41,44,42,46],[41,47,42,49],[41,50,42,52],[41,53,42,55],[41,56,42,58],[41,59,42,65],[39,74,40,75],[39,76,40,76],[41,70,42,73],[41,74,42,75],[41,76,42,76],[35,23,36,28],[35,29,36,31],[35,32,36,34],[35,35,36,37],[35,38,36,40],[35,41,36,43],[35,44,36,46],[35,47,36,49],[33,77,34,77],[33,41,34,43],[33,44,34,46],[33,47,34,49],[33,50,34,52],[33,53,34,55],[33,56,34,58],[33,38,34,40],[37,76,38,76],[37,77,38,77],[39,23,40,28],[39,29,40,31],[39,32,40,34],[39,35,40,37],[39,38,40,40],[39,41,40,43],[39,44,40,46],[39,47,40,49],[37,53,38,55],[37,56,38,58],[37,59,38,65],[37,66,38,69],[37,70,38,73],[37,74,38,75],[35,77,36,77],[37,23,38,28],[37,29,38,31],[37,32,38,34],[37,35,38,37],[37,38,38,40],[37,41,38,43],[37,44,38,46],[35,50,36,52],[35,53,36,55],[33,59,34,65],[33,66,34,69],[33,70,34,73],[33,74,34,75],[33,76,34,76],[31,4,32,22],[31,23,32,28]],"merged_total":1126,"flags":["merged_cut"]}
[null,"Capacity Analysis for Planning of Junctions"]
[]
[null,"Detailed Results Worksheet"]
[]
[]
[]
[null,null,null,null,null,null,null,null,null,null,null,null,null,null,null,null,"Project Name:",null,null,null,null,null,null,null,{"$f":"P_Name","v":"Cap-X Sample Street"},null,null,null,null,null,null,null,null,null,null,null,null,null,null,null,null,null,null,null,null,null,null,null,null,null,"Estimated Volume-to-Capacity Ratio"]
[]
[null,null,null,null,null,null,null,null,null,null,null,null,null,null,null,null,"Project Number:",null,null,null,null,null,null,null,{"$f":"P_Number","v":10000},null,null,null,null,null,null,null,null,null,null,null,null,null,null,null,null,null,null,null,null,null,null,null,null,null,"Number of Configurations"]
[]
[null,null,null,null,null,null,null,null,null,null,null,null,null,null,null,null,"Location",null,null,null,null,null,null,null,{"$f":"Location","v":"Anywhere, USA"},null,null,null,null,null,null,null,null,null,null,null,null,null,null,null,null,null,null,null,null,null,null,null,null,null,"< 0.750",null,null,null,null,null,"0.750 - 0.875",null,null,null,null,null,"0.875 - 1.00",null,null,null,null,null,"≥ 1.00"]
[]
[null,null,null,null,null,null,null,null,null,null,null,null,null,null,null,null,"Date",null,null,null,null,null,null,null,{"$f":"Date","v":"2017 AM"},null,null,null,null,null,null,null,null,null,null,null,null,null,null,null,null,null,null,null,null,null,null,null,null,null,{"$f":"COUNTIF(BZ24:BZ79,0)+COUNTIF(BZ87:BZ93,0)+COUNTIF(BZ131:BZ162,0)+COUNTIF(BZ110:BZ123,0)","v":45},null,null,null,null,null,{"$f":"COUNTIF(BZ24:BZ79,1)+COUNTIF(BZ87:BZ93,1)+COUNTIF(BZ131:BZ162,1)+COUNTIF(BZ110:BZ123,1)","v":1},null,null,null,null,null,{"$f":"COUNTIF(BZ24:BZ79,2)+COUNTIF(BZ87:BZ93,2)+COUNTIF(BZ131:BZ162,2)+COUNTIF(BZ110:BZ123,2)","v":0},null,null,null,null,null,{"$f":"COUNTIF(BZ24:BZ79,3)+COUNTIF(BZ87:BZ93,3)+COUNTIF(BZ131:BZ162,3)+COUNTIF(BZ110:BZ123,3)","v":4}]
[]
[]
[]
[]
[null,null,null,null,"Results for Non-roundabout Intersections"]
[]
[null,null,null,null,"TYPE OF INTERSECTION",null,null,null,null,null,null,null,null,null,null,null,null,null,null,null,null,null,null,"Sheet",null,null,null,null,null,"Zone 1 (North)",null,null,null,null,null,"Zone 2 (South)",null,null,null,null,null,"Zone 3 (East)",null,null,null,null,null,"Zone 4 (West)",null,null,null,null,null,"Zone 5 (Center) ",null,null,null,null,null,"Overall v/c Ratio ",null,null,null,null,null,null,"Pedestrian Accommodations",null,null,null,"Bicycle Accommodations",null,null,null,"Transit Accommodations"]
[]
[null,null,null,null,null,null,null,null,null,null,null,null,null,null,null,null,null,null,null,null,null,null,null,null,null,null,null,null,null,"CLV",null,null,"V/C",null,null,"CLV",null,null,"V/C",null,null,"CLV",null,null,"V/C",null,null,"CLV",null,null,"V/C",null,null,"CLV",null,null,"V/C"]
[]
[null,null,null,null,{"$f":"'3 - Alt Num Lanes Input'!E24","v":"Traffic Signal"},null,null,null,null,null,null,null,null,null,null,null,null,null,null,null,null,null,null,"FULL",null,null,null,null,null,null,null,null,null,null,null,null,null,null,null,null,null,null,null,null,null,null,null,null,null,null,null,null,null,{"$f":"Result_Conventional_CLV_Z5","v":780.9806094182826},null,null,{"$f":"Result_Conventional_VC_Z5","v":0.46},null,null,{"$f":"MAX(AG24,AM24,AS24,AY24,BE24)","v":0.46},null,null,null,null,null,null,{"$f":"'Multimodal Ped'!GL24","v":"Good"},null,null,null,{"$f":"'Multimodal Bike'!GL24","v":"Excellent"},null,null,null,null,null,true,{"$f":"IF(NOT(BY24),-1,IF(BH24<0.75,0,IF(BH24<0.875,1,IF(BH24<1,2,3))))","v":0}]
[]
[null,null,null,null,"Conventional Shared RT LN",null,null,null,null,null,null,null,null,null,null,null,null,null,null,null,null,null,null,"CSRL",null,null,null,null,null,null,null,null,null,null,null,null,null,null,null,null,null,null,null,null,null,null,null,null,null,null,null,null,null,{"$f":"Result_ConventionalSharedRTLT_CLV_Z5","v":617.5},null,null,{"$f":"Result_ConventionalSharedRTLT_VC_Z5","v":0.36},null,null,{"$f":"MAX(AG26,AM26,AS26,AY26,BE26)","v":0.36},null,null,null,null,null,null,{"$f":"'Multimodal Ped'!GL26","v":"Excellent"},null,null,null,{"$f":"'Multimodal Bike'!GL26","v":"Excellent"},null,null,null,null,null,false,{"$f":"IF(NOT(BY26),-1,IF(BH26<0.75,0,IF(BH26<0.875,1,IF(BH26<1,2,3))))","v":-1}]
[]
[null,null,null,null,{"$f":"'3 - Alt Num Lanes Input'!E28","v":"Two-Way Stop Control"},null,null,null,null,null,null,null,null,null,null,null,null,null,null,null,null,null,null,"N-S",null,null,null,null,null,null,null,null,null,null,null,null,null,null,null,null,null,null,null,null,null,null,null,null,null,null,null,null,null,"--",null,null,{"$f":"Result_TWSC_NS_VC_Z5","v":15.849681734685804},null,null,{"$f":"MAX(AG28,AM28,AS28,AY28,BE28)","v":15.849681734685804},null,null,null,null,null,null,{"$f":"'Multimodal Ped'!GL28","v":"Fair"},null,null,null,{"$f":"'Multimodal Bike'!GL28","v":"Good"},null,null,null,null,null,true]
[]
[null,null,null,null,null,null,null,null,null,null,null,null,null,null,null,null,null,null,null,null,null,null,null,"E-W",null,null,null,null,null,null,null,null,null,null,null,null,null,null,null,null,null,null,null,null,null,null,null,null,null,null,null,null,null,"--",null,null,{"$f":"Result_TWSC_EW_VC_Z5","v":1.261768977408358},null,null,{"$f":"MAX(AG30,AM30,AS30,AY30,BE30)","v":1.261768977408358},null,null,null,null,null,null,{"$f":"'Multimodal Ped'!GL30","v":"Fair"},null,null,null,{"$f":"'Multimodal Bike'!GL30","v":"Good"},null,null,null,null,null,true]
[]
[null,null,null,null,"All-Way Stop Control",null,null,null,null,null,null,null,null,null,null,null,null,null,null,null,null,null,null,"FULL",null,null,null,null,null,null,null,null,null,null,null,null,null,null,null,null,null,null,null,null,null,null,null,null,null,null,null,null,null,{"$f":"Result_AWSC_CLV_Z5","v":1572},null,null,{"$f":"Result_AWSC_VC_Z5","v":1.31},null,null,{"$f":"MAX(AG32,AM32,AS32,AY32,BE32)","v":1.31},null,null,null,null,null,null,{"$f":"'Multimodal Ped'!GL32","v":"Good"},null,null,null,{"$f":"'Multimodal Bike'!GL32","v":"Excellent"},null,null,null,null,null,true]
[]
[null,null,null,null,"Continuous Green T",null,null,null,null,null,null,null,null,null,null,null,null,null,null,null,null,null,null,"W",null,null,null,null,null,null,null,null,null,null,null,null,null,null,null,null,null,null,null,null,null,null,null,null,null,null,null,null,null,{"$f":"Result_CGT_W_CLV_Z5","v":242},null,null,{"$f":"Result_CGT_W_VC_Z5","v":0.14000000000000001},null,null,{"$f":"MAX(AG34,AM34,AS34,AY34,BE34)","v":0.14000000000000001},null,null,null,null,null,null,{"$f":"'Multimodal Ped'!GL34","v":"Good"},null,null,null,{"$f":"'Multimodal Bike'!GL34","v":"Excellent"},null,null,null,null,null,true,{"$f":"IF(NOT(BY34),-1,IF(BH34<0.75,0,IF(BH34<0.875,1,IF(BH34<1,2,3))))","v":0}]
[]
[null,null,null,null,null,null,null,null,null,null,null,null,null,null,null,null,null,null,null,null,null,null,null,"N",null,null,null,null,null,null,null,null,null,null,null,null,null,null,null,null,null,null,null,null,null,null,null,null,null,null,null,null,null,{"$f":"Result_CGT_N_CLV_Z5","v":167.26315789473688},null,null,{"$f":"Result_CGT_N_VC_Z5","v":0.1},null,null,{"$f":"MAX(AG36,AM36,AS36,AY36,BE36)","v":0.1},null,null,null,null,null,null,{"$f":"'Multimodal Ped'!GL36","v":"Good"},null,null,null,{"$f":"'Multimodal Bike'!GL36","v":"Excellent"},null,null,null,null,null,true,{"$f":"IF(NOT(BY36),-1,IF(BH36<0.75,0,IF(BH36<0.875,1,IF(BH36<1,2,3))))","v":0}]
[]
[null,null,null,null,null,null,null,null,null,null,null,null,null,null,null,null,null,null,null,null,null,null,null,"E",null,null,null,null,null,null,null,null,null,null,null,null,null,null,null,null,null,null,null,null,null,null,null,null,null,null,null,null,null,{"$f":"Result_CGT_E_CLV_Z5","v":320.26315789473688},null,null,{"$f":"Result_CGT_E_VC_Z5","v":0.18},null,null,{"$f":"MAX(AG38,AM38,AS38,AY38,BE38)","v":0.18},null,null,null,null,null,null,{"$f":"'Multimodal Ped'!GL38","v":"Good"},null,null,null,{"$f":"'Multimodal Bike'!GL38","v":"Excellent"},null,null,null,null,null,true,{"$f":"IF(NOT(BY38),-1,IF(BH38<0.75,0,IF(BH38<0.875,1,IF(BH38<1,2,3))))","v":0}]
[]
[null,null,null,null,null,null,null,null,null,null,null,null,null,null,null,null,null,null,null,null,null,null,null,"S",null,null,null,null,null,null,null,null,null,null,null,null,null,null,null,null,null,null,null,null,null,null,null,null,null,null,null,null,null,{"$f":"Result_CGT_S_CLV_Z5","v":242},null,null,{"$f":"Result_CGT_S_VC_Z5","v":0.14000000000000001},null,null,{"$f":"MAX(AG40,AM40,AS40,AY40,BE40)","v":0.14000000000000001},null,null,null,null,null,null,{"$f":"'Multimodal Ped'!GL40","v":"Good"},null,null,null,{"$f":"'Multimodal Bike'!GL40","v":"Excellent"},null,null,null,null,null,true,{"$f":"IF(NOT(BY40),-1,IF(BH40<0.75,0,IF(BH40<0.875,1,IF(BH40<1,2,3))))","v":0}]
[]
[null,null,null,null,"Quadrant Roadway",null,null,null,null,null,null,null,null,null,null,null,null,null,null,null,null,null,null,"S-W",null,null,null,null,null,null,null,null,null,null,null,{"$f":"Result_QR_SW_CLV_Z2","v":389.63157894736844},null,null,{"$f":"Result_QR_SW_VC_Z2","v":0.22},null,null,null,null,null,null,null,null,{"$f":"Result_QR_SW_CLV_Z4","v":242.00000000000003},null,null,{"$f":"Result_QR_SW_VC_Z4","v":0.14000000000000001},null,null,{"$f":"Result_QR_SW_CLV_Z5","v":372.5},null,null,{"$f":"Result_QR_SW_VC_Z5","v":0.21},null,null,{"$f":"MAX(AG42,AM42,AS42,AY42,BE42)","v":0.22},null,null,null,null,null,null,{"$f":"'Multimodal Ped'!GL42","v":"Good"},null,null,null,{"$f":"'Multimodal Bike'!GL42","v":"Excellent"},null,null,null,null,null,true,{"$f":"IF(NOT(BY42),-1,IF(BH42<0.75,0,IF(BH42<0.875,1,IF(BH42<1,2,3))))","v":0}]
[]
[null,null,null,null,null,null,null,null,null,null,null,null,null,null,null,null,null,null,null,null,null,null,null,"N-E",null,null,null,null,null,{"$f":"Result_QR_NE_CLV_Z1","v":351.63157894736844},null,null,{"$f":"Result_QR_NE_VC_Z1","v":0.2},null,null,null,null,null,null,null,null,{"$f":"Result_QR_NE_CLV_Z3","v":291},null,null,{"$f":"Result_QR_NE_VC_Z3","v":0.17},null,null,null,null,null,null,null,null,{"$f":"Result_QR_NE_CLV_Z5","v":459},null,null,{"$f":"Result_QR_NE_VC_Z5","v":0.26},null,null,{"$f":"MAX(AG44,AM44,AS44,AY44,BE44)","v":0.26},null,null,null,null,null,null,{"$f":"'Multimodal Ped'!GL44","v":"Good"},null,null,null,{"$f":"'Multimodal Bike'!GL44","v":"Excellent"},null,null,null,null,null,true,{"$f":"IF(NOT(BY44),-1,IF(BH44<0.75,0,IF(BH44<0.875,1,IF(BH44<1,2,3))))","v":0}]
[]
[null,null,null,null,null,null,null,null,null,null,null,null,null,null,null,null,null,null,null,null,null,null,null,"S-E",null,null,null,null,null,null,null,null,null,null,null,{"$f":"Result_QR_SE_CLV_Z2","v":392.26315789473688},null,null,{"$f":"Result_QR_SE_VC_Z2","v":0.22},null,null,{"$f":"Result_QR_SE_CLV_Z3","v":378.63157894736844},null,null,{"$f":"Result_QR_SE_VC_Z3","v":0.22},null,null,null,null,null,null,null,null,{"$f":"Result_QR_SE_CLV_Z5","v":408},null,null,{"$f":"Result_QR_SE_VC_Z5","v":0.23},null,null,{"$f":"MAX(AG46,AM46,AS46,AY46,BE46)","v":0.23},null,null,null,null,null,null,{"$f":"'Multimodal Ped'!GL46","v":"Good"},null,null,null,{"$f":"'Multimodal Bike'!GL46","v":"Excellent"},null,null,null,null,null,true,{"$f":"IF(NOT(BY46),-1,IF(BH46<0.75,0,IF(BH46<0.875,1,IF(BH46<1,2,3))))","v":0}]
[]
[null,null,null,null,null,null,null,null,null,null,null,null,null,null,null,null,null,null,null,null,null,null,null,"N-W",null,null,null,null,null,{"$f":"Result_QR_NW_CLV_Z1","v":313.13157894736844},null,null,{"$f":"Result_QR_NW_VC_Z1","v":0.18},null,null,null,null,null,null,null,null,null,null,null,null,null,null,{"$f":"Result_QR_NW_CLV_Z4","v":281.63157894736844},null,null,{"$f":"Result_QR_NW_VC_Z4","v":0.16},null,null,{"$f":"Result_QR_NW_CLV_Z5","v":423.5},null,null,{"$f":"Result_QR_NW_VC_Z5","v":0.24},null,null,{"$f":"MAX(AG48,AM48,AS48,AY48,BE48)","v":0.24},null,null,null,null,null,null,{"$f":"'Multimodal Ped'!GL48","v":"Good"},null,null,null,{"$f":"'Multimodal Bike'!GL48","v":"Excellent"},null,null,null,null,null,true,{"$f":"IF(NOT(BY48),-1,IF(BH48<0.75,0,IF(BH48<0.875,1,IF(BH48<1,2,3))))","v":0}]
[]
[null,null,null,null,"Partial Displaced Left Turn",null,null,null,null,null,null,null,null,null,null,null,null,null,null,null,null,null,null,"N-S",null,null,null,null,null,{"$f":"Result_PDLT_NS_CLV_Z1","v":573.63157894736844},null,null,{"$f":"Result_PDLT_NS_VC_Z1","v":0.32},null,null,{"$f":"Result_PDLT_NS_CLV_Z2","v":342.36842105263156},null,null,{"$f":"Result_PDLT_NS_VC_Z2","v":0.19},null,null,null,null,null,null,null,null,null,null,null,null,null,null,{"$f":"Result_PDLT_NS_CLV_Z5","v":644.63157894736844},null,null,{"$f":"Result_PDLT_NS_VC_Z5","v":0.37},null,null,{"$f":"MAX(AG50,AM50,AS50,AY50,BE50)","v":0.37},null,null,null,null,null,null,{"$f":"'Multimodal Ped'!GL50","v":"Good"},null,null,null,{"$f":"'Multimodal Bike'!GL50","v":"Excellent"},null,null,null,null,null,true,{"$f":"IF(NOT(BY50),-1,IF(BH50<0.75,0,IF(BH50<0.875,1,IF(BH50<1,2,3))))","v":0}]
[]
[null,null,null,null,null,null,null,null,null,null,null,null,null,null,null,null,null,null,null,null,null,null,null,"E-W",null,null,null,null,null,null,null,null,null,null,null,null,null,null,null,null,null,{"$f":"Result_PDLT_EW_CLV_Z3","v":267.63157894736844},null,null,{"$f":"Result_PDLT_EW_VC_Z3","v":0.15},null,null,{"$f":"Result_PDLT_EW_CLV_Z4","v":338.63157894736844},null,null,{"$f":"Result_PDLT_EW_VC_Z4","v":0.19},null,null,{"$f":"Result_PDLT_EW_CLV_Z5","v":491.63157894736844},null,null,{"$f":"Result_PDLT_EW_VC_Z5","v":0.28000000000000003},null,null,{"$f":"MAX(AG52,AM52,AS52,AY52,BE52)","v":0.28000000000000003},null,null,null,null,null,null,{"$f":"'Multimodal Ped'!GL52","v":"Good"},null,null,null,{"$f":"'Multimodal Bike'!GL52","v":"Excellent"},null,null,null,null,null,true,{"$f":"IF(NOT(BY52),-1,IF(BH52<0.75,0,IF(BH52<0.875,1,IF(BH52<1,2,3))))","v":0}]
[]
[null,null,null,null,"Displaced Left Turn",null,null,null,null,null,null,null,null,null,null,null,null,null,null,null,null,null,null,"FULL",null,null,null,null,null,{"$f":"Result_DLT_CLV_Z1","v":303.13157894736844},null,null,{"$f":"Result_DLT_VC_Z1","v":0.17},null,null,{"$f":"Result_DLT_CLV_Z2","v":224.86842105263159},null,null,{"$f":"Result_DLT_VC_Z2","v":0.12},null,null,{"$f":"Result_DLT_CLV_Z3","v":150.13157894736844},null,null,{"$f":"Result_DLT_VC_Z3","v":0.08},null,null,{"$f":"Result_DLT_CLV_Z4","v":185.63157894736844},null,null,{"$f":"Result_DLT_VC_Z4","v":0.1},null,null,{"$f":"Result_DLT_CLV_Z5","v":357},null,null,{"$f":"Result_DLT_VC_Z5","v":0.2},null,null,{"$f":"MAX(AG54,AM54,AS54,AY54,BE54)","v":0.2},null,null,null,null,null,null,{"$f":"'Multimodal Ped'!GL54","v":"Good"},null,null,null,{"$f":"'Multimodal Bike'!GL54","v":"Excellent"},null,null,null,null,null,true,{"$f":"IF(NOT(BY54),-1,IF(BH54<0.75,0,IF(BH54<0.875,1,IF(BH54<1,2,3))))","v":0}]
[]
[null,null,null,null,{"$f":"'3 - Alt Num Lanes Input'!E56","v":"Signalized Restricted Crossing U-Turn"},null,null,null,null,null,null,null,null,null,null,null,null,null,null,null,null,null,null,"N-S",null,null,null,null,null,{"$f":"Result_RCUT_NS_CLV_Z1","v":436.75},null,null,{"$f":"Result_RCUT_NS_VC_Z1","v":0.24},null,null,{"$f":"Result_RCUT_NS_CLV_Z2","v":701.75},null,null,{"$f":"Result_RCUT_NS_VC_Z2","v":0.39},null,null,{"$f":"Result_RCUT_NS_CLV_Z3","v":816.47058823529414},null,null,{"$f":"Result_RCUT_NS_VC_Z3","v":0.45},null,null,{"$f":"Result_RCUT_NS_CLV_Z4","v":636.47058823529414},null,null,{"$f":"Result_RCUT_NS_VC_Z4","v":0.35},null,null,null,null,null,null,null,null,{"$f":"MAX(AG56,AM56,AS56,AY56,BE56)","v":0.45},null,null,null,null,null,null,{"$f":"'Multimodal Ped'!GL56","v":"Good"},null,null,null,{"$f":"'Multimodal Bike'!GL56","v":"Excellent"},null,null,null,null,null,true,{"$f":"IF(NOT(BY56),-1,IF(BH56<0.75,0,IF(BH56<0.875,1,IF(BH56<1,2,3))))","v":0}]
[]
[null,null,null,null,null,null,null,null,null,null,null,null,null,null,null,null,null,null,null,null,null,null,null,"E-W",null,null,null,null,null,{"$f":"Result_RCUT_EW_CLV_Z1","v":636.47058823529414},null,null,{"$f":"Result_RCUT_EW_VC_Z1","v":0.35},null,null,{"$f":"Result_RCUT_EW_CLV_Z2","v":1260},null,null,{"$f":"Result_RCUT_EW_VC_Z2","v":0.7},null,null,{"$f":"Result_RCUT_EW_CLV_Z3","v":908},null,null,{"$f":"Result_RCUT_EW_VC_Z3","v":0.5},null,null,{"$f":"Result_RCUT_EW_CLV_Z4","v":436.75},null,null,{"$f":"Result_RCUT_EW_VC_Z4","v":0.24},null,null,null,null,null,null,null,null,{"$f":"MAX(AG58,AM58,AS58,AY58,BE58)","v":0.7},null,null,null,null,null,null,{"$f":"'Multimodal Ped'!GL58","v":"Good"},null,null,null,{"$f":"'Multimodal Bike'!GL58","v":"Excellent"},null,null,null,null,null,true,{"$f":"IF(NOT(BY58),-1,IF(BH58<0.75,0,IF(BH58<0.875,1,IF(BH58<1,2,3))))","v":0}]
[]
[null,null,null,null,{"$f":"'3 - Alt Num Lanes Input'!E60","v":"Unsignalized Restricted Crossing U-Turn"},null,null,null,null,null,null,null,null,null,null,null,null,null,null,null,null,null,null,"N-S",null,null,null,null,null,{"$f":"Result_URCUT_NS_CLV_Z1","v":286},null,null,{"$f":"Result_URCUT_NS_VC_Z1","v":0.21970629188825147},null,null,{"$f":"Result_URCUT_NS_CLV_Z2","v":816},null,null,{"$f":"Result_URCUT_NS_VC_Z2","v":0.35281527018121533},null,null,{"$f":"Result_URCUT_NS_CLV_Z3","v":541},null,null,{"$f":"Result_URCUT_NS_VC_Z3","v":0.58924366590961619},null,null,{"$f":"Result_URCUT_NS_CLV_Z4","v":235},null,null,{"$f":"Result_URCUT_NS_VC_Z4","v":0.37302508570013782},null,null,null,null,null,null,null,null,{"$f":"MAX(AG60,AM60,AS60,AY60,BE60)","v":0.58924366590961619},null,null,null,null,null,null,{"$f":"'Multimodal Ped'!GL60","v":"Good"},null,null,null,{"$f":"'Multimodal Bike'!GL60","v":"Excellent"},null,null,null,null,null,true,{"$f":"IF(NOT(BY60),-1,IF(BH60<0.75,0,IF(BH60<0.875,1,IF(BH60<1,2,3))))","v":0}]
[]
[null,null,null,null,null,null,null,null,null,null,null,null,null,null,null,null,null,null,null,null,null,null,null,"E-W",null,null,null,null,null,{"$f":"Result_URCUT_EW_CLV_Z1","v":306},null,null,{"$f":"Result_URCUT_EW_VC_Z1","v":0.41452726507542276},null,null,{"$f":"Result_URCUT_EW_CLV_Z2","v":235},null,null,{"$f":"Result_URCUT_EW_VC_Z2","v":1.0642953494101834},null,null,{"$f":"Result_URCUT_EW_CLV_Z3","v":286},null,null,{"$f":"Result_URCUT_EW_VC_Z3","v":0.57217127930046763},null,null,{"$f":"Result_URCUT_EW_CLV_Z4","v":286},null,null,{"$f":"Result_URCUT_EW_VC_Z4","v":0.21970629188825147},null,null,null,null,null,null,null,null,{"$f":"MAX(AG62,AM62,AS62,AY62,BE62)","v":1.0642953494101834},null,null,null,null,null,null,{"$f":"'Multimodal Ped'!GL62","v":"Good"},null,null,null,{"$f":"'Multimodal Bike'!GL62","v":"Excellent"},null,null,null,null,null,true,{"$f":"IF(NOT(BY62),-1,IF(BH62<0.75,0,IF(BH62<0.875,1,IF(BH62<1,2,3))))","v":3}]
[]
[null,null,null,null,"Median U-Turn",null,null,null,null,null,null,null,null,null,null,null,null,null,null,null,null,null,null,"N-S",null,null,null,null,null,{"$f":"Result_MUT_NS_CLV_Z1","v":309.25},null,null,{"$f":"Result_MUT_NS_VC_Z1","v":0.17},null,null,{"$f":"Result_MUT_NS_CLV_Z2","v":485.5},null,null,{"$f":"Result_MUT_NS_VC_Z2","v":0.27},null,null,null,null,null,null,null,null,null,null,null,null,null,null,{"$f":"Result_MUT_NS_CLV_Z5","v":408},null,null,{"$f":"Result_MUT_NS_VC_Z5","v":0.23},null,null,{"$f":"MAX(AG64,AM64,AS64,AY64,BE64)","v":0.27},null,null,null,null,null,null,{"$f":"'Multimodal Ped'!GL64","v":"Good"},null,null,null,{"$f":"'Multimodal Bike'!GL64","v":"Excellent"},null,null,null,null,null,true,{"$f":"IF(NOT(BY64),-1,IF(BH64<0.75,0,IF(BH64<0.875,1,IF(BH64<1,2,3))))","v":0}]
[]
[null,null,null,null,null,null,null,null,null,null,null,null,null,null,null,null,null,null,null,null,null,null,null,"E-W",null,null,null,null,null,null,null,null,null,null,null,null,null,null,null,null,null,{"$f":"Result_MUT_EW_CLV_Z3","v":309.25},null,null,{"$f":"Result_MUT_EW_VC_Z3","v":0.17},null,null,{"$f":"Result_MUT_EW_CLV_Z4","v":220.5},null,null,{"$f":"Result_MUT_EW_VC_Z4","v":0.12},null,null,{"$f":"Result_MUT_EW_CLV_Z5","v":477.5},null,null,{"$f":"Result_MUT_EW_VC_Z5","v":0.27},null,null,{"$f":"MAX(AG66,AM66,AS66,AY66,BE66)","v":0.27},null,null,null,null,null,null,{"$f":"'Multimodal Ped'!GL66","v":"Good"},null,null,null,{"$f":"'Multimodal Bike'!GL66","v":"Excellent"},null,null,null,null,null,true,{"$f":"IF(NOT(BY66),-1,IF(BH66<0.75,0,IF(BH66<0.875,1,IF(BH66<1,2,3))))","v":0}]
[]
[null,null,null,null,"Partial Median U-Turn",null,null,null,null,null,null,null,null,null,null,null,null,null,null,null,null,null,null,"N-S",null,null,null,null,null,{"$f":"Result_PMUT_NS_CLV_Z1","v":270.5},null,null,{"$f":"Result_PMUT_NS_VC_Z1","v":0.15},null,null,{"$f":"Result_PMUT_NS_CLV_Z2","v":446.75},null,null,{"$f":"Result_PMUT_NS_VC_Z2","v":0.25},null,null,null,null,null,null,null,null,null,null,null,null,null,null,{"$f":"Result_PMUT_NS_CLV_Z5","v":440.63157894736844},null,null,{"$f":"Result_PMUT_NS_VC_Z5","v":0.25},null,null,{"$f":"MAX(AG68,AM68,AS68,AY68,BE68)","v":0.25},null,null,null,null,null,null,{"$f":"'Multimodal Ped'!GL68","v":"Good"},null,null,null,{"$f":"'Multimodal Bike'!GL68","v":"Excellent"},null,null,null,null,null,true,{"$f":"IF(NOT(BY68),-1,IF(BH68<0.75,0,IF(BH68<0.875,1,IF(BH68<1,2,3))))","v":0}]
[]
[null,null,null,null,null,null,null,null,null,null,null,null,null,null,null,null,null,null,null,null,null,null,null,"E-W",null,null,null,null,null,null,null,null,null,null,null,null,null,null,null,null,null,{"$f":"Result_PMUT_EW_CLV_Z3","v":181.75},null,null,{"$f":"Result_PMUT_EW_VC_Z3","v":0.1},null,null,{"$f":"Result_PMUT_EW_CLV_Z4","v":181.75},null,null,{"$f":"Result_PMUT_EW_VC_Z4","v":0.1},null,null,{"$f":"Result_PMUT_EW_CLV_Z5","v":405.13157894736844},null,null,{"$f":"Result_PMUT_EW_VC_Z5","v":0.23},null,null,{"$f":"MAX(AG70,AM70,AS70,AY70,BE70)","v":0.23},null,null,null,null,null,null,{"$f":"'Multimodal Ped'!GL70","v":"Good"},null,null,null,{"$f":"'Multimodal Bike'!GL70","v":"Excellent"},null,null,null,null,null,true,{"$f":"IF(NOT(BY70),-1,IF(BH70<0.75,0,IF(BH70<0.875,1,IF(BH70<1,2,3))))","v":0}]
[]
[null,null,null,null,"Bowtie",null,null,null,null,null,null,null,null,null,null,null,null,null,null,null,null,null,null,"N-S",null,null,null,null,null,null,null,null,null,null,null,null,null,null,null,null,null,{"$f":"Result_Bowtie_NS_CLV_Z3","v":286},null,null,{"$f":"Result_Bowtie_NS_VC_Z3","v":0.23735770608528212},null,null,{"$f":"Result_Bowtie_NS_CLV_Z4","v":286},null,null,{"$f":"Result_Bowtie_NS_VC_Z4","v":0.22077593350399499},null,null,{"$f":"Result_Bowtie_NS_CLV_Z5","v":847},null,null,{"$f":"Result_Bowtie_NS_VC_Z5","v":0.48},null,null,{"$f":"MAX(AG72,AM72,AS72,AY72,BE72)","v":0.48},null,null,null,null,null,null,{"$f":"'Multimodal Ped'!GL72","v":"Good"},null,null,null,{"$f":"'Multimodal Bike'!GL72","v":"Excellent"},null,null,null,null,null,true,{"$f":"IF(NOT(BY72),-1,IF(BH72<0.75,0,IF(BH72<0.875,1,IF(BH72<1,2,3))))","v":0}]
[]
[null,null,null,null,null,null,null,null,null,null,null,null,null,null,null,null,null,null,null,null,null,null,null,"E-W",null,null,null,null,null,{"$f":"Result_Bowtie_EW_CLV_Z1","v":286},null,null,{"$f":"Result_Bowtie_EW_VC_Z1","v":0.23735770608528212},null,null,{"$f":"Result_Bowtie_EW_CLV_Z2","v":816},null,null,{"$f":"Result_Bowtie_EW_VC_Z2","v":0.62990615992748222},null,null,null,null,null,null,null,null,null,null,null,null,null,null,{"$f":"Result_Bowtie_EW_CLV_Z5","v":847},null,null,{"$f":"Result_Bowtie_EW_VC_Z5","v":0.48},null,null,{"$f":"MAX(AG74,AM74,AS74,AY74,BE74)","v":0.62990615992748222},null,null,null,null,null,null,{"$f":"'Multimodal Ped'!GL74","v":"Good"},null,null,null,{"$f":"'Multimodal Bike'!GL74","v":"Excellent"},null,null,null,null,null,true,{"$f":"IF(NOT(BY74),-1,IF(BH74<0.75,0,IF(BH74<0.875,1,IF(BH74<1,2,3))))","v":0}]
[]
[null,null,null,null,"Split Intersection",null,null,null,null,null,null,null,null,null,null,null,null,null,null,null,null,null,null,"N-S",null,null,null,null,null,null,null,null,null,null,null,null,null,null,null,null,null,{"$f":"Result_SplitIntx_NS_CLV_Z3","v":778},null,null,{"$f":"Result_SplitIntx_NS_VC_Z3","v":0.44},null,null,{"$f":"Result_SplitIntx_NS_CLV_Z4","v":510},null,null,{"$f":"Result_SplitIntx_NS_VC_Z4","v":0.28999999999999998},null,null,null,null,null,null,null,null,{"$f":"MAX(AG76,AM76,AS76,AY76,BE76)","v":0.44},null,null,null,null,null,null,{"$f":"'Multimodal Ped'!GL76","v":"Good"},null,null,null,{"$f":"'Multimodal Bike'!GL76","v":"Excellent"},null,null,null,null,null,true,{"$f":"IF(NOT(BY76),-1,IF(BH76<0.75,0,IF(BH76<0.875,1,IF(BH76<1,2,3))))","v":0}]
[]
[null,null,null,null,null,null,null,null,null,null,null,null,null,null,null,null,null,null,null,null,null,null,null,"E-W",null,null,null,null,null,{"$f":"Result_SplitIntx_EW_CLV_Z1","v":745},null,null,{"$f":"Result_SplitIntx_EW_VC_Z1","v":0.43},null,null,{"$f":"Result_SplitIntx_EW_CLV_Z2","v":849},null,null,{"$f":"Result_SplitIntx_EW_VC_Z2","v":0.49},null,null,null,null,null,null,null,null,null,null,null,null,null,null,null,null,null,null,null,null,{"$f":"MAX(AG78,AM78,AS78,AY78,BE78)","v":0.49},null,null,null,null,null,null,{"$f":"'Multimodal Ped'!GL78","v":"Good"},null,null,null,{"$f":"'Multimodal Bike'!GL78","v":"Excellent"},null,null,null,null,null,true,{"$f":"IF(NOT(BY78),-1,IF(BH78<0.75,0,IF(BH78<0.875,1,IF(BH78<1,2,3))))","v":0}]
[]
[null,{"$f":"IF(OR(AJ78>1, AN78>1,AR78>1),1,0)","v":1},{"$f":"IF(OR(AV78>1, AZ78>1,BD78>1),1,0)","v":0},null,null,null,null,null,null,null,null,null,null,null,null,null,null,null,null,null,null,null,null,null,null,null,null,null,null,null,null,null,null,null,null,null,null,null,null,null,null,null,null,null,null,null,null,null,null,null,null,null,null,null,null,null,null,null,null,null,null,null,null,null,null,null,null,null,null,null,null,null,null,null,null,null,true]
[null,null,null,null,"Results for Grade Separated Intersections",null,null,null,null,null,null,null,null,null,null,null,null,null,null,null,null,null,null,null,null,null,null,null,null,null,null,null,null,null,null,null,null,null,null,null,null,null,null,null,null,null,null,null,null,null,null,null,null,null,null,null,null,null,null,null,null,null,null,null,null,null,null,null,null,null,null,null,null,null,null,null,true]
[null,null,null,null,null,null,null,null,null,null,null,null,null,null,null,null,null,null,null,null,null,null,null,null,null,null,null,null,null,null,null,null,null,null,null,null,null,null,null,null,null,null,null,null,null,null,null,null,null,null,null,null,null,null,null,null,null,null,null,null,null,null,null,null,null,null,null,null,null,null,null,null,null,null,null,null,true]
[null,null,null,null,"TYPE OF INTERSECTION",null,null,null,null,null,null,null,null,null,null,null,null,"Sheet",null,null,null,null,null,"Zone 1       (North)",null,null,null,null,null,"Zone 2       (South)",null,null,null,null,null,"Zone 3     (East)",null,null,null,null,null,"Zone 4     (West)",null,null,null,null,null,"Zone 5       (Center)",null,null,null,null,null,"Zone 6       (Raised)",null,null,null,null,null,"Overall v/c Ratio ",null,null,null,null,null,null,"Ped",null,null,null,"Bike",null,null,null,"Transit Accommodations",null,true]
[]
[null,null,null,null,null,null,null,null,null,null,null,null,null,null,null,null,null,null,null,null,null,null,null,"CLV",null,null,"V/C",null,null,"CLV",null,null,"V/C",null,null,"CLV",null,null,"V/C",null,null,"CLV",null,null,"V/C",null,null,"CLV",null,null,"V/C",null,null,"CLV",null,null,"V/C"]
[]
[null,null,null,null,"Echelon",null,null,null,null,null,null,null,null,null,null,null,null,"N-S",null,null,null,null,null,null,null,null,null,null,null,null,null,null,null,null,null,null,null,null,null,null,null,null,null,null,null,null,null,{"$f":"Result_Echelon_NS_CLV_Z5","v":204},null,null,{"$f":"Result_Echelon_NS_VC_Z5","v":0.11},null,null,{"$f":"Result_Echelon_NS_CLV_Z6","v":357},null,null,{"$f":"Result_Echelon_NS_VC_Z6","v":0.2},null,null,{"$f":"MAX(AG87,AM87,AS87,AY87,BE87)","v":0.2},null,null,null,null,null,null,{"$f":"'Multimodal Ped'!GL87","v":"Good"},null,null,null,{"$f":"'Multimodal Bike'!GL87","v":"Good"},null,null,null,null,null,true,{"$f":"IF(NOT(BY87),-1,IF(BH87<0.75,0,IF(BH87<0.875,1,IF(BH87<1,2,3))))","v":0}]
[]
[null,null,null,null,null,null,null,null,null,null,null,null,null,null,null,null,null,"E-W",null,null,null,null,null,null,null,null,null,null,null,null,null,null,null,null,null,null,null,null,null,null,null,null,null,null,null,null,null,{"$f":"Result_Echelon_EW_CLV_Z5","v":204},null,null,{"$f":"Result_Echelon_EW_VC_Z5","v":0.11},null,null,{"$f":"Result_Echelon_EW_CLV_Z6","v":357},null,null,{"$f":"Result_Echelon_EW_VC_Z6","v":0.2},null,null,{"$f":"MAX(AG89,AM89,AS89,AY89,BE89)","v":0.2},null,null,null,null,null,null,{"$f":"'Multimodal Ped'!GL89","v":"Good"},null,null,null,{"$f":"'Multimodal Bike'!GL89","v":"Good"},null,null,null,null,null,true,{"$f":"IF(NOT(BY89),-1,IF(BH89<0.75,0,IF(BH89<0.875,1,IF(BH89<1,2,3))))","v":0}]
[]
[null,null,null,null,"Center Turn Overpass",null,null,null,null,null,null,null,null,null,null,null,null,"FULL",null,null,null,null,null,null,null,null,null,null,null,null,null,null,null,null,null,null,null,null,null,null,null,null,null,null,null,null,null,{"$f":"Result_CTO_CLV_Z5","v":357},null,null,{"$f":"Result_CTO_VC_Z5","v":0.2},null,null,{"$f":"Result_CTO_CLV_Z6","v":140},null,null,{"$f":"Result_CTO_VC_Z6","v":0.08},null,null,{"$f":"MAX(AG91,AM91,AS91,AY91,BE91)","v":0.2},null,null,null,null,null,null,{"$f":"'Multimodal Ped'!GL91","v":"Good"},null,null,null,{"$f":"'Multimodal Bike'!GL91","v":"Excellent"},null,null,null,null,null,true,{"$f":"IF(NOT(BY91),-1,IF(BH91<0.75,0,IF(BH91<0.875,1,IF(BH91<1,2,3))))","v":0}]
[]
[null,null,null,null,null,null,null,null,null,null,null,null,null,null,null,null,null,"E-W",null,null,null,null,null,null,null,null,null,null,null,null,null,null,null,null,null,null,null,null,null,null,null,null,null,null,null,null,null,null,null,null,null,null,null,null,null,null,null,null,null,10000,null,null,null,null,null,null,"Excellent",null,null,null,null,null,null,null,null,null,true,{"$f":"IF(NOT(BY93),-1,IF(BH93<0.75,0,IF(BH93<0.875,1,IF(BH93<1,2,3))))","v":3}]
[]
[]
[]
[null,null,null,null,null,null,null,null,null,null,null,null,null,null,null,null,null,null,null,null,null,null,null,null,null,null,null,null,null,null,null,null,null,null,null,null,null,null,null,null,null,null,null,null,null,null,null,null,null,null,null,null,null,null,null,null,null,null,null,null,null,null,null,null,null,null,null,null,null,null,null,null,null,null,null,null,true]
[null,"Capacity Analysis for Planning of Junctions"]
[]
[null,"Detailed Results Worksheet"]
[]
[]
[]
[null,null,null,null,"Results for Roundabouts"]
[]
[null,null,null,null,"TYPE OF ROUNDABOUT",null,null,null,null,null,null,"Zone 1 (North)",null,null,null,null,null,null,null,null,null,null,null,"Zone 3 (East)",null,null,null,null,null,null,null,null,null,null,null,"Zone 2 (South)",null,null,null,null,null,null,null,null,null,null,null,"Zone 4 (West)",null,null,null,null,null,null,null,null,null,null,null,"Overall v/c Ratio ",null,null,null,null,null,null,"Pedestrian Accommodations",null,null,null,"Bicycle Accommodations",null,null,null,"Transit Accommodations"]
[null,{"$f":"IF(L114>1,1,0)","v":0},{"$f":"IF(X114>1,1,0)","v":0}]
[null,{"$f":"IF(AJ114>1,1,0)","v":0},{"$f":"IF(AV114>1,1,0)","v":0},null,null,null,null,null,null,null,null,"Lane 1",null,null,null,"Lane 2",null,null,null," Lane 3",null,null,null,"Lane 1",null,null,null,"Lane 2",null,null,null," Lane 3",null,null,null,"Lane 1",null,null,null,"Lane 2",null,null,null," Lane 3",null,null,null,"Lane 1",null,null,null,"Lane 2",null,null,null," Lane 3"]
[]
[null,null,null,null,"50 ICD",null,null,null,null,null,null,{"$f":"Result_50ICD_VC_Z1","v":0.42052776234173883},null,null,null,null,null,null,null,null,null,null,null,{"$f":"Result_50ICD_VC_Z3","v":0.38628448968657914},null,null,null,null,null,null,null,null,null,null,null,{"$f":"Result_50ICD_VC_Z2","v":1.0639288231617303},null,null,null,null,null,null,null,null,null,null,null,{"$f":"Result_50ICD_VC_Z4","v":0.797136004213433},null,null,null,null,null,null,null,null,null,null,null,{"$f":"MAX(L110:BG111)","v":1.0639288231617303},null,null,null,null,null,null,{"$f":"'Multimodal Ped'!GL110","v":"Excellent"},null,null,null,{"$f":"'Multimodal Bike'!GL110","v":"Good"},null,null,null,null,null,true,{"$f":"IF(NOT(BY110),-1,IF(BH110<0.75,0,IF(BH110<0.875,1,IF(BH110<1,2,3))))","v":3}]
[null,{"$f":"IF(L116>1,1,0)","v":0},{"$f":"IF(AJ116>1,1,0)","v":0}]
[null,{"$f":"IF(OR(X116>1, AB116>1),1,0)","v":0},{"$f":"IF(OR(AV116>1, AZ116>1),1,0)","v":0},null,"75 ICD",null,null,null,null,null,null,{"$f":"Result_75ICD_VC_Z1","v":0.40136233845165875},null,null,null,null,null,null,null,null,null,null,null,{"$f":"Result_75ICD_VC_Z3","v":0.38170406359124004},null,null,null,null,null,null,null,null,null,null,null,{"$f":"Result_75ICD_VC_Z2","v":1.0260914534790657},null,null,null,null,null,null,null,null,null,null,null,{"$f":"Result_75ICD_VC_Z4","v":0.67150663064832983},null,null,null,null,null,null,null,null,null,null,null,{"$f":"MAX(L112:BG113)","v":1.0260914534790657},null,null,null,null,null,null,{"$f":"'Multimodal Ped'!GL112","v":"Excellent"},null,null,null,{"$f":"'Multimodal Bike'!GL112","v":"Good"},null,null,null,null,null,true,{"$f":"IF(NOT(BY112),-1,IF(BH112<0.75,0,IF(BH112<0.875,1,IF(BH112<1,2,3))))","v":3}]
[]
[null,null,null,null,"1 X 1",null,null,null,null,null,null,{"$f":"Result_1x1Rdbt_VC_Z1","v":0.29226131359598517},null,null,null,null,null,null,null,null,null,null,null,{"$f":"Result_1x1Rdbt_VC_Z3","v":0.27184398349836608},null,null,null,null,null,null,null,null,null,null,null,{"$f":"Result_1x1Rdbt_VC_Z2","v":0.77561080606526822},null,null,null,null,null,null,null,null,null,null,null,{"$f":"Result_1x1Rdbt_VC_Z4","v":0.39932208093482385},null,null,null,null,null,null,null,null,null,null,null,{"$f":"MAX(L114:BG115)","v":0.77561080606526822},null,null,null,null,null,null,{"$f":"'Multimodal Ped'!GL114","v":"Excellent"},null,null,null,{"$f":"'Multimodal Bike'!GL114","v":"Excellent"},null,null,null,null,null,true,{"$f":"IF(NOT(BY114),-1,IF(BH114<0.75,0,IF(BH114<0.875,1,IF(BH114<1,2,3))))","v":1}]
[null,{"$f":"IF(AV118>1,1,0)","v":0},{"$f":"IF(X118>1,1,0)","v":0}]
[null,{"$f":"IF(OR(L118>1, P118>1),1,0)","v":0},{"$f":"IF(OR(AJ118>1,AN118>1),1,0)","v":0},null,"1NS X 2EW",null,null,null,null,null,null,{"$f":"Result_1x2Rdbt_VC_L1_Z1","v":0.26821393827608347},null,null,null,null,null,null,null,null,null,null,null,{"$f":"Result_1x2Rdbt_VC_L1_Z3","v":0.12717761263152494},null,null,null,{"$f":"Result_1x2Rdbt_VC_L2_Z3","v":0.13382817041754827},null,null,null,null,null,null,null,{"$f":"Result_1x2Rdbt_VC_L1_Z2","v":0.72043664771552562},null,null,null,null,null,null,null,null,null,null,null,{"$f":"Result_1x2Rdbt_VC_L1_Z4","v":0.17990422646463175},null,null,null,{"$f":"Result_1x2Rdbt_VC_L2_Z4","v":0.18438144211542062},null,null,null,null,null,null,null,{"$f":"MAX(L116:BG117)","v":0.72043664771552562},null,null,null,null,null,null,{"$f":"'Multimodal Ped'!GL116","v":"Good"},null,null,null,{"$f":"'Multimodal Bike'!GL116","v":"Excellent"},null,null,null,null,null,true,{"$f":"IF(NOT(BY116),-1,IF(BH116<0.75,0,IF(BH116<0.875,1,IF(BH116<1,2,3))))","v":0}]
[]
[null,null,null,null,"2NS X 1EW",null,null,null,null,null,null,{"$f":"Result_2x1Rdbt_VC_L1_Z1","v":0.13576217396475573},null,null,null,{"$f":"Result_2x1Rdbt_VC_L2_Z1","v":0.14215338728632426},null,null,null,null,null,null,null,{"$f":"Result_2x1Rdbt_VC_L1_Z3","v":0.25250598191990237},null,null,null,null,null,null,null,null,null,null,null,{"$f":"Result_2x1Rdbt_VC_L1_Z2","v":0.36285640527036489},null,null,null,{"$f":"Result_2x1Rdbt_VC_L2_Z2","v":0.38183142328922859},null,null,null,null,null,null,null,{"$f":"Result_2x1Rdbt_VC_L1_Z4","v":0.34788951342532187},null,null,null,null,null,null,null,null,null,null,null,{"$f":"MAX(L118:BG119)","v":0.38183142328922859},null,null,null,null,null,null,{"$f":"'Multimodal Ped'!GL118","v":"Good"},null,null,null,{"$f":"'Multimodal Bike'!GL118","v":"Excellent"},null,null,null,null,null,true,{"$f":"IF(NOT(BY118),-1,IF(BH118<0.75,0,IF(BH118<0.875,1,IF(BH118<1,2,3))))","v":0}]
[null,{"$f":"IF(OR(L120>1, P120>1),1,0)","v":0},{"$f":"IF(OR(AV120>1,AZ120>1),1,0)","v":0}]
[null,{"$f":"IF(OR(AJ120>1, AN120>1),1,0)","v":0},{"$f":"IF(OR(X120>1, AB120>1),1,0)","v":0},null,"2 X 2",null,null,null,null,null,null,{"$f":"Result_2x2Rdbt_VC_L1_Z1","v":0.13576217396475573},null,null,null,{"$f":"Result_2x2Rdbt_VC_L2_Z1","v":0.14215338728632426},null,null,null,null,null,null,null,{"$f":"Result_2x2Rdbt_VC_L1_Z3","v":0.17990422646463175},null,null,null,{"$f":"Result_2x2Rdbt_VC_L2_Z3","v":0.18438144211542062},null,null,null,null,null,null,null,{"$f":"Result_2x2Rdbt_VC_L1_Z2","v":0.36285640527036489},null,null,null,{"$f":"Result_2x2Rdbt_VC_L2_Z2","v":0.38183142328922859},null,null,null,null,null,null,null,{"$f":"Result_2x2Rdbt_VC_L1_Z4","v":0.12717761263152494},null,null,null,{"$f":"Result_2x2Rdbt_VC_L2_Z4","v":0.13382817041754827},null,null,null,null,null,null,null,{"$f":"MAX(L120:BG121)","v":0.38183142328922859},null,null,null,null,null,null,{"$f":"'Multimodal Ped'!GL120","v":"Good"},null,null,null,{"$f":"'Multimodal Bike'!GL120","v":"Excellent"},null,null,null,null,null,true,{"$f":"IF(NOT(BY120),-1,IF(BH120<0.75,0,IF(BH120<0.875,1,IF(BH120<1,2,3))))","v":0}]
[]
[null,null,null,null,"3 X 3",null,null,null,null,null,null,{"$f":"Result_3x3Rdbt_VC_L1_Z1","v":9.2433820571748593E-2},null,null,null,{"$f":"Result_3x3Rdbt_VC_L2_Z1","v":9.2433820571748621E-2},null,null,null,{"$f":"Result_3x3Rdbt_VC_L3_Z1","v":9.6557017779390061E-2},null,null,null,{"$f":"Result_3x3Rdbt_VC_L1_Z3","v":0.12248798397591949},null,null,null,{"$f":"Result_3x3Rdbt_VC_L2_Z3","v":0.12248798397591952},null,null,null,{"$f":"Result_3x3Rdbt_VC_L3_Z3","v":0.12524022483311587},null,null,null,{"$f":"Result_3x3Rdbt_VC_L1_Z2","v":0.24705116954578035},null,null,null,{"$f":"Result_3x3Rdbt_VC_L2_Z2","v":0.24705116954578035},null,null,null,{"$f":"Result_3x3Rdbt_VC_L3_Z2","v":0.25935719317758921},null,null,null,{"$f":"Result_3x3Rdbt_VC_L1_Z4","v":8.6589012855506353E-2},null,null,null,{"$f":"Result_3x3Rdbt_VC_L2_Z4","v":8.6589012855506381E-2},null,null,null,{"$f":"Result_3x3Rdbt_VC_L3_Z4","v":9.0902153491164844E-2},null,null,null,{"$f":"MAX(L122:BG123)","v":0.25935719317758921},null,null,null,null,null,null,{"$f":"'Multimodal Ped'!GL122","v":"Fair"},null,null,null,{"$f":"'Multimodal Bike'!GL122","v":"Excellent"},null,null,null,null,null,true]
[null,{"$f":"IF(OR(L122>1, P122>1,T122>1),1,0)","v":0},{"$f":"IF(OR(X122>1, AB122>1,AF122>1),1,0)","v":0}]
[null,{"$f":"IF(OR(AJ122>1, AN122>1,AR122>1),1,0)","v":0},{"$f":"IF(OR(AV122>1, AZ122>1,BD122>1),1,0)","v":0},null,null,null,null,null,null,null,null,null,null,null,null,null,null,null,null,null,null,null,null,null,null,null,null,null,null,null,null,null,null,null,null,null,null,null,null,null,null,null,null,null,null,null,null,null,null,null,null,null,null,null,null,null,null,null,null,null,null,null,null,null,null,null,null,null,null,null,null,null,null,null,null,null,true]
[null,null,null,null,"Results for Interchanges",null,null,null,null,null,null,null,null,null,null,null,null,null,null,null,null,null,null,null,null,null,null,null,null,null,null,null,null,null,null,null,null,null,null,null,null,null,null,null,null,null,null,null,null,null,null,null,null,null,null,null,null,null,null,null,null,null,null,null,null,null,null,null,null,null,null,null,null,null,null,null,true]
[null,null,null,null,null,null,null,null,null,null,null,null,null,null,null,null,null,null,null,null,null,null,null,null,null,null,null,null,null,null,null,null,null,null,null,null,null,null,null,null,null,null,null,null,null,null,null,null,null,null,null,null,null,null,null,null,null,null,null,null,null,null,null,null,null,null,null,null,null,null,null,null,null,null,null,null,true]
[null,null,null,null,"TYPE OF INTERCHANGE",null,null,null,null,null,null,null,null,null,null,null,null,"Sheet",null,null,null,null,null,"Zone 1\n(Rt Mrg)",null,null,null,null,null,"Zone 2\n(Lt Mrg)",null,null,null,null,null,"Zone 3\n(Ctr. 1)",null,null,null,null,null,"Zone 4\n(Ctr. 2)",null,null,null,null,null,"Zone 5\n(Lt Mrg)",null,null,null,null,null,"Zone 6\n(Rt Mrg)",null,null,null,null,null,"Overall v/c Ratio ",null,null,null,null,null,null,"Pedestrian Accommodations",null,null,null,"Bicycle Accommodations",null,null,null,"Transit Accommodations",null,true]
[]
[null,null,null,null,null,null,null,null,null,null,null,null,null,null,null,null,null,null,null,null,null,null,null,"CLV",null,null,"V/C",null,null,"CLV",null,null,"V/C",null,null,"CLV",null,null,"V/C",null,null,"CLV",null,null,"V/C",null,null,"CLV",null,null,"V/C",null,null,"CLV",null,null,"V/C"]
[]
[null,null,null,null,"Diamond",null,null,null,null,null,null,null,null,null,null,null,null,"N-S",null,null,null,null,null,null,null,null,null,null,null,null,null,null,null,null,null,{"$f":"Result_TD_NS_CLV_Z3","v":410.5},null,null,{"$f":"Result_TD_NS_VC_Z3","v":0.23},null,null,{"$f":"Result_TD_NS_CLV_Z4","v":446},null,null,{"$f":"Result_TD_NS_VC_Z4","v":0.25},null,null,null,null,null,null,null,null,null,null,null,null,null,null,{"$f":"MAX(AA131,AG131,AM131,AS131,AY131,BE131)","v":0.25},null,null,null,null,null,null,{"$f":"'Multimodal Ped'!GL131","v":"Good"},null,null,null,{"$f":"'Multimodal Bike'!GL131","v":"Fair"},null,null,null,null,null,true,{"$f":"IF(NOT(BY131),-1,IF(BH131<0.75,0,IF(BH131<0.875,1,IF(BH131<1,2,3))))","v":0}]
[]
[null,null,null,null,null,null,null,null,null,null,null,null,null,null,null,null,null,"E-W",null,null,null,null,null,null,null,null,null,null,null,null,null,null,null,null,null,{"$f":"Result_TD_EW_CLV_Z3","v":493.28947368421052},null,null,{"$f":"Result_TD_EW_VC_Z3","v":0.28000000000000003},null,null,{"$f":"Result_TD_EW_CLV_Z4","v":293},null,null,{"$f":"Result_TD_EW_VC_Z4","v":0.17},null,null,null,null,null,null,null,null,null,null,null,null,null,null,{"$f":"MAX(AA133,AG133,AM133,AS133,AY133,BE133)","v":0.28000000000000003},null,null,null,null,null,null,{"$f":"'Multimodal Ped'!GL133","v":"Good"},null,null,null,{"$f":"'Multimodal Bike'!GL133","v":"Fair"},null,null,null,null,null,true,{"$f":"IF(NOT(BY133),-1,IF(BH133<0.75,0,IF(BH133<0.875,1,IF(BH133<1,2,3))))","v":0}]
[]
[null,null,null,null,"Partial Cloverleaf A",null,null,null,null,null,null,null,null,null,null,null,null,"N-S",null,null,null,null,null,null,null,null,null,null,null,null,null,null,null,null,null,{"$f":"Result_PCLA_NS_CLV_Z3","v":150.13157894736844},null,null,{"$f":"Result_PCLA_NS_VC_Z3","v":0.08},null,null,{"$f":"Result_PCLA_NS_CLV_Z4","v":338.63157894736844},null,null,{"$f":"Result_PCLA_NS_VC_Z4","v":0.19},null,null,null,null,null,null,null,null,null,null,null,null,null,null,{"$f":"MAX(AA135,AG135,AM135,AS135,AY135,BE135)","v":0.19},null,null,null,null,null,null,{"$f":"'Multimodal Ped'!GL135","v":"Good"},null,null,null,{"$f":"'Multimodal Bike'!GL135","v":"Excellent"},null,null,null,null,null,true,{"$f":"IF(NOT(BY135),-1,IF(BH135<0.75,0,IF(BH135<0.875,1,IF(BH135<1,2,3))))","v":0}]
[]
[null,null,null,null,null,null,null,null,null,null,null,null,null,null,null,null,null,"E-W",null,null,null,null,null,null,null,null,null,null,null,null,null,null,null,null,null,{"$f":"Result_PCLA_EW_CLV_Z3","v":150.13157894736844},null,null,{"$f":"Result_PCLA_EW_VC_Z3","v":0.08},null,null,{"$f":"Result_PCLA_EW_CLV_Z4","v":224.86842105263159},null,null,{"$f":"Result_PCLA_EW_VC_Z4","v":0.12},null,null,null,null,null,null,null,null,null,null,null,null,null,null,{"$f":"MAX(AA137,AG137,AM137,AS137,AY137,BE137)","v":0.12},null,null,null,null,null,null,{"$f":"'Multimodal Ped'!GL137","v":"Good"},null,null,null,{"$f":"'Multimodal Bike'!GL137","v":"Excellent"},null,null,null,null,null,true,{"$f":"IF(NOT(BY137),-1,IF(BH137<0.75,0,IF(BH137<0.875,1,IF(BH137<1,2,3))))","v":0}]
[]
[null,null,null,null,"Partial Cloverleaf B",null,null,null,null,null,null,null,null,null,null,null,null,"N-S",null,null,null,null,null,null,null,null,null,null,null,null,null,null,null,null,null,{"$f":"Result_PCLB_NS_CLV_Z3","v":224.86842105263159},null,null,{"$f":"Result_PCLB_NS_VC_Z3","v":0.12},null,null,{"$f":"Result_PCLB_NS_CLV_Z4","v":338.63157894736844},null,null,{"$f":"Result_PCLB_NS_VC_Z4","v":0.19},null,null,null,null,null,null,null,null,null,null,null,null,null,null,{"$f":"MAX(AA139,AG139,AM139,AS139,AY139,BE139)","v":0.19},null,null,null,null,null,null,{"$f":"'Multimodal Ped'!GL139","v":"Good"},null,null,null,{"$f":"'Multimodal Bike'!GL139","v":"Excellent"},null,null,null,null,null,true,{"$f":"IF(NOT(BY139),-1,IF(BH139<0.75,0,IF(BH139<0.875,1,IF(BH139<1,2,3))))","v":0}]
[]
[null,null,null,null,null,null,null,null,null,null,null,null,null,null,null,null,null,"E-W",null,null,null,null,null,null,null,null,null,null,null,null,null,null,null,null,null,{"$f":"Result_PCLB_EW_CLV_Z3","v":165.63157894736844},null,null,{"$f":"Result_PCLB_EW_VC_Z3","v":0.09},null,null,{"$f":"Result_PCLB_EW_CLV_Z4","v":150.13157894736844},null,null,{"$f":"Result_PCLB_EW_VC_Z4","v":0.08},null,null,null,null,null,null,null,null,null,null,null,null,null,null,{"$f":"MAX(AA141,AG141,AM141,AS141,AY141,BE141)","v":0.09},null,null,null,null,null,null,{"$f":"'Multimodal Ped'!GL141","v":"Good"},null,null,null,{"$f":"'Multimodal Bike'!GL141","v":"Excellent"},null,null,null,null,null,true,{"$f":"IF(NOT(BY141),-1,IF(BH141<0.75,0,IF(BH141<0.875,1,IF(BH141<1,2,3))))","v":0}]
[]
[null,null,null,null,"Displaced Left Turn",null,null,null,null,null,null,null,null,null,null,null,null,"N-S",null,null,null,null,null,{"$f":"Result_DLTI_NS_CLV_Z1","v":324.18421052631578},null,null,{"$f":"Result_DLTI_NS_VC_Z1","v":0.18},null,null,null,null,null,null,null,null,{"$f":"Result_DLTI_NS_CLV_Z3","v":516.23684210526312},null,null,{"$f":"Result_DLTI_NS_VC_Z3","v":0.28999999999999998},null,null,{"$f":"Result_DLTI_NS_CLV_Z4","v":500.73684210526318},null,null,{"$f":"Result_DLTI_NS_VC_Z4","v":0.28000000000000003},null,null,null,null,null,null,null,null,{"$f":"Result_DLTI_NS_CLV_Z6","v":224.86842105263159},null,null,{"$f":"Result_DLTI_NS_VC_Z6","v":0.12},null,null,{"$f":"MAX(AA143,AG143,AM143,AS143,AY143,BE143)","v":0.28999999999999998},null,null,null,null,null,null,{"$f":"'Multimodal Ped'!GL143","v":"Good"},null,null,null,{"$f":"'Multimodal Bike'!GL143","v":"Excellent"},null,null,null,null,null,true,{"$f":"IF(NOT(BY143),-1,IF(BH143<0.75,0,IF(BH143<0.875,1,IF(BH143<1,2,3))))","v":0}]
[]
[null,null,null,null,null,null,null,null,null,null,null,null,null,null,null,null,null,"E-W",null,null,null,null,null,{"$f":"Result_DLTI_EW_CLV_Z1","v":206.68421052631578},null,null,{"$f":"Result_DLTI_EW_VC_Z1","v":0.11},null,null,null,null,null,null,null,null,{"$f":"Result_DLTI_EW_CLV_Z3","v":185.63157894736844},null,null,{"$f":"Result_DLTI_EW_VC_Z3","v":0.1},null,null,{"$f":"Result_DLTI_EW_CLV_Z4","v":734.86842105263156},null,null,{"$f":"Result_DLTI_EW_VC_Z4","v":0.41},null,null,null,null,null,null,null,null,{"$f":"Result_DLTI_EW_CLV_Z6","v":332.23684210526318},null,null,{"$f":"Result_DLTI_EW_VC_Z6","v":0.18},null,null,{"$f":"MAX(AA145,AG145,AM145,AS145,AY145,BE145)","v":0.41},null,null,null,null,null,null,{"$f":"'Multimodal Ped'!GL145","v":"Good"},null,null,null,{"$f":"'Multimodal Bike'!GL145","v":"Excellent"},null,null,null,null,null,true,{"$f":"IF(NOT(BY145),-1,IF(BH145<0.75,0,IF(BH145<0.875,1,IF(BH145<1,2,3))))","v":0}]
[]
[null,null,null,null,"Contraflow Left Interchange",null,null,null,null,null,null,null,null,null,null,null,null,"N-S",null,null,null,null,null,null,null,null,null,null,null,null,null,null,null,null,null,{"$f":"Result_CLI_NS_CLV_Z3","v":331},null,null,{"$f":"Result_CLI_NS_VC_Z3","v":0.19},null,null,{"$f":"Result_CLI_NS_CLV_Z4","v":348},null,null,{"$f":"Result_CLI_NS_VC_Z4","v":0.2},null,null,null,null,null,null,null,null,null,null,null,null,null,null,{"$f":"MAX(AA147,AG147,AM147,AS147,AY147,BE147)","v":0.2},null,null,null,null,null,null,{"$f":"'Multimodal Ped'!GL147","v":"Good"},null,null,null,{"$f":"'Multimodal Bike'!GL147","v":"Excellent"},null,null,null,null,null,true,{"$f":"IF(NOT(BY147),-1,IF(BH151<0.75,0,IF(BH151<0.875,1,IF(BH151<1,2,3))))","v":0}]
[]
[null,null,null,null,null,null,null,null,null,null,null,null,null,null,null,null,null,"E-W",null,null,null,null,null,null,null,null,null,null,null,null,null,null,null,null,null,{"$f":"Result_CLI_EW_CLV_Z3","v":213},null,null,{"$f":"Result_CLI_EW_VC_Z3","v":0.12},null,null,{"$f":"Result_CLI_EW_CLV_Z4","v":375},null,null,{"$f":"Result_CLI_EW_VC_Z4","v":0.21},null,null,null,null,null,null,null,null,null,null,null,null,null,null,{"$f":"MAX(AA149,AG149,AM149,AS149,AY149,BE149)","v":0.21},null,null,null,null,null,null,{"$f":"'Multimodal Ped'!GL149","v":"Good"},null,null,null,{"$f":"'Multimodal Bike'!GL149","v":"Excellent"},null,null,null,null,null,true,{"$f":"IF(NOT(BY149),-1,IF(BH153<0.75,0,IF(BH153<0.875,1,IF(BH153<1,2,3))))","v":0}]
[]
[null,null,null,null,"Diverging Diamond Interchange",null,null,null,null,null,null,null,null,null,null,null,null,"N-S",null,null,null,null,null,{"$f":"Result_DCD_NS_CLV_Z1","v":324.18421052631578},null,null,{"$f":"Result_DCD_NS_VC_Z1","v":0.18},null,null,{"$f":"Result_DCD_NS_CLV_Z2","v":150.13157894736844},null,null,{"$f":"Result_DCD_NS_VC_Z2","v":0.08},null,null,{"$f":"Result_DCD_NS_CLV_Z3","v":388},null,null,{"$f":"Result_DCD_NS_VC_Z3","v":0.22},null,null,{"$f":"Result_DCD_NS_CLV_Z4","v":423.5},null,null,{"$f":"Result_DCD_NS_VC_Z4","v":0.24},null,null,{"$f":"Result_DCD_NS_CLV_Z5","v":338.63157894736844},null,null,{"$f":"Result_DCD_NS_VC_Z5","v":0.19},null,null,{"$f":"Result_DCD_NS_CLV_Z6","v":171.18421052631578},null,null,{"$f":"Result_DCD_NS_VC_Z6","v":0.1},null,null,{"$f":"MAX(AA151,AG151,AM151,AS151,AY151,BE151)","v":0.24},null,null,null,null,null,null,{"$f":"'Multimodal Ped'!GL151","v":"Good"},null,null,null,{"$f":"'Multimodal Bike'!GL151","v":"Excellent"},null,null,null,null,null,true,{"$f":"IF(NOT(BY151),-1,IF(BH155<0.75,0,IF(BH155<0.875,1,IF(BH155<1,2,3))))","v":0}]
[]
[null,null,null,null,null,null,null,null,null,null,null,null,null,null,null,null,null,"E-W",null,null,null,null,null,{"$f":"Result_DCD_EW_CLV_Z1","v":213},null,null,{"$f":"Result_DCD_EW_VC_Z1","v":0.12},null,null,{"$f":"Result_DCD_EW_CLV_Z2","v":270.5},null,null,{"$f":"Result_DCD_EW_VC_Z2","v":0.15},null,null,{"$f":"Result_DCD_EW_CLV_Z3","v":150.13157894736844},null,null,{"$f":"Result_DCD_EW_VC_Z3","v":0.08},null,null,{"$f":"Result_DCD_EW_CLV_Z4","v":224.86842105263159},null,null,{"$f":"Result_DCD_EW_VC_Z4","v":0.12},null,null,{"$f":"Result_DCD_EW_CLV_Z5","v":235},null,null,{"$f":"Result_DCD_EW_VC_Z5","v":0.13},null,null,{"$f":"Result_DCD_EW_CLV_Z6","v":357.5},null,null,{"$f":"Result_DCD_EW_VC_Z6","v":0.2},null,null,{"$f":"MAX(AA153,AG153,AM153,AS153,AY153,BE153)","v":0.2},null,null,null,null,null,null,{"$f":"'Multimodal Ped'!GL153","v":"Good"},null,null,null,{"$f":"'Multimodal Bike'!GL153","v":"Excellent"},null,null,null,null,null,true,{"$f":"IF(NOT(BY153),-1,IF(BH157<0.75,0,IF(BH157<0.875,1,IF(BH157<1,2,3))))","v":0}]
[]
[null,null,null,null,"Single Point ",null,null,null,null,null,null,null,null,null,null,null,null,"N-S",null,null,null,null,null,{"$f":"Result_SPI_NS_CLV_Z1","v":330.5},null,null,{"$f":"Result_SPI_NS_VC_Z1","v":0.18},null,null,null,null,null,null,null,null,{"$f":"Result_SPI_NS_CLV_Z3","v":395},null,null,{"$f":"Result_SPI_NS_VC_Z3","v":0.23},null,null,null,null,null,null,null,null,null,null,null,null,null,null,{"$f":"Result_SPI_NS_CLV_Z6","v":177.5},null,null,{"$f":"Result_SPI_NS_VC_Z6","v":0.1},null,null,{"$f":"MAX(AA155,AG155,AM155,AS155,AY155,BE155)","v":0.23},null,null,null,null,null,null,{"$f":"'Multimodal Ped'!GL155","v":"Good"},null,null,null,{"$f":"'Multimodal Bike'!GL155","v":"Excellent"},null,null,null,null,null,true,{"$f":"IF(NOT(BY155),-1,IF(BH147<0.75,0,IF(BH147<0.875,1,IF(BH147<1,2,3))))","v":0}]
[]
[null,null,null,null,null,null,null,null,null,null,null,null,null,null,null,null,null,"E-W",null,null,null,null,null,{"$f":"Result_SPI_EW_CLV_Z1","v":213},null,null,{"$f":"Result_SPI_EW_VC_Z1","v":0.12},null,null,null,null,null,null,null,null,{"$f":"Result_SPI_EW_CLV_Z3","v":242.00000000000003},null,null,{"$f":"Result_SPI_EW_VC_Z3","v":0.14000000000000001},null,null,null,null,null,null,null,null,null,null,null,null,null,null,{"$f":"Result_SPI_EW_CLV_Z6","v":357.5},null,null,{"$f":"Result_SPI_EW_VC_Z6","v":0.2},null,null,{"$f":"MAX(AA157,AG157,AM157,AS157,AY157,BE157)","v":0.2},null,null,null,null,null,null,{"$f":"'Multimodal Ped'!GL157","v":"Good"},null,null,null,{"$f":"'Multimodal Bike'!GL157","v":"Excellent"},null,null,null,null,null,true,{"$f":"IF(NOT(BY157),-1,IF(BH149<0.75,0,IF(BH149<0.875,1,IF(BH149<1,2,3))))","v":0}]
[]
[null,null,null,null,"Single Point with Roundabout",null,null,null,null,null,null,null,null,null,null,null,null,"N-S",null,null,null,null,null,null,null,null,{"$f":"Result_SPIRAB_NS_VC_Z1","v":0.18678507840233188},null,null,null,null,null,{"$f":"Result_SPIRAB_NS_VC_Z2","v":0.45600118623299835},null,null,null,null,null,null,null,null,null,null,null,null,null,null,null,null,null,{"$f":"Result_SPIRAB_NS_VC_Z3","v":6.4476367486939856E-2},null,null,null,null,null,{"$f":"Result_SPIRAB_NS_VC_Z4","v":4.5751691380839857E-2},null,null,{"$f":"MAX(AA159,AG159,AM159,AS159,AY159,BE159)","v":0.45600118623299835},null,null,null,null,null,null,{"$f":"'Multimodal Ped'!GL159","v":"Good"},null,null,null,{"$f":"'Multimodal Bike'!GL159","v":"Excellent"},null,null,null,null,null,true,{"$f":"IF(NOT(BY159),-1,IF(BH159<0.75,0,IF(BH159<0.875,1,IF(BH159<1,2,3))))","v":0}]
[]
[null,null,null,null,null,null,null,null,null,null,null,null,null,null,null,null,null,"E-W",null,null,null,null,null,null,null,null,{"$f":"Result_SPIRAB_EW_VC_Z1","v":8.3795201800247493E-2},null,null,null,null,null,{"$f":"Result_SPIRAB_EW_VC_Z2","v":0.29085405227447558},null,null,null,null,null,null,null,null,null,null,null,null,null,null,null,null,null,{"$f":"Result_SPIRAB_EW_VC_Z3","v":0.23735770608528212},null,null,null,null,null,{"$f":"Result_SPIRAB_EW_VC_Z4","v":0.22077593350399499},null,null,{"$f":"MAX(AA161,AG161,AM161,AS161,AY161,BE161)","v":0.29085405227447558},null,null,null,null,null,null,{"$f":"'Multimodal Ped'!GL161","v":"Good"},null,null,null,{"$f":"'Multimodal Bike'!GL161","v":"Excellent"},null,null,null,null,null,true,{"$f":"IF(NOT(BY161),-1,IF(BH161<0.75,0,IF(BH161<0.875,1,IF(BH161<1,2,3))))","v":0}]

{"sheet":"SumComp","index":11,"n_rows":124,"n_cols":52,"rows_kept":124,"cut":false,"hidden":true,"merged":[[121,38,122,38],[121,39,122,39],[121,40,122,40],[121,41,122,41],[121,42,122,42],[121,43,122,43],[121,44,122,44],[121,45,122,45],[121,46,122,46],[121,47,122,47],[121,48,122,48],[121,0,122,0],[121,2,122,2],[121,3,122,3],[121,18,122,18],[121,19,122,19],[121,20,122,20],[121,21,122,21],[121,22,122,28],[121,29,122,29],[121,30,122,30],[121,31,122,31],[121,32,122,32],[121,33,122,33],[121,34,122,34],[121,35,122,35],[121,36,122,36],[121,37,122,37],[117,46,118,46],[117,47,118,47],[117,48,118,48],[119,0,120,0],[119,2,120,2],[119,3,120,3],[119,18,120,18],[119,19,120,19],[119,20,120,20],[119,21,120,21],[119,22,120,28],[119,29,120,29],[119,30,120,30],[119,31,120,31],[119,32,120,32],[119,33,120,33],[119,34,120,34],[119,35,120,35],[119,36,120,36],[119,37,120,37],[119,38,120,38],[119,39,120,39],[119,40,120,40],[119,41,120,41],[119,42,120,42],[119,43,120,43],[119,44,120,44],[119,45,120,45],[119,46,120,46],[119,47,120,47],[119,48,120,48],[115,42,116,42],[115,43,116,43],[115,44,116,44],[115,45,116,45],[115,46,116,46],[115,47,116,47],[115,48,116,48],[117,0,118,0],[117,2,118,2],[117,3,118,3],[117,18,118,18],[117,19,118,19],[117,20,118,20],[117,21,118,21],[117,22,118,28],[117,29,118,29],[117,30,118,30],[117,31,118,31],[117,32,118,32],[117,33,118,33],[117,34,118,34],[117,35,118,35],[117,36,118,36],[117,37,118,37],[117,38,118,38],[117,39,118,39],[117,40,118,40],[117,41,118,41],[117,42,118,42],[117,43,118,43],[117,44,118,44],[117,45,118,45],[113,38,114,38],[113,39,114,39],[113,40,114,40],[113,41,114,41],[113,42,114,42],[113,43,114,43],[113,44,114,44],[113,45,114,45],[113,46,114,46],[113,47,114,47],[113,48,114,48],[115,0,116,0],[115,2,116,2],[115,3,116,3],[115,18,116,18],[115,19,116,19],[115,20,116,20],[115,21,116,21],[115,22,116,28],[115,29,116,29],[115,30,116,30],[115,31,116,31],[115,32,116,32],[115,33,116,33],[115,34,116,34],[115,35,116,35],[115,36,116,36],[115,37,116,37],[115,38,116,38],[115,39,116,39],[115,40,116,40],[115,41,116,41],[113,0,114,0],[113,2,114,2],[113,3,114,3],[113,18,114,18],[113,19,114,19],[113,20,114,20],[113,21,114,21],[113,22,114,28],[113,29,114,29],[113,30,114,30],[113,31,114,31],[113,32,114,32],[113,33,114,33],[113,34,114,34],[113,35,114,35],[113,36,114,36],[113,37,114,37],[109,46,110,46],[109,47,110,47],[109,48,110,48],[111,0,112,0],[111,2,112,2],[111,3,112,3],[111,18,112,18],[111,19,112,19],[111,20,112,20],[111,21,112,21],[111,22,112,28],[111,29,112,29],[111,30,112,30],[111,31,112,31],[111,32,112,32],[111,33,112,33],[111,34,112,34],[111,35,112,35],[111,36,112,36],[111,37,112,37],[111,38,112,38],[111,39,112,39],[111,40,112,40],[111,41,112,41],[111,42,112,42],[111,43,112,43],[111,44,112,44],[111,45,112,45],[111,46,112,46],[111,47,112,47],[111,48,112,48],[107,42,108,42],[107,43,108,43],[107,44,108,44],[107,45,108,45],[107,46,108,46],[107,47,108,47],[107,48,108,48],[109,0,110,0],[109,2,110,2],[109,3,110,3],[109,18,110,18],[109,19,110,19],[109,20,110,20],[109,21,110,21],[109,22,110,28],[109,29,110,29],[109,30,110,30],[109,31,110,31],[109,32,110,32],[109,33,110,33],[109,34,110,34],[109,35,110,35],[109,36,110,36],[109,37,110,37],[109,38,110,38],[109,39,110,39],[109,40,110,40],[109,41,110,41],[109,42,110,42],[109,43,110,43],[109,44,110,44],[109,45,110,45],[105,38,106,38],[105,39,106,39],[105,40,106,40],[105,41,106,41],[105,42,106,42],[105,43,106,43],[105,44,106,44],[105,45,106,45],[105,46,106,46],[105,47,106,47],[105,48,106,48],[107,0,108,0],[107,2,108,2],[107,3,108,3],[107,18,108,18],[107,19,108,19],[107,20,108,20],[107,21,108,21],[107,22,108,28],[107,29,108,29],[107,30,108,30],[107,31,108,31],[107,32,108,32],[107,33,108,33],[107,34,108,34],[107,35,108,35],[107,36,108,36],[107,37,108,37],[107,38,108,38],[107,39,108,39],[107,40,108,40],[107,41,108,41],[105,0,106,0],[105,2,106,2],[105,3,106,3],[105,18,106,18],[105,19,106,19],[105,20,106,20],[105,21,106,21],[105,22,106,28],[105,29,106,29],[105,30,106,30],[105,31,106,31],[105,32,106,32],[105,33,106,33],[105,34,106,34],[105,35,106,35],[105,36,106,36],[105,37,106,37],[101,46,102,46],[101,47,102,47],[101,48,102,48],[103,0,104,0],[103,2,104,2],[103,3,104,3],[103,18,104,18],[103,19,104,19],[103,20,104,20],[103,21,104,21],[103,22,104,28],[103,29,104,29],[103,30,104,30],[103,31,104,31],[103,32,104,32],[103,33,104,33],[103,34,104,34],[103,35,104,35],[103,36,104,36],[103,37,104,37],[103,38,104,38],[103,39,104,39],[103,40,104,40],[103,41,104,41],[103,42,104,42],[103,43,104,43],[103,44,104,44],[103,45,104,45],[103,46,104,46],[103,47,104,47],[103,48,104,48],[99,42,100,42],[99,43,100,43],[99,44,100,44],[99,45,100,45],[99,46,100,46],[99,47,100,47],[99,48,100,48],[101,0,102,0],[101,2,102,2],[101,3,102,3],[101,18,102,18],[101,19,102,19],[101,20,102,20],[101,21,102,21],[101,22,102,28],[101,29,102,29],[101,30,102,30],[101,31,102,31],[101,32,102,32],[101,33,102,33],[101,34,102,34],[101,35,102,35],[101,36,102,36],[101,37,102,37],[101,38,102,38],[101,39,102,39],[101,40,102,40],[101,41,102,41],[101,42,102,42],[101,43,102,43],[101,44,102,44],[101,45,102,45],[97,38,98,38],[97,39,98,39],[97,40,98,40],[97,41,98,41],[97,42,98,42],[97,43,98,43],[97,44,98,44],[97,45,98,45],[97,46,98,46],[97,47,98,47],[97,48,98,48],[99,0,100,0],[99,2,100,2],[99,3,100,3],[99,18,100,18],[99,19,100,19],[99,20,100,20],[99,21,100,21],[99,22,100,28],[99,29,100,29],[99,30,100,30],[99,31,100,31],[99,32,100,32],[99,33,100,33],[99,34,100,34],[99,35,100,35],[99,36,100,36],[99,37,100,37],[99,38,100,38],[99,39,100,39],[99,40,100,40],[99,41,100,41],[97,0,98,0],[97,2,98,2],[97,3,98,3],[97,18,98,18],[97,19,98,19],[97,20,98,20],[97,21,98,21],[97,22,98,28],[97,29,98,29],[97,30,98,30],[97,31,98,31],[97,32,98,32],[97,33,98,33],[97,34,98,34],[97,35,98,35],[97,36,98,36],[97,37,98,37],[93,46,94,46],[93,47,94,47],[93,48,94,48],[95,0,96,0],[95,2,96,2],[95,3,96,3],[95,18,96,18],[95,19,96,19],[95,20,96,20],[95,21,96,21],[95,22,96,28],[95,29,96,29],[95,30,96,30],[95,31,96,31],[95,32,96,32],[95,33,96,33],[95,34,96,34],[95,35,96,35],[95,36,96,36],[95,37,96,37],[95,38,96,38],[95,39,96,39],[95,40,96,40],[95,41,96,41],[95,42,96,42],[95,43,96,43],[95,44,96,44],[95,45,96,45],[95,46,96,46],[95,47,96,47],[95,48,96,48],[91,42,92,42],[91,43,92,43],[91,44,92,44],[91,45,92,45],[91,46,92,46],[91,47,92,47],[91,48,92,48],[93,0,94,0],[93,2,94,2],[93,3,94,3],[93,18,94,18],[93,19,94,19],[93,20,94,20],[93,21,94,21],[93,22,94,28],[93,29,94,29],[93,30,94,30],[93,31,94,31],[93,32,94,32],[93,33,94,33],[93,34,94,34],[93,35,94,35],[93,36,94,36],[93,37,94,37],[93,38,94,38],[93,39,94,39],[93,40,94,40],[93,41,94,41],[93,42,94,42],[93,43,94,43],[93,44,94,44],[93,45,94,45],[89,38,90,38],[89,39,90,39],[89,40,90,40],[89,41,90,41],[89,42,90,42],[89,43,90,43],[89,44,90,44],[89,45,90,45],[89,46,90,46],[89,47,90,47],[89,48,90,48],[91,0,92,0],[91,2,92,2],[91,3,92,3],[91,18,92,18],[91,19,92,19],[91,20,92,20],[91,21,92,21],[91,22,92,28],[91,29,92,29],[91,30,92,30],[91,31,92,31],[91,32,92,32],[91,33,92,33],[91,34,92,34],[91,35,92,35],[91,36,92,36],[91,37,92,37],[91,38,92,38],[91,39,92,39],[91,40,92,40],[91,41,92,41],[89,0,90,0],[89,2,90,2],[89,3,90,3],[89,18,90,18],[89,19,90,19],[89,20,90,20],[89,21,90,21],[89,22,90,28],[89,29,90,29],[89,30,90,30],[89,31,90,31],[89,32,90,32],[89,33,90,33],[89,34,90,34],[89,35,90,35],[89,36,90,36],[89,37,90,37],[41,47,42,47],[39,45,40,45],[39,46,40,46],[39,47,40,47],[41,2,42,2],[41,3,42,3],[41,18,42,18],[41,19,42,19],[41,20,42,20],[41,22,42,28],[41,29,42,29],[41,30,42,30],[41,31,42,31],[41,32,42,32],[41,33,42,33],[41,34,42,34],[41,35,42,35],[41,36,42,36],[41,37,42,37],[41,38,42,38],[39,40,40,40],[39,41,40,41],[41,39,42,39],[41,40,42,40],[41,41,42,41],[41,42,42,42],[41,43,42,43],[39,42,40,42],[39,43,40,43],[41,45,42,45],[41,46,42,46],[39,0,40,0],[41,0,42,0],[39,2,40,2],[39,3,40,3],[39,18,40,18],[39,19,40,19],[39,20,40,20],[39,22,40,28],[39,29,40,29],[39,30,40,30],[39,31,40,31],[39,32,40,32],[39,33,40,33],[39,34,40,34],[39,35,40,35],[39,36,40,36],[39,37,40,37],[9,41,10,41],[9,42,10,42],[9,43,10,43],[9,44,10,44],[9,45,10,45],[9,46,10,46],[9,47,10,47],[11,0,12,0],[11,2,12,2],[11,3,12,3],[11,18,12,18],[11,19,12,19],[11,20,12,20],[11,22,12,28],[11,29,12,29],[11,30,12,30],[11,31,12,31],[11,32,12,32],[11,33,12,33],[11,34,12,34],[11,35,12,35],[11,36,12,36],[11,37,12,37],[11,47,12,47],[11,38,12,38],[11,39,12,39],[11,40,12,40],[11,41,12,41],[11,42,12,42],[11,43,12,43],[11,44,12,44],[11,45,12,45],[7,47,8,47],[9,0,10,0],[9,2,10,2],[9,3,10,3],[9,18,10,18],[9,19,10,19],[9,20,10,20],[9,22,10,28],[9,29,10,29],[9,30,10,30],[9,31,10,31],[9,32,10,32],[9,33,10,33],[9,34,10,34],[9,35,10,35],[9,36,10,36],[9,37,10,37],[9,38,10,38],[7,32,8,32],[7,33,8,33],[7,34,8,34],[7,35,8,35],[7,36,8,36],[7,37,8,37],[7,38,8,38],[7,39,8,39],[7,0,8,0],[7,2,8,2],[7,3,8,3],[7,18,8,18],[7,19,8,19],[9,40,10,40],[7,20,8,20],[7,22,8,28],[7,29,8,29],[7,30,8,30],[71,47,72,47],[73,47,74,47],[75,47,76,47],[77,47,78,47],[79,47,80,47],[81,47,82,47],[83,47,84,47],[47,47,48,47],[49,47,50,47],[51,47,52,47],[63,46,64,46],[65,46,66,46],[67,46,68,46],[69,46,70,46],[71,46,72,46],[73,46,74,46],[75,46,76,46],[77,46,78,46],[79,46,80,46],[45,46,46,46],[47,46,48,46],[49,46,50,46],[7,41,8,41],[51,46,52,46],[53,46,54,46],[55,46,56,46],[57,46,58,46],[59,46,60,46],[85,47,86,47],[87,47,88,47],[53,47,54,47],[55,47,56,47],[57,47,58,47],[59,47,60,47],[61,47,62,47],[63,47,64,47],[65,47,66,47],[67,47,68,47],[69,47,70,47],[81,46,82,46],[83,46,84,46],[85,46,86,46],[87,46,88,46],[3,47,4,47],[5,47,6,47],[13,47,14,47],[15,47,16,47],[17,47,18,47],[19,47,20,47],[21,47,22,47],[23,47,24,47],[25,47,26,47],[27,47,28,47],[29,47,30,47],[31,47,32,47],[33,47,34,47],[35,47,36,47],[37,47,38,47],[43,47,44,47],[45,47,46,47],[61,46,62,46],[73,45,74,45],[75,45,76,45],[77,45,78,45],[79,45,80,45],[81,45,82,45],[83,45,84,45],[85,45,86,45],[87,45,88,45],[3,46,4,46],[5,46,6,46],[13,46,14,46],[15,46,16,46],[17,46,18,46],[19,46,20,46],[21,46,22,46],[23,46,24,46],[25,46,26,46],[27,46,28,46],[29,46,30,46],[31,46,32,46],[33,46,34,46],[35,46,36,46],[37,46,38,46],[43,46,44,46],[55,45,56,45],[57,45,58,45],[7,46,8,46],[11,46,12,46],[87,20,88,20],[3,19,4,19],[3,20,4,20],[3,45,4,45],[5,45,6,45],[13,45,14,45],[15,45,16,45],[17,45,18,45],[19,45,20,45],[21,45,22,45],[23,45,24,45],[25,45,26,45],[27,45,28,45],[29,45,30,45],[31,45,32,45],[33,45,34,45],[35,45,36,45],[37,45,38,45],[43,45,44,45],[45,45,46,45],[47,45,48,45],[49,45,50,45],[51,45,52,45],[53,45,54,45],[69,20,70,20],[7,40,8,40],[7,42,8,42],[7,43,8,43],[7,44,8,44],[7,45,8,45],[39,38,40,38],[39,39,40,39],[77,20,78,20],[79,20,80,20],[81,20,82,20],[83,20,84,20],[85,20,86,20],[51,20,52,20],[53,20,54,20],[55,20,56,20],[57,20,58,20],[59,20,60,20],[61,20,62,20],[63,20,64,20],[65,20,66,20],[67,20,68,20],[59,45,60,45],[61,45,62,45],[63,45,64,45],[65,45,66,45],[67,45,68,45],[69,45,70,45],[71,45,72,45],[79,36,80,36],[81,36,82,36],[83,36,84,36],[85,36,86,36],[81,44,82,44],[83,44,84,44],[85,44,86,44],[81,43,82,43],[83,43,84,43],[85,43,86,43],[69,43,70,43],[79,19,80,19],[81,19,82,19],[83,19,84,19],[85,19,86,19],[87,19,88,19],[5,20,6,20],[13,20,14,20],[15,20,16,20],[17,20,18,20],[19,20,20,20],[21,20,22,20],[23,20,24,20],[25,20,26,20],[27,20,28,20],[29,20,30,20],[31,20,32,20],[33,20,34,20],[35,20,36,20],[37,20,38,20],[43,20,44,20],[45,20,46,20],[47,20,48,20],[49,20,50,20],[59,19,60,19],[61,19,62,19],[63,19,64,19],[65,19,66,19],[67,19,68,19],[69,19,70,19],[71,19,72,19],[73,19,74,19],[71,20,72,20],[85,18,86,18],[87,18,88,18],[5,19,6,19],[13,19,14,19],[15,19,16,19],[17,19,18,19],[19,19,20,19],[21,19,22,19],[23,19,24,19],[25,19,26,19],[27,19,28,19],[29,19,30,19],[31,19,32,19],[33,19,34,19],[35,19,36,19],[37,19,38,19],[43,19,44,19],[45,19,46,19],[47,19,48,19],[49,19,50,19],[51,19,52,19],[53,19,54,19],[55,19,56,19],[57,19,58,19],[67,18,68,18],[69,18,70,18],[71,18,72,18],[73,18,74,18],[75,18,76,18],[77,18,78,18],[79,18,80,18],[77,19,78,19],[81,18,82,18],[83,18,84,18],[49,18,50,18],[51,18,52,18],[53,18,54,18],[55,18,56,18],[57,18,58,18],[59,18,60,18],[61,18,62,18],[63,18,64,18],[65,18,66,18],[27,18,28,18],[29,18,30,18],[31,18,32,18],[33,18,34,18],[35,18,36,18],[37,18,38,18],[43,18,44,18],[45,18,46,18],[47,18,48,18],[21,36,22,36],[23,36,24,36],[25,36,26,36],[79,32,80,32],[81,32,82,32],[83,32,84,32],[53,32,54,32],[27,32,28,32],[71,36,72,36],[73,36,74,36],[75,36,76,36],[77,36,78,36],[55,36,56,36],[57,36,58,36],[59,36,60,36],[61,36,62,36],[63,36,64,36],[65,36,66,36],[43,36,44,36],[45,36,46,36],[47,36,48,36],[49,36,50,36],[51,36,52,36],[53,36,54,36],[83,33,84,33],[69,36,70,36],[67,36,68,36],[2,2,2,17],[5,18,6,18],[13,18,14,18],[15,18,16,18],[17,18,18,18],[19,18,20,18],[21,18,22,18],[23,18,24,18],[25,18,26,18],[23,3,24,3],[25,3,26,3],[23,2,24,2],[25,2,26,2],[75,19,76,19],[73,20,74,20],[75,20,76,20],[79,44,80,44],[3,44,4,44],[5,44,6,44],[13,44,14,44],[15,44,16,44],[17,44,18,44],[19,44,20,44],[21,44,22,44],[23,44,24,44],[25,44,26,44],[75,43,76,43],[77,43,78,43],[79,43,80,43],[63,43,64,43],[65,43,66,43],[67,43,68,43],[87,44,88,44],[2,22,2,28],[3,36,4,36],[5,36,6,36],[13,36,14,36],[67,44,68,44],[69,44,70,44],[71,44,72,44],[73,44,74,44],[75,44,76,44],[77,44,78,44],[55,44,56,44],[57,44,58,44],[59,44,60,44],[61,44,62,44],[63,44,64,44],[65,44,66,44],[43,44,44,44],[45,44,46,44],[47,44,48,44],[49,44,50,44],[51,44,52,44],[53,44,54,44],[27,44,28,44],[29,44,30,44],[31,44,32,44],[33,44,34,44],[35,44,36,44],[37,44,38,44],[39,44,40,44],[41,44,42,44],[87,43,88,43],[71,43,72,43],[73,43,74,43],[51,43,52,43],[53,43,54,43],[55,43,56,43],[57,43,58,43],[59,43,60,43],[61,43,62,43],[35,43,36,43],[37,43,38,43],[43,43,44,43],[45,43,46,43],[47,43,48,43],[49,43,50,43],[23,43,24,43],[25,43,26,43],[27,43,28,43],[29,43,30,43],[31,43,32,43],[33,43,34,43],[85,33,86,33],[87,33,88,33],[75,33,76,33],[77,33,78,33],[79,33,80,33],[81,33,82,33],[37,33,38,33],[43,33,44,33],[45,33,46,33],[85,39,86,39],[87,39,88,39],[87,38,88,38],[85,38,86,38],[73,38,74,38],[51,38,52,38],[53,38,54,38],[55,38,56,38],[79,39,80,39],[81,39,82,39],[83,39,84,39],[75,39,76,39],[77,39,78,39],[37,39,38,39],[75,38,76,38],[77,38,78,38],[79,38,80,38],[81,38,82,38],[83,38,84,38],[63,38,64,38],[65,38,66,38],[67,38,68,38],[69,38,70,38],[3,43,4,43],[5,43,6,43],[13,43,14,43],[15,43,16,43],[17,43,18,43],[19,43,20,43],[21,43,22,43],[71,33,72,33],[73,33,74,33],[59,33,60,33],[61,33,62,33],[63,33,64,33],[65,33,66,33],[67,33,68,33],[69,33,70,33],[47,33,48,33],[49,33,50,33],[51,33,52,33],[53,33,54,33],[55,33,56,33],[57,33,58,33],[31,33,32,33],[33,33,34,33],[35,33,36,33],[45,39,46,39],[47,39,48,39],[49,39,50,39],[51,39,52,39]],"merged_total":1682,"flags":["merged_cut"]}
[]
[]
["Index","Type","Name",null,null,null,null,null,null,null,null,null,null,null,null,null,null,null,"Ped","Bike","Transit",null,"V/C",null,null,null,null,null,null,"Visible","Included","Visible & Included","Ref Name","V/C If Included","Adjusted V/C For Ranking",null,"Sorted Unadjusted V/C","Sorted Adjusted V/C","Old","Old","Ref","Adjusted Ranking","Name (Based on sorted Rank)","Type","Type Str","Ped","Bike","Transit","MM Score"]
[1,1,"Traffic Signal",null,null,null,null,null,null,null,null,null,null,null,null,null,null,null,{"$f":"'Multimodal Ped'!GL24","v":"Good"},{"$f":"'Multimodal Bike'!GL24","v":"Excellent"},null,null,{"$f":"'4b - Detailed Results'!BH24","v":0.46},null,null,null,null,null,null,{"$f":"'4b - Detailed Results'!BY24","v":true},{"$f":"AND(Summary_Include_AGI,Summary_Include_Conv)","v":true},{"$f":"IF(AND(AD4,AE4),1,0)","v":1},{"$f":"C4 & IF(ISBLANK(D4),\"\",\" \" & D4)","v":"Traffic Signal"},{"$f":"IF(AND(AD4,AE4),W4,1000000)","v":0.46},{"$f":"AH4+0.001*COUNTIF(AH$3:$AI3,AH4)","v":0.46},null,{"$f":"SMALL($AH$4:$AH$113,A4)","v":0.09},{"$f":"SMALL($AH$4:$AH$113,A4)","v":0.09},{"$f":"COUNTIF($AP$4:$AP$113,AP4)","v":1},{"$f":"IF(AL4=AL2,AN2+1,0)","v":0},{"$f":"AL4+0.00001*AN4","v":0.09},{"$f":"RANK(AO4,$AI$4:$AI$113,1)","v":1},{"$f":"INDEX($AG$4:$AG$113,MATCH(AO4,$AI$4:$AI$113,0))","v":"Partial Cloverleaf B E-W"},{"$f":"INDEX($B$4:$B$113,MATCH(AO4,$AI$4:$AI$113,0))","v":3},{"$f":"IF(AR4=1,$AZ$4,IF(AR4=2,$AZ$5,$AZ$6))","v":"(GSI)"},{"$f":"INDEX(S$4:S$113,MATCH($AO4,$AI$4:$AI$113,0))","v":"Good"},{"$f":"INDEX(T$4:T$113,MATCH($AO4,$AI$4:$AI$113,0))","v":"Excellent"},{"$f":"INDEX(U$4:U$113,MATCH($AO4,$AI$4:$AI$113,0))","v":0},{"$f":"INDEX(V$4:V$113,MATCH($AO4,$AI$4:$AI$113,0))","v":0},null,null,"(AGI)"]
[null,1,null,null,null,null,null,null,null,null,null,null,null,null,null,null,null,null,null,null,null,null,null,null,null,null,null,null,null,null,null,null,null,null,null,null,null,null,null,null,null,null,null,null,null,null,null,null,null,null,null,"(RAB)"]
[2,1,"Conventional Shared RT LN",null,null,null,null,null,null,null,null,null,null,null,null,null,null,null,{"$f":"'Multimodal Ped'!GL26","v":"Excellent"},{"$f":"'Multimodal Bike'!GL26","v":"Excellent"},null,null,{"$f":"'4b - Detailed Results'!BH26","v":0.36},null,null,null,null,null,null,{"$f":"'4b - Detailed Results'!BY26","v":false},false,{"$f":"IF(AND(AD6,AE6),1,0)","v":0},{"$f":"C6 & IF(ISBLANK(D6),\"\",\" \" & D6)","v":"Conventional Shared RT LN"},{"$f":"IF(AND(AD6,AE6),W6,1000000)","v":1000000},{"$f":"AH6+0.001*COUNTIF(AH$3:$AI5,AH6)","v":1000000},null,{"$f":"SMALL($AH$4:$AH$113,A6)","v":0.1},{"$f":"SMALL($AI$4:$AI$113,A6)","v":0.1},{"$f":"COUNTIF($AP$4:$AP$113,AP6)","v":1},{"$f":"IF(AL6=AL4,AN4+1,0)","v":0},{"$f":"AL6+0.00001*AN6","v":0.1},{"$f":"RANK(AO6,$AI$4:$AI$113,1)","v":2},{"$f":"INDEX($AG$4:$AG$113,MATCH(AO6,$AI$4:$AI$113,0))","v":"Continuous Green T N"},{"$f":"INDEX($B$4:$B$113,MATCH(AO6,$AI$4:$AI$113,0))","v":1},{"$f":"IF(AR6=1,$AZ$4,IF(AR6=2,$AZ$5,$AZ$6))","v":"(AGI)"},{"$f":"INDEX(S$4:S$113,MATCH($AO6,$AI$4:$AI$113,0))","v":"Good"},{"$f":"INDEX(T$4:T$113,MATCH($AO6,$AI$4:$AI$113,0))","v":"Excellent"},{"$f":"INDEX(U$4:U$113,MATCH($AO6,$AI$4:$AI$113,0))","v":0},{"$f":"INDEX(V$4:V$113,MATCH($AO6,$AI$4:$AI$113,0))","v":0},null,null,"(GSI)"]
[null,1]
[3,1,{"$f":"'3 - Alt Num Lanes Input'!E28","v":"Two-Way Stop Control"},"N-S",null,null,null,null,null,null,null,null,null,null,null,null,null,null,{"$f":"'Multimodal Ped'!GL28","v":"Fair"},{"$f":"'Multimodal Bike'!GL28","v":"Good"},null,null,{"$f":"'4b - Detailed Results'!BH28","v":15.849681734685804},null,null,null,null,null,null,{"$f":"'4b - Detailed Results'!BY28","v":true},{"$f":"AND(Summary_Include_AGI,Summary_Include_TWSC)","v":true},1,"Two-Way Stop Control N-S",{"$f":"IF(AND(AD8,AE8),W8,1000000)","v":15.849681734685804},{"$f":"AH8+0.001*COUNTIF(AH$3:$AI7,AH8)","v":15.849681734685804},null,{"$f":"SMALL($AH$4:$AH$113,A8)","v":0.12},{"$f":"SMALL($AI$4:$AI$113,A8)","v":0.12},{"$f":"COUNTIF($AP$4:$AP$113,AP8)","v":1},0,0.12,{"$f":"RANK(AO8,$AI$4:$AI$113,1)","v":3},{"$f":"INDEX($AG$4:$AG$113,MATCH(AO8,$AI$4:$AI$113,0))","v":"Partial Cloverleaf A E-W"},{"$f":"INDEX($B$4:$B$113,MATCH(AO8,$AI$4:$AI$113,0))","v":3},"(GSI)",{"$f":"INDEX(S$4:S$113,MATCH($AO8,$AI$4:$AI$113,0))","v":"Good"},{"$f":"INDEX(T$4:T$113,MATCH($AO8,$AI$4:$AI$113,0))","v":"Excellent"},{"$f":"INDEX(U$4:U$113,MATCH($AO8,$AI$4:$AI$113,0))","v":0},{"$f":"INDEX(V$4:V$113,MATCH($AO8,$AI$4:$AI$113,0))","v":0}]
[null,1]
[4,1,{"$f":"'3 - Alt Num Lanes Input'!E28","v":"Two-Way Stop Control"},"E-W",null,null,null,null,null,null,null,null,null,null,null,null,null,null,{"$f":"'Multimodal Ped'!GL30","v":"Fair"},{"$f":"'Multimodal Bike'!GL30","v":"Good"},null,null,{"$f":"'4b - Detailed Results'!BH30","v":1.261768977408358},null,null,null,null,null,null,{"$f":"'4b - Detailed Results'!BY30","v":true},{"$f":"AND(Summary_Include_AGI,Summary_Include_TWSC)","v":true},1,"Two-Way Stop Control E-W",{"$f":"IF(AND(AD10,AE10),W10,1000000)","v":1.261768977408358},{"$f":"AH10+0.001*COUNTIF(AH$3:$AI9,AH10)","v":1.261768977408358},null,{"$f":"SMALL($AH$4:$AH$113,A10)","v":0.14000000000000001},{"$f":"SMALL($AI$4:$AI$113,A10)","v":0.14000000000000001},{"$f":"COUNTIF($AP$4:$AP$113,AP10)","v":1},0,0.14000000000000001,{"$f":"RANK(AO10,$AI$4:$AI$113,1)","v":4},{"$f":"INDEX($AG$4:$AG$113,MATCH(AO10,$AI$4:$AI$113,0))","v":"Continuous Green T W"},{"$f":"INDEX($B$4:$B$113,MATCH(AO10,$AI$4:$AI$113,0))","v":1},"(AGI)",{"$f":"INDEX(S$4:S$113,MATCH($AO10,$AI$4:$AI$113,0))","v":"Good"},{"$f":"INDEX(T$4:T$113,MATCH($AO10,$AI$4:$AI$113,0))","v":"Excellent"},{"$f":"INDEX(U$4:U$113,MATCH($AO10,$AI$4:$AI$113,0))","v":0},{"$f":"INDEX(V$4:V$113,MATCH($AO10,$AI$4:$AI$113,0))","v":0}]
[null,1]
[5,1,{"$f":"'3 - Alt Num Lanes Input'!E32","v":"All-Way Stop Control"},null,null,null,null,null,null,null,null,null,null,null,null,null,null,null,{"$f":"'Multimodal Ped'!GL32","v":"Good"},{"$f":"'Multimodal Bike'!GL32","v":"Excellent"},null,null,{"$f":"'4b - Detailed Results'!BH32","v":1.31},null,null,null,null,null,null,{"$f":"'4b - Detailed Results'!BY32","v":true},{"$f":"AND(Summary_Include_AGI,Summary_Include_AWSC)","v":true},1,"All-Way Stop Control",{"$f":"IF(AND(AD12,AE12),W12,1000000)","v":1.31},{"$f":"AH12+0.001*COUNTIF(AH$3:$AI11,AH12)","v":1.31},null,{"$f":"SMALL($AH$4:$AH$113,A12)","v":0.14000000000000001},{"$f":"SMALL($AI$4:$AI$113,A12)","v":0.14200000000000002},{"$f":"COUNTIF($AP$4:$AP$113,AP12)","v":1},0,0.14200000000000002,{"$f":"RANK(AO12,$AI$4:$AI$113,1)","v":5},{"$f":"INDEX($AG$4:$AG$113,MATCH(AO12,$AI$4:$AI$113,0))","v":"Continuous Green T S"},{"$f":"INDEX($B$4:$B$113,MATCH(AO12,$AI$4:$AI$113,0))","v":1},"(AGI)",{"$f":"INDEX(S$4:S$113,MATCH($AO12,$AI$4:$AI$113,0))","v":"Good"},{"$f":"INDEX(T$4:T$113,MATCH($AO12,$AI$4:$AI$113,0))","v":"Excellent"},{"$f":"INDEX(U$4:U$113,MATCH($AO12,$AI$4:$AI$113,0))","v":0},{"$f":"INDEX(V$4:V$113,MATCH($AO12,$AI$4:$AI$113,0))","v":0}]
[null,1]
[6,1,"Continuous Green T","W",null,null,null,null,null,null,null,null,null,null,null,null,null,null,{"$f":"'Multimodal Ped'!GL34","v":"Good"},{"$f":"'Multimodal Bike'!GL34","v":"Excellent"},null,null,{"$f":"'4b - Detailed Results'!BH34","v":0.14000000000000001},null,null,null,null,null,null,{"$f":"'4b - Detailed Results'!BY34","v":true},{"$f":"AND(Summary_Include_AGI,Summary_Include_CGT)","v":true},{"$f":"IF(AND(AD14,AE14),1,0)","v":1},{"$f":"C14 & IF(ISBLANK(D14),\"\",\" \" & D14)","v":"Continuous Green T W"},{"$f":"IF(AND(AD14,AE14),W14,1000000)","v":0.14000000000000001},{"$f":"AH14+0.001*COUNTIF(AH$3:$AI13,AH14)","v":0.14000000000000001},null,{"$f":"SMALL($AH$4:$AH$113,A14)","v":0.18},{"$f":"SMALL($AI$4:$AI$113,A14)","v":0.18},{"$f":"COUNTIF($AP$4:$AP$113,AP14)","v":1},{"$f":"IF(AL14=AL6,AN6+1,0)","v":0},{"$f":"AL14+0.00001*AN14","v":0.18},{"$f":"RANK(AO14,$AI$4:$AI$113,1)","v":6},{"$f":"INDEX($AG$4:$AG$113,MATCH(AO14,$AI$4:$AI$113,0))","v":"Continuous Green T E"},{"$f":"INDEX($B$4:$B$113,MATCH(AO14,$AI$4:$AI$113,0))","v":1},{"$f":"IF(AR14=1,$AZ$4,IF(AR14=2,$AZ$5,$AZ$6))","v":"(AGI)"},{"$f":"INDEX(S$4:S$113,MATCH($AO14,$AI$4:$AI$113,0))","v":"Good"},{"$f":"INDEX(T$4:T$113,MATCH($AO14,$AI$4:$AI$113,0))","v":"Excellent"},{"$f":"INDEX(U$4:U$113,MATCH($AO14,$AI$4:$AI$113,0))","v":0},{"$f":"INDEX(V$4:V$113,MATCH($AO14,$AI$4:$AI$113,0))","v":0}]
[null,1]
[7,1,"Continuous Green T","N",null,null,null,null,null,null,null,null,null,null,null,null,null,null,{"$f":"'Multimodal Ped'!GL36","v":"Good"},{"$f":"'Multimodal Bike'!GL36","v":"Excellent"},null,null,{"$f":"'4b - Detailed Results'!BH36","v":0.1},null,null,null,null,null,null,{"$f":"'4b - Detailed Results'!BY36","v":true},{"$f":"AND(Summary_Include_AGI,Summary_Include_CGT)","v":true},{"$f":"IF(AND(AD16,AE16),1,0)","v":1},{"$f":"C16 & IF(ISBLANK(D16),\"\",\" \" & D16)","v":"Continuous Green T N"},{"$f":"IF(AND(AD16,AE16),W16,1000000)","v":0.1},{"$f":"AH16+0.001*COUNTIF(AH$3:$AI15,AH16)","v":0.1},null,{"$f":"SMALL($AH$4:$AH$113,A16)","v":0.19},{"$f":"SMALL($AI$4:$AI$113,A16)","v":0.19},{"$f":"COUNTIF($AP$4:$AP$113,AP16)","v":1},{"$f":"IF(AL16=AL14,AN14+1,0)","v":0},{"$f":"AL16+0.00001*AN16","v":0.19},{"$f":"RANK(AO16,$AI$4:$AI$113,1)","v":7},{"$f":"INDEX($AG$4:$AG$113,MATCH(AO16,$AI$4:$AI$113,0))","v":"Partial Cloverleaf A N-S"},{"$f":"INDEX($B$4:$B$113,MATCH(AO16,$AI$4:$AI$113,0))","v":3},{"$f":"IF(AR16=1,$AZ$4,IF(AR16=2,$AZ$5,$AZ$6))","v":"(GSI)"},{"$f":"INDEX(S$4:S$113,MATCH($AO16,$AI$4:$AI$113,0))","v":"Good"},{"$f":"INDEX(T$4:T$113,MATCH($AO16,$AI$4:$AI$113,0))","v":"Excellent"},{"$f":"INDEX(U$4:U$113,MATCH($AO16,$AI$4:$AI$113,0))","v":0},{"$f":"INDEX(V$4:V$113,MATCH($AO16,$AI$4:$AI$113,0))","v":0}]
[null,1]
[8,1,"Continuous Green T","E",null,null,null,null,null,null,null,null,null,null,null,null,null,null,{"$f":"'Multimodal Ped'!GL38","v":"Good"},{"$f":"'Multimodal Bike'!GL38","v":"Excellent"},null,null,{"$f":"'4b - Detailed Results'!BH38","v":0.18},null,null,null,null,null,null,{"$f":"'4b - Detailed Results'!BY38","v":true},{"$f":"AND(Summary_Include_AGI,Summary_Include_CGT)","v":true},{"$f":"IF(AND(AD18,AE18),1,0)","v":1},{"$f":"C18 & IF(ISBLANK(D18),\"\",\" \" & D18)","v":"Continuous Green T E"},{"$f":"IF(AND(AD18,AE18),W18,1000000)","v":0.18},{"$f":"AH18+0.001*COUNTIF(AH$3:$AI17,AH18)","v":0.18},null,{"$f":"SMALL($AH$4:$AH$113,A18)","v":0.19},{"$f":"SMALL($AI$4:$AI$113,A18)","v":0.192},{"$f":"COUNTIF($AP$4:$AP$113,AP18)","v":1},{"$f":"IF(AL18=AL16,AN16+1,0)","v":0},{"$f":"AL18+0.00001*AN18","v":0.192},{"$f":"RANK(AO18,$AI$4:$AI$113,1)","v":8},{"$f":"INDEX($AG$4:$AG$113,MATCH(AO18,$AI$4:$AI$113,0))","v":"Partial Cloverleaf B N-S"},{"$f":"INDEX($B$4:$B$113,MATCH(AO18,$AI$4:$AI$113,0))","v":3},{"$f":"IF(AR18=1,$AZ$4,IF(AR18=2,$AZ$5,$AZ$6))","v":"(GSI)"},{"$f":"INDEX(S$4:S$113,MATCH($AO18,$AI$4:$AI$113,0))","v":"Good"},{"$f":"INDEX(T$4:T$113,MATCH($AO18,$AI$4:$AI$113,0))","v":"Excellent"},{"$f":"INDEX(U$4:U$113,MATCH($AO18,$AI$4:$AI$113,0))","v":0},{"$f":"INDEX(V$4:V$113,MATCH($AO18,$AI$4:$AI$113,0))","v":0}]
[null,1]
[9,1,"Continuous Green T","S",null,null,null,null,null,null,null,null,null,null,null,null,null,null,{"$f":"'Multimodal Ped'!GL40","v":"Good"},{"$f":"'Multimodal Bike'!GL40","v":"Excellent"},null,null,{"$f":"'4b - Detailed Results'!BH40","v":0.14000000000000001},null,null,null,null,null,null,{"$f":"'4b - Detailed Results'!BY40","v":true},{"$f":"AND(Summary_Include_AGI,Summary_Include_CGT)","v":true},{"$f":"IF(AND(AD20,AE20),1,0)","v":1},{"$f":"C20 & IF(ISBLANK(D20),\"\",\" \" & D20)","v":"Continuous Green T S"},{"$f":"IF(AND(AD20,AE20),W20,1000000)","v":0.14000000000000001},{"$f":"AH20+0.001*COUNTIF(AH$3:$AI19,AH20)","v":0.14200000000000002},null,{"$f":"SMALL($AH$4:$AH$113,A20)","v":0.2},{"$f":"SMALL($AI$4:$AI$113,A20)","v":0.2},{"$f":"COUNTIF($AP$4:$AP$113,AP20)","v":1},{"$f":"IF(AL20=AL18,AN18+1,0)","v":0},{"$f":"AL20+0.00001*AN20","v":0.2},{"$f":"RANK(AO20,$AI$4:$AI$113,1)","v":9},{"$f":"INDEX($AG$4:$AG$113,MATCH(AO20,$AI$4:$AI$113,0))","v":"Displaced Left Turn"},{"$f":"INDEX($B$4:$B$113,MATCH(AO20,$AI$4:$AI$113,0))","v":1},{"$f":"IF(AR20=1,$AZ$4,IF(AR20=2,$AZ$5,$AZ$6))","v":"(AGI)"},{"$f":"INDEX(S$4:S$113,MATCH($AO20,$AI$4:$AI$113,0))","v":"Good"},{"$f":"INDEX(T$4:T$113,MATCH($AO20,$AI$4:$AI$113,0))","v":"Excellent"},{"$f":"INDEX(U$4:U$113,MATCH($AO20,$AI$4:$AI$113,0))","v":0},{"$f":"INDEX(V$4:V$113,MATCH($AO20,$AI$4:$AI$113,0))","v":0}]
[null,1]
[10,1,"Quadrant Roadway","S-W",null,null,null,null,null,null,null,null,null,null,null,null,null,null,{"$f":"'Multimodal Ped'!GL42","v":"Good"},{"$f":"'Multimodal Bike'!GL42","v":"Excellent"},null,null,{"$f":"'4b - Detailed Results'!BH42","v":0.22},null,null,null,null,null,null,{"$f":"'4b - Detailed Results'!BY42","v":true},{"$f":"AND(Summary_Include_AGI,Summary_Include_QR_SW)","v":true},{"$f":"IF(AND(AD22,AE22),1,0)","v":1},{"$f":"C22 & IF(ISBLANK(D22),\"\",\" \" & D22)","v":"Quadrant Roadway S-W"},{"$f":"IF(AND(AD22,AE22),W22,1000000)","v":0.22},{"$f":"AH22+0.001*COUNTIF(AH$3:$AI21,AH22)","v":0.22},null,{"$f":"SMALL($AH$4:$AH$113,A22)","v":0.2},{"$f":"SMALL($AI$4:$AI$113,A22)","v":0.20200000000000001},{"$f":"COUNTIF($AP$4:$AP$113,AP22)","v":1},{"$f":"IF(AL22=AL20,AN20+1,0)","v":0},{"$f":"AL22+0.00001*AN22","v":0.20200000000000001},{"$f":"RANK(AO22,$AI$4:$AI$113,1)","v":10},{"$f":"INDEX($AG$4:$AG$113,MATCH(AO22,$AI$4:$AI$113,0))","v":"Diverging Diamond Interchange E-W"},{"$f":"INDEX($B$4:$B$113,MATCH(AO22,$AI$4:$AI$113,0))","v":3},{"$f":"IF(AR22=1,$AZ$4,IF(AR22=2,$AZ$5,$AZ$6))","v":"(GSI)"},{"$f":"INDEX(S$4:S$113,MATCH($AO22,$AI$4:$AI$113,0))","v":"Good"},{"$f":"INDEX(T$4:T$113,MATCH($AO22,$AI$4:$AI$113,0))","v":"Excellent"},{"$f":"INDEX(U$4:U$113,MATCH($AO22,$AI$4:$AI$113,0))","v":0},{"$f":"INDEX(V$4:V$113,MATCH($AO22,$AI$4:$AI$113,0))","v":0}]
[null,1]
[11,1,"Quadrant Roadway","N-E",null,null,null,null,null,null,null,null,null,null,null,null,null,null,{"$f":"'Multimodal Ped'!GL44","v":"Good"},{"$f":"'Multimodal Bike'!GL44","v":"Excellent"},null,null,{"$f":"'4b - Detailed Results'!BH44","v":0.26},null,null,null,null,null,null,{"$f":"'4b - Detailed Results'!BY44","v":true},{"$f":"AND(Summary_Include_AGI,Summary_Include_QR_NE)","v":true},{"$f":"IF(AND(AD24,AE24),1,0)","v":1},{"$f":"C24 & IF(ISBLANK(D24),\"\",\" \" & D24)","v":"Quadrant Roadway N-E"},{"$f":"IF(AND(AD24,AE24),W24,1000000)","v":0.26},{"$f":"AH24+0.001*COUNTIF(AH$3:$AI23,AH24)","v":0.26},null,{"$f":"SMALL($AH$4:$AH$113,A24)","v":0.2},{"$f":"SMALL($AI$4:$AI$113,A24)","v":0.20300000000000001},{"$f":"COUNTIF($AP$4:$AP$113,AP24)","v":1},{"$f":"IF(AL24=AL22,AN22+1,0)","v":0},{"$f":"AL24+0.00001*AN24","v":0.20300000000000001},{"$f":"RANK(AO24,$AI$4:$AI$113,1)","v":11},{"$f":"INDEX($AG$4:$AG$113,MATCH(AO24,$AI$4:$AI$113,0))","v":"Single Point  E-W"},{"$f":"INDEX($B$4:$B$113,MATCH(AO24,$AI$4:$AI$113,0))","v":3},{"$f":"IF(AR24=1,$AZ$4,IF(AR24=2,$AZ$5,$AZ$6))","v":"(GSI)"},{"$f":"INDEX(S$4:S$113,MATCH($AO24,$AI$4:$AI$113,0))","v":"Good"},{"$f":"INDEX(T$4:T$113,MATCH($AO24,$AI$4:$AI$113,0))","v":"Excellent"},{"$f":"INDEX(U$4:U$113,MATCH($AO24,$AI$4:$AI$113,0))","v":0},{"$f":"INDEX(V$4:V$113,MATCH($AO24,$AI$4:$AI$113,0))","v":0}]
[null,1]
[12,1,"Quadrant Roadway","S-E",null,null,null,null,null,null,null,null,null,null,null,null,null,null,{"$f":"'Multimodal Ped'!GL46","v":"Good"},{"$f":"'Multimodal Bike'!GL46","v":"Excellent"},null,null,{"$f":"'4b - Detailed Results'!BH46","v":0.23},null,null,null,null,null,null,{"$f":"'4b - Detailed Results'!BY46","v":true},{"$f":"AND(Summary_Include_AGI,Summary_Include_QR_SE)","v":true},{"$f":"IF(AND(AD26,AE26),1,0)","v":1},{"$f":"C26 & IF(ISBLANK(D26),\"\",\" \" & D26)","v":"Quadrant Roadway S-E"},{"$f":"IF(AND(AD26,AE26),W26,1000000)","v":0.23},{"$f":"AH26+0.001*COUNTIF(AH$3:$AI25,AH26)","v":0.23},null,{"$f":"SMALL($AH$4:$AH$113,A26)","v":0.2},{"$f":"SMALL($AI$4:$AI$113,A26)","v":0.20400000000000001},{"$f":"COUNTIF($AP$4:$AP$113,AP26)","v":1},{"$f":"IF(AL26=AL24,AN24+1,0)","v":0},{"$f":"AL26+0.00001*AN26","v":0.20400000000000001},{"$f":"RANK(AO26,$AI$4:$AI$113,1)","v":12},{"$f":"INDEX($AG$4:$AG$113,MATCH(AO26,$AI$4:$AI$113,0))","v":"Echelon N-S"},{"$f":"INDEX($B$4:$B$113,MATCH(AO26,$AI$4:$AI$113,0))","v":1},{"$f":"IF(AR26=1,$AZ$4,IF(AR26=2,$AZ$5,$AZ$6))","v":"(AGI)"},{"$f":"INDEX(S$4:S$113,MATCH($AO26,$AI$4:$AI$113,0))","v":"Good"},{"$f":"INDEX(T$4:T$113,MATCH($AO26,$AI$4:$AI$113,0))","v":"Good"},{"$f":"INDEX(U$4:U$113,MATCH($AO26,$AI$4:$AI$113,0))","v":0},{"$f":"INDEX(V$4:V$113,MATCH($AO26,$AI$4:$AI$113,0))","v":0}]
[null,1]
[13,1,"Quadrant Roadway","N-W",null,null,null,null,null,null,null,null,null,null,null,null,null,null,{"$f":"'Multimodal Ped'!GL48","v":"Good"},{"$f":"'Multimodal Bike'!GL48","v":"Excellent"},null,null,{"$f":"'4b - Detailed Results'!BH48","v":0.24},null,null,null,null,null,null,{"$f":"'4b - Detailed Results'!BY48","v":true},{"$f":"AND(Summary_Include_AGI,Summary_Include_QR_NW)","v":true},{"$f":"IF(AND(AD28,AE28),1,0)","v":1},{"$f":"C28 & IF(ISBLANK(D28),\"\",\" \" & D28)","v":"Quadrant Roadway N-W"},{"$f":"IF(AND(AD28,AE28),W28,1000000)","v":0.24},{"$f":"AH28+0.001*COUNTIF(AH$3:$AI27,AH28)","v":0.24},null,{"$f":"SMALL($AH$4:$AH$113,A28)","v":0.2},{"$f":"SMALL($AI$4:$AI$113,A28)","v":0.20500000000000002},{"$f":"COUNTIF($AP$4:$AP$113,AP28)","v":1},{"$f":"IF(AL28=AL26,AN26+1,0)","v":0},{"$f":"AL28+0.00001*AN28","v":0.20500000000000002},{"$f":"RANK(AO28,$AI$4:$AI$113,1)","v":13},{"$f":"INDEX($AG$4:$AG$113,MATCH(AO28,$AI$4:$AI$113,0))","v":"Echelon E-W"},{"$f":"INDEX($B$4:$B$113,MATCH(AO28,$AI$4:$AI$113,0))","v":1},{"$f":"IF(AR28=1,$AZ$4,IF(AR28=2,$AZ$5,$AZ$6))","v":"(AGI)"},{"$f":"INDEX(S$4:S$113,MATCH($AO28,$AI$4:$AI$113,0))","v":"Good"},{"$f":"INDEX(T$4:T$113,MATCH($AO28,$AI$4:$AI$113,0))","v":"Good"},{"$f":"INDEX(U$4:U$113,MATCH($AO28,$AI$4:$AI$113,0))","v":0},{"$f":"INDEX(V$4:V$113,MATCH($AO28,$AI$4:$AI$113,0))","v":0}]
[null,1]
[14,1,"Partial Displaced Left Turn","N-S",null,null,null,null,null,null,null,null,null,null,null,null,null,null,{"$f":"'Multimodal Ped'!GL50","v":"Good"},{"$f":"'Multimodal Bike'!GL50","v":"Excellent"},null,null,{"$f":"'4b - Detailed Results'!BH50","v":0.37},null,null,null,null,null,null,{"$f":"'4b - Detailed Results'!BY50","v":true},{"$f":"AND(Summary_Include_AGI,Summary_Include_PDLT)","v":true},{"$f":"IF(AND(AD30,AE30),1,0)","v":1},{"$f":"C30 & IF(ISBLANK(D30),\"\",\" \" & D30)","v":"Partial Displaced Left Turn N-S"},{"$f":"IF(AND(AD30,AE30),W30,1000000)","v":0.37},{"$f":"AH30+0.001*COUNTIF(AH$3:$AI29,AH30)","v":0.37},null,{"$f":"SMALL($AH$4:$AH$113,A30)","v":0.2},{"$f":"SMALL($AI$4:$AI$113,A30)","v":0.20600000000000002},{"$f":"COUNTIF($AP$4:$AP$113,AP30)","v":1},{"$f":"IF(AL30=AL28,AN28+1,0)","v":0},{"$f":"AL30+0.00001*AN30","v":0.20600000000000002},{"$f":"RANK(AO30,$AI$4:$AI$113,1)","v":14},{"$f":"INDEX($AG$4:$AG$113,MATCH(AO30,$AI$4:$AI$113,0))","v":"Center Turn Overpass"},{"$f":"INDEX($B$4:$B$113,MATCH(AO30,$AI$4:$AI$113,0))","v":1},{"$f":"IF(AR30=1,$AZ$4,IF(AR30=2,$AZ$5,$AZ$6))","v":"(AGI)"},{"$f":"INDEX(S$4:S$113,MATCH($AO30,$AI$4:$AI$113,0))","v":"Good"},{"$f":"INDEX(T$4:T$113,MATCH($AO30,$AI$4:$AI$113,0))","v":"Excellent"},{"$f":"INDEX(U$4:U$113,MATCH($AO30,$AI$4:$AI$113,0))","v":0},{"$f":"INDEX(V$4:V$113,MATCH($AO30,$AI$4:$AI$113,0))","v":0}]
[null,1]
[15,1,"Partial Displaced Left Turn","E-W",null,null,null,null,null,null,null,null,null,null,null,null,null,null,{"$f":"'Multimodal Ped'!GL52","v":"Good"},{"$f":"'Multimodal Bike'!GL52","v":"Excellent"},null,null,{"$f":"'4b - Detailed Results'!BH52","v":0.28000000000000003},null,null,null,null,null,null,{"$f":"'4b - Detailed Results'!BY52","v":true},{"$f":"AND(Summary_Include_AGI,Summary_Include_PDLT)","v":true},{"$f":"IF(AND(AD32,AE32),1,0)","v":1},{"$f":"C32 & IF(ISBLANK(D32),\"\",\" \" & D32)","v":"Partial Displaced Left Turn E-W"},{"$f":"IF(AND(AD32,AE32),W32,1000000)","v":0.28000000000000003},{"$f":"AH32+0.001*COUNTIF(AH$3:$AI31,AH32)","v":0.28000000000000003},null,{"$f":"SMALL($AH$4:$AH$113,A32)","v":0.2},{"$f":"SMALL($AI$4:$AI$113,A32)","v":0.20700000000000002},{"$f":"COUNTIF($AP$4:$AP$113,AP32)","v":1},{"$f":"IF(AL32=AL30,AN30+1,0)","v":0},{"$f":"AL32+0.00001*AN32","v":0.20700000000000002},{"$f":"RANK(AO32,$AI$4:$AI$113,1)","v":15},{"$f":"INDEX($AG$4:$AG$113,MATCH(AO32,$AI$4:$AI$113,0))","v":"Contraflow Left Interchange N-S"},{"$f":"INDEX($B$4:$B$113,MATCH(AO32,$AI$4:$AI$113,0))","v":3},{"$f":"IF(AR32=1,$AZ$4,IF(AR32=2,$AZ$5,$AZ$6))","v":"(GSI)"},{"$f":"INDEX(S$4:S$113,MATCH($AO32,$AI$4:$AI$113,0))","v":"Good"},{"$f":"INDEX(T$4:T$113,MATCH($AO32,$AI$4:$AI$113,0))","v":"Excellent"},{"$f":"INDEX(U$4:U$113,MATCH($AO32,$AI$4:$AI$113,0))","v":0},{"$f":"INDEX(V$4:V$113,MATCH($AO32,$AI$4:$AI$113,0))","v":0}]
[null,1]
[16,1,"Displaced Left Turn",null,null,null,null,null,null,null,null,null,null,null,null,null,null,null,{"$f":"'Multimodal Ped'!GL54","v":"Good"},{"$f":"'Multimodal Bike'!GL54","v":"Excellent"},null,null,{"$f":"'4b - Detailed Results'!BH54","v":0.2},null,null,null,null,null,null,{"$f":"'4b - Detailed Results'!BY54","v":true},{"$f":"AND(Summary_Include_AGI,Summary_Include_DLT)","v":true},{"$f":"IF(AND(AD34,AE34),1,0)","v":1},{"$f":"C34 & IF(ISBLANK(D34),\"\",\" \" & D34)","v":"Displaced Left Turn"},{"$f":"IF(AND(AD34,AE34),W34,1000000)","v":0.2},{"$f":"AH34+0.001*COUNTIF(AH$3:$AI33,AH34)","v":0.2},null,{"$f":"SMALL($AH$4:$AH$113,A34)","v":0.21},{"$f":"SMALL($AI$4:$AI$113,A34)","v":0.21},{"$f":"COUNTIF($AP$4:$AP$113,AP34)","v":1},{"$f":"IF(AL34=AL32,AN32+1,0)","v":0},{"$f":"AL34+0.00001*AN34","v":0.21},{"$f":"RANK(AO34,$AI$4:$AI$113,1)","v":16},{"$f":"INDEX($AG$4:$AG$113,MATCH(AO34,$AI$4:$AI$113,0))","v":"Contraflow Left Interchange E-W"},{"$f":"INDEX($B$4:$B$113,MATCH(AO34,$AI$4:$AI$113,0))","v":3},{"$f":"IF(AR34=1,$AZ$4,IF(AR34=2,$AZ$5,$AZ$6))","v":"(GSI)"},{"$f":"INDEX(S$4:S$113,MATCH($AO34,$AI$4:$AI$113,0))","v":"Good"},{"$f":"INDEX(T$4:T$113,MATCH($AO34,$AI$4:$AI$113,0))","v":"Excellent"},{"$f":"INDEX(U$4:U$113,MATCH($AO34,$AI$4:$AI$113,0))","v":0},{"$f":"INDEX(V$4:V$113,MATCH($AO34,$AI$4:$AI$113,0))","v":0}]
[null,1]
[17,1,{"$f":"'3 - Alt Num Lanes Input'!E56","v":"Signalized Restricted Crossing U-Turn"},"N-S",null,null,null,null,null,null,null,null,null,null,null,null,null,null,{"$f":"'Multimodal Ped'!GL56","v":"Good"},{"$f":"'Multimodal Bike'!GL56","v":"Excellent"},null,null,{"$f":"'4b - Detailed Results'!BH56","v":0.45},null,null,null,null,null,null,{"$f":"'4b - Detailed Results'!BY56","v":true},{"$f":"AND(Summary_Include_AGI,Summary_Include_RCUT)","v":true},{"$f":"IF(AND(AD36,AE36),1,0)","v":1},{"$f":"C36 & IF(ISBLANK(D36),\"\",\" \" & D36)","v":"Signalized Restricted Crossing U-Turn N-S"},{"$f":"IF(AND(AD36,AE36),W36,1000000)","v":0.45},{"$f":"AH36+0.001*COUNTIF(AH$3:$AI35,AH36)","v":0.45},null,{"$f":"SMALL($AH$4:$AH$113,A36)","v":0.22},{"$f":"SMALL($AI$4:$AI$113,A36)","v":0.22},{"$f":"COUNTIF($AP$4:$AP$113,AP36)","v":1},{"$f":"IF(AL36=AL34,AN34+1,0)","v":0},{"$f":"AL36+0.00001*AN36","v":0.22},{"$f":"RANK(AO36,$AI$4:$AI$113,1)","v":17},{"$f":"INDEX($AG$4:$AG$113,MATCH(AO36,$AI$4:$AI$113,0))","v":"Quadrant Roadway S-W"},{"$f":"INDEX($B$4:$B$113,MATCH(AO36,$AI$4:$AI$113,0))","v":1},{"$f":"IF(AR36=1,$AZ$4,IF(AR36=2,$AZ$5,$AZ$6))","v":"(AGI)"},{"$f":"INDEX(S$4:S$113,MATCH($AO36,$AI$4:$AI$113,0))","v":"Good"},{"$f":"INDEX(T$4:T$113,MATCH($AO36,$AI$4:$AI$113,0))","v":"Excellent"},{"$f":"INDEX(U$4:U$113,MATCH($AO36,$AI$4:$AI$113,0))","v":0},{"$f":"INDEX(V$4:V$113,MATCH($AO36,$AI$4:$AI$113,0))","v":0}]
[null,1]
[18,1,{"$f":"'3 - Alt Num Lanes Input'!E56","v":"Signalized Restricted Crossing U-Turn"},"E-W",null,null,null,null,null,null,null,null,null,null,null,null,null,null,{"$f":"'Multimodal Ped'!GL58","v":"Good"},{"$f":"'Multimodal Bike'!GL58","v":"Excellent"},null,null,{"$f":"'4b - Detailed Results'!BH58","v":0.7},null,null,null,null,null,null,{"$f":"'4b - Detailed Results'!BY58","v":true},{"$f":"AND(Summary_Include_AGI,Summary_Include_RCUT)","v":true},{"$f":"IF(AND(AD38,AE38),1,0)","v":1},{"$f":"C38 & IF(ISBLANK(D38),\"\",\" \" & D38)","v":"Signalized Restricted Crossing U-Turn E-W"},{"$f":"IF(AND(AD38,AE38),W38,1000000)","v":0.7},{"$f":"AH38+0.001*COUNTIF(AH$3:$AI37,AH38)","v":0.7},null,{"$f":"SMALL($AH$4:$AH$113,A38)","v":0.23},{"$f":"SMALL($AI$4:$AI$113,A38)","v":0.23},{"$f":"COUNTIF($AP$4:$AP$113,AP38)","v":1},0,{"$f":"AL38+0.00001*AN38","v":0.23},{"$f":"RANK(AO38,$AI$4:$AI$113,1)","v":18},{"$f":"INDEX($AG$4:$AG$113,MATCH(AO38,$AI$4:$AI$113,0))","v":"Quadrant Roadway S-E"},{"$f":"INDEX($B$4:$B$113,MATCH(AO38,$AI$4:$AI$113,0))","v":1},{"$f":"IF(AR38=1,$AZ$4,IF(AR38=2,$AZ$5,$AZ$6))","v":"(AGI)"},{"$f":"INDEX(S$4:S$113,MATCH($AO38,$AI$4:$AI$113,0))","v":"Good"},{"$f":"INDEX(T$4:T$113,MATCH($AO38,$AI$4:$AI$113,0))","v":"Excellent"},{"$f":"INDEX(U$4:U$113,MATCH($AO38,$AI$4:$AI$113,0))","v":0},{"$f":"INDEX(V$4:V$113,MATCH($AO38,$AI$4:$AI$113,0))","v":0}]
[null,1]
[19,1,{"$f":"'3 - Alt Num Lanes Input'!E60","v":"Unsignalized Restricted Crossing U-Turn"},"N-S",null,null,null,null,null,null,null,null,null,null,null,null,null,null,{"$f":"'Multimodal Ped'!GL60","v":"Good"},{"$f":"'Multimodal Bike'!GL60","v":"Excellent"},null,null,{"$f":"'4b - Detailed Results'!BH60","v":0.58924366590961619},null,null,null,null,null,null,{"$f":"'4b - Detailed Results'!BY60","v":true},{"$f":"AND(Summary_Include_AGI,Summary_Include_URCUT)","v":true},{"$f":"IF(AND(AD40,AE40),1,0)","v":1},{"$f":"C40 & IF(ISBLANK(D40),\"\",\" \" & D40)","v":"Unsignalized Restricted Crossing U-Turn N-S"},{"$f":"IF(AND(AD40,AE40),W40,1000000)","v":0.58924366590961619},{"$f":"AH40+0.001*COUNTIF(AH$3:$AI39,AH40)","v":0.58924366590961619},null,{"$f":"SMALL($AH$4:$AH$113,A40)","v":0.23},{"$f":"SMALL($AI$4:$AI$113,A40)","v":0.23200000000000001},{"$f":"COUNTIF($AP$4:$AP$113,AP40)","v":1},0,{"$f":"AL40+0.00001*AN40","v":0.23200000000000001},{"$f":"RANK(AO40,$AI$4:$AI$113,1)","v":19},{"$f":"INDEX($AG$4:$AG$113,MATCH(AO40,$AI$4:$AI$113,0))","v":"Partial Median U-Turn E-W"},{"$f":"INDEX($B$4:$B$113,MATCH(AO40,$AI$4:$AI$113,0))","v":1},{"$f":"IF(AR40=1,$AZ$4,IF(AR40=2,$AZ$5,$AZ$6))","v":"(AGI)"},{"$f":"INDEX(S$4:S$113,MATCH($AO40,$AI$4:$AI$113,0))","v":"Good"},{"$f":"INDEX(T$4:T$113,MATCH($AO40,$AI$4:$AI$113,0))","v":"Excellent"},{"$f":"INDEX(U$4:U$113,MATCH($AO40,$AI$4:$AI$113,0))","v":0},{"$f":"INDEX(V$4:V$113,MATCH($AO40,$AI$4:$AI$113,0))","v":0}]
[null,1]
[20,1,{"$f":"'3 - Alt Num Lanes Input'!E60","v":"Unsignalized Restricted Crossing U-Turn"},"E-W",null,null,null,null,null,null,null,null,null,null,null,null,null,null,{"$f":"'Multimodal Ped'!GL62","v":"Good"},{"$f":"'Multimodal Bike'!GL62","v":"Excellent"},null,null,{"$f":"'4b - Detailed Results'!BH62","v":1.0642953494101834},null,null,null,null,null,null,{"$f":"'4b - Detailed Results'!BY62","v":true},{"$f":"AND(Summary_Include_AGI,Summary_Include_URCUT)","v":true},{"$f":"IF(AND(AD42,AE42),1,0)","v":1},{"$f":"C42 & IF(ISBLANK(D42),\"\",\" \" & D42)","v":"Unsignalized Restricted Crossing U-Turn E-W"},{"$f":"IF(AND(AD42,AE42),W42,1000000)","v":1.0642953494101834},{"$f":"AH42+0.001*COUNTIF(AH$3:$AI41,AH42)","v":1.0642953494101834},null,{"$f":"SMALL($AH$4:$AH$113,A42)","v":0.23},{"$f":"SMALL($AI$4:$AI$113,A42)","v":0.23300000000000001},{"$f":"COUNTIF($AP$4:$AP$113,AP42)","v":1},0,{"$f":"AL42+0.00001*AN42","v":0.23300000000000001},{"$f":"RANK(AO42,$AI$4:$AI$113,1)","v":20},{"$f":"INDEX($AG$4:$AG$113,MATCH(AO42,$AI$4:$AI$113,0))","v":"Single Point  N-S"},{"$f":"INDEX($B$4:$B$113,MATCH(AO42,$AI$4:$AI$113,0))","v":3},{"$f":"IF(AR42=1,$AZ$4,IF(AR42=2,$AZ$5,$AZ$6))","v":"(GSI)"},{"$f":"INDEX(S$4:S$113,MATCH($AO42,$AI$4:$AI$113,0))","v":"Good"},{"$f":"INDEX(T$4:T$113,MATCH($AO42,$AI$4:$AI$113,0))","v":"Excellent"},{"$f":"INDEX(U$4:U$113,MATCH($AO42,$AI$4:$AI$113,0))","v":0},{"$f":"INDEX(V$4:V$113,MATCH($AO42,$AI$4:$AI$113,0))","v":0}]
[null,1]
[21,1,"Median U-Turn","N-S",null,null,null,null,null,null,null,null,null,null,null,null,null,null,{"$f":"'Multimodal Ped'!GL64","v":"Good"},{"$f":"'Multimodal Bike'!GL64","v":"Excellent"},null,null,{"$f":"'4b - Detailed Results'!BH64","v":0.27},null,null,null,null,null,null,{"$f":"'4b - Detailed Results'!BY64","v":true},{"$f":"AND(Summary_Include_AGI,Summary_Include_MUT)","v":true},{"$f":"IF(AND(AD44,AE44),1,0)","v":1},{"$f":"C44 & IF(ISBLANK(D44),\"\",\" \" & D44)","v":"Median U-Turn N-S"},{"$f":"IF(AND(AD44,AE44),W44,1000000)","v":0.27},{"$f":"AH44+0.001*COUNTIF(AH$3:$AI39,AH44)","v":0.27},null,{"$f":"SMALL($AH$4:$AH$113,A44)","v":0.24},{"$f":"SMALL($AI$4:$AI$113,A44)","v":0.24},{"$f":"COUNTIF($AP$4:$AP$113,AP44)","v":1},{"$f":"IF(AL44=AL38,AN38+1,0)","v":0},{"$f":"AL44+0.00001*AN44","v":0.24},{"$f":"RANK(AO44,$AI$4:$AI$113,1)","v":21},{"$f":"INDEX($AG$4:$AG$113,MATCH(AO44,$AI$4:$AI$113,0))","v":"Quadrant Roadway N-W"},{"$f":"INDEX($B$4:$B$113,MATCH(AO44,$AI$4:$AI$113,0))","v":1},{"$f":"IF(AR44=1,$AZ$4,IF(AR44=2,$AZ$5,$AZ$6))","v":"(AGI)"},{"$f":"INDEX(S$4:S$113,MATCH($AO44,$AI$4:$AI$113,0))","v":"Good"},{"$f":"INDEX(T$4:T$113,MATCH($AO44,$AI$4:$AI$113,0))","v":"Excellent"},{"$f":"INDEX(U$4:U$113,MATCH($AO44,$AI$4:$AI$113,0))","v":0},{"$f":"INDEX(V$4:V$113,MATCH($AO44,$AI$4:$AI$113,0))","v":0}]
[null,1]
[22,1,"Median U-Turn","E-W",null,null,null,null,null,null,null,null,null,null,null,null,null,null,{"$f":"'Multimodal Ped'!GL66","v":"Good"},{"$f":"'Multimodal Bike'!GL66","v":"Excellent"},null,null,{"$f":"'4b - Detailed Results'!BH66","v":0.27},null,null,null,null,null,null,{"$f":"'4b - Detailed Results'!BY66","v":true},{"$f":"AND(Summary_Include_AGI,Summary_Include_MUT)","v":true},{"$f":"IF(AND(AD46,AE46),1,0)","v":1},{"$f":"C46 & IF(ISBLANK(D46),\"\",\" \" & D46)","v":"Median U-Turn E-W"},{"$f":"IF(AND(AD46,AE46),W46,1000000)","v":0.27},{"$f":"AH46+0.001*COUNTIF(AH$3:$AI45,AH46)","v":0.27200000000000002},null,{"$f":"SMALL($AH$4:$AH$113,A46)","v":0.24},{"$f":"SMALL($AI$4:$AI$113,A46)","v":0.24199999999999999},{"$f":"COUNTIF($AP$4:$AP$113,AP46)","v":1},0,{"$f":"AL46+0.00001*AN46","v":0.24199999999999999},{"$f":"RANK(AO46,$AI$4:$AI$113,1)","v":22},{"$f":"INDEX($AG$4:$AG$113,MATCH(AO46,$AI$4:$AI$113,0))","v":"Diverging Diamond Interchange N-S"},{"$f":"INDEX($B$4:$B$113,MATCH(AO46,$AI$4:$AI$113,0))","v":3},{"$f":"IF(AR46=1,$AZ$4,IF(AR46=2,$AZ$5,$AZ$6))","v":"(GSI)"},{"$f":"INDEX(S$4:S$113,MATCH($AO46,$AI$4:$AI$113,0))","v":"Good"},{"$f":"INDEX(T$4:T$113,MATCH($AO46,$AI$4:$AI$113,0))","v":"Excellent"},{"$f":"INDEX(U$4:U$113,MATCH($AO46,$AI$4:$AI$113,0))","v":0},{"$f":"INDEX(V$4:V$113,MATCH($AO46,$AI$4:$AI$113,0))","v":0}]
[null,1]
[23,1,"Partial Median U-Turn","N-S",null,null,null,null,null,null,null,null,null,null,null,null,null,null,{"$f":"'Multimodal Ped'!GL68","v":"Good"},{"$f":"'Multimodal Bike'!GL68","v":"Excellent"},null,null,{"$f":"'4b - Detailed Results'!BH68","v":0.25},null,null,null,null,null,null,{"$f":"'4b - Detailed Results'!BY68","v":true},{"$f":"AND(Summary_Include_AGI,Summary_Include_PMUT)","v":true},{"$f":"IF(AND(AD48,AE48),1,0)","v":1},{"$f":"C48 & IF(ISBLANK(D48),\"\",\" \" & D48)","v":"Partial Median U-Turn N-S"},{"$f":"IF(AND(AD48,AE48),W48,1000000)","v":0.25},{"$f":"AH48+0.001*COUNTIF(AH$3:$AI47,AH48)","v":0.25},null,{"$f":"SMALL($AH$4:$AH$113,A48)","v":0.25},{"$f":"SMALL($AI$4:$AI$113,A48)","v":0.25},{"$f":"COUNTIF($AP$4:$AP$113,AP48)","v":1},0,{"$f":"AL48+0.00001*AN48","v":0.25},{"$f":"RANK(AO48,$AI$4:$AI$113,1)","v":23},{"$f":"INDEX($AG$4:$AG$113,MATCH(AO48,$AI$4:$AI$113,0))","v":"Partial Median U-Turn N-S"},{"$f":"INDEX($B$4:$B$113,MATCH(AO48,$AI$4:$AI$113,0))","v":1},{"$f":"IF(AR48=1,$AZ$4,IF(AR48=2,$AZ$5,$AZ$6))","v":"(AGI)"},{"$f":"INDEX(S$4:S$113,MATCH($AO48,$AI$4:$AI$113,0))","v":"Good"},{"$f":"INDEX(T$4:T$113,MATCH($AO48,$AI$4:$AI$113,0))","v":"Excellent"},{"$f":"INDEX(U$4:U$113,MATCH($AO48,$AI$4:$AI$113,0))","v":0},{"$f":"INDEX(V$4:V$113,MATCH($AO48,$AI$4:$AI$113,0))","v":0}]
[null,1]
[24,1,"Partial Median U-Turn","E-W",null,null,null,null,null,null,null,null,null,null,null,null,null,null,{"$f":"'Multimodal Ped'!GL70","v":"Good"},{"$f":"'Multimodal Bike'!GL70","v":"Excellent"},null,null,{"$f":"'4b - Detailed Results'!BH70","v":0.23},null,null,null,null,null,null,{"$f":"'4b - Detailed Results'!BY70","v":true},{"$f":"AND(Summary_Include_AGI,Summary_Include_PMUT)","v":true},{"$f":"IF(AND(AD50,AE50),1,0)","v":1},{"$f":"C50 & IF(ISBLANK(D50),\"\",\" \" & D50)","v":"Partial Median U-Turn E-W"},{"$f":"IF(AND(AD50,AE50),W50,1000000)","v":0.23},{"$f":"AH50+0.001*COUNTIF(AH$3:$AI49,AH50)","v":0.23200000000000001},null,{"$f":"SMALL($AH$4:$AH$113,A50)","v":0.25},{"$f":"SMALL($AI$4:$AI$113,A50)","v":0.252},{"$f":"COUNTIF($AP$4:$AP$113,AP50)","v":1},0,{"$f":"AL50+0.00001*AN50","v":0.252},{"$f":"RANK(AO50,$AI$4:$AI$113,1)","v":24},{"$f":"INDEX($AG$4:$AG$113,MATCH(AO50,$AI$4:$AI$113,0))","v":"Diamond N-S"},{"$f":"INDEX($B$4:$B$113,MATCH(AO50,$AI$4:$AI$113,0))","v":3},{"$f":"IF(AR50=1,$AZ$4,IF(AR50=2,$AZ$5,$AZ$6))","v":"(GSI)"},{"$f":"INDEX(S$4:S$113,MATCH($AO50,$AI$4:$AI$113,0))","v":"Good"},{"$f":"INDEX(T$4:T$113,MATCH($AO50,$AI$4:$AI$113,0))","v":"Fair"},{"$f":"INDEX(U$4:U$113,MATCH($AO50,$AI$4:$AI$113,0))","v":0},{"$f":"INDEX(V$4:V$113,MATCH($AO50,$AI$4:$AI$113,0))","v":0}]
[null,1]
[25,2,"50 ICD",null,null,null,null,null,null,null,null,null,null,null,null,null,null,null,{"$f":"'Multimodal Ped'!GL110","v":"Excellent"},{"$f":"'Multimodal Bike'!GL110","v":"Good"},null,null,{"$f":"'4b - Detailed Results'!BH110","v":1.0639288231617303},null,null,null,null,null,null,{"$f":"'4b - Detailed Results'!BY110","v":true},{"$f":"AND(Summary_Include_Rdbt,Summary_Include_50ICD)","v":true},{"$f":"IF(AND(AD52,AE52),1,0)","v":1},{"$f":"C52 & IF(ISBLANK(D52),\"\",\" \" & D52)","v":"50 ICD"},{"$f":"IF(AND(AD52,AE52),W52,1000000)","v":1.0639288231617303},{"$f":"AH52+0.001*COUNTIF(AH$3:$AI51,AH52)","v":1.0639288231617303},null,{"$f":"SMALL($AH$4:$AH$113,A52)","v":0.25935719317758921},{"$f":"SMALL($AI$4:$AI$113,A52)","v":0.25935719317758921},{"$f":"COUNTIF($AP$4:$AP$113,AP52)","v":1},0,{"$f":"AL52+0.00001*AN52","v":0.25935719317758921},{"$f":"RANK(AO52,$AI$4:$AI$113,1)","v":25},{"$f":"INDEX($AG$4:$AG$113,MATCH(AO52,$AI$4:$AI$113,0))","v":"3 X 3 Roundabout"},{"$f":"INDEX($B$4:$B$113,MATCH(AO52,$AI$4:$AI$113,0))","v":2},{"$f":"IF(AR52=1,$AZ$4,IF(AR52=2,$AZ$5,$AZ$6))","v":"(RAB)"},{"$f":"INDEX(S$4:S$113,MATCH($AO52,$AI$4:$AI$113,0))","v":"Fair"},{"$f":"INDEX(T$4:T$113,MATCH($AO52,$AI$4:$AI$113,0))","v":"Excellent"},{"$f":"INDEX(U$4:U$113,MATCH($AO52,$AI$4:$AI$113,0))","v":0},{"$f":"INDEX(V$4:V$113,MATCH($AO52,$AI$4:$AI$113,0))","v":0}]
[null,2]
[26,2,"75 ICD",null,null,null,null,null,null,null,null,null,null,null,null,null,null,null,{"$f":"'Multimodal Ped'!GL112","v":"Excellent"},{"$f":"'Multimodal Bike'!GL112","v":"Good"},null,null,{"$f":"'4b - Detailed Results'!BH112","v":1.0260914534790657},null,null,null,null,null,null,{"$f":"'4b - Detailed Results'!BY112","v":true},{"$f":"AND(Summary_Include_Rdbt,Summary_Include_75ICD)","v":true},{"$f":"IF(AND(AD54,AE54),1,0)","v":1},{"$f":"C54 & IF(ISBLANK(D54),\"\",\" \" & D54)","v":"75 ICD"},{"$f":"IF(AND(AD54,AE54),W54,1000000)","v":1.0260914534790657},{"$f":"AH54+0.001*COUNTIF(AH$3:$AI53,AH54)","v":1.0260914534790657},null,{"$f":"SMALL($AH$4:$AH$113,A54)","v":0.26},{"$f":"SMALL($AI$4:$AI$113,A54)","v":0.26},{"$f":"COUNTIF($AP$4:$AP$113,AP54)","v":1},0,{"$f":"AL54+0.00001*AN54","v":0.26},{"$f":"RANK(AO54,$AI$4:$AI$113,1)","v":26},{"$f":"INDEX($AG$4:$AG$113,MATCH(AO54,$AI$4:$AI$113,0))","v":"Quadrant Roadway N-E"},{"$f":"INDEX($B$4:$B$113,MATCH(AO54,$AI$4:$AI$113,0))","v":1},{"$f":"IF(AR54=1,$AZ$4,IF(AR54=2,$AZ$5,$AZ$6))","v":"(AGI)"},{"$f":"INDEX(S$4:S$113,MATCH($AO54,$AI$4:$AI$113,0))","v":"Good"},{"$f":"INDEX(T$4:T$113,MATCH($AO54,$AI$4:$AI$113,0))","v":"Excellent"},{"$f":"INDEX(U$4:U$113,MATCH($AO54,$AI$4:$AI$113,0))","v":0},{"$f":"INDEX(V$4:V$113,MATCH($AO54,$AI$4:$AI$113,0))","v":0}]
[null,2]
[27,2,"1 X 1 Roundabout",null,null,null,null,null,null,null,null,null,null,null,null,null,null,null,{"$f":"'Multimodal Ped'!GL114","v":"Excellent"},{"$f":"'Multimodal Bike'!GL114","v":"Excellent"},null,null,{"$f":"'4b - Detailed Results'!BH114","v":0.77561080606526822},null,null,null,null,null,null,{"$f":"'4b - Detailed Results'!BY114","v":true},{"$f":"AND(Summary_Include_Rdbt,Summary_Include_1x1)","v":true},{"$f":"IF(AND(AD56,AE56),1,0)","v":1},{"$f":"C56 & IF(ISBLANK(D56),\"\",\" \" & D56)","v":"1 X 1 Roundabout"},{"$f":"IF(AND(AD56,AE56),W56,1000000)","v":0.77561080606526822},{"$f":"AH56+0.001*COUNTIF(AH$3:$AI55,AH56)","v":0.77561080606526822},null,{"$f":"SMALL($AH$4:$AH$113,A56)","v":0.27},{"$f":"SMALL($AI$4:$AI$113,A56)","v":0.27},{"$f":"COUNTIF($AP$4:$AP$113,AP56)","v":1},0,{"$f":"AL56+0.00001*AN56","v":0.27},{"$f":"RANK(AO56,$AI$4:$AI$113,1)","v":27},{"$f":"INDEX($AG$4:$AG$113,MATCH(AO56,$AI$4:$AI$113,0))","v":"Median U-Turn N-S"},{"$f":"INDEX($B$4:$B$113,MATCH(AO56,$AI$4:$AI$113,0))","v":1},{"$f":"IF(AR56=1,$AZ$4,IF(AR56=2,$AZ$5,$AZ$6))","v":"(AGI)"},{"$f":"INDEX(S$4:S$113,MATCH($AO56,$AI$4:$AI$113,0))","v":"Good"},{"$f":"INDEX(T$4:T$113,MATCH($AO56,$AI$4:$AI$113,0))","v":"Excellent"},{"$f":"INDEX(U$4:U$113,MATCH($AO56,$AI$4:$AI$113,0))","v":0},{"$f":"INDEX(V$4:V$113,MATCH($AO56,$AI$4:$AI$113,0))","v":0}]
[null,2]
[28,2,"1NS X 2EW Roundabout",null,null,null,null,null,null,null,null,null,null,null,null,null,null,null,{"$f":"'Multimodal Ped'!GL116","v":"Good"},{"$f":"'Multimodal Bike'!GL116","v":"Excellent"},null,null,{"$f":"'4b - Detailed Results'!BH116","v":0.72043664771552562},null,null,null,null,null,null,{"$f":"'4b - Detailed Results'!BY116","v":true},{"$f":"AND(Summary_Include_Rdbt,Summary_Include_1x2)","v":true},{"$f":"IF(AND(AD58,AE58),1,0)","v":1},{"$f":"C58 & IF(ISBLANK(D58),\"\",\" \" & D58)","v":"1NS X 2EW Roundabout"},{"$f":"IF(AND(AD58,AE58),W58,1000000)","v":0.72043664771552562},{"$f":"AH58+0.001*COUNTIF(AH$3:$AI57,AH58)","v":0.72043664771552562},null,{"$f":"SMALL($AH$4:$AH$113,A58)","v":0.27},{"$f":"SMALL($AI$4:$AI$113,A58)","v":0.27200000000000002},{"$f":"COUNTIF($AP$4:$AP$113,AP58)","v":1},0,{"$f":"AL58+0.00001*AN58","v":0.27200000000000002},{"$f":"RANK(AO58,$AI$4:$AI$113,1)","v":28},{"$f":"INDEX($AG$4:$AG$113,MATCH(AO58,$AI$4:$AI$113,0))","v":"Median U-Turn E-W"},{"$f":"INDEX($B$4:$B$113,MATCH(AO58,$AI$4:$AI$113,0))","v":1},{"$f":"IF(AR58=1,$AZ$4,IF(AR58=2,$AZ$5,$AZ$6))","v":"(AGI)"},{"$f":"INDEX(S$4:S$113,MATCH($AO58,$AI$4:$AI$113,0))","v":"Good"},{"$f":"INDEX(T$4:T$113,MATCH($AO58,$AI$4:$AI$113,0))","v":"Excellent"},{"$f":"INDEX(U$4:U$113,MATCH($AO58,$AI$4:$AI$113,0))","v":0},{"$f":"INDEX(V$4:V$113,MATCH($AO58,$AI$4:$AI$113,0))","v":0}]
[null,2]
[29,2,"2NS X 1EW Roundabout",null,null,null,null,null,null,null,null,null,null,null,null,null,null,null,{"$f":"'Multimodal Ped'!GL118","v":"Good"},{"$f":"'Multimodal Bike'!GL118","v":"Excellent"},null,null,{"$f":"'4b - Detailed Results'!BH118","v":0.38183142328922859},null,null,null,null,null,null,{"$f":"'4b - Detailed Results'!BY118","v":true},{"$f":"AND(Summary_Include_Rdbt,Summary_Include_2x1)","v":true},{"$f":"IF(AND(AD60,AE60),1,0)","v":1},{"$f":"C60 & IF(ISBLANK(D60),\"\",\" \" & D60)","v":"2NS X 1EW Roundabout"},{"$f":"IF(AND(AD60,AE60),W60,1000000)","v":0.38183142328922859},{"$f":"AH60+0.001*COUNTIF(AH$3:$AI59,AH60)","v":0.38183142328922859},null,{"$f":"SMALL($AH$4:$AH$113,A60)","v":0.28000000000000003},{"$f":"SMALL($AI$4:$AI$113,A60)","v":0.28000000000000003},{"$f":"COUNTIF($AP$4:$AP$113,AP60)","v":1},0,{"$f":"AL60+0.00001*AN60","v":0.28000000000000003},{"$f":"RANK(AO60,$AI$4:$AI$113,1)","v":29},{"$f":"INDEX($AG$4:$AG$113,MATCH(AO60,$AI$4:$AI$113,0))","v":"Partial Displaced Left Turn E-W"},{"$f":"INDEX($B$4:$B$113,MATCH(AO60,$AI$4:$AI$113,0))","v":1},{"$f":"IF(AR60=1,$AZ$4,IF(AR60=2,$AZ$5,$AZ$6))","v":"(AGI)"},{"$f":"INDEX(S$4:S$113,MATCH($AO60,$AI$4:$AI$113,0))","v":"Good"},{"$f":"INDEX(T$4:T$113,MATCH($AO60,$AI$4:$AI$113,0))","v":"Excellent"},{"$f":"INDEX(U$4:U$113,MATCH($AO60,$AI$4:$AI$113,0))","v":0},{"$f":"INDEX(V$4:V$113,MATCH($AO60,$AI$4:$AI$113,0))","v":0}]
[null,2]
[30,2,"2 X 2 Roundabout",null,null,null,null,null,null,null,null,null,null,null,null,null,null,null,{"$f":"'Multimodal Ped'!GL120","v":"Good"},{"$f":"'Multimodal Bike'!GL120","v":"Excellent"},null,null,{"$f":"'4b - Detailed Results'!BH120","v":0.38183142328922859},null,null,null,null,null,null,{"$f":"'4b - Detailed Results'!BY120","v":true},{"$f":"AND(Summary_Include_Rdbt,Summary_Include_2x2)","v":true},{"$f":"IF(AND(AD62,AE62),1,0)","v":1},{"$f":"C62 & IF(ISBLANK(D62),\"\",\" \" & D62)","v":"2 X 2 Roundabout"},{"$f":"IF(AND(AD62,AE62),W62,1000000)","v":0.38183142328922859},{"$f":"AH62+0.001*COUNTIF(AH$3:$AI61,AH62)","v":0.38383142328922859},null,{"$f":"SMALL($AH$4:$AH$113,A62)","v":0.28000000000000003},{"$f":"SMALL($AI$4:$AI$113,A62)","v":0.28200000000000003},{"$f":"COUNTIF($AP$4:$AP$113,AP62)","v":1},0,{"$f":"AL62+0.00001*AN62","v":0.28200000000000003},{"$f":"RANK(AO62,$AI$4:$AI$113,1)","v":30},{"$f":"INDEX($AG$4:$AG$113,MATCH(AO62,$AI$4:$AI$113,0))","v":"Diamond E-W"},{"$f":"INDEX($B$4:$B$113,MATCH(AO62,$AI$4:$AI$113,0))","v":3},{"$f":"IF(AR62=1,$AZ$4,IF(AR62=2,$AZ$5,$AZ$6))","v":"(GSI)"},{"$f":"INDEX(S$4:S$113,MATCH($AO62,$AI$4:$AI$113,0))","v":"Good"},{"$f":"INDEX(T$4:T$113,MATCH($AO62,$AI$4:$AI$113,0))","v":"Fair"},{"$f":"INDEX(U$4:U$113,MATCH($AO62,$AI$4:$AI$113,0))","v":0},{"$f":"INDEX(V$4:V$113,MATCH($AO62,$AI$4:$AI$113,0))","v":0}]
[null,2]
[31,2,"3 X 3 Roundabout",null,null,null,null,null,null,null,null,null,null,null,null,null,null,null,{"$f":"'Multimodal Ped'!GL122","v":"Fair"},{"$f":"'Multimodal Bike'!GL122","v":"Excellent"},null,null,{"$f":"'4b - Detailed Results'!BH122","v":0.25935719317758921},null,null,null,null,null,null,{"$f":"'4b - Detailed Results'!BY122","v":true},{"$f":"IF(B64=1,Summary_Include_AGI,IF(B64=2,Summary_Include_Rdbt,Summary_Include_Interchange))","v":true},{"$f":"IF(AND(AD64,AE64),1,0)","v":1},{"$f":"C64 & IF(ISBLANK(D64),\"\",\" \" & D64)","v":"3 X 3 Roundabout"},{"$f":"IF(AND(AD64,AE64),W64,1000000)","v":0.25935719317758921},{"$f":"AH64+0.001*COUNTIF(AH$3:$AI63,AH64)","v":0.25935719317758921},null,{"$f":"SMALL($AH$4:$AH$113,A64)","v":0.28999999999999998},{"$f":"SMALL($AI$4:$AI$113,A64)","v":0.28999999999999998},{"$f":"COUNTIF($AP$4:$AP$113,AP64)","v":1},0,{"$f":"AL64+0.00001*AN64","v":0.28999999999999998},{"$f":"RANK(AO64,$AI$4:$AI$113,1)","v":31},{"$f":"INDEX($AG$4:$AG$113,MATCH(AO64,$AI$4:$AI$113,0))","v":"Displaced Left Turn (Interchange) N-S"},{"$f":"INDEX($B$4:$B$113,MATCH(AO64,$AI$4:$AI$113,0))","v":3},{"$f":"IF(AR64=1,$AZ$4,IF(AR64=2,$AZ$5,$AZ$6))","v":"(GSI)"},{"$f":"INDEX(S$4:S$113,MATCH($AO64,$AI$4:$AI$113,0))","v":"Good"},{"$f":"INDEX(T$4:T$113,MATCH($AO64,$AI$4:$AI$113,0))","v":"Excellent"},{"$f":"INDEX(U$4:U$113,MATCH($AO64,$AI$4:$AI$113,0))","v":0},{"$f":"INDEX(V$4:V$113,MATCH($AO64,$AI$4:$AI$113,0))","v":0}]
[null,2]
[32,3,"Diamond","N-S",null,null,null,null,null,null,null,null,null,null,null,null,null,null,{"$f":"'Multimodal Ped'!GL131","v":"Good"},{"$f":"'Multimodal Bike'!GL131","v":"Fair"},null,null,{"$f":"'4b - Detailed Results'!BH131","v":0.25},null,null,null,null,null,null,{"$f":"'4b - Detailed Results'!BY131","v":true},{"$f":"AND(Summary_Include_Interchange,Summary_Include_Diamond)","v":true},{"$f":"IF(AND(AD66,AE66),1,0)","v":1},{"$f":"C66 & IF(ISBLANK(D66),\"\",\" \" & D66)","v":"Diamond N-S"},{"$f":"IF(AND(AD66,AE66),W66,1000000)","v":0.25},{"$f":"AH66+0.001*COUNTIF(AH$3:$AI65,AH66)","v":0.252},null,{"$f":"SMALL($AH$4:$AH$113,A66)","v":0.29085405227447558},{"$f":"SMALL($AI$4:$AI$113,A66)","v":0.29085405227447558},{"$f":"COUNTIF($AP$4:$AP$113,AP66)","v":1},0,{"$f":"AL66+0.00001*AN66","v":0.29085405227447558},{"$f":"RANK(AO66,$AI$4:$AI$113,1)","v":32},{"$f":"INDEX($AG$4:$AG$113,MATCH(AO66,$AI$4:$AI$113,0))","v":"Singe Point Diamond w/ RAB E-W"},{"$f":"INDEX($B$4:$B$113,MATCH(AO66,$AI$4:$AI$113,0))","v":3},{"$f":"IF(AR66=1,$AZ$4,IF(AR66=2,$AZ$5,$AZ$6))","v":"(GSI)"},{"$f":"INDEX(S$4:S$113,MATCH($AO66,$AI$4:$AI$113,0))","v":"Good"},{"$f":"INDEX(T$4:T$113,MATCH($AO66,$AI$4:$AI$113,0))","v":"Excellent"},{"$f":"INDEX(U$4:U$113,MATCH($AO66,$AI$4:$AI$113,0))","v":0},{"$f":"INDEX(V$4:V$113,MATCH($AO66,$AI$4:$AI$113,0))","v":0}]
[null,3]
[33,3,"Diamond","E-W",null,null,null,null,null,null,null,null,null,null,null,null,null,null,{"$f":"'Multimodal Ped'!GL133","v":"Good"},{"$f":"'Multimodal Bike'!GL133","v":"Fair"},null,null,{"$f":"'4b - Detailed Results'!BH133","v":0.28000000000000003},null,null,null,null,null,null,{"$f":"'4b - Detailed Results'!BY133","v":true},{"$f":"AND(Summary_Include_Interchange,Summary_Include_Diamond)","v":true},{"$f":"IF(AND(AD68,AE68),1,0)","v":1},{"$f":"C68 & IF(ISBLANK(D68),\"\",\" \" & D68)","v":"Diamond E-W"},{"$f":"IF(AND(AD68,AE68),W68,1000000)","v":0.28000000000000003},{"$f":"AH68+0.001*COUNTIF(AH$3:$AI67,AH68)","v":0.28200000000000003},null,{"$f":"SMALL($AH$4:$AH$113,A68)","v":0.37},{"$f":"SMALL($AI$4:$AI$113,A68)","v":0.37},{"$f":"COUNTIF($AP$4:$AP$113,AP68)","v":1},0,{"$f":"AL68+0.00001*AN68","v":0.37},{"$f":"RANK(AO68,$AI$4:$AI$113,1)","v":33},{"$f":"INDEX($AG$4:$AG$113,MATCH(AO68,$AI$4:$AI$113,0))","v":"Partial Displaced Left Turn N-S"},{"$f":"INDEX($B$4:$B$113,MATCH(AO68,$AI$4:$AI$113,0))","v":1},{"$f":"IF(AR68=1,$AZ$4,IF(AR68=2,$AZ$5,$AZ$6))","v":"(AGI)"},{"$f":"INDEX(S$4:S$113,MATCH($AO68,$AI$4:$AI$113,0))","v":"Good"},{"$f":"INDEX(T$4:T$113,MATCH($AO68,$AI$4:$AI$113,0))","v":"Excellent"},{"$f":"INDEX(U$4:U$113,MATCH($AO68,$AI$4:$AI$113,0))","v":0},{"$f":"INDEX(V$4:V$113,MATCH($AO68,$AI$4:$AI$113,0))","v":0}]
[null,3]
[34,3,"Partial Cloverleaf A","N-S",null,null,null,null,null,null,null,null,null,null,null,null,null,null,{"$f":"'Multimodal Ped'!GL135","v":"Good"},{"$f":"'Multimodal Bike'!GL135","v":"Excellent"},null,null,{"$f":"'4b - Detailed Results'!BH135","v":0.19},null,null,null,null,null,null,{"$f":"'4b - Detailed Results'!BY135","v":true},{"$f":"AND(Summary_Include_Interchange,Summary_Include_PCLA)","v":true},{"$f":"IF(AND(AD70,AE70),1,0)","v":1},{"$f":"C70 & IF(ISBLANK(D70),\"\",\" \" & D70)","v":"Partial Cloverleaf A N-S"},{"$f":"IF(AND(AD70,AE70),W70,1000000)","v":0.19},{"$f":"AH70+0.001*COUNTIF(AH$3:$AI69,AH70)","v":0.19},null,{"$f":"SMALL($AH$4:$AH$113,A70)","v":0.38183142328922859},{"$f":"SMALL($AI$4:$AI$113,A70)","v":0.38183142328922859},{"$f":"COUNTIF($AP$4:$AP$113,AP70)","v":1},0,{"$f":"AL70+0.00001*AN70","v":0.38183142328922859},{"$f":"RANK(AO70,$AI$4:$AI$113,1)","v":34},{"$f":"INDEX($AG$4:$AG$113,MATCH(AO70,$AI$4:$AI$113,0))","v":"2NS X 1EW Roundabout"},{"$f":"INDEX($B$4:$B$113,MATCH(AO70,$AI$4:$AI$113,0))","v":2},{"$f":"IF(AR70=1,$AZ$4,IF(AR70=2,$AZ$5,$AZ$6))","v":"(RAB)"},{"$f":"INDEX(S$4:S$113,MATCH($AO70,$AI$4:$AI$113,0))","v":"Good"},{"$f":"INDEX(T$4:T$113,MATCH($AO70,$AI$4:$AI$113,0))","v":"Excellent"},{"$f":"INDEX(U$4:U$113,MATCH($AO70,$AI$4:$AI$113,0))","v":0},{"$f":"INDEX(V$4:V$113,MATCH($AO70,$AI$4:$AI$113,0))","v":0}]
[null,3]
[35,3,"Partial Cloverleaf A","E-W",null,null,null,null,null,null,null,null,null,null,null,null,null,null,{"$f":"'Multimodal Ped'!GL137","v":"Good"},{"$f":"'Multimodal Bike'!GL137","v":"Excellent"},null,null,{"$f":"'4b - Detailed Results'!BH137","v":0.12},null,null,null,null,null,null,{"$f":"'4b - Detailed Results'!BY137","v":true},{"$f":"AND(Summary_Include_Interchange,Summary_Include_PCLA)","v":true},{"$f":"IF(AND(AD72,AE72),1,0)","v":1},{"$f":"C72 & IF(ISBLANK(D72),\"\",\" \" & D72)","v":"Partial Cloverleaf A E-W"},{"$f":"IF(AND(AD72,AE72),W72,1000000)","v":0.12},{"$f":"AH72+0.001*COUNTIF(AH$3:$AI71,AH72)","v":0.12},null,{"$f":"SMALL($AH$4:$AH$113,A72)","v":0.38183142328922859},{"$f":"SMALL($AI$4:$AI$113,A72)","v":0.38383142328922859},{"$f":"COUNTIF($AP$4:$AP$113,AP72)","v":1},0,{"$f":"AL72+0.00001*AN72","v":0.38383142328922859},{"$f":"RANK(AO72,$AI$4:$AI$113,1)","v":35},{"$f":"INDEX($AG$4:$AG$113,MATCH(AO72,$AI$4:$AI$113,0))","v":"2 X 2 Roundabout"},{"$f":"INDEX($B$4:$B$113,MATCH(AO72,$AI$4:$AI$113,0))","v":2},{"$f":"IF(AR72=1,$AZ$4,IF(AR72=2,$AZ$5,$AZ$6))","v":"(RAB)"},{"$f":"INDEX(S$4:S$113,MATCH($AO72,$AI$4:$AI$113,0))","v":"Good"},{"$f":"INDEX(T$4:T$113,MATCH($AO72,$AI$4:$AI$113,0))","v":"Excellent"},{"$f":"INDEX(U$4:U$113,MATCH($AO72,$AI$4:$AI$113,0))","v":0},{"$f":"INDEX(V$4:V$113,MATCH($AO72,$AI$4:$AI$113,0))","v":0}]
[null,3]
[36,3,"Partial Cloverleaf B","N-S",null,null,null,null,null,null,null,null,null,null,null,null,null,null,{"$f":"'Multimodal Ped'!GL139","v":"Good"},{"$f":"'Multimodal Bike'!GL139","v":"Excellent"},null,null,{"$f":"'4b - Detailed Results'!BH139","v":0.19},null,null,null,null,null,null,{"$f":"'4b - Detailed Results'!BY139","v":true},{"$f":"AND(Summary_Include_Interchange,Summary_Include_PCLB)","v":true},{"$f":"IF(AND(AD74,AE74),1,0)","v":1},{"$f":"C74 & IF(ISBLANK(D74),\"\",\" \" & D74)","v":"Partial Cloverleaf B N-S"},{"$f":"IF(AND(AD74,AE74),W74,1000000)","v":0.19},{"$f":"AH74+0.001*COUNTIF(AH$3:$AI73,AH74)","v":0.192},null,{"$f":"SMALL($AH$4:$AH$113,A74)","v":0.41},{"$f":"SMALL($AI$4:$AI$113,A74)","v":0.41},{"$f":"COUNTIF($AP$4:$AP$113,AP74)","v":1},0,{"$f":"AL74+0.00001*AN74","v":0.41},{"$f":"RANK(AO74,$AI$4:$AI$113,1)","v":36},{"$f":"INDEX($AG$4:$AG$113,MATCH(AO74,$AI$4:$AI$113,0))","v":"Displaced Left Turn (Interchange) E-W"},{"$f":"INDEX($B$4:$B$113,MATCH(AO74,$AI$4:$AI$113,0))","v":3},{"$f":"IF(AR74=1,$AZ$4,IF(AR74=2,$AZ$5,$AZ$6))","v":"(GSI)"},{"$f":"INDEX(S$4:S$113,MATCH($AO74,$AI$4:$AI$113,0))","v":"Good"},{"$f":"INDEX(T$4:T$113,MATCH($AO74,$AI$4:$AI$113,0))","v":"Excellent"},{"$f":"INDEX(U$4:U$113,MATCH($AO74,$AI$4:$AI$113,0))","v":0},{"$f":"INDEX(V$4:V$113,MATCH($AO74,$AI$4:$AI$113,0))","v":0}]
[null,3]
[37,3,"Partial Cloverleaf B","E-W",null,null,null,null,null,null,null,null,null,null,null,null,null,null,{"$f":"'Multimodal Ped'!GL141","v":"Good"},{"$f":"'Multimodal Bike'!GL141","v":"Excellent"},null,null,{"$f":"'4b - Detailed Results'!BH141","v":0.09},null,null,null,null,null,null,{"$f":"'4b - Detailed Results'!BY141","v":true},{"$f":"AND(Summary_Include_Interchange,Summary_Include_PCLB)","v":true},{"$f":"IF(AND(AD76,AE76),1,0)","v":1},{"$f":"C76 & IF(ISBLANK(D76),\"\",\" \" & D76)","v":"Partial Cloverleaf B E-W"},{"$f":"IF(AND(AD76,AE76),W76,1000000)","v":0.09},{"$f":"AH76+0.001*COUNTIF(AH$3:$AI75,AH76)","v":0.09},null,{"$f":"SMALL($AH$4:$AH$113,A76)","v":0.44},{"$f":"SMALL($AI$4:$AI$113,A76)","v":0.44},{"$f":"COUNTIF($AP$4:$AP$113,AP76)","v":1},0,{"$f":"AL76+0.00001*AN76","v":0.44},{"$f":"RANK(AO76,$AI$4:$AI$113,1)","v":37},{"$f":"INDEX($AG$4:$AG$113,MATCH(AO76,$AI$4:$AI$113,0))","v":"Split Intersection N-S"},{"$f":"INDEX($B$4:$B$113,MATCH(AO76,$AI$4:$AI$113,0))","v":1},{"$f":"IF(AR76=1,$AZ$4,IF(AR76=2,$AZ$5,$AZ$6))","v":"(AGI)"},{"$f":"INDEX(S$4:S$113,MATCH($AO76,$AI$4:$AI$113,0))","v":"Good"},{"$f":"INDEX(T$4:T$113,MATCH($AO76,$AI$4:$AI$113,0))","v":"Excellent"},{"$f":"INDEX(U$4:U$113,MATCH($AO76,$AI$4:$AI$113,0))","v":0},{"$f":"INDEX(V$4:V$113,MATCH($AO76,$AI$4:$AI$113,0))","v":0}]
[null,3]
[38,3,"Displaced Left Turn (Interchange)","N-S",null,null,null,null,null,null,null,null,null,null,null,null,null,null,{"$f":"'Multimodal Ped'!GL143","v":"Good"},{"$f":"'Multimodal Bike'!GL143","v":"Excellent"},null,null,{"$f":"'4b - Detailed Results'!BH143","v":0.28999999999999998},null,null,null,null,null,null,{"$f":"'4b - Detailed Results'!BY143","v":true},{"$f":"AND(Summary_Include_Interchange,Summary_Include_DLTI)","v":true},{"$f":"IF(AND(AD78,AE78),1,0)","v":1},{"$f":"C78 & IF(ISBLANK(D78),\"\",\" \" & D78)","v":"Displaced Left Turn (Interchange) N-S"},{"$f":"IF(AND(AD78,AE78),W78,1000000)","v":0.28999999999999998},{"$f":"AH78+0.001*COUNTIF(AH$3:$AI77,AH78)","v":0.28999999999999998},null,{"$f":"SMALL($AH$4:$AH$113,A78)","v":0.45},{"$f":"SMALL($AI$4:$AI$113,A78)","v":0.45},{"$f":"COUNTIF($AP$4:$AP$113,AP78)","v":1},0,{"$f":"AL78+0.00001*AN78","v":0.45},{"$f":"RANK(AO78,$AI$4:$AI$113,1)","v":38},{"$f":"INDEX($AG$4:$AG$113,MATCH(AO78,$AI$4:$AI$113,0))","v":"Signalized Restricted Crossing U-Turn N-S"},{"$f":"INDEX($B$4:$B$113,MATCH(AO78,$AI$4:$AI$113,0))","v":1},{"$f":"IF(AR78=1,$AZ$4,IF(AR78=2,$AZ$5,$AZ$6))","v":"(AGI)"},{"$f":"INDEX(S$4:S$113,MATCH($AO78,$AI$4:$AI$113,0))","v":"Good"},{"$f":"INDEX(T$4:T$113,MATCH($AO78,$AI$4:$AI$113,0))","v":"Excellent"},{"$f":"INDEX(U$4:U$113,MATCH($AO78,$AI$4:$AI$113,0))","v":0},{"$f":"INDEX(V$4:V$113,MATCH($AO78,$AI$4:$AI$113,0))","v":0}]
[null,3]
[39,3,"Displaced Left Turn (Interchange)","E-W",null,null,null,null,null,null,null,null,null,null,null,null,null,null,{"$f":"'Multimodal Ped'!GL145","v":"Good"},{"$f":"'Multimodal Bike'!GL145","v":"Excellent"},null,null,{"$f":"'4b - Detailed Results'!BH145","v":0.41},null,null,null,null,null,null,{"$f":"'4b - Detailed Results'!BY145","v":true},{"$f":"AND(Summary_Include_Interchange,Summary_Include_DLTI)","v":true},{"$f":"IF(AND(AD80,AE80),1,0)","v":1},{"$f":"C80 & IF(ISBLANK(D80),\"\",\" \" & D80)","v":"Displaced Left Turn (Interchange) E-W"},{"$f":"IF(AND(AD80,AE80),W80,1000000)","v":0.41},{"$f":"AH80+0.001*COUNTIF(AH$3:$AI79,AH80)","v":0.41},null,{"$f":"SMALL($AH$4:$AH$113,A80)","v":0.45600118623299835},{"$f":"SMALL($AI$4:$AI$113,A80)","v":0.45600118623299835},{"$f":"COUNTIF($AP$4:$AP$113,AP80)","v":1},0,{"$f":"AL80+0.00001*AN80","v":0.45600118623299835},{"$f":"RANK(AO80,$AI$4:$AI$113,1)","v":39},{"$f":"INDEX($AG$4:$AG$113,MATCH(AO80,$AI$4:$AI$113,0))","v":"Singe Point Diamond w/ RAB N-S"},{"$f":"INDEX($B$4:$B$113,MATCH(AO80,$AI$4:$AI$113,0))","v":3},{"$f":"IF(AR80=1,$AZ$4,IF(AR80=2,$AZ$5,$AZ$6))","v":"(GSI)"},{"$f":"INDEX(S$4:S$113,MATCH($AO80,$AI$4:$AI$113,0))","v":"Good"},{"$f":"INDEX(T$4:T$113,MATCH($AO80,$AI$4:$AI$113,0))","v":"Excellent"},{"$f":"INDEX(U$4:U$113,MATCH($AO80,$AI$4:$AI$113,0))","v":0},{"$f":"INDEX(V$4:V$113,MATCH($AO80,$AI$4:$AI$113,0))","v":0}]
[null,3]
[40,3,"Diverging Diamond Interchange","N-S",null,null,null,null,null,null,null,null,null,null,null,null,null,null,{"$f":"'Multimodal Ped'!GL151","v":"Good"},{"$f":"'Multimodal Bike'!GL151","v":"Excellent"},null,null,{"$f":"'4b - Detailed Results'!BH151","v":0.24},null,null,null,null,null,null,{"$f":"'4b - Detailed Results'!BY147","v":true},{"$f":"AND(Summary_Include_Interchange,Summary_Include_DDI)","v":true},{"$f":"IF(AND(AD82,AE82),1,0)","v":1},{"$f":"C82 & IF(ISBLANK(D82),\"\",\" \" & D82)","v":"Diverging Diamond Interchange N-S"},{"$f":"IF(AND(AD82,AE82),W82,1000000)","v":0.24},{"$f":"AH82+0.001*COUNTIF(AH$3:$AI81,AH82)","v":0.24199999999999999},null,{"$f":"SMALL($AH$4:$AH$113,A82)","v":0.46},{"$f":"SMALL($AI$4:$AI$113,A82)","v":0.46},{"$f":"COUNTIF($AP$4:$AP$113,AP82)","v":1},0,{"$f":"AL82+0.00001*AN82","v":0.46},{"$f":"RANK(AO82,$AI$4:$AI$113,1)","v":40},{"$f":"INDEX($AG$4:$AG$113,MATCH(AO82,$AI$4:$AI$113,0))","v":"Traffic Signal"},{"$f":"INDEX($B$4:$B$113,MATCH(AO82,$AI$4:$AI$113,0))","v":1},{"$f":"IF(AR82=1,$AZ$4,IF(AR82=2,$AZ$5,$AZ$6))","v":"(AGI)"},{"$f":"INDEX(S$4:S$113,MATCH($AO82,$AI$4:$AI$113,0))","v":"Good"},{"$f":"INDEX(T$4:T$113,MATCH($AO82,$AI$4:$AI$113,0))","v":"Excellent"},{"$f":"INDEX(U$4:U$113,MATCH($AO82,$AI$4:$AI$113,0))","v":0},{"$f":"INDEX(V$4:V$113,MATCH($AO82,$AI$4:$AI$113,0))","v":0}]
[null,3]
[41,3,"Diverging Diamond Interchange","E-W",null,null,null,null,null,null,null,null,null,null,null,null,null,null,{"$f":"'Multimodal Ped'!GL153","v":"Good"},{"$f":"'Multimodal Bike'!GL153","v":"Excellent"},null,null,{"$f":"'4b - Detailed Results'!BH153","v":0.2},null,null,null,null,null,null,{"$f":"'4b - Detailed Results'!BY149","v":true},{"$f":"AND(Summary_Include_Interchange,Summary_Include_DDI)","v":true},{"$f":"IF(AND(AD84,AE84),1,0)","v":1},{"$f":"C84 & IF(ISBLANK(D84),\"\",\" \" & D84)","v":"Diverging Diamond Interchange E-W"},{"$f":"IF(AND(AD84,AE84),W84,1000000)","v":0.2},{"$f":"AH84+0.001*COUNTIF(AH$3:$AI83,AH84)","v":0.20200000000000001},null,{"$f":"SMALL($AH$4:$AH$113,A84)","v":0.48},{"$f":"SMALL($AI$4:$AI$113,A84)","v":0.48},{"$f":"COUNTIF($AP$4:$AP$113,AP84)","v":1},0,{"$f":"AL84+0.00001*AN84","v":0.48},{"$f":"RANK(AO84,$AI$4:$AI$113,1)","v":41},{"$f":"INDEX($AG$4:$AG$113,MATCH(AO84,$AI$4:$AI$113,0))","v":"Bowtie N-S"},{"$f":"INDEX($B$4:$B$113,MATCH(AO84,$AI$4:$AI$113,0))","v":1},{"$f":"IF(AR84=1,$AZ$4,IF(AR84=2,$AZ$5,$AZ$6))","v":"(AGI)"},{"$f":"INDEX(S$4:S$113,MATCH($AO84,$AI$4:$AI$113,0))","v":"Good"},{"$f":"INDEX(T$4:T$113,MATCH($AO84,$AI$4:$AI$113,0))","v":"Excellent"},{"$f":"INDEX(U$4:U$113,MATCH($AO84,$AI$4:$AI$113,0))","v":0},{"$f":"INDEX(V$4:V$113,MATCH($AO84,$AI$4:$AI$113,0))","v":0}]
[null,3]
[42,3,"Single Point ","N-S",null,null,null,null,null,null,null,null,null,null,null,null,null,null,{"$f":"'Multimodal Ped'!GL155","v":"Good"},{"$f":"'Multimodal Bike'!GL155","v":"Excellent"},null,null,{"$f":"'4b - Detailed Results'!BH155","v":0.23},null,null,null,null,null,null,{"$f":"'4b - Detailed Results'!BY151","v":true},{"$f":"AND(Summary_Include_Interchange,Summary_Include_SPUI)","v":true},{"$f":"IF(AND(AD86,AE86),1,0)","v":1},{"$f":"C86 & IF(ISBLANK(D86),\"\",\" \" & D86)","v":"Single Point  N-S"},{"$f":"IF(AND(AD86,AE86),W86,1000000)","v":0.23},{"$f":"AH86+0.001*COUNTIF(AH$3:$AI85,AH86)","v":0.23300000000000001},null,{"$f":"SMALL($AH$4:$AH$113,A86)","v":0.49},{"$f":"SMALL($AI$4:$AI$113,A86)","v":0.49},{"$f":"COUNTIF($AP$4:$AP$113,AP86)","v":1},0,{"$f":"AL86+0.00001*AN86","v":0.49},{"$f":"RANK(AO86,$AI$4:$AI$113,1)","v":42},{"$f":"INDEX($AG$4:$AG$113,MATCH(AO86,$AI$4:$AI$113,0))","v":"Split Intersection E-W"},{"$f":"INDEX($B$4:$B$113,MATCH(AO86,$AI$4:$AI$113,0))","v":1},{"$f":"IF(AR86=1,$AZ$4,IF(AR86=2,$AZ$5,$AZ$6))","v":"(AGI)"},{"$f":"INDEX(S$4:S$113,MATCH($AO86,$AI$4:$AI$113,0))","v":"Good"},{"$f":"INDEX(T$4:T$113,MATCH($AO86,$AI$4:$AI$113,0))","v":"Excellent"},{"$f":"INDEX(U$4:U$113,MATCH($AO86,$AI$4:$AI$113,0))","v":0},{"$f":"INDEX(V$4:V$113,MATCH($AO86,$AI$4:$AI$113,0))","v":0}]
[null,3]
[43,3,"Single Point ","E-W",null,null,null,null,null,null,null,null,null,null,null,null,null,null,{"$f":"'Multimodal Ped'!GL157","v":"Good"},{"$f":"'Multimodal Bike'!GL157","v":"Excellent"},null,null,{"$f":"'4b - Detailed Results'!BH157","v":0.2},null,null,null,null,null,null,{"$f":"'4b - Detailed Results'!BY153","v":true},{"$f":"AND(Summary_Include_Interchange,Summary_Include_SPUI)","v":true},{"$f":"IF(AND(AD88,AE88),1,0)","v":1},{"$f":"C88 & IF(ISBLANK(D88),\"\",\" \" & D88)","v":"Single Point  E-W"},{"$f":"IF(AND(AD88,AE88),W88,1000000)","v":0.2},{"$f":"AH88+0.001*COUNTIF(AH$3:$AI87,AH88)","v":0.20300000000000001},null,{"$f":"SMALL($AH$4:$AH$113,A88)","v":0.58924366590961619},{"$f":"SMALL($AI$4:$AI$113,A88)","v":0.58924366590961619},{"$f":"COUNTIF($AP$4:$AP$113,AP88)","v":1},0,{"$f":"AL88+0.00001*AN88","v":0.58924366590961619},{"$f":"RANK(AO88,$AI$4:$AI$113,1)","v":43},{"$f":"INDEX($C$4:$C$113,MATCH(AO88,$AI$4:$AI$113,0))","v":"Unsignalized Restricted Crossing U-Turn"},{"$f":"INDEX($B$4:$B$113,MATCH(AO88,$AI$4:$AI$113,0))","v":1},{"$f":"IF(AR88=1,$AZ$4,IF(AR88=2,$AZ$5,$AZ$6))","v":"(AGI)"},{"$f":"INDEX(S$4:S$113,MATCH($AO88,$AI$4:$AI$113,0))","v":"Good"},{"$f":"INDEX(T$4:T$113,MATCH($AO88,$AI$4:$AI$113,0))","v":"Excellent"},{"$f":"INDEX(U$4:U$113,MATCH($AO88,$AI$4:$AI$113,0))","v":0},{"$f":"INDEX(V$4:V$113,MATCH($AO88,$AI$4:$AI$113,0))","v":0}]
[null,3]
[44,1,"Bowtie","N-S",null,null,null,null,null,null,null,null,null,null,null,null,null,null,{"$f":"'Multimodal Ped'!GL72","v":"Good"},{"$f":"'Multimodal Bike'!GL72","v":"Excellent"},null,null,{"$f":"'4b - Detailed Results'!BH72","v":0.48},null,null,null,null,null,null,{"$f":"'4b - Detailed Results'!BY72","v":true},{"$f":"AND(Summary_Include_AGI,Summary_Include_Bowtie)","v":true},{"$f":"IF(AND(AD90,AE90),1,0)","v":1},{"$f":"C90 & IF(ISBLANK(D90),\"\",\" \" & D90)","v":"Bowtie N-S"},{"$f":"IF(AND(AD90,AE90),W90,1000000)","v":0.48},{"$f":"AH90+0.001*COUNTIF(AH$3:$AI89,AH90)","v":0.48},null,{"$f":"SMALL($AH$4:$AH$113,A90)","v":0.62990615992748222},{"$f":"SMALL($AI$4:$AI$113,A90)","v":0.62990615992748222},{"$f":"COUNTIF($AP$4:$AP$113,AP90)","v":1},{"$f":"IF(AL90=AL88,AN88+1,0)","v":0},{"$f":"AL90+0.00001*AN90","v":0.62990615992748222},{"$f":"RANK(AO90,$AI$4:$AI$113,1)","v":44},{"$f":"INDEX($C$4:$C$113,MATCH(AO90,$AI$4:$AI$113,0))","v":"Bowtie"},{"$f":"INDEX($B$4:$B$113,MATCH(AO90,$AI$4:$AI$113,0))","v":1},{"$f":"IF(AR90=1,$AZ$4,IF(AR90=2,$AZ$5,$AZ$6))","v":"(AGI)"},{"$f":"INDEX(S$4:S$113,MATCH($AO90,$AI$4:$AI$113,0))","v":"Good"},{"$f":"INDEX(T$4:T$113,MATCH($AO90,$AI$4:$AI$113,0))","v":"Excellent"},{"$f":"INDEX(U$4:U$113,MATCH($AO90,$AI$4:$AI$113,0))","v":0},{"$f":"INDEX(V$4:V$113,MATCH($AO90,$AI$4:$AI$113,0))","v":0}]
[null,1]
[45,1,"Bowtie","E-W",null,null,null,null,null,null,null,null,null,null,null,null,null,null,{"$f":"'Multimodal Ped'!GL74","v":"Good"},{"$f":"'Multimodal Bike'!GL74","v":"Excellent"},null,null,{"$f":"'4b - Detailed Results'!BH74","v":0.62990615992748222},null,null,null,null,null,null,{"$f":"'4b - Detailed Results'!BY74","v":true},{"$f":"AND(Summary_Include_AGI,Summary_Include_Bowtie)","v":true},{"$f":"IF(AND(AD92,AE92),1,0)","v":1},{"$f":"C92 & IF(ISBLANK(D92),\"\",\" \" & D92)","v":"Bowtie E-W"},{"$f":"IF(AND(AD92,AE92),W92,1000000)","v":0.62990615992748222},{"$f":"AH92+0.001*COUNTIF(AH$3:$AI91,AH92)","v":0.62990615992748222},null,{"$f":"SMALL($AH$4:$AH$113,A92)","v":0.7},{"$f":"SMALL($AI$4:$AI$113,A92)","v":0.7},{"$f":"COUNTIF($AP$4:$AP$113,AP92)","v":1},{"$f":"IF(AL92=AL90,AN90+1,0)","v":0},{"$f":"AL92+0.00001*AN92","v":0.7},{"$f":"RANK(AO92,$AI$4:$AI$113,1)","v":45},{"$f":"INDEX($C$4:$C$113,MATCH(AO92,$AI$4:$AI$113,0))","v":"Signalized Restricted Crossing U-Turn"},{"$f":"INDEX($B$4:$B$113,MATCH(AO92,$AI$4:$AI$113,0))","v":1},{"$f":"IF(AR92=1,$AZ$4,IF(AR92=2,$AZ$5,$AZ$6))","v":"(AGI)"},{"$f":"INDEX(S$4:S$113,MATCH($AO92,$AI$4:$AI$113,0))","v":"Good"},{"$f":"INDEX(T$4:T$113,MATCH($AO92,$AI$4:$AI$113,0))","v":"Excellent"},{"$f":"INDEX(U$4:U$113,MATCH($AO92,$AI$4:$AI$113,0))","v":0},{"$f":"INDEX(V$4:V$113,MATCH($AO92,$AI$4:$AI$113,0))","v":0}]
[null,1]
[46,1,"Split Intersection","N-S",null,null,null,null,null,null,null,null,null,null,null,null,null,null,{"$f":"'Multimodal Ped'!GL76","v":"Good"},{"$f":"'Multimodal Bike'!GL76","v":"Excellent"},null,null,{"$f":"'4b - Detailed Results'!BH76","v":0.44},null,null,null,null,null,null,{"$f":"'4b - Detailed Results'!BY76","v":true},{"$f":"AND(Summary_Include_AGI,Summary_Include_SplitIntx)","v":true},{"$f":"IF(AND(AD94,AE94),1,0)","v":1},{"$f":"C94 & IF(ISBLANK(D94),\"\",\" \" & D94)","v":"Split Intersection N-S"},{"$f":"IF(AND(AD94,AE94),W94,1000000)","v":0.44},{"$f":"AH94+0.001*COUNTIF(AH$3:$AI93,AH94)","v":0.44},null,{"$f":"SMALL($AH$4:$AH$113,A94)","v":0.72043664771552562},{"$f":"SMALL($AI$4:$AI$113,A94)","v":0.72043664771552562},{"$f":"COUNTIF($AP$4:$AP$113,AP94)","v":1},0,{"$f":"AL94+0.00001*AN94","v":0.72043664771552562},{"$f":"RANK(AO94,$AI$4:$AI$113,1)","v":46},{"$f":"INDEX($C$4:$C$113,MATCH(AO94,$AI$4:$AI$113,0))","v":"1NS X 2EW Roundabout"},{"$f":"INDEX($B$4:$B$113,MATCH(AO94,$AI$4:$AI$113,0))","v":2},{"$f":"IF(AR94=1,$AZ$4,IF(AR94=2,$AZ$5,$AZ$6))","v":"(RAB)"},{"$f":"INDEX(S$4:S$113,MATCH($AO94,$AI$4:$AI$113,0))","v":"Good"},{"$f":"INDEX(T$4:T$113,MATCH($AO94,$AI$4:$AI$113,0))","v":"Excellent"},{"$f":"INDEX(U$4:U$113,MATCH($AO94,$AI$4:$AI$113,0))","v":0},{"$f":"INDEX(V$4:V$113,MATCH($AO94,$AI$4:$AI$113,0))","v":0}]
[null,1]
[47,1,"Split Intersection","E-W",null,null,null,null,null,null,null,null,null,null,null,null,null,null,{"$f":"'Multimodal Ped'!GL78","v":"Good"},{"$f":"'Multimodal Bike'!GL78","v":"Excellent"},null,null,{"$f":"'4b - Detailed Results'!BH78","v":0.49},null,null,null,null,null,null,{"$f":"'4b - Detailed Results'!BY78","v":true},{"$f":"AND(Summary_Include_AGI,Summary_Include_SplitIntx)","v":true},{"$f":"IF(AND(AD96,AE96),1,0)","v":1},{"$f":"C96 & IF(ISBLANK(D96),\"\",\" \" & D96)","v":"Split Intersection E-W"},{"$f":"IF(AND(AD96,AE96),W96,1000000)","v":0.49},{"$f":"AH96+0.001*COUNTIF(AH$3:$AI95,AH96)","v":0.49},null,{"$f":"SMALL($AH$4:$AH$113,A96)","v":0.77561080606526822},{"$f":"SMALL($AI$4:$AI$113,A96)","v":0.77561080606526822},{"$f":"COUNTIF($AP$4:$AP$113,AP96)","v":1},0,{"$f":"AL96+0.00001*AN96","v":0.77561080606526822},{"$f":"RANK(AO96,$AI$4:$AI$113,1)","v":47},{"$f":"INDEX($C$4:$C$113,MATCH(AO96,$AI$4:$AI$113,0))","v":"1 X 1 Roundabout"},{"$f":"INDEX($B$4:$B$113,MATCH(AO96,$AI$4:$AI$113,0))","v":2},{"$f":"IF(AR96=1,$AZ$4,IF(AR96=2,$AZ$5,$AZ$6))","v":"(RAB)"},{"$f":"INDEX(S$4:S$113,MATCH($AO96,$AI$4:$AI$113,0))","v":"Excellent"},{"$f":"INDEX(T$4:T$113,MATCH($AO96,$AI$4:$AI$113,0))","v":"Excellent"},{"$f":"INDEX(U$4:U$113,MATCH($AO96,$AI$4:$AI$113,0))","v":0},{"$f":"INDEX(V$4:V$113,MATCH($AO96,$AI$4:$AI$113,0))","v":0}]
[null,1]
[48,1,"Echelon","N-S",null,null,null,null,null,null,null,null,null,null,null,null,null,null,{"$f":"'Multimodal Ped'!GL87","v":"Good"},{"$f":"'Multimodal Bike'!GL87","v":"Good"},null,null,{"$f":"'4b - Detailed Results'!BH87","v":0.2},null,null,null,null,null,null,{"$f":"'4b - Detailed Results'!BY87","v":true},{"$f":"AND(Summary_Include_GSIntx,Summary_Include_Echelon)","v":true},{"$f":"IF(AND(AD98,AE98),1,0)","v":1},{"$f":"C98 & IF(ISBLANK(D98),\"\",\" \" & D98)","v":"Echelon N-S"},{"$f":"IF(AND(AD98,AE98),W98,1000000)","v":0.2},{"$f":"AH98+0.001*COUNTIF(AH$3:$AI97,AH98)","v":0.20400000000000001},null,{"$f":"SMALL($AH$4:$AH$113,A98)","v":1.0260914534790657},{"$f":"SMALL($AI$4:$AI$113,A98)","v":1.0260914534790657},{"$f":"COUNTIF($AP$4:$AP$113,AP98)","v":1},0,{"$f":"AL98+0.00001*AN98","v":1.0260914534790657},{"$f":"RANK(AO98,$AI$4:$AI$113,1)","v":48},{"$f":"INDEX($C$4:$C$113,MATCH(AO98,$AI$4:$AI$113,0))","v":"75 ICD"},{"$f":"INDEX($B$4:$B$113,MATCH(AO98,$AI$4:$AI$113,0))","v":2},{"$f":"IF(AR98=1,$AZ$4,IF(AR98=2,$AZ$5,$AZ$6))","v":"(RAB)"},{"$f":"INDEX(S$4:S$113,MATCH($AO98,$AI$4:$AI$113,0))","v":"Excellent"},{"$f":"INDEX(T$4:T$113,MATCH($AO98,$AI$4:$AI$113,0))","v":"Good"},{"$f":"INDEX(U$4:U$113,MATCH($AO98,$AI$4:$AI$113,0))","v":0},{"$f":"INDEX(V$4:V$113,MATCH($AO98,$AI$4:$AI$113,0))","v":0}]
[null,1]
[49,1,"Echelon","E-W",null,null,null,null,null,null,null,null,null,null,null,null,null,null,{"$f":"'Multimodal Ped'!GL89","v":"Good"},{"$f":"'Multimodal Bike'!GL89","v":"Good"},null,null,{"$f":"'4b - Detailed Results'!BH89","v":0.2},null,null,null,null,null,null,{"$f":"'4b - Detailed Results'!BY89","v":true},{"$f":"AND(Summary_Include_GSIntx,Summary_Include_Echelon)","v":true},{"$f":"IF(AND(AD100,AE100),1,0)","v":1},{"$f":"C100 & IF(ISBLANK(D100),\"\",\" \" & D100)","v":"Echelon E-W"},{"$f":"IF(AND(AD100,AE100),W100,1000000)","v":0.2},{"$f":"AH100+0.001*COUNTIF(AH$3:$AI99,AH100)","v":0.20500000000000002},null,{"$f":"SMALL($AH$4:$AH$113,A100)","v":1.0639288231617303},{"$f":"SMALL($AI$4:$AI$113,A100)","v":1.0639288231617303},{"$f":"COUNTIF($AP$4:$AP$113,AP100)","v":1},0,{"$f":"AL100+0.00001*AN100","v":1.0639288231617303},{"$f":"RANK(AO100,$AI$4:$AI$113,1)","v":49},{"$f":"INDEX($C$4:$C$113,MATCH(AO100,$AI$4:$AI$113,0))","v":"50 ICD"},{"$f":"INDEX($B$4:$B$113,MATCH(AO100,$AI$4:$AI$113,0))","v":2},{"$f":"IF(AR100=1,$AZ$4,IF(AR100=2,$AZ$5,$AZ$6))","v":"(RAB)"},{"$f":"INDEX(S$4:S$113,MATCH($AO100,$AI$4:$AI$113,0))","v":"Excellent"},{"$f":"INDEX(T$4:T$113,MATCH($AO100,$AI$4:$AI$113,0))","v":"Good"},{"$f":"INDEX(U$4:U$113,MATCH($AO100,$AI$4:$AI$113,0))","v":0},{"$f":"INDEX(V$4:V$113,MATCH($AO100,$AI$4:$AI$113,0))","v":0}]
[null,1]
[50,1,"Center Turn Overpass",null,null,null,null,null,null,null,null,null,null,null,null,null,null,null,{"$f":"'Multimodal Ped'!GL91","v":"Good"},{"$f":"'Multimodal Bike'!GL91","v":"Excellent"},null,null,{"$f":"'4b - Detailed Results'!BH91","v":0.2},null,null,null,null,null,null,{"$f":"'4b - Detailed Results'!BY91","v":true},{"$f":"AND(Summary_Include_GSIntx,Summary_Include_CTO)","v":true},{"$f":"IF(AND(AD102,AE102),1,0)","v":1},{"$f":"C102 & IF(ISBLANK(D102),\"\",\" \" & D102)","v":"Center Turn Overpass"},{"$f":"IF(AND(AD102,AE102),W102,1000000)","v":0.2},{"$f":"AH102+0.001*COUNTIF(AH$3:$AI101,AH102)","v":0.20600000000000002},null,{"$f":"SMALL($AH$4:$AH$113,A102)","v":1.0642953494101834},{"$f":"SMALL($AI$4:$AI$113,A102)","v":1.0642953494101834},{"$f":"COUNTIF($AP$4:$AP$113,AP102)","v":1},0,{"$f":"AL102+0.00001*AN102","v":1.0642953494101834},{"$f":"RANK(AO102,$AI$4:$AI$113,1)","v":50},{"$f":"INDEX($C$4:$C$113,MATCH(AO102,$AI$4:$AI$113,0))","v":"Unsignalized Restricted Crossing U-Turn"},{"$f":"INDEX($B$4:$B$113,MATCH(AO102,$AI$4:$AI$113,0))","v":1},{"$f":"IF(AR102=1,$AZ$4,IF(AR102=2,$AZ$5,$AZ$6))","v":"(AGI)"},{"$f":"INDEX(S$4:S$113,MATCH($AO102,$AI$4:$AI$113,0))","v":"Good"},{"$f":"INDEX(T$4:T$113,MATCH($AO102,$AI$4:$AI$113,0))","v":"Excellent"},{"$f":"INDEX(U$4:U$113,MATCH($AO102,$AI$4:$AI$113,0))","v":0},{"$f":"INDEX(V$4:V$113,MATCH($AO102,$AI$4:$AI$113,0))","v":0}]
[null,1]
[51,1,"Center Turn Overpass","E-W",null,null,null,null,null,null,null,null,null,null,null,null,null,null,"NA","NA",null,null,100000,null,null,null,null,null,null,false,false,{"$f":"IF(AND(AD104,AE104),1,0)","v":0},{"$f":"C104 & IF(ISBLANK(D104),\"\",\" \" & D104)","v":"Center Turn Overpass E-W"},{"$f":"IF(AND(AD104,AE104),W104,1000000)","v":1000000},{"$f":"AH104+0.001*COUNTIF(AH$3:$AI103,AH104)","v":1000000.002},null,{"$f":"SMALL($AH$4:$AH$113,A104)","v":1.261768977408358},{"$f":"SMALL($AI$4:$AI$113,A104)","v":1.261768977408358},{"$f":"COUNTIF($AP$4:$AP$113,AP104)","v":1},0,{"$f":"AL104+0.00001*AN104","v":1.261768977408358},{"$f":"RANK(AO104,$AI$4:$AI$113,1)","v":51},{"$f":"INDEX($C$4:$C$113,MATCH(AO104,$AI$4:$AI$113,0))","v":"Two-Way Stop Control"},{"$f":"INDEX($B$4:$B$113,MATCH(AO104,$AI$4:$AI$113,0))","v":1},{"$f":"IF(AR104=1,$AZ$4,IF(AR104=2,$AZ$5,$AZ$6))","v":"(AGI)"},{"$f":"INDEX(S$4:S$113,MATCH($AO104,$AI$4:$AI$113,0))","v":"Fair"},{"$f":"INDEX(T$4:T$113,MATCH($AO104,$AI$4:$AI$113,0))","v":"Good"},{"$f":"INDEX(U$4:U$113,MATCH($AO104,$AI$4:$AI$113,0))","v":0},{"$f":"INDEX(V$4:V$113,MATCH($AO104,$AI$4:$AI$113,0))","v":0}]
[null,1]
[52,3,"Contraflow Left Interchange","N-S",null,null,null,null,null,null,null,null,null,null,null,null,null,null,{"$f":"'Multimodal Ped'!GL147","v":"Good"},{"$f":"'Multimodal Bike'!GL147","v":"Excellent"},null,null,{"$f":"'4b - Detailed Results'!BH147","v":0.2},null,null,null,null,null,null,{"$f":"'4b - Detailed Results'!BY155","v":true},{"$f":"AND(Summary_Include_Interchange,Summary_Include_CLI)","v":true},{"$f":"IF(AND(AD106,AE106),1,0)","v":1},{"$f":"C106 & IF(ISBLANK(D106),\"\",\" \" & D106)","v":"Contraflow Left Interchange N-S"},{"$f":"IF(AND(AD106,AE106),W106,1000000)","v":0.2},{"$f":"AH106+0.001*COUNTIF(AH$3:$AI105,AH106)","v":0.20700000000000002},null,{"$f":"SMALL($AH$4:$AH$113,A106)","v":1.31},{"$f":"SMALL($AI$4:$AI$113,A106)","v":1.31},{"$f":"COUNTIF($AP$4:$AP$113,AP106)","v":1},0,{"$f":"AL106+0.00001*AN106","v":1.31},{"$f":"RANK(AO106,$AI$4:$AI$113,1)","v":52},{"$f":"INDEX($C$4:$C$113,MATCH(AO106,$AI$4:$AI$113,0))","v":"All-Way Stop Control"},{"$f":"INDEX($B$4:$B$113,MATCH(AO106,$AI$4:$AI$113,0))","v":1},{"$f":"IF(AR106=1,$AZ$4,IF(AR106=2,$AZ$5,$AZ$6))","v":"(AGI)"},{"$f":"INDEX(S$4:S$113,MATCH($AO106,$AI$4:$AI$113,0))","v":"Good"},{"$f":"INDEX(T$4:T$113,MATCH($AO106,$AI$4:$AI$113,0))","v":"Excellent"},{"$f":"INDEX(U$4:U$113,MATCH($AO106,$AI$4:$AI$113,0))","v":0},{"$f":"INDEX(V$4:V$113,MATCH($AO106,$AI$4:$AI$113,0))","v":0}]
[null,3]
[53,3,"Contraflow Left Interchange","E-W",null,null,null,null,null,null,null,null,null,null,null,null,null,null,{"$f":"'Multimodal Ped'!GL149","v":"Good"},{"$f":"'Multimodal Bike'!GL149","v":"Excellent"},null,null,{"$f":"'4b - Detailed Results'!BH149","v":0.21},null,null,null,null,null,null,{"$f":"'4b - Detailed Results'!BY157","v":true},{"$f":"AND(Summary_Include_Interchange,Summary_Include_CLI)","v":true},{"$f":"IF(AND(AD108,AE108),1,0)","v":1},{"$f":"C108 & IF(ISBLANK(D108),\"\",\" \" & D108)","v":"Contraflow Left Interchange E-W"},{"$f":"IF(AND(AD108,AE108),W108,1000000)","v":0.21},{"$f":"AH108+0.001*COUNTIF(AH$3:$AI107,AH108)","v":0.21},null,{"$f":"SMALL($AH$4:$AH$113,A108)","v":15.849681734685804},{"$f":"SMALL($AI$4:$AI$113,A108)","v":15.849681734685804},{"$f":"COUNTIF($AP$4:$AP$113,AP108)","v":1},0,{"$f":"AL108+0.00001*AN108","v":15.849681734685804},{"$f":"RANK(AO108,$AI$4:$AI$113,1)","v":53},{"$f":"INDEX($C$4:$C$113,MATCH(AO108,$AI$4:$AI$113,0))","v":"Two-Way Stop Control"},{"$f":"INDEX($B$4:$B$113,MATCH(AO108,$AI$4:$AI$113,0))","v":1},{"$f":"IF(AR108=1,$AZ$4,IF(AR108=2,$AZ$5,$AZ$6))","v":"(AGI)"},{"$f":"INDEX(S$4:S$113,MATCH($AO108,$AI$4:$AI$113,0))","v":"Fair"},{"$f":"INDEX(T$4:T$113,MATCH($AO108,$AI$4:$AI$113,0))","v":"Good"},{"$f":"INDEX(U$4:U$113,MATCH($AO108,$AI$4:$AI$113,0))","v":0},{"$f":"INDEX(V$4:V$113,MATCH($AO108,$AI$4:$AI$113,0))","v":0}]
[null,3]
[54,3,"Singe Point Diamond w/ RAB","N-S",null,null,null,null,null,null,null,null,null,null,null,null,null,null,{"$f":"'Multimodal Ped'!GL159","v":"Good"},{"$f":"'Multimodal Bike'!GL159","v":"Excellent"},null,null,{"$f":"'4b - Detailed Results'!BH159","v":0.45600118623299835},null,null,null,null,null,null,{"$f":"'4b - Detailed Results'!BY159","v":true},{"$f":"AND(Summary_Include_Interchange,Summary_Include_SPIRAB)","v":true},{"$f":"IF(AND(AD110,AE110),1,0)","v":1},{"$f":"C110 & IF(ISBLANK(D110),\"\",\" \" & D110)","v":"Singe Point Diamond w/ RAB N-S"},{"$f":"IF(AND(AD110,AE110),W110,1000000)","v":0.45600118623299835},{"$f":"AH110+0.001*COUNTIF(AH$3:$AI109,AH110)","v":0.45600118623299835},null,{"$f":"SMALL($AH$4:$AH$113,A110)","v":1000000},{"$f":"SMALL($AI$4:$AI$113,A110)","v":1000000},{"$f":"COUNTIF($AP$4:$AP$113,AP110)","v":1},0,{"$f":"AL110+0.00001*AN110","v":1000000},{"$f":"RANK(AO110,$AI$4:$AI$113,1)","v":54},{"$f":"INDEX($C$4:$C$113,MATCH(AO110,$AI$4:$AI$113,0))","v":"Conventional Shared RT LN"},{"$f":"INDEX($B$4:$B$113,MATCH(AO110,$AI$4:$AI$113,0))","v":1},{"$f":"IF(AR110=1,$AZ$4,IF(AR110=2,$AZ$5,$AZ$6))","v":"(AGI)"},{"$f":"INDEX(S$4:S$113,MATCH($AO110,$AI$4:$AI$113,0))","v":"Excellent"},{"$f":"INDEX(T$4:T$113,MATCH($AO110,$AI$4:$AI$113,0))","v":"Excellent"},{"$f":"INDEX(U$4:U$113,MATCH($AO110,$AI$4:$AI$113,0))","v":0},{"$f":"INDEX(V$4:V$113,MATCH($AO110,$AI$4:$AI$113,0))","v":0}]
[null,3]
[55,3,"Singe Point Diamond w/ RAB","E-W",null,null,null,null,null,null,null,null,null,null,null,null,null,null,{"$f":"'Multimodal Ped'!GL161","v":"Good"},{"$f":"'Multimodal Bike'!GL161","v":"Excellent"},null,null,{"$f":"'4b - Detailed Results'!BH161","v":0.29085405227447558},null,null,null,null,null,null,{"$f":"'4b - Detailed Results'!BY161","v":true},{"$f":"AND(Summary_Include_Interchange,Summary_Include_SPIRAB)","v":true},{"$f":"IF(AND(AD112,AE112),1,0)","v":1},{"$f":"C112 & IF(ISBLANK(D112),\"\",\" \" & D112)","v":"Singe Point Diamond w/ RAB E-W"},{"$f":"IF(AND(AD112,AE112),W112,1000000)","v":0.29085405227447558},{"$f":"AH112+0.001*COUNTIF(AH$3:$AI111,AH112)","v":0.29085405227447558},null,{"$f":"SMALL($AH$4:$AH$113,A112)","v":1000000},{"$f":"SMALL($AI$4:$AI$113,A112)","v":1000000.002},{"$f":"COUNTIF($AP$4:$AP$113,AP112)","v":1},0,{"$f":"AL112+0.00001*AN112","v":1000000.002},{"$f":"RANK(AO112,$AI$4:$AI$113,1)","v":55},{"$f":"INDEX($C$4:$C$113,MATCH(AO112,$AI$4:$AI$113,0))","v":"Center Turn Overpass"},{"$f":"INDEX($B$4:$B$113,MATCH(AO112,$AI$4:$AI$113,0))","v":1},{"$f":"IF(AR112=1,$AZ$4,IF(AR112=2,$AZ$5,$AZ$6))","v":"(AGI)"},{"$f":"INDEX(S$4:S$113,MATCH($AO112,$AI$4:$AI$113,0))","v":"NA"},{"$f":"INDEX(T$4:T$113,MATCH($AO112,$AI$4:$AI$113,0))","v":"NA"},{"$f":"INDEX(U$4:U$113,MATCH($AO112,$AI$4:$AI$113,0))","v":0},{"$f":"INDEX(V$4:V$113,MATCH($AO112,$AI$4:$AI$113,0))","v":0}]
[null,3]
[]
[]
[]
[]
[]
[]
[]
[]
[]
[]
[null,null,null,null,null,null,null,null,null,null,null,null,null,null,null,null,null,null,null,null,null,null,null,null,null,null,null,null,null,null,null,{"$f":"SUM(AF4:AF123)","v":53},"<- Used for Summary Ranking Bar Conditional Formatting"]

{"sheet":"5a - Summary Report","index":12,"n_rows":89,"n_cols":72,"rows_kept":89,"cut":false,"hidden":false,"merged":[[66,47,69,58],[66,59,69,71],[70,47,71,58],[72,47,73,58],[74,47,75,58],[76,47,77,58],[78,47,79,58],[80,47,81,58],[82,47,83,58],[88,6,89,33],[66,41,69,46],[70,41,71,46],[72,41,73,46],[74,41,75,46],[76,41,77,46],[78,41,79,46],[80,41,81,46],[82,41,83,46],[84,41,85,46],[86,41,87,46],[88,41,89,46],[70,6,71,33],[72,6,73,33],[74,6,75,33],[76,6,77,33],[66,34,69,40],[66,6,69,33],[70,34,71,40],[88,34,89,40],[84,34,85,40],[82,34,83,40],[80,34,81,40],[76,34,77,40],[12,16,13,32],[12,33,13,69],[14,16,15,32],[14,33,15,69],[30,62,31,69],[32,16,33,21],[32,22,33,29],[32,30,33,37],[32,38,33,45],[32,46,33,53],[32,54,33,61],[32,62,33,69],[30,16,31,21],[30,22,31,29],[30,30,31,37],[30,38,31,45],[30,46,31,53],[30,54,31,61],[0,1,1,78],[2,1,3,78],[24,54,29,61],[24,62,29,69],[26,22,29,29],[26,30,29,37],[26,38,29,45],[26,46,29,53],[16,16,17,32],[16,33,17,69],[20,16,21,69],[22,16,29,21],[22,22,23,53],[22,54,23,69],[24,22,25,29],[24,30,25,37],[24,38,25,45],[24,46,25,53],[6,16,7,32],[6,33,7,69],[8,16,9,32],[8,33,9,69],[10,16,11,32],[10,33,11,69],[34,62,35,69],[36,16,37,21],[36,22,37,29],[36,30,37,37],[36,38,37,45],[36,46,37,53],[36,54,37,61],[36,62,37,69],[34,16,35,21],[34,22,35,29],[34,30,35,37],[34,38,35,45],[34,46,35,53],[34,54,35,61],[38,62,39,69],[40,16,41,21],[40,22,41,29],[40,30,41,37],[40,38,41,45],[40,46,41,53],[40,54,41,61],[40,62,41,69],[38,16,39,21],[38,22,39,29],[38,30,39,37],[38,38,39,45],[38,46,39,53],[38,54,39,61],[42,16,43,45],[42,46,43,57],[42,58,43,69],[44,16,45,33],[44,34,45,69],[46,16,47,33],[46,34,47,45],[46,46,47,57],[46,58,47,69],[54,58,55,69],[58,1,59,78],[60,1,61,78],[48,16,49,33],[48,34,49,45],[48,46,49,57],[48,58,49,69],[50,58,51,69],[52,58,53,69],[50,16,55,25],[50,26,51,33],[50,34,51,57],[52,26,53,33],[52,34,53,57],[54,26,55,33],[54,34,55,57],[72,34,73,40],[74,34,75,40],[86,34,87,40],[78,34,79,40],[78,6,79,33],[80,6,81,33],[82,6,83,33],[84,6,85,33],[86,6,87,33],[88,47,89,58],[70,59,71,71],[72,59,73,71],[74,59,75,71],[76,59,77,71],[78,59,79,71],[80,59,81,71],[82,59,83,71],[84,59,85,71],[86,59,87,71],[88,59,89,71],[84,47,85,58],[86,47,87,58]]}
[null,"Capacity Analysis for Planning of Junctions"]
[]
[null,"Summary Report"]
[]
[]
[]
[null,null,null,null,null,null,null,null,null,null,null,null,null,null,null,null,"Project Name:",null,null,null,null,null,null,null,null,null,null,null,null,null,null,null,null,{"$f":"P_Name","v":"Cap-X Sample Street"}]
[]
[null,null,null,null,null,null,null,null,null,null,null,null,null,null,null,null,"Project Number:",null,null,null,null,null,null,null,null,null,null,null,null,null,null,null,null,{"$f":"P_Number","v":10000}]
[]
[null,null,null,null,null,null,null,null,null,null,null,null,null,null,null,null,"Location:",null,null,null,null,null,null,null,null,null,null,null,null,null,null,null,null,{"$f":"Location","v":"Anywhere, USA"}]
[]
[null,null,null,null,null,null,null,null,null,null,null,null,null,null,null,null,"Date:",null,null,null,null,null,null,null,null,null,null,null,null,null,null,null,null,{"$f":"Date","v":"2017 AM"}]
[]
[null,null,null,null,null,null,null,null,null,null,null,null,null,null,null,null,"Number of Intersection Legs:",null,null,null,null,null,null,null,null,null,null,null,null,null,null,null,null,{"$f":"IF(Input_NumLegs=0,\"\",Input_NumLegs)","v":""}]
[]
[null,null,null,null,null,null,null,null,null,null,null,null,null,null,null,null,{"$f":"'2 - Base and Alt Sel'!D14","v":"Major Street Direction"},null,null,null,null,null,null,null,null,null,null,null,null,null,null,null,null,{"$f":"'2 - Base and Alt Sel'!L14","v":"North-South"}]
[]
[]
[]
[null,null,null,null,null,null,null,null,null,null,null,null,null,null,null,null,"Traffic Volume Demand"]
[]
[null,null,null,null,null,null,null,null,null,null,null,null,null,null,null,null,null,null,null,null,null,null,"Volume (Veh/hr)",null,null,null,null,null,null,null,null,null,null,null,null,null,null,null,null,null,null,null,null,null,null,null,null,null,null,null,null,null,null,null,"Percent (%)"]
[]
[null,null,null,null,null,null,null,null,null,null,null,null,null,null,null,null,null,null,null,null,null,null,"U-Turn",null,null,null,null,null,null,null,"Left",null,null,null,null,null,null,null,"Thru",null,null,null,null,null,null,null,"Right",null,null,null,null,null,null,null,"Heavy Vehicles",null,null,null,null,null,null,null,"Volume Growth"]
[]
[]
[]
[]
[]
[null,null,null,null,null,null,null,null,null,null,null,null,null,null,null,null,"Eastbound",null,null,null,null,null,{"$f":"'1 - Volume Input'!K32","v":0},null,null,null,null,null,null,null,{"$f":"'1 - Volume Input'!S32","v":30},null,null,null,null,null,null,null,{"$f":"'1 - Volume Input'!AA32","v":200},null,null,null,null,null,null,null,{"$f":"'1 - Volume Input'!AI32","v":50},null,null,null,null,null,null,null,{"$f":"EB_Truck_Percentage","v":0.02},null,null,null,null,null,null,null,{"$f":"EB_Growth_Factor","v":0}]
[]
[null,null,null,null,null,null,null,null,null,null,null,null,null,null,null,null,"Westbound",null,null,null,null,null,{"$f":"'1 - Volume Input'!K34","v":0},null,null,null,null,null,null,null,{"$f":"'1 - Volume Input'!S34","v":30},null,null,null,null,null,null,null,{"$f":"'1 - Volume Input'!AA34","v":200},null,null,null,null,null,null,null,{"$f":"'1 - Volume Input'!AI34","v":50},null,null,null,null,null,null,null,{"$f":"WB_Truck_Percentage","v":0.02},null,null,null,null,null,null,null,{"$f":"WB_Growth_Factor","v":0}]
[]
[null,null,null,null,null,null,null,null,null,null,null,null,null,null,null,null,"Southbound",null,null,null,null,null,{"$f":"'1 - Volume Input'!K36","v":0},null,null,null,null,null,null,null,{"$f":"'1 - Volume Input'!S36","v":30},null,null,null,null,null,null,null,{"$f":"'1 - Volume Input'!AA36","v":200},null,null,null,null,null,null,null,{"$f":"'1 - Volume Input'!AI36","v":50},null,null,null,null,null,null,null,{"$f":"SB_Truck_Percentage","v":0.02},null,null,null,null,null,null,null,{"$f":"SB_Growth_Factor","v":0}]
[]
[null,null,null,null,null,null,null,null,null,null,null,null,null,null,null,null,"Northbound",null,null,null,null,null,{"$f":"'1 - Volume Input'!K38","v":0},null,null,null,null,null,null,null,{"$f":"'1 - Volume Input'!S38","v":100},null,null,null,null,null,null,null,{"$f":"'1 - Volume Input'!AA38","v":500},null,null,null,null,null,null,null,{"$f":"'1 - Volume Input'!AI38","v":200},null,null,null,null,null,null,null,{"$f":"NB_Truck_Percentage","v":0.02},null,null,null,null,null,null,null,{"$f":"NB_Growth_Factor","v":0}]
[]
[null,null,null,null,null,null,null,null,null,null,null,null,null,null,null,null,"Adjustment Factor",null,null,null,null,null,{"$f":"UTAF","v":0.8},null,null,null,null,null,null,null,{"$f":"LTAF","v":0.95},null,null,null,null,null,null,null,null,null,null,null,null,null,null,null,{"$f":"RTAF","v":0.85}]
[]
[null,null,null,null,null,null,null,null,null,null,null,null,null,null,null,null,"Suggested",null,null,null,null,null,0.8,null,null,null,null,null,null,null,0.95,null,null,null,null,null,null,null,null,null,null,null,null,null,null,null,0.85]
[]
[null,null,null,null,null,null,null,null,null,null,null,null,null,null,null,null,"Truck to PCE Factor ",null,null,null,null,null,null,null,null,null,null,null,null,null,null,null,null,null,null,null,null,null,null,null,null,null,null,null,null,null,"Suggested = 2.00",null,null,null,null,null,null,null,null,null,null,null,{"$f":"'1 - Volume Input'!AU44","v":2}]
[]
[null,null,null,null,null,null,null,null,null,null,null,null,null,null,null,null,"Multimodal Activity Level",null,null,null,null,null,null,null,null,null,null,null,null,null,null,null,null,null,{"$f":"'1 - Volume Input'!W46","v":"Low"}]
[]
[null,null,null,null,null,null,null,null,null,null,null,null,null,null,null,null,"E-W / Crossing East-West Legs",null,null,null,null,null,null,null,null,null,null,null,null,null,null,null,null,null,"Low",null,null,null,null,null,null,null,null,null,null,null,"Low",null,null,null,null,null,null,null,null,null,null,null,"Low"]
[]
[null,null,null,null,null,null,null,null,null,null,null,null,null,null,null,null,"N-S / Crossing North-South Legs",null,null,null,null,null,null,null,null,null,null,null,null,null,null,null,null,null,"Low",null,null,null,null,null,null,null,null,null,null,null,"Low",null,null,null,null,null,null,null,null,null,null,null,"Low"]
[]
[null,null,null,null,null,null,null,null,null,null,null,null,null,null,null,null,"Critical Lane Volume Threshold",null,null,null,null,null,null,null,null,null,"2-phase signal",null,null,null,null,"2-phase signal",null,null,"Suggested = 1800 (Urban), 1650 (Rural)",null,null,null,null,null,null,null,null,null,null,null,"Suggested = 1800",null,null,null,null,null,null,null,null,null,null,null,{"$f":"CLV_Limit_2","v":1800}]
[]
[null,null,null,null,null,null,null,null,null,null,null,null,null,null,null,null,null,null,null,null,null,null,null,null,null,null,"3-phase signal",null,null,null,null,"3-phase signal",null,null,"Suggested = 1750 (Urban), 1600 (Rural)",null,null,null,null,null,null,null,null,null,null,null,"Suggested = 1750",null,null,null,null,null,null,null,null,null,null,null,{"$f":"CLV_Limit_3","v":1750}]
[]
[null,null,null,null,null,null,null,null,null,null,null,null,null,null,null,null,null,null,null,null,null,null,null,null,null,null,"4-phase signal",null,null,null,null,"4-phase signal",null,null,"Suggested = 1700 (Urban), 1550 (Rural)",null,null,null,null,null,null,null,null,null,null,null,"Suggested = 1700",null,null,null,null,null,null,null,null,null,null,null,{"$f":"CLV_Limit_4","v":1700}]
[]
[]
[]
[null,"Capacity Analysis for Planning of Junctions"]
[]
[null,"Summary Report"]
[]
[]
[]
[]
[null,null,null,null,null,null,null,null,null,null,null,null,null,null,null,null,null,null,null,null,null,null,null,null,null,null,null,null,null,null,null,null,null,null,null,null,null,null,null,null,null,null,null,null,null,null,null,null,null,null,null,null,null,null,null,null,null,null,null,13,14,15,16,17,18,19,20,21,22,23,24,25]
[null,null,null,null,null,null,"TYPE OF INTERSECTION",null,null,null,null,null,null,null,null,null,null,null,null,null,null,null,null,null,null,null,null,null,null,null,null,null,null,null,"Overall v/c Ratio ",null,null,null,null,null,null,"V/C Ranking",null,null,null,null,null,"Pedestrian Accommodations",null,null,null,null,null,null,null,null,null,null,null,"Bicycle Accommodations"]
[]
[]
[]
[null,null,null,null,null,null,{"$f":"'4a - Summary Results'!B11","v":"Partial Cloverleaf B E-W"},null,null,null,null,null,null,null,null,null,null,null,null,null,null,null,null,null,null,null,null,null,null,null,null,null,null,null,{"$f":"'4a - Summary Results'!U11","v":0.09},null,null,null,null,null,null,{"$f":"'4a - Summary Results'!AB11","v":1},null,null,null,null,null,{"$f":"'4a - Summary Results'!AJ11","v":"Good"},null,null,null,null,null,null,null,null,null,null,null,{"$f":"'4a - Summary Results'!AR11","v":"Excellent"}]
[]
[null,null,null,null,null,null,{"$f":"'4a - Summary Results'!B13","v":"Continuous Green T N"},null,null,null,null,null,null,null,null,null,null,null,null,null,null,null,null,null,null,null,null,null,null,null,null,null,null,null,{"$f":"'4a - Summary Results'!U13","v":0.1},null,null,null,null,null,null,{"$f":"'4a - Summary Results'!AB13","v":2},null,null,null,null,null,{"$f":"'4a - Summary Results'!AJ13","v":"Good"},null,null,null,null,null,null,null,null,null,null,null,{"$f":"'4a - Summary Results'!AR13","v":"Excellent"}]
[]
[null,null,null,null,null,null,{"$f":"'4a - Summary Results'!B15","v":"Partial Cloverleaf A E-W"},null,null,null,null,null,null,null,null,null,null,null,null,null,null,null,null,null,null,null,null,null,null,null,null,null,null,null,{"$f":"'4a - Summary Results'!U15","v":0.12},null,null,null,null,null,null,{"$f":"'4a - Summary Results'!AB15","v":3},null,null,null,null,null,{"$f":"'4a - Summary Results'!AJ15","v":"Good"},null,null,null,null,null,null,null,null,null,null,null,{"$f":"'4a - Summary Results'!AR15","v":"Excellent"}]
[]
[null,null,null,null,null,null,{"$f":"'4a - Summary Results'!B17","v":"Continuous Green T W"},null,null,null,null,null,null,null,null,null,null,null,null,null,null,null,null,null,null,null,null,null,null,null,null,null,null,null,{"$f":"'4a - Summary Results'!U17","v":0.14000000000000001},null,null,null,null,null,null,{"$f":"'4a - Summary Results'!AB17","v":4},null,null,null,null,null,{"$f":"'4a - Summary Results'!AJ17","v":"Good"},null,null,null,null,null,null,null,null,null,null,null,{"$f":"'4a - Summary Results'!AR17","v":"Excellent"}]
[]
[null,null,null,null,null,null,{"$f":"'4a - Summary Results'!B19","v":"Continuous Green T S"},null,null,null,null,null,null,null,null,null,null,null,null,null,null,null,null,null,null,null,null,null,null,null,null,null,null,null,{"$f":"'4a - Summary Results'!U19","v":0.14000000000000001},null,null,null,null,null,null,{"$f":"'4a - Summary Results'!AB19","v":4},null,null,null,null,null,{"$f":"'4a - Summary Results'!AJ19","v":"Good"},null,null,null,null,null,null,null,null,null,null,null,{"$f":"'4a - Summary Results'!AR19","v":"Excellent"}]
[]
[null,null,null,null,null,null,{"$f":"'4a - Summary Results'!B21","v":"Continuous Green T E"},null,null,null,null,null,null,null,null,null,null,null,null,null,null,null,null,null,null,null,null,null,null,null,null,null,null,null,{"$f":"'4a - Summary Results'!U21","v":0.18},null,null,null,null,null,null,{"$f":"'4a - Summary Results'!AB21","v":6},null,null,null,null,null,{"$f":"'4a - Summary Results'!AJ21","v":"Good"},null,null,null,null,null,null,null,null,null,null,null,{"$f":"'4a - Summary Results'!AR21","v":"Excellent"}]
[]
[null,null,null,null,null,null,{"$f":"'4a - Summary Results'!B23","v":"Partial Cloverleaf A N-S"},null,null,null,null,null,null,null,null,null,null,null,null,null,null,null,null,null,null,null,null,null,null,null,null,null,null,null,{"$f":"'4a - Summary Results'!U23","v":0.19},null,null,null,null,null,null,{"$f":"'4a - Summary Results'!AB23","v":7},null,null,null,null,null,{"$f":"'4a - Summary Results'!AJ23","v":"Good"},null,null,null,null,null,null,null,null,null,null,null,{"$f":"'4a - Summary Results'!AR23","v":"Excellent"}]
[]
[null,null,null,null,null,null,{"$f":"'4a - Summary Results'!B25","v":"Partial Cloverleaf B N-S"},null,null,null,null,null,null,null,null,null,null,null,null,null,null,null,null,null,null,null,null,null,null,null,null,null,null,null,{"$f":"'4a - Summary Results'!U25","v":0.19},null,null,null,null,null,null,{"$f":"'4a - Summary Results'!AB25","v":7},null,null,null,null,null,{"$f":"'4a - Summary Results'!AJ25","v":"Good"},null,null,null,null,null,null,null,null,null,null,null,{"$f":"'4a - Summary Results'!AR25","v":"Excellent"}]
[]
[null,null,null,null,null,null,{"$f":"'4a - Summary Results'!B27","v":"Displaced Left Turn"},null,null,null,null,null,null,null,null,null,null,null,null,null,null,null,null,null,null,null,null,null,null,null,null,null,null,null,{"$f":"'4a - Summary Results'!U27","v":0.2},null,null,null,null,null,null,{"$f":"'4a - Summary Results'!AB27","v":9},null,null,null,null,null,{"$f":"'4a - Summary Results'!AJ27","v":"Good"},null,null,null,null,null,null,null,null,null,null,null,{"$f":"'4a - Summary Results'!AR27","v":"Excellent"}]
[]
[null,null,null,null,null,null,{"$f":"'4a - Summary Results'!B29","v":"Diverging Diamond Interchange E-W"},null,null,null,null,null,null,null,null,null,null,null,null,null,null,null,null,null,null,null,null,null,null,null,null,null,null,null,{"$f":"'4a - Summary Results'!U29","v":0.2},null,null,null,null,null,null,{"$f":"'4a - Summary Results'!AB29","v":9},null,null,null,null,null,{"$f":"'4a - Summary Results'!AJ29","v":"Good"},null,null,null,null,null,null,null,null,null,null,null,{"$f":"'4a - Summary Results'!AR29","v":"Excellent"}]

{"sheet":"5b - Detailed Report","index":13,"n_rows":327,"n_cols":77,"rows_kept":327,"cut":false,"hidden":false,"merged":[[326,70,327,73],[324,4,327,16],[324,17,325,22],[324,23,325,25],[324,26,325,28],[324,29,325,31],[324,32,325,34],[324,35,325,37],[324,38,325,40],[324,41,325,43],[324,44,325,46],[324,47,325,49],[324,50,325,52],[324,53,325,55],[324,56,325,58],[324,59,325,65],[324,66,325,69],[324,70,325,73],[326,17,327,22],[326,23,327,25],[326,26,327,28],[326,29,327,31],[326,32,327,34],[326,35,327,37],[326,38,327,40],[326,41,327,43],[326,44,327,46],[326,47,327,49],[326,50,327,52],[326,53,327,55],[326,56,327,58],[326,59,327,65],[326,66,327,69],[259,74,260,75],[312,4,315,16],[312,17,313,22],[312,23,313,25],[312,26,313,28],[312,29,313,31],[312,32,313,34],[312,35,313,37],[312,38,313,40],[312,41,313,43],[312,44,313,46],[312,47,313,49],[312,50,313,52],[312,53,313,55],[312,56,313,58],[312,59,313,65],[312,66,313,69],[312,70,313,73],[314,17,315,22],[314,23,315,25],[314,26,315,28],[314,29,315,31],[314,32,315,34],[314,35,315,37],[314,38,315,40],[314,41,315,43],[314,44,315,46],[314,47,315,49],[314,50,315,52],[314,53,315,55],[314,56,315,58],[259,4,260,16],[259,17,260,22],[259,23,260,25],[259,26,260,28],[259,29,260,31],[259,32,260,34],[259,35,260,37],[259,38,260,40],[259,41,260,43],[259,44,260,46],[259,47,260,49],[259,50,260,52],[259,53,260,55],[259,56,260,58],[259,59,260,65],[259,66,260,69],[282,55,283,58],[282,59,283,65],[282,66,283,69],[282,31,283,34],[282,35,283,38],[282,39,283,42],[282,43,283,46],[282,47,283,50],[282,51,283,54],[262,1,263,78],[264,1,265,78],[272,23,273,26],[272,27,273,30],[272,31,273,34],[276,23,277,26],[276,27,277,30],[259,70,260,73],[255,74,256,75],[257,17,258,22],[257,23,258,25],[257,26,258,28],[257,29,258,31],[257,32,258,34],[257,35,258,37],[257,38,258,40],[257,41,258,43],[257,44,258,46],[257,47,258,49],[257,50,258,52],[257,53,258,55],[257,56,258,58],[257,59,258,65],[257,66,258,69],[257,70,258,73],[257,74,258,75],[255,4,258,16],[255,17,256,22],[255,23,256,25],[255,26,256,28],[255,29,256,31],[255,32,256,34],[255,35,256,37],[255,38,256,40],[255,41,256,43],[255,44,256,46],[255,47,256,49],[255,50,256,52],[255,53,256,55],[255,56,256,58],[255,59,256,65],[255,66,256,69],[255,70,256,73],[251,70,254,73],[251,74,254,75],[253,29,254,31],[253,32,254,34],[253,35,254,37],[253,38,254,40],[253,41,254,43],[253,44,254,46],[253,47,254,49],[253,50,254,52],[253,53,254,55],[253,56,254,58],[251,4,254,16],[251,17,254,22],[251,23,252,28],[253,23,254,25],[253,26,254,28],[244,32,245,34],[244,35,245,37],[244,38,245,40],[244,41,245,43],[244,44,245,46],[244,47,245,49],[244,50,245,52],[244,53,245,55],[244,56,245,58],[244,59,245,65],[244,66,245,69],[244,70,245,73],[246,23,247,28],[246,29,247,31],[246,32,247,34],[246,35,247,37],[246,38,247,40],[246,41,247,43],[246,44,247,46],[246,47,247,49],[246,50,247,52],[246,53,247,55],[246,56,247,58],[246,59,247,65],[246,66,247,69],[246,70,247,73],[175,16,178,32],[175,33,176,37],[175,38,178,69],[177,33,178,37],[240,4,243,22],[240,23,241,28],[240,29,241,31],[240,32,241,34],[240,35,241,37],[240,38,241,40],[240,41,241,43],[240,44,241,46],[240,47,241,49],[240,50,241,52],[240,53,241,55],[240,56,241,58],[240,59,241,65],[240,66,241,69],[242,23,243,28],[242,29,243,31],[242,32,243,34],[242,35,243,37],[242,38,243,40],[242,41,243,43],[242,44,243,46],[242,47,243,49],[242,50,243,52],[242,53,243,55],[242,56,243,58],[242,59,243,65],[242,66,243,69],[192,4,193,22],[163,16,166,32],[163,33,164,37],[163,38,164,39],[163,40,164,41],[163,42,164,43],[163,44,164,45],[163,46,164,47],[163,48,164,49],[163,50,164,51],[163,52,164,53],[163,54,164,55],[163,56,164,57],[163,58,164,59],[163,60,164,61],[163,62,164,63],[163,64,164,65],[165,33,166,37],[165,38,166,39],[165,40,166,41],[165,42,166,43],[165,44,166,45],[165,46,166,47],[165,48,166,49],[165,50,166,51],[165,52,166,53],[165,54,166,55],[165,56,166,57],[165,58,166,59],[165,60,166,61],[165,62,166,63],[165,64,166,65],[137,68,138,69],[137,16,138,32],[137,33,138,37],[137,38,138,39],[137,40,138,41],[137,42,138,43],[137,44,138,45],[137,46,138,47],[137,48,138,49],[137,50,138,51],[137,52,138,53],[137,54,138,55],[137,56,138,57],[137,58,138,59],[137,60,138,61],[137,62,138,63],[137,64,138,65],[137,66,138,67],[133,68,134,69],[135,33,136,37],[135,38,136,39],[135,40,136,41],[135,42,136,43],[135,44,136,45],[135,46,136,47],[135,48,136,49],[135,50,136,51],[135,52,136,53],[135,54,136,55],[135,56,136,57],[135,58,136,59],[135,60,136,61],[135,62,136,63],[135,64,136,65],[135,66,136,67],[135,68,136,69],[133,16,136,32],[133,33,134,37],[133,38,134,39],[133,40,134,41],[133,42,134,43],[133,44,134,45],[133,46,134,47],[133,48,134,49],[133,50,134,51],[133,52,134,53],[133,54,134,55],[133,56,134,57],[133,58,134,59],[133,60,134,61],[133,62,134,63],[133,64,134,65],[133,66,134,67],[122,16,125,32],[122,33,123,37],[122,38,125,69],[124,33,125,37],[127,16,128,69],[129,16,132,32],[129,33,132,37],[129,38,130,45],[129,46,130,53],[129,54,130,61],[129,62,130,69],[131,38,132,39],[131,40,132,41],[131,42,132,43],[131,44,132,45],[131,46,132,47],[131,48,132,49],[131,50,132,51],[131,52,132,53],[131,54,132,55],[131,56,132,57],[131,58,132,59],[131,60,132,61],[131,62,132,63],[131,64,132,65],[131,66,132,67],[131,68,132,69],[118,68,119,69],[120,33,121,37],[120,38,121,39],[120,40,121,41],[120,42,121,43],[120,44,121,45],[120,46,121,47],[120,48,121,49],[120,50,121,51],[120,52,121,53],[120,54,121,55],[120,56,121,57],[120,58,121,59],[120,60,121,61],[120,62,121,63],[120,64,121,65],[120,66,121,67],[120,68,121,69],[118,16,121,32],[118,33,119,37],[118,38,119,39],[118,40,119,41],[118,42,119,43],[118,44,119,45],[118,46,119,47],[118,48,119,49],[118,50,119,51],[118,52,119,53],[118,54,119,55],[118,56,119,57],[118,58,119,59],[118,60,119,61],[118,62,119,63],[118,64,119,65],[118,66,119,67],[24,22,25,29],[24,30,25,37],[24,38,25,45],[24,46,25,53],[10,16,11,32],[10,33,11,69],[12,16,13,32],[12,33,13,69],[14,16,15,32],[14,33,15,69],[106,16,109,32],[106,33,107,37],[106,38,107,39],[106,40,107,41],[106,42,107,43],[106,44,107,45],[106,46,107,47],[106,48,107,49],[106,50,107,51],[106,52,107,53],[106,54,107,55],[106,56,107,57],[106,58,107,59],[106,60,107,61],[106,62,107,63],[106,64,107,65],[106,66,107,67],[108,33,109,37],[108,38,109,39],[108,40,109,41],[108,42,109,43],[108,44,109,45],[30,62,31,69],[32,16,33,21],[32,22,33,29],[32,30,33,37],[32,38,33,45],[32,46,33,53],[32,54,33,61],[32,62,33,69],[30,16,31,21],[30,22,31,29],[30,30,31,37],[30,38,31,45],[30,46,31,53],[30,54,31,61],[0,1,1,78],[2,1,3,78],[6,16,7,32],[6,33,7,69],[8,16,9,32],[8,33,9,69],[24,54,29,61],[24,62,29,69],[26,22,29,29],[26,30,29,37],[26,38,29,45],[26,46,29,53],[16,16,17,32],[16,33,17,69],[20,16,21,69],[22,16,29,21],[22,22,23,53],[22,54,23,69],[38,62,39,69],[40,16,41,21],[40,22,41,29],[40,30,41,37],[40,38,41,45],[40,46,41,53],[40,54,41,61],[40,62,41,69],[38,16,39,21],[38,22,39,29],[38,30,39,37],[38,38,39,45],[38,46,39,53],[38,54,39,61],[34,62,35,69],[36,16,37,21],[36,22,37,29],[36,30,37,37],[36,38,37,45],[36,46,37,53],[36,54,37,61],[36,62,37,69],[34,16,35,21],[34,22,35,29],[34,30,35,37],[34,38,35,45],[34,46,35,53],[34,54,35,61],[48,16,49,33],[48,34,49,45],[48,46,49,57],[48,58,49,69],[50,58,51,69],[68,68,69,69],[58,1,59,78],[60,1,61,78],[42,16,43,45],[42,46,43,57],[42,58,43,69],[44,16,45,33],[44,34,45,69],[46,16,47,33],[46,34,47,45],[46,46,47,57],[46,58,47,69],[68,56,69,57],[68,58,69,59],[68,60,69,61],[68,62,69,63],[68,64,69,65],[68,66,69,67],[66,62,67,69],[68,38,69,39],[68,40,69,41],[68,42,69,43],[68,44,69,45],[68,46,69,47],[68,48,69,49],[68,50,69,51],[68,52,69,53],[68,54,69,55],[52,58,53,69],[54,58,55,69],[64,16,65,69],[66,16,69,32],[66,33,69,37],[66,38,67,45],[66,46,67,53],[66,54,67,61],[70,64,71,65],[70,66,71,67],[70,68,71,69],[50,16,55,25],[50,26,51,33],[50,34,51,57],[52,26,53,33],[52,34,53,57],[54,26,55,33],[54,34,55,57],[72,16,73,32],[72,33,73,37],[72,38,73,39],[72,40,73,41],[72,42,73,45],[72,46,73,47],[72,48,73,49],[70,52,71,53],[70,54,71,55],[70,56,71,57],[70,58,71,59],[70,60,71,61],[70,62,71,63],[70,16,71,32],[70,33,71,37],[70,38,71,39],[70,40,71,41],[70,42,71,43],[70,44,71,45],[70,46,71,47],[70,48,71,49],[70,50,71,51],[88,16,95,32],[88,33,89,37],[94,33,95,37],[92,33,93,37],[88,38,95,69],[90,33,91,37],[86,33,87,37],[84,33,85,37],[82,33,83,37],[72,66,73,69],[80,16,87,32],[80,33,81,37],[72,50,73,53],[72,54,73,55],[72,56,73,57],[72,58,73,61],[72,62,73,63],[72,64,73,65],[74,62,75,63],[74,64,75,65],[74,66,75,67],[78,66,79,67],[74,68,75,69],[76,33,77,37],[76,38,77,39],[76,40,77,41],[76,42,77,43],[76,44,77,45],[76,46,77,47],[76,48,77,49],[76,50,77,51],[76,52,77,53],[98,33,99,37],[98,38,99,39],[98,40,99,41],[98,42,99,43],[98,44,99,45],[96,48,97,49],[96,50,97,51],[96,52,97,53],[96,54,97,55],[96,56,97,57],[96,58,97,59],[96,16,99,32],[96,33,97,37],[96,38,97,39],[96,40,97,41],[96,42,97,43],[96,44,97,45],[96,46,97,47],[98,58,99,59],[98,60,99,61],[98,62,99,63],[98,64,99,65],[98,66,99,67],[98,68,99,69],[98,46,99,47],[98,48,99,49],[98,50,99,51],[98,52,99,53],[98,54,99,55],[98,56,99,57],[96,60,97,61],[96,62,97,63],[96,64,97,65],[96,66,97,67],[96,68,97,69],[102,16,105,32],[102,33,103,37],[102,38,103,39],[102,40,103,41],[102,42,103,43],[102,44,103,45],[104,33,105,37],[104,38,105,39],[104,40,105,41],[104,42,105,43],[100,58,101,59],[100,60,101,61],[100,62,101,63],[100,64,101,65],[100,66,101,67],[100,68,101,69],[100,16,101,32],[100,33,101,37],[100,38,101,39],[100,40,101,41],[100,42,101,43],[100,44,101,45],[104,46,105,47],[104,48,105,49],[104,50,105,51],[104,52,105,53],[112,33,113,37],[112,38,113,39],[112,40,113,41],[112,42,113,43],[112,44,113,45],[112,46,113,47],[112,48,113,49],[110,52,111,53],[110,33,111,37],[110,38,111,39],[110,46,111,47],[110,48,111,49],[110,50,111,51],[100,46,101,47],[100,48,101,49],[100,50,101,51],[100,52,101,53],[110,16,113,32],[100,54,101,55],[100,56,101,57],[110,54,111,55],[110,56,111,57],[104,56,105,57],[102,68,103,69],[102,46,103,47],[102,48,103,49],[102,50,103,51],[102,52,103,53],[102,54,103,55],[102,56,103,57],[110,64,111,65],[110,66,111,67],[110,68,111,69],[108,60,109,61],[108,62,109,63],[104,68,105,69],[104,58,105,59],[104,60,105,61],[106,68,107,69],[108,66,109,67],[108,68,109,69],[108,46,109,47],[108,48,109,49],[108,50,109,51],[108,52,109,53],[108,54,109,55],[108,56,109,57],[108,58,109,59],[102,58,103,59],[102,60,103,61],[114,68,115,69],[114,46,115,47],[114,48,115,49],[114,50,115,51],[114,52,115,53],[114,54,115,55],[114,56,115,57],[112,62,113,63],[112,64,113,65],[112,66,113,67],[112,68,113,69],[116,64,117,65],[116,66,117,67],[104,62,105,63],[104,64,105,65],[104,66,105,67],[104,44,105,45],[114,58,115,59],[114,60,115,61],[114,62,115,63],[114,64,115,65],[114,66,115,67],[104,54,105,55],[112,54,113,55],[112,56,113,57],[112,58,113,59],[112,60,113,61],[116,60,117,61],[116,62,117,63],[102,62,103,63],[102,64,103,65],[102,66,103,67],[108,64,109,65],[110,58,111,59],[110,60,111,61],[110,62,111,63],[116,68,117,69],[110,40,111,41],[110,42,111,43],[110,44,111,45],[141,16,142,69],[116,48,117,49],[116,50,117,51],[116,52,117,53],[116,54,117,55],[116,56,117,57],[116,58,117,59],[116,33,117,37],[116,38,117,39],[116,40,117,41],[116,42,117,43],[116,44,117,45],[116,46,117,47],[114,16,117,32],[114,33,115,37],[114,38,115,39],[114,40,115,41],[114,42,115,43],[114,44,115,45],[112,50,113,51],[112,52,113,53],[145,58,146,59],[145,60,146,61],[145,62,146,63],[145,64,146,65],[145,66,146,67],[145,68,146,69],[145,46,146,47],[145,48,146,49],[145,50,146,51],[145,52,146,53],[145,54,146,55],[145,56,146,57],[143,16,146,32],[143,33,146,37],[143,38,144,45],[143,46,144,53],[143,54,144,61],[143,62,144,69],[145,38,146,39],[145,40,146,41],[145,42,146,43],[145,44,146,45],[149,52,150,53],[149,54,150,55],[147,58,148,59],[147,60,148,61],[147,62,148,63],[147,64,148,65],[147,66,148,67],[147,68,148,69],[147,46,148,47],[147,48,148,49],[147,50,148,51],[147,52,148,53],[147,54,148,55],[147,56,148,57],[147,16,150,32],[147,33,148,37],[147,38,148,39],[147,40,148,41],[147,42,148,43],[147,44,148,45],[149,33,150,37],[149,38,150,39],[149,40,150,41],[149,42,150,43],[153,33,154,37],[153,38,154,39],[153,40,154,41],[153,42,154,43],[153,44,154,45],[153,46,154,47],[153,48,154,49],[151,52,152,53],[151,54,152,55],[151,56,152,57],[151,58,152,59],[151,60,152,61],[151,62,152,63],[149,68,150,69],[151,33,152,37],[151,38,152,39],[151,40,152,41],[151,42,152,43],[151,44,152,45],[151,46,152,47],[151,48,152,49],[151,50,152,51],[149,56,150,57],[149,58,150,59],[149,60,150,61],[149,62,150,63],[149,64,150,65],[149,66,150,67],[149,44,150,45],[149,46,150,47],[149,48,150,49],[149,50,150,51],[155,58,156,59],[155,60,156,61],[155,62,156,63],[155,64,156,65],[155,66,156,67],[155,68,156,69],[155,46,156,47],[155,48,156,49],[155,50,156,51],[155,52,156,53],[155,54,156,55],[155,56,156,57],[153,62,154,63],[153,64,154,65],[153,66,154,67],[153,68,154,69],[155,16,158,32],[155,33,156,37],[155,38,156,39],[155,40,156,41],[155,42,156,43],[155,44,156,45],[153,50,154,51],[153,52,154,53],[153,54,154,55],[153,56,154,57],[153,58,154,59],[153,60,154,61],[151,16,154,32],[151,64,152,65],[151,66,152,67],[151,68,152,69],[157,68,158,69],[159,16,162,32],[159,33,160,37],[159,38,160,39],[159,40,160,41],[159,42,160,43],[157,48,158,49],[157,50,158,51],[157,52,158,53],[157,54,158,55],[157,56,158,57],[157,58,158,59],[157,33,158,37],[157,38,158,39],[157,40,158,41],[157,42,158,43],[157,44,158,45],[157,46,158,47],[161,66,162,67],[161,68,162,69],[161,54,162,55],[161,56,162,57],[161,58,162,59],[161,60,162,61],[161,62,162,63],[161,64,162,65],[159,68,160,69],[161,33,162,37],[159,56,160,57],[159,58,160,59],[159,60,160,61],[159,62,160,63],[159,64,160,65],[159,66,160,67],[159,44,160,45],[159,46,160,47],[159,48,160,49],[159,50,160,51],[159,52,160,53],[159,54,160,55],[167,46,168,47],[167,48,168,49],[169,60,170,61],[169,62,170,63],[157,60,158,61],[157,62,158,63],[157,64,158,65],[157,66,158,67],[171,48,172,49],[171,50,172,51],[171,52,172,53],[171,54,172,55],[169,64,170,65],[169,66,170,67],[163,66,164,67],[165,66,166,67],[171,40,172,41],[171,42,172,43],[169,48,170,49],[169,50,170,51],[169,52,170,53],[169,54,170,55],[169,56,170,57],[169,58,170,59],[169,68,170,69],[161,38,162,39],[161,40,162,41],[161,42,162,43],[161,44,162,45],[161,46,162,47],[161,48,162,49],[161,50,162,51],[161,52,162,53],[163,68,164,69],[165,68,166,69],[173,33,174,37],[167,16,170,32],[167,62,168,63],[167,64,168,65],[167,66,168,67],[167,68,168,69],[169,33,170,37],[169,38,170,39],[169,40,170,41],[169,42,170,43],[169,44,170,45],[169,46,170,47],[167,50,168,51],[167,52,168,53],[167,54,168,55],[167,56,168,57],[167,58,168,59],[167,60,168,61],[171,68,172,69],[167,33,168,37],[167,38,168,39],[167,40,168,41],[167,42,168,43],[167,44,168,45],[171,56,172,57],[171,58,172,59],[171,60,172,61],[171,62,172,63],[171,64,172,65],[171,66,172,67],[171,44,172,45],[171,46,172,47],[188,74,191,75],[190,47,191,49],[190,50,191,52],[190,53,191,55],[190,56,191,58],[173,66,174,67],[173,68,174,69],[180,1,181,78],[182,1,183,78],[186,4,187,75],[188,4,191,22],[188,23,191,28],[188,29,189,34],[188,35,189,40],[188,41,189,46],[173,54,174,55],[173,56,174,57],[173,58,174,59],[173,60,174,61],[173,62,174,63],[173,64,174,65],[173,38,174,39],[173,40,174,41],[173,42,174,43],[173,44,174,45],[173,46,174,47],[173,48,174,49],[173,50,174,51],[173,52,174,53],[171,16,174,32],[171,33,172,37],[171,38,172,39],[192,23,193,28],[192,29,193,31],[192,32,193,34],[192,35,193,37],[192,38,193,40],[190,29,191,31],[190,32,191,34],[190,35,191,37],[190,38,191,40],[190,41,191,43],[190,44,191,46],[188,47,189,52],[188,53,189,58],[188,59,191,65],[188,66,191,69],[188,70,191,73],[192,59,193,65],[192,66,193,69],[192,70,193,73],[192,74,193,75],[192,76,193,76],[192,77,193,77],[192,41,193,43],[192,44,193,46],[192,47,193,49],[192,50,193,52],[192,53,193,55],[192,56,193,58],[194,59,195,65]],"merged_total":1908,"flags":["merged_cut"]}
[null,"Capacity Analysis for Planning of Junctions"]
[]
[null,"Detailed Report - Page 1 of 4"]
[]
[]
[]
[null,null,null,null,null,null,null,null,null,null,null,null,null,null,null,null,"Project Name:",null,null,null,null,null,null,null,null,null,null,null,null,null,null,null,null,{"$f":"P_Name","v":"Cap-X Sample Street"}]
[]
[null,null,null,null,null,null,null,null,null,null,null,null,null,null,null,null,"Project Number:",null,null,null,null,null,null,null,null,null,null,null,null,null,null,null,null,{"$f":"P_Number","v":10000}]
[]
[null,null,null,null,null,null,null,null,null,null,null,null,null,null,null,null,"Location:",null,null,null,null,null,null,null,null,null,null,null,null,null,null,null,null,{"$f":"Location","v":"Anywhere, USA"}]
[]
[null,null,null,null,null,null,null,null,null,null,null,null,null,null,null,null,"Date:",null,null,null,null,null,null,null,null,null,null,null,null,null,null,null,null,{"$f":"Date","v":"2017 AM"}]
[]
[null,null,null,null,null,null,null,null,null,null,null,null,null,null,null,null,"Number of Intersection Legs:",null,null,null,null,null,null,null,null,null,null,null,null,null,null,null,null,{"$f":"IF(Input_NumLegs=0,\"\",Input_NumLegs)","v":""}]
[]
[null,null,null,null,null,null,null,null,null,null,null,null,null,null,null,null,"Major Street Direction:",null,null,null,null,null,null,null,null,null,null,null,null,null,null,null,null,{"$f":"Input_MajorStreetDirection","v":"North-South"}]
[]
[]
[]
[null,null,null,null,null,null,null,null,null,null,null,null,null,null,null,null,"Traffic Volume Demand"]
[]
[null,null,null,null,null,null,null,null,null,null,null,null,null,null,null,null,null,null,null,null,null,null,"Volume (Veh/hr)",null,null,null,null,null,null,null,null,null,null,null,null,null,null,null,null,null,null,null,null,null,null,null,null,null,null,null,null,null,null,null,"Percent (%)"]
[]
[null,null,null,null,null,null,null,null,null,null,null,null,null,null,null,null,null,null,null,null,null,null,"U-Turn",null,null,null,null,null,null,null,"Left",null,null,null,null,null,null,null,"Thru",null,null,null,null,null,null,null,"Right",null,null,null,null,null,null,null,"Heavy Vehicles",null,null,null,null,null,null,null,"Volume Growth"]
[]
[]
[]
[]
[]
[null,null,null,null,null,null,null,null,null,null,null,null,null,null,null,null,"Eastbound",null,null,null,null,null,{"$f":"'1 - Volume Input'!K32","v":0},null,null,null,null,null,null,null,{"$f":"'1 - Volume Input'!S32","v":30},null,null,null,null,null,null,null,{"$f":"'1 - Volume Input'!AA32","v":200},null,null,null,null,null,null,null,{"$f":"'1 - Volume Input'!AI32","v":50},null,null,null,null,null,null,null,{"$f":"EB_Truck_Percentage","v":0.02},null,null,null,null,null,null,null,{"$f":"EB_Growth_Factor","v":0}]
[]
[null,null,null,null,null,null,null,null,null,null,null,null,null,null,null,null,"Westbound",null,null,null,null,null,{"$f":"'1 - Volume Input'!K34","v":0},null,null,null,null,null,null,null,{"$f":"'1 - Volume Input'!S34","v":30},null,null,null,null,null,null,null,{"$f":"'1 - Volume Input'!AA34","v":200},null,null,null,null,null,null,null,{"$f":"'1 - Volume Input'!AI34","v":50},null,null,null,null,null,null,null,{"$f":"WB_Truck_Percentage","v":0.02},null,null,null,null,null,null,null,{"$f":"WB_Growth_Factor","v":0}]
[]
[null,null,null,null,null,null,null,null,null,null,null,null,null,null,null,null,"Southbound",null,null,null,null,null,{"$f":"'1 - Volume Input'!K36","v":0},null,null,null,null,null,null,null,{"$f":"'1 - Volume Input'!S36","v":30},null,null,null,null,null,null,null,{"$f":"'1 - Volume Input'!AA36","v":200},null,null,null,null,null,null,null,{"$f":"'1 - Volume Input'!AI36","v":50},null,null,null,null,null,null,null,{"$f":"SB_Truck_Percentage","v":0.02},null,null,null,null,null,null,null,{"$f":"SB_Growth_Factor","v":0}]
[]
[null,null,null,null,null,null,null,null,null,null,null,null,null,null,null,null,"Northbound",null,null,null,null,null,{"$f":"'1 - Volume Input'!K38","v":0},null,null,null,null,null,null,null,{"$f":"'1 - Volume Input'!S38","v":100},null,null,null,null,null,null,null,{"$f":"'1 - Volume Input'!AA38","v":500},null,null,null,null,null,null,null,{"$f":"'1 - Volume Input'!AI38","v":200},null,null,null,null,null,null,null,{"$f":"NB_Truck_Percentage","v":0.02},null,null,null,null,null,null,null,{"$f":"NB_Growth_Factor","v":0}]
[]
[null,null,null,null,null,null,null,null,null,null,null,null,null,null,null,null,"Adjustment Factor",null,null,null,null,null,{"$f":"UTAF","v":0.8},null,null,null,null,null,null,null,{"$f":"LTAF","v":0.95},null,null,null,null,null,null,null,null,null,null,null,null,null,null,null,{"$f":"RTAF","v":0.85}]
[]
[null,null,null,null,null,null,null,null,null,null,null,null,null,null,null,null,"Suggested",null,null,null,null,null,0.8,null,null,null,null,null,null,null,0.95,null,null,null,null,null,null,null,null,null,null,null,null,null,null,null,0.85]
[]
[null,null,null,null,null,null,null,null,null,null,null,null,null,null,null,null,"Truck to PCE Factor ",null,null,null,null,null,null,null,null,null,null,null,null,null,null,null,null,null,null,null,null,null,null,null,null,null,null,null,null,null,"Suggested = 2.00",null,null,null,null,null,null,null,null,null,null,null,{"$f":"'1 - Volume Input'!AU44","v":2}]
[]
[null,null,null,null,null,null,null,null,null,null,null,null,null,null,null,null,"Multimodal Activity Level",null,null,null,null,null,null,null,null,null,null,null,null,null,null,null,null,null,{"$f":"'1 - Volume Input'!W46","v":"Low"}]
[]
[null,null,null,null,null,null,null,null,null,null,null,null,null,null,null,null,"E-W / Crossing East-West Legs",null,null,null,null,null,null,null,null,null,null,null,null,null,null,null,null,null,"Low",null,null,null,null,null,null,null,null,null,null,null,"Low",null,null,null,null,null,null,null,null,null,null,null,"Low"]
[]
[null,null,null,null,null,null,null,null,null,null,null,null,null,null,null,null,"N-S / Crossing North-South Legs",null,null,null,null,null,null,null,null,null,null,null,null,null,null,null,null,null,"Low",null,null,null,null,null,null,null,null,null,null,null,"Low",null,null,null,null,null,null,null,null,null,null,null,"Low"]
[]
[null,null,null,null,null,null,null,null,null,null,null,null,null,null,null,null,"Critical Lane Volume Threshold",null,null,null,null,null,null,null,null,null,"2-phase signal",null,null,null,null,"2-phase signal",null,null,"Suggested = 1800 (Urban), 1650 (Rural)",null,null,null,null,null,null,null,null,null,null,null,"Suggested = 1800",null,null,null,null,null,null,null,null,null,null,null,{"$f":"CLV_Limit_2","v":1800}]
[]
[null,null,null,null,null,null,null,null,null,null,null,null,null,null,null,null,null,null,null,null,null,null,null,null,null,null,"3-phase signal",null,null,null,null,"3-phase signal",null,null,"Suggested = 1750 (Urban), 1600 (Rural)",null,null,null,null,null,null,null,null,null,null,null,"Suggested = 1750",null,null,null,null,null,null,null,null,null,null,null,{"$f":"CLV_Limit_3","v":1750}]
[]
[null,null,null,null,null,null,null,null,null,null,null,null,null,null,null,null,null,null,null,null,null,null,null,null,null,null,"4-phase signal",null,null,null,null,"4-phase signal",null,null,"Suggested = 1700 (Urban), 1550 (Rural)",null,null,null,null,null,null,null,null,null,null,null,"Suggested = 1700",null,null,null,null,null,null,null,null,null,null,null,{"$f":"CLV_Limit_4","v":1700}]
[]
[]
[]
[null,"Capacity Analysis for Planning of Junctions"]
[]
[null,"Detailed Report - Page 2 of 4"]
[]
[]
[]
[null,null,null,null,null,null,null,null,null,null,null,null,null,null,null,null,"Number of Lanes for Non-roundabout Intersections"]
[]
[null,null,null,null,null,null,null,null,null,null,null,null,null,null,null,null,"TYPE OF INTERSECTION",null,null,null,null,null,null,null,null,null,null,null,null,null,null,null,null,"Sheet",null,null,null,null,"Northbound",null,null,null,null,null,null,null,"Southbound",null,null,null,null,null,null,null,"Eastbound",null,null,null,null,null,null,null,"Westbound"]
[]
[null,null,null,null,null,null,null,null,null,null,null,null,null,null,null,null,null,null,null,null,null,null,null,null,null,null,null,null,null,null,null,null,null,null,null,null,null,null,"U",null,"L",null,"T",null,"R",null,"U",null,"L",null,"T",null,"R",null,"U",null,"L",null,"T",null,"R",null,"U",null,"L",null,"T",null,"R"]
[]
[null,null,null,null,null,null,null,null,null,null,null,null,null,null,null,null,{"$f":"'3 - Alt Num Lanes Input'!E24","v":"Traffic Signal"},null,null,null,null,null,null,null,null,null,null,null,null,null,null,null,null,"FULL",null,null,null,null,null,null,{"$f":"'3 - Alt Num Lanes Input'!AC24","v":1},null,{"$f":"'3 - Alt Num Lanes Input'!AE24","v":1},null,{"$f":"'3 - Alt Num Lanes Input'!AG24","v":1},null,null,null,{"$f":"'3 - Alt Num Lanes Input'!AK24","v":1},null,{"$f":"'3 - Alt Num Lanes Input'!AM24","v":1},null,{"$f":"'3 - Alt Num Lanes Input'!AO24","v":1},null,null,null,{"$f":"'3 - Alt Num Lanes Input'!AS24","v":1},null,{"$f":"'3 - Alt Num Lanes Input'!AU24","v":1},null,{"$f":"'3 - Alt Num Lanes Input'!AW24","v":1},null,null,null,{"$f":"'3 - Alt Num Lanes Input'!BA24","v":1},null,{"$f":"'3 - Alt Num Lanes Input'!BC24","v":1},null,{"$f":"'3 - Alt Num Lanes Input'!BE24","v":1}]
[]
[null,null,null,null,null,null,null,null,null,null,null,null,null,null,null,null,"Conventional Shared RT LN",null,null,null,null,null,null,null,null,null,null,null,null,null,null,null,null,"CSRL",null,null,null,null,null,null,{"$f":"'3 - Alt Num Lanes Input'!AC26","v":1},null,{"$f":"'3 - Alt Num Lanes Input'!AE26","v":2},null,null,null,null,null,{"$f":"'3 - Alt Num Lanes Input'!AK26","v":1},null,{"$f":"'3 - Alt Num Lanes Input'!AM26","v":2},null,null,null,null,null,{"$f":"'3 - Alt Num Lanes Input'!AS26","v":1},null,{"$f":"'3 - Alt Num Lanes Input'!AU26","v":2},null,null,null,null,null,{"$f":"'3 - Alt Num Lanes Input'!BA26","v":1},null,{"$f":"'3 - Alt Num Lanes Input'!BC26","v":2}]
[]
[null,null,null,null,null,null,null,null,null,null,null,null,null,null,null,null,"Two-Way Stop Control",null,null,null,null,null,null,null,null,null,null,null,null,null,null,null,null,"N-S",null,null,null,null,null,null,{"$f":"'3 - Alt Num Lanes Input'!AC28","v":1},null,{"$f":"'3 - Alt Num Lanes Input'!AE28","v":1},null,{"$f":"'3 - Alt Num Lanes Input'!AG28","v":1},null,null,null,{"$f":"'3 - Alt Num Lanes Input'!AK28","v":1},null,{"$f":"'3 - Alt Num Lanes Input'!AM28","v":1},null,{"$f":"'3 - Alt Num Lanes Input'!AO28","v":1},null,null,null,{"$f":"'3 - Alt Num Lanes Input'!AS28","v":1},null,{"$f":"'3 - Alt Num Lanes Input'!AU28","v":1},null,{"$f":"'3 - Alt Num Lanes Input'!AW28","v":1},null,null,null,{"$f":"'3 - Alt Num Lanes Input'!BA28","v":1},null,{"$f":"'3 - Alt Num Lanes Input'!BC28","v":1},null,{"$f":"'3 - Alt Num Lanes Input'!BE28","v":1}]
[]
[null,null,null,null,null,null,null,null,null,null,null,null,null,null,null,null,null,null,null,null,null,null,null,null,null,null,null,null,null,null,null,null,null,"E-W",null,null,null,null,null,null,{"$f":"'3 - Alt Num Lanes Input'!AC30","v":1},null,{"$f":"'3 - Alt Num Lanes Input'!AE30","v":1},null,{"$f":"'3 - Alt Num Lanes Input'!AG30","v":1},null,null,null,{"$f":"'3 - Alt Num Lanes Input'!AK30","v":1},null,{"$f":"'3 - Alt Num Lanes Input'!AM30","v":1},null,{"$f":"'3 - Alt Num Lanes Input'!AO30","v":1},null,null,null,{"$f":"'3 - Alt Num Lanes Input'!AS30","v":1},null,{"$f":"'3 - Alt Num Lanes Input'!AU30","v":1},null,{"$f":"'3 - Alt Num Lanes Input'!AW30","v":1},null,null,null,{"$f":"'3 - Alt Num Lanes Input'!BA30","v":1},null,{"$f":"'3 - Alt Num Lanes Input'!BC30","v":1},null,{"$f":"'3 - Alt Num Lanes Input'!BE30","v":1}]
[]
[null,null,null,null,null,null,null,null,null,null,null,null,null,null,null,null,"All-Way Stop Control",null,null,null,null,null,null,null,null,null,null,null,null,null,null,null,null,"FULL",null,null,null,null,null,null,{"$f":"'3 - Alt Num Lanes Input'!AC32","v":0},null,{"$f":"'3 - Alt Num Lanes Input'!AE32","v":1},null,{"$f":"'3 - Alt Num Lanes Input'!AG32","v":0},null,null,null,{"$f":"'3 - Alt Num Lanes Input'!AK32","v":0},null,{"$f":"'3 - Alt Num Lanes Input'!AM32","v":1},null,{"$f":"'3 - Alt Num Lanes Input'!AO32","v":0},null,null,null,{"$f":"'3 - Alt Num Lanes Input'!AS32","v":0},null,{"$f":"'3 - Alt Num Lanes Input'!AU32","v":1},null,{"$f":"'3 - Alt Num Lanes Input'!AW32","v":0},null,null,null,{"$f":"'3 - Alt Num Lanes Input'!BA32","v":0},null,{"$f":"'3 - Alt Num Lanes Input'!BC32","v":1},null,{"$f":"'3 - Alt Num Lanes Input'!BE32","v":0}]
[]
[null,null,null,null,null,null,null,null,null,null,null,null,null,null,null,null,"Continuous Green T",null,null,null,null,null,null,null,null,null,null,null,null,null,null,null,null,"W",null,null,null,null,null,null,{"$f":"'3 - Alt Num Lanes Input'!AC34","v":1},{"$f":"'3 - Alt Num Lanes Input'!AD34","v":0},{"$f":"'3 - Alt Num Lanes Input'!AE34","v":1},{"$f":"'3 - Alt Num Lanes Input'!AF34","v":0},null,null,null,null,null,null,{"$f":"'3 - Alt Num Lanes Input'!AM34","v":2},{"$f":"'3 - Alt Num Lanes Input'!AN34","v":0},{"$f":"'3 - Alt Num Lanes Input'!AO34","v":1},{"$f":"'3 - Alt Num Lanes Input'!AP34","v":0},null,null,{"$f":"'3 - Alt Num Lanes Input'!AS34","v":1},{"$f":"'3 - Alt Num Lanes Input'!AT34","v":0},null,null,{"$f":"'3 - Alt Num Lanes Input'!AW34","v":1},{"$f":"'3 - Alt Num Lanes Input'!AX34","v":0}]
[null,null,null,null,null,null,null,null,null,null,null,null,null,null,null,null,null,null,null,null,null,null,null,null,null,null,null,null,null,null,null,null,null,null,null,null,null,null,null,null,{"$f":"'3 - Alt Num Lanes Input'!AC35","v":0},{"$f":"'3 - Alt Num Lanes Input'!AD35","v":0},{"$f":"'3 - Alt Num Lanes Input'!AE35","v":0},{"$f":"'3 - Alt Num Lanes Input'!AF35","v":0},null,null,null,null,null,null,{"$f":"'3 - Alt Num Lanes Input'!AM35","v":0},{"$f":"'3 - Alt Num Lanes Input'!AN35","v":0},{"$f":"'3 - Alt Num Lanes Input'!AO35","v":0},{"$f":"'3 - Alt Num Lanes Input'!AP35","v":0},null,null,{"$f":"'3 - Alt Num Lanes Input'!AS35","v":0},{"$f":"'3 - Alt Num Lanes Input'!AT35","v":0},null,null,{"$f":"'3 - Alt Num Lanes Input'!AW35","v":0},{"$f":"'3 - Alt Num Lanes Input'!AX35","v":0}]
[null,null,null,null,null,null,null,null,null,null,null,null,null,null,null,null,null,null,null,null,null,null,null,null,null,null,null,null,null,null,null,null,null,"N",null,null,null,null,null,null,null,null,null,null,null,null,null,null,{"$f":"'3 - Alt Num Lanes Input'!AK36","v":1},{"$f":"'3 - Alt Num Lanes Input'!AL36","v":0},null,null,{"$f":"'3 - Alt Num Lanes Input'!AO36","v":1},{"$f":"'3 - Alt Num Lanes Input'!AP36","v":0},null,null,{"$f":"'3 - Alt Num Lanes Input'!AS36","v":1},{"$f":"'3 - Alt Num Lanes Input'!AT36","v":0},{"$f":"'3 - Alt Num Lanes Input'!AU36","v":2},{"$f":"'3 - Alt Num Lanes Input'!AV36","v":0},null,null,null,null,null,null,{"$f":"'3 - Alt Num Lanes Input'!BC36","v":2},{"$f":"'3 - Alt Num Lanes Input'!BD36","v":0},{"$f":"'3 - Alt Num Lanes Input'!BE36","v":1},{"$f":"'3 - Alt Num Lanes Input'!BF36","v":0}]
[null,null,null,null,null,null,null,null,null,null,null,null,null,null,null,null,null,null,null,null,null,null,null,null,null,null,null,null,null,null,null,null,null,null,null,null,null,null,null,null,null,null,null,null,null,null,null,null,{"$f":"'3 - Alt Num Lanes Input'!AK37","v":0},{"$f":"'3 - Alt Num Lanes Input'!AL37","v":0},null,null,{"$f":"'3 - Alt Num Lanes Input'!AO37","v":0},{"$f":"'3 - Alt Num Lanes Input'!AP37","v":0},null,null,{"$f":"'3 - Alt Num Lanes Input'!AS37","v":0},{"$f":"'3 - Alt Num Lanes Input'!AT37","v":0},{"$f":"'3 - Alt Num Lanes Input'!AU37","v":0},{"$f":"'3 - Alt Num Lanes Input'!AV37","v":0},null,null,null,null,null,null,{"$f":"'3 - Alt Num Lanes Input'!BC37","v":0},{"$f":"'3 - Alt Num Lanes Input'!BD37","v":0},{"$f":"'3 - Alt Num Lanes Input'!BE37","v":0},{"$f":"'3 - Alt Num Lanes Input'!BF37","v":0}]
[null,null,null,null,null,null,null,null,null,null,null,null,null,null,null,null,null,null,null,null,null,null,null,null,null,null,null,null,null,null,null,null,null,"E",null,null,null,null,null,null,null,null,{"$f":"'3 - Alt Num Lanes Input'!AE38","v":2},{"$f":"'3 - Alt Num Lanes Input'!AF38","v":0},{"$f":"'3 - Alt Num Lanes Input'!AG38","v":1},{"$f":"'3 - Alt Num Lanes Input'!AH38","v":0},null,null,{"$f":"'3 - Alt Num Lanes Input'!AK38","v":1},{"$f":"'3 - Alt Num Lanes Input'!AL38","v":0},{"$f":"'3 - Alt Num Lanes Input'!AM38","v":2},{"$f":"'3 - Alt Num Lanes Input'!AN38","v":0},null,null,null,null,null,null,null,null,null,null,null,null,{"$f":"'3 - Alt Num Lanes Input'!BA38","v":1},{"$f":"'3 - Alt Num Lanes Input'!BB38","v":0},null,null,{"$f":"'3 - Alt Num Lanes Input'!BE38","v":1},{"$f":"'3 - Alt Num Lanes Input'!BF38","v":0}]
[null,null,null,null,null,null,null,null,null,null,null,null,null,null,null,null,null,null,null,null,null,null,null,null,null,null,null,null,null,null,null,null,null,null,null,null,null,null,null,null,null,null,{"$f":"'3 - Alt Num Lanes Input'!AE39","v":0},{"$f":"'3 - Alt Num Lanes Input'!AF39","v":0},{"$f":"'3 - Alt Num Lanes Input'!AG39","v":0},{"$f":"'3 - Alt Num Lanes Input'!AH39","v":0},null,null,{"$f":"'3 - Alt Num Lanes Input'!AK39","v":0},{"$f":"'3 - Alt Num Lanes Input'!AL39","v":0},{"$f":"'3 - Alt Num Lanes Input'!AM39","v":0},{"$f":"'3 - Alt Num Lanes Input'!AN39","v":0},null,null,null,null,null,null,null,null,null,null,null,null,{"$f":"'3 - Alt Num Lanes Input'!BA39","v":0},{"$f":"'3 - Alt Num Lanes Input'!BB39","v":0},null,null,{"$f":"'3 - Alt Num Lanes Input'!BE39","v":0},{"$f":"'3 - Alt Num Lanes Input'!BF39","v":0}]
[null,null,null,null,null,null,null,null,null,null,null,null,null,null,null,null,null,null,null,null,null,null,null,null,null,null,null,null,null,null,null,null,null,"S",null,null,null,null,null,null,{"$f":"'3 - Alt Num Lanes Input'!AC40","v":1},{"$f":"'3 - Alt Num Lanes Input'!AD40","v":0},null,null,{"$f":"'3 - Alt Num Lanes Input'!AG40","v":1},{"$f":"'3 - Alt Num Lanes Input'!AH40","v":0},null,null,null,null,null,null,null,null,null,null,null,null,{"$f":"'3 - Alt Num Lanes Input'!AU40","v":2},{"$f":"'3 - Alt Num Lanes Input'!AV40","v":0},{"$f":"'3 - Alt Num Lanes Input'!AW40","v":1},{"$f":"'3 - Alt Num Lanes Input'!AX40","v":0},null,null,{"$f":"'3 - Alt Num Lanes Input'!BA40","v":1},{"$f":"'3 - Alt Num Lanes Input'!BB40","v":0},{"$f":"'3 - Alt Num Lanes Input'!BC40","v":2},{"$f":"'3 - Alt Num Lanes Input'!BD40","v":0}]
[null,null,null,null,null,null,null,null,null,null,null,null,null,null,null,null,null,null,null,null,null,null,null,null,null,null,null,null,null,null,null,null,null,null,null,null,null,null,null,null,{"$f":"'3 - Alt Num Lanes Input'!AC41","v":0},{"$f":"'3 - Alt Num Lanes Input'!AD41","v":0},null,null,{"$f":"'3 - Alt Num Lanes Input'!AG41","v":0},{"$f":"'3 - Alt Num Lanes Input'!AH41","v":0},null,null,null,null,null,null,null,null,null,null,null,null,{"$f":"'3 - Alt Num Lanes Input'!AU41","v":0},{"$f":"'3 - Alt Num Lanes Input'!AV41","v":0},{"$f":"'3 - Alt Num Lanes Input'!AW41","v":0},{"$f":"'3 - Alt Num Lanes Input'!AX41","v":0},null,null,{"$f":"'3 - Alt Num Lanes Input'!BA41","v":0},{"$f":"'3 - Alt Num Lanes Input'!BB41","v":0},{"$f":"'3 - Alt Num Lanes Input'!BC41","v":0},{"$f":"'3 - Alt Num Lanes Input'!BD41","v":0}]
[null,null,null,null,null,null,null,null,null,null,null,null,null,null,null,null,"Quadrant Roadway",null,null,null,null,null,null,null,null,null,null,null,null,null,null,null,null,"S-W",null,null,null,null,"See the respective intersection tab(s) to view the # of lanes inputs."]
[]
[null,null,null,null,null,null,null,null,null,null,null,null,null,null,null,null,null,null,null,null,null,null,null,null,null,null,null,null,null,null,null,null,null,"N-E"]
[]
[null,null,null,null,null,null,null,null,null,null,null,null,null,null,null,null,null,null,null,null,null,null,null,null,null,null,null,null,null,null,null,null,null,"S-E"]
[]
[null,null,null,null,null,null,null,null,null,null,null,null,null,null,null,null,null,null,null,null,null,null,null,null,null,null,null,null,null,null,null,null,null,"N-W"]
[]
[null,null,null,null,null,null,null,null,null,null,null,null,null,null,null,null,"Partial Displaced Left Turn",null,null,null,null,null,null,null,null,null,null,null,null,null,null,null,null,"N-S",null,null,null,null,null,null,{"$f":"'3 - Alt Num Lanes Input'!AC50","v":1},null,{"$f":"'3 - Alt Num Lanes Input'!AE50","v":1},null,{"$f":"'3 - Alt Num Lanes Input'!AG50","v":1},null,null,null,{"$f":"'3 - Alt Num Lanes Input'!AK50","v":1},null,{"$f":"'3 - Alt Num Lanes Input'!AM50","v":1},null,{"$f":"'3 - Alt Num Lanes Input'!AO50","v":1},null,null,null,{"$f":"'3 - Alt Num Lanes Input'!AS50","v":1},null,{"$f":"'3 - Alt Num Lanes Input'!AU50","v":2},null,{"$f":"'3 - Alt Num Lanes Input'!AW50","v":1},null,null,null,{"$f":"'3 - Alt Num Lanes Input'!BA50","v":1},null,{"$f":"'3 - Alt Num Lanes Input'!BC50","v":2},null,{"$f":"'3 - Alt Num Lanes Input'!BE50","v":1}]
[]
[null,null,null,null,null,null,null,null,null,null,null,null,null,null,null,null,null,null,null,null,null,null,null,null,null,null,null,null,null,null,null,null,null,"E-W",null,null,null,null,null,null,{"$f":"'3 - Alt Num Lanes Input'!AC52","v":1},null,{"$f":"'3 - Alt Num Lanes Input'!AE52","v":2},null,{"$f":"'3 - Alt Num Lanes Input'!AG52","v":1},null,null,null,{"$f":"'3 - Alt Num Lanes Input'!AK52","v":1},null,{"$f":"'3 - Alt Num Lanes Input'!AM52","v":2},null,{"$f":"'3 - Alt Num Lanes Input'!AO52","v":1},null,null,null,{"$f":"'3 - Alt Num Lanes Input'!AS52","v":1},null,{"$f":"'3 - Alt Num Lanes Input'!AU52","v":1},null,{"$f":"'3 - Alt Num Lanes Input'!AW52","v":1},null,null,null,{"$f":"'3 - Alt Num Lanes Input'!BA52","v":1},null,{"$f":"'3 - Alt Num Lanes Input'!BC52","v":1},null,{"$f":"'3 - Alt Num Lanes Input'!BE52","v":1}]
[]
[null,null,null,null,null,null,null,null,null,null,null,null,null,null,null,null,"Displaced Left Turn",null,null,null,null,null,null,null,null,null,null,null,null,null,null,null,null,"FULL",null,null,null,null,null,null,{"$f":"'3 - Alt Num Lanes Input'!AC54","v":1},null,{"$f":"'3 - Alt Num Lanes Input'!AE54","v":2},null,{"$f":"'3 - Alt Num Lanes Input'!AG54","v":1},null,null,null,{"$f":"'3 - Alt Num Lanes Input'!AK54","v":1},null,{"$f":"'3 - Alt Num Lanes Input'!AM54","v":2},null,{"$f":"'3 - Alt Num Lanes Input'!AO54","v":1},null,null,null,{"$f":"'3 - Alt Num Lanes Input'!AS54","v":1},null,{"$f":"'3 - Alt Num Lanes Input'!AU54","v":2},null,{"$f":"'3 - Alt Num Lanes Input'!AW54","v":1},null,null,null,{"$f":"'3 - Alt Num Lanes Input'!BA54","v":1},null,{"$f":"'3 - Alt Num Lanes Input'!BC54","v":2},null,{"$f":"'3 - Alt Num Lanes Input'!BE54","v":1}]
[]
[null,null,null,null,null,null,null,null,null,null,null,null,null,null,null,null,{"$f":"'3 - Alt Num Lanes Input'!E56","v":"Signalized Restricted Crossing U-Turn"},null,null,null,null,null,null,null,null,null,null,null,null,null,null,null,null,"N-S",null,null,null,null,{"$f":"'3 - Alt Num Lanes Input'!AA56","v":1},null,{"$f":"'3 - Alt Num Lanes Input'!AC56","v":1},null,{"$f":"'3 - Alt Num Lanes Input'!AE56","v":2},null,{"$f":"'3 - Alt Num Lanes Input'!AG56","v":1},null,{"$f":"'3 - Alt Num Lanes Input'!AI56","v":1},null,{"$f":"'3 - Alt Num Lanes Input'!AK56","v":1},null,{"$f":"'3 - Alt Num Lanes Input'!AM56","v":2},null,{"$f":"'3 - Alt Num Lanes Input'!AO56","v":1},null,null,null,null,null,null,null,{"$f":"'3 - Alt Num Lanes Input'!AW56","v":1},null,null,null,null,null,null,null,{"$f":"'3 - Alt Num Lanes Input'!BE56","v":1}]
[]
[null,null,null,null,null,null,null,null,null,null,null,null,null,null,null,null,null,null,null,null,null,null,null,null,null,null,null,null,null,null,null,null,null,"E-W",null,null,null,null,null,null,null,null,null,null,{"$f":"'3 - Alt Num Lanes Input'!AG58","v":1},null,null,null,null,null,null,null,{"$f":"'3 - Alt Num Lanes Input'!AO58","v":1},null,{"$f":"'3 - Alt Num Lanes Input'!AQ58","v":1},null,{"$f":"'3 - Alt Num Lanes Input'!AS58","v":1},null,{"$f":"'3 - Alt Num Lanes Input'!AU58","v":2},null,{"$f":"'3 - Alt Num Lanes Input'!AW58","v":1},null,{"$f":"'3 - Alt Num Lanes Input'!AY58","v":1},null,{"$f":"'3 - Alt Num Lanes Input'!BA58","v":1},null,{"$f":"'3 - Alt Num Lanes Input'!BC58","v":2},null,{"$f":"'3 - Alt Num Lanes Input'!BE58","v":1}]
[]
[null,null,null,null,null,null,null,null,null,null,null,null,null,null,null,null,{"$f":"'3 - Alt Num Lanes Input'!E60","v":"Unsignalized Restricted Crossing U-Turn"},null,null,null,null,null,null,null,null,null,null,null,null,null,null,null,null,"N-S",null,null,null,null,{"$f":"'3 - Alt Num Lanes Input'!AA60","v":1},null,{"$f":"'3 - Alt Num Lanes Input'!AC60","v":1},null,{"$f":"'3 - Alt Num Lanes Input'!AE60","v":2},null,{"$f":"'3 - Alt Num Lanes Input'!AG60","v":1},null,{"$f":"'3 - Alt Num Lanes Input'!AI60","v":1},null,{"$f":"'3 - Alt Num Lanes Input'!AK60","v":1},null,{"$f":"'3 - Alt Num Lanes Input'!AM60","v":2},null,{"$f":"'3 - Alt Num Lanes Input'!AO60","v":1},null,null,null,null,null,null,null,{"$f":"'3 - Alt Num Lanes Input'!AW60","v":1},null,null,null,null,null,null,null,{"$f":"'3 - Alt Num Lanes Input'!BE60","v":1}]
[]
[null,null,null,null,null,null,null,null,null,null,null,null,null,null,null,null,null,null,null,null,null,null,null,null,null,null,null,null,null,null,null,null,null,"E-W",null,null,null,null,null,null,null,null,null,null,{"$f":"'3 - Alt Num Lanes Input'!AG62","v":1},null,null,null,null,null,null,null,{"$f":"'3 - Alt Num Lanes Input'!AO62","v":1},null,{"$f":"'3 - Alt Num Lanes Input'!AQ62","v":1},null,{"$f":"'3 - Alt Num Lanes Input'!AS62","v":1},null,{"$f":"'3 - Alt Num Lanes Input'!AU62","v":2},null,{"$f":"'3 - Alt Num Lanes Input'!AW62","v":1},null,{"$f":"'3 - Alt Num Lanes Input'!AY62","v":1},null,{"$f":"'3 - Alt Num Lanes Input'!BA62","v":1},null,{"$f":"'3 - Alt Num Lanes Input'!BC62","v":2},null,{"$f":"'3 - Alt Num Lanes Input'!BE62","v":1}]
[]
[null,null,null,null,null,null,null,null,null,null,null,null,null,null,null,null,"Median U-Turn",null,null,null,null,null,null,null,null,null,null,null,null,null,null,null,null,"N-S",null,null,null,null,{"$f":"'3 - Alt Num Lanes Input'!AA64","v":1},null,null,null,{"$f":"'3 - Alt Num Lanes Input'!AE64","v":2},null,{"$f":"'3 - Alt Num Lanes Input'!AG64","v":1},null,{"$f":"'3 - Alt Num Lanes Input'!AI64","v":1},null,null,null,{"$f":"'3 - Alt Num Lanes Input'!AM64","v":2},null,{"$f":"'3 - Alt Num Lanes Input'!AO64","v":1},null,null,null,null,null,{"$f":"'3 - Alt Num Lanes Input'!AU64","v":2},null,{"$f":"'3 - Alt Num Lanes Input'!AW64","v":1},null,null,null,null,null,{"$f":"'3 - Alt Num Lanes Input'!BC64","v":2},null,{"$f":"'3 - Alt Num Lanes Input'!BE64","v":1}]
[]
[null,null,null,null,null,null,null,null,null,null,null,null,null,null,null,null,null,null,null,null,null,null,null,null,null,null,null,null,null,null,null,null,null,"E-W",null,null,null,null,null,null,null,null,{"$f":"'3 - Alt Num Lanes Input'!AE66","v":2},null,{"$f":"'3 - Alt Num Lanes Input'!AG66","v":1},null,null,null,null,null,{"$f":"'3 - Alt Num Lanes Input'!AM66","v":2},null,{"$f":"'3 - Alt Num Lanes Input'!AO66","v":1},null,{"$f":"'3 - Alt Num Lanes Input'!AQ66","v":1},null,null,null,{"$f":"'3 - Alt Num Lanes Input'!AU66","v":2},null,{"$f":"'3 - Alt Num Lanes Input'!AW66","v":1},null,{"$f":"'3 - Alt Num Lanes Input'!AY66","v":1},null,null,null,{"$f":"'3 - Alt Num Lanes Input'!BC66","v":2},null,{"$f":"'3 - Alt Num Lanes Input'!BE66","v":1}]
[]
[null,null,null,null,null,null,null,null,null,null,null,null,null,null,null,null,"Partial Median U-Turn",null,null,null,null,null,null,null,null,null,null,null,null,null,null,null,null,"N-S",null,null,null,null,{"$f":"'3 - Alt Num Lanes Input'!AA68","v":1},null,null,null,{"$f":"'3 - Alt Num Lanes Input'!AE68","v":2},null,{"$f":"'3 - Alt Num Lanes Input'!AG68","v":1},null,{"$f":"'3 - Alt Num Lanes Input'!AI68","v":1},null,null,null,{"$f":"'3 - Alt Num Lanes Input'!AM68","v":2},null,{"$f":"'3 - Alt Num Lanes Input'!AO68","v":1},null,null,null,{"$f":"'3 - Alt Num Lanes Input'!AS68","v":1},null,{"$f":"'3 - Alt Num Lanes Input'!AU68","v":2},null,{"$f":"'3 - Alt Num Lanes Input'!AW68","v":1},null,null,null,{"$f":"'3 - Alt Num Lanes Input'!BA68","v":1},null,{"$f":"'3 - Alt Num Lanes Input'!BC68","v":2},null,{"$f":"'3 - Alt Num Lanes Input'!BE68","v":1}]
[]
[null,null,null,null,null,null,null,null,null,null,null,null,null,null,null,null,null,null,null,null,null,null,null,null,null,null,null,null,null,null,null,null,null,"E-W",null,null,null,null,null,null,{"$f":"'3 - Alt Num Lanes Input'!AC70","v":1},null,{"$f":"'3 - Alt Num Lanes Input'!AE70","v":2},null,{"$f":"'3 - Alt Num Lanes Input'!AG70","v":1},null,null,null,{"$f":"'3 - Alt Num Lanes Input'!AK70","v":1},null,{"$f":"'3 - Alt Num Lanes Input'!AM70","v":2},null,{"$f":"'3 - Alt Num Lanes Input'!AO70","v":1},null,{"$f":"'3 - Alt Num Lanes Input'!AQ70","v":1},null,null,null,{"$f":"'3 - Alt Num Lanes Input'!AU70","v":2},null,{"$f":"'3 - Alt Num Lanes Input'!AW70","v":1},null,{"$f":"'3 - Alt Num Lanes Input'!AY70","v":1},null,null,null,{"$f":"'3 - Alt Num Lanes Input'!BC70","v":2},null,{"$f":"'3 - Alt Num Lanes Input'!BE70","v":1}]
[]
[null,null,null,null,null,null,null,null,null,null,null,null,null,null,null,null,{"$f":"'3 - Alt Num Lanes Input'!E72","v":"Bowtie"},null,null,null,null,null,null,null,null,null,null,null,null,null,null,null,null,"N-S",null,null,null,null,null,null,null,null,{"$f":"'3 - Alt Num Lanes Input'!AE72","v":1},null,{"$f":"'3 - Alt Num Lanes Input'!AG72","v":1},null,null,null,null,null,{"$f":"'3 - Alt Num Lanes Input'!AM72","v":1},null,{"$f":"'3 - Alt Num Lanes Input'!AO72","v":1},null,null,null,null,null,{"$f":"'3 - Alt Num Lanes Input'!AU72","v":1},null,{"$f":"'3 - Alt Num Lanes Input'!AW72","v":1},null,null,null,null,null,{"$f":"'3 - Alt Num Lanes Input'!BC72","v":1},null,{"$f":"'3 - Alt Num Lanes Input'!BE72","v":1}]
[]
[null,null,null,null,null,null,null,null,null,null,null,null,null,null,null,null,null,null,null,null,null,null,null,null,null,null,null,null,null,null,null,null,null,"E-W",null,null,null,null,null,null,null,null,{"$f":"'3 - Alt Num Lanes Input'!AE74","v":1},null,{"$f":"'3 - Alt Num Lanes Input'!AG74","v":1},null,null,null,null,null,{"$f":"'3 - Alt Num Lanes Input'!AM74","v":1},null,{"$f":"'3 - Alt Num Lanes Input'!AO74","v":1},null,null,null,null,null,{"$f":"'3 - Alt Num Lanes Input'!AU74","v":1},null,{"$f":"'3 - Alt Num Lanes Input'!AW74","v":1},null,null,null,null,null,{"$f":"'3 - Alt Num Lanes Input'!BC74","v":1},null,{"$f":"'3 - Alt Num Lanes Input'!BE74","v":1}]
[]
[null,null,null,null,null,null,null,null,null,null,null,null,null,null,null,null,{"$f":"'3 - Alt Num Lanes Input'!E76","v":"Split Intersection"},null,null,null,null,null,null,null,null,null,null,null,null,null,null,null,null,"N-S",null,null,null,null,"See the respective intersection tab(s) to view the # of lanes inputs."]
[]
[null,null,null,null,null,null,null,null,null,null,null,null,null,null,null,null,null,null,null,null,null,null,null,null,null,null,null,null,null,null,null,null,null,"E-W"]
[]
[]
[null,null,null,null,null,null,null,null,null,null,null,null,null,null,null,null,"Number of Lanes for Grade Separated Intersections"]
[]
[null,null,null,null,null,null,null,null,null,null,null,null,null,null,null,null,"TYPE OF INTERCHANGE",null,null,null,null,null,null,null,null,null,null,null,null,null,null,null,null,"Sheet",null,null,null,null,"Northbound",null,null,null,null,null,null,null,"Southbound",null,null,null,null,null,null,null,"Eastbound",null,null,null,null,null,null,null,"Westbound"]
[]
[null,null,null,null,null,null,null,null,null,null,null,null,null,null,null,null,null,null,null,null,null,null,null,null,null,null,null,null,null,null,null,null,null,null,null,null,null,null,"U",null,"L",null,"T",null,"R",null,"U",null,"L",null,"T",null,"R",null,"U",null,"L",null,"T",null,"R",null,"U",null,"L",null,"T",null,"R"]
[]
[null,null,null,null,null,null,null,null,null,null,null,null,null,null,null,null,{"$f":"'3 - Alt Num Lanes Input'!E95","v":"Echelon"},null,null,null,null,null,null,null,null,null,null,null,null,null,null,null,null,"N-S",null,null,null,null,null,null,{"$f":"'3 - Alt Num Lanes Input'!AC95","v":1},null,{"$f":"'3 - Alt Num Lanes Input'!AE95","v":2},null,{"$f":"'3 - Alt Num Lanes Input'!AG95","v":1},null,null,null,{"$f":"'3 - Alt Num Lanes Input'!AK95","v":1},null,{"$f":"'3 - Alt Num Lanes Input'!AM95","v":2},null,{"$f":"'3 - Alt Num Lanes Input'!AO95","v":1},null,null,null,{"$f":"'3 - Alt Num Lanes Input'!AS95","v":1},null,{"$f":"'3 - Alt Num Lanes Input'!AU95","v":2},null,{"$f":"'3 - Alt Num Lanes Input'!AW95","v":1},null,null,null,{"$f":"'3 - Alt Num Lanes Input'!BA95","v":1},null,{"$f":"'3 - Alt Num Lanes Input'!BC95","v":2},null,{"$f":"'3 - Alt Num Lanes Input'!BE95","v":1}]
[]
[null,null,null,null,null,null,null,null,null,null,null,null,null,null,null,null,null,null,null,null,null,null,null,null,null,null,null,null,null,null,null,null,null,"E-W",null,null,null,null,null,null,{"$f":"'3 - Alt Num Lanes Input'!AC97","v":1},null,{"$f":"'3 - Alt Num Lanes Input'!AE97","v":2},null,{"$f":"'3 - Alt Num Lanes Input'!AG97","v":1},null,null,null,{"$f":"'3 - Alt Num Lanes Input'!AK97","v":1},null,{"$f":"'3 - Alt Num Lanes Input'!AM97","v":2},null,{"$f":"'3 - Alt Num Lanes Input'!AO97","v":1},null,null,null,{"$f":"'3 - Alt Num Lanes Input'!AS97","v":1},null,{"$f":"'3 - Alt Num Lanes Input'!AU97","v":2},null,{"$f":"'3 - Alt Num Lanes Input'!AW97","v":1},null,null,null,{"$f":"'3 - Alt Num Lanes Input'!BA97","v":1},null,{"$f":"'3 - Alt Num Lanes Input'!BC97","v":2},null,{"$f":"'3 - Alt Num Lanes Input'!BE97","v":1}]
[]
[null,null,null,null,null,null,null,null,null,null,null,null,null,null,null,null,{"$f":"'3 - Alt Num Lanes Input'!E99","v":"Center Turn Overpass"},null,null,null,null,null,null,null,null,null,null,null,null,null,null,null,null,"Full",null,null,null,null,null,null,{"$f":"'3 - Alt Num Lanes Input'!AC99","v":1},null,{"$f":"'3 - Alt Num Lanes Input'!AE99","v":2},null,{"$f":"'3 - Alt Num Lanes Input'!AG99","v":1},null,null,null,{"$f":"'3 - Alt Num Lanes Input'!AK99","v":1},null,{"$f":"'3 - Alt Num Lanes Input'!AM99","v":2},null,{"$f":"'3 - Alt Num Lanes Input'!AO99","v":1},null,null,null,{"$f":"'3 - Alt Num Lanes Input'!AS99","v":1},null,{"$f":"'3 - Alt Num Lanes Input'!AU99","v":2},null,{"$f":"'3 - Alt Num Lanes Input'!AW99","v":1},null,null,null,{"$f":"'3 - Alt Num Lanes Input'!BA99","v":1},null,{"$f":"'3 - Alt Num Lanes Input'!BC99","v":2},null,{"$f":"'3 - Alt Num Lanes Input'!BE99","v":1}]
[]
[]
[]
[null,null,null,null,null,null,null,null,null,null,null,null,null,null,null,null,"Number of Lanes for Interchanges"]
[]
[null,null,null,null,null,null,null,null,null,null,null,null,null,null,null,null,"TYPE OF INTERCHANGE",null,null,null,null,null,null,null,null,null,null,null,null,null,null,null,null,"Sheet",null,null,null,null,"Northbound",null,null,null,null,null,null,null,"Southbound",null,null,null,null,null,null,null,"Eastbound",null,null,null,null,null,null,null,"Westbound"]
[]
[null,null,null,null,null,null,null,null,null,null,null,null,null,null,null,null,null,null,null,null,null,null,null,null,null,null,null,null,null,null,null,null,null,null,null,null,null,null,"U",null,"L",null,"T",null,"R",null,"U",null,"L",null,"T",null,"R",null,"U",null,"L",null,"T",null,"R",null,"U",null,"L",null,"T",null,"R"]
[]
[null,null,null,null,null,null,null,null,null,null,null,null,null,null,null,null,"Diamond",null,null,null,null,null,null,null,null,null,null,null,null,null,null,null,null,"N-S",null,null,null,null,null,null,{"$f":"'3 - Alt Num Lanes Input'!AC113","v":1},null,{"$f":"'3 - Alt Num Lanes Input'!AE113","v":2},null,{"$f":"'3 - Alt Num Lanes Input'!AG113","v":1},null,null,null,{"$f":"'3 - Alt Num Lanes Input'!AK113","v":1},null,{"$f":"'3 - Alt Num Lanes Input'!AM113","v":2},null,{"$f":"'3 - Alt Num Lanes Input'!AO113","v":1},null,null,null,{"$f":"'3 - Alt Num Lanes Input'!AS113","v":1},null,{"$f":"'3 - Alt Num Lanes Input'!AU113","v":2},null,{"$f":"'3 - Alt Num Lanes Input'!AW113","v":1},null,null,null,{"$f":"'3 - Alt Num Lanes Input'!BA113","v":1},null,{"$f":"'3 - Alt Num Lanes Input'!BC113","v":2},null,{"$f":"'3 - Alt Num Lanes Input'!BE113","v":1}]
[]
[null,null,null,null,null,null,null,null,null,null,null,null,null,null,null,null,null,null,null,null,null,null,null,null,null,null,null,null,null,null,null,null,null,"E-W",null,null,null,null,null,null,{"$f":"'3 - Alt Num Lanes Input'!AC115","v":0},null,{"$f":"'3 - Alt Num Lanes Input'!AE115","v":2},null,{"$f":"'3 - Alt Num Lanes Input'!AG115","v":0},null,null,null,{"$f":"'3 - Alt Num Lanes Input'!AK115","v":0},null,{"$f":"'3 - Alt Num Lanes Input'!AM115","v":2},null,{"$f":"'3 - Alt Num Lanes Input'!AO115","v":0},null,null,null,{"$f":"'3 - Alt Num Lanes Input'!AS115","v":1},null,{"$f":"'3 - Alt Num Lanes Input'!AU115","v":0},null,{"$f":"'3 - Alt Num Lanes Input'!AW115","v":1},null,null,null,{"$f":"'3 - Alt Num Lanes Input'!BA115","v":1},null,{"$f":"'3 - Alt Num Lanes Input'!BC115","v":0},null,{"$f":"'3 - Alt Num Lanes Input'!BE115","v":1}]
[]
[null,null,null,null,null,null,null,null,null,null,null,null,null,null,null,null,"Partial Cloverleaf A",null,null,null,null,null,null,null,null,null,null,null,null,null,null,null,null,"N-S",null,null,null,null,null,null,null,null,{"$f":"'3 - Alt Num Lanes Input'!AE115","v":2},null,null,null,null,null,null,null,{"$f":"'3 - Alt Num Lanes Input'!AM115","v":2},null,null,null,null,null,{"$f":"'3 - Alt Num Lanes Input'!AS115","v":1},null,null,null,{"$f":"'3 - Alt Num Lanes Input'!AW115","v":1},null,null,null,{"$f":"'3 - Alt Num Lanes Input'!BA115","v":1},null,null,null,{"$f":"'3 - Alt Num Lanes Input'!BE115","v":1}]
[]
[null,null,null,null,null,null,null,null,null,null,null,null,null,null,null,null,null,null,null,null,null,null,null,null,null,null,null,null,null,null,null,null,null,"E-W",null,null,null,null,null,null,{"$f":"'3 - Alt Num Lanes Input'!AC117","v":1},null,null,null,{"$f":"'3 - Alt Num Lanes Input'!AG117","v":1},null,null,null,{"$f":"'3 - Alt Num Lanes Input'!AK117","v":1},null,null,null,{"$f":"'3 - Alt Num Lanes Input'!AO117","v":1},null,null,null,null,null,{"$f":"'3 - Alt Num Lanes Input'!AU117","v":2},null,null,null,null,null,null,null,{"$f":"'3 - Alt Num Lanes Input'!BC117","v":2}]
[]
[null,null,null,null,null,null,null,null,null,null,null,null,null,null,null,null,"Partial Cloverleaf B",null,null,null,null,null,null,null,null,null,null,null,null,null,null,null,null,"N-S",null,null,null,null,null,null,{"$f":"'3 - Alt Num Lanes Input'!AC119","v":1},null,{"$f":"'3 - Alt Num Lanes Input'!AE119","v":2},null,{"$f":"'3 - Alt Num Lanes Input'!AG119","v":1},null,null,null,{"$f":"'3 - Alt Num Lanes Input'!AK119","v":1},null,{"$f":"'3 - Alt Num Lanes Input'!AM119","v":2},null,{"$f":"'3 - Alt Num Lanes Input'!AO119","v":1},null,null,null,{"$f":"'3 - Alt Num Lanes Input'!AS119","v":1},null,null,null,{"$f":"'3 - Alt Num Lanes Input'!AW119","v":1},null,null,null,{"$f":"'3 - Alt Num Lanes Input'!BA119","v":1},null,null,null,{"$f":"'3 - Alt Num Lanes Input'!BE119","v":1}]
[]
[null,null,null,null,null,null,null,null,null,null,null,null,null,null,null,null,null,null,null,null,null,null,null,null,null,null,null,null,null,null,null,null,null,"E-W",null,null,null,null,null,null,{"$f":"'3 - Alt Num Lanes Input'!AC121","v":1},null,null,null,{"$f":"'3 - Alt Num Lanes Input'!AG121","v":1},null,null,null,{"$f":"'3 - Alt Num Lanes Input'!AK121","v":1},null,null,null,{"$f":"'3 - Alt Num Lanes Input'!AO121","v":1},null,null,null,{"$f":"'3 - Alt Num Lanes Input'!AS121","v":1},null,{"$f":"'3 - Alt Num Lanes Input'!AU121","v":2},null,{"$f":"'3 - Alt Num Lanes Input'!AW121","v":1},null,null,null,{"$f":"'3 - Alt Num Lanes Input'!BA121","v":1},null,{"$f":"'3 - Alt Num Lanes Input'!BC121","v":2},null,{"$f":"'3 - Alt Num Lanes Input'!BE121","v":1}]
[]
[null,null,null,null,null,null,null,null,null,null,null,null,null,null,null,null,"Displaced Left Turn",null,null,null,null,null,null,null,null,null,null,null,null,null,null,null,null,"N-S",null,null,null,null,null,null,{"$f":"'3 - Alt Num Lanes Input'!AC123","v":1},null,{"$f":"'3 - Alt Num Lanes Input'!AE123","v":2},null,{"$f":"'3 - Alt Num Lanes Input'!AG123","v":1},null,null,null,{"$f":"'3 - Alt Num Lanes Input'!AK123","v":1},null,{"$f":"'3 - Alt Num Lanes Input'!AM123","v":2},null,{"$f":"'3 - Alt Num Lanes Input'!AO123","v":1},null,null,null,{"$f":"'3 - Alt Num Lanes Input'!AS123","v":1},null,{"$f":"'3 - Alt Num Lanes Input'!AU123","v":2},null,{"$f":"'3 - Alt Num Lanes Input'!AW123","v":1},null,null,null,{"$f":"'3 - Alt Num Lanes Input'!BA123","v":1},null,{"$f":"'3 - Alt Num Lanes Input'!BC123","v":2},null,{"$f":"'3 - Alt Num Lanes Input'!BE123","v":1}]
[]
[null,null,null,null,null,null,null,null,null,null,null,null,null,null,null,null,null,null,null,null,null,null,null,null,null,null,null,null,null,null,null,null,null,"E-W",null,null,null,null,null,null,{"$f":"'3 - Alt Num Lanes Input'!AC125","v":1},null,{"$f":"'3 - Alt Num Lanes Input'!AE125","v":2},null,{"$f":"'3 - Alt Num Lanes Input'!AG125","v":1},null,null,null,{"$f":"'3 - Alt Num Lanes Input'!AK125","v":1},null,{"$f":"'3 - Alt Num Lanes Input'!AM125","v":2},null,{"$f":"'3 - Alt Num Lanes Input'!AO125","v":1},null,null,null,{"$f":"'3 - Alt Num Lanes Input'!AS125","v":1},null,{"$f":"'3 - Alt Num Lanes Input'!AU125","v":2},null,{"$f":"'3 - Alt Num Lanes Input'!AW125","v":1},null,null,null,{"$f":"'3 - Alt Num Lanes Input'!BA125","v":1},null,{"$f":"'3 - Alt Num Lanes Input'!BC125","v":2},null,{"$f":"'3 - Alt Num Lanes Input'!BE125","v":1}]
[]
[null,null,null,null,null,null,null,null,null,null,null,null,null,null,null,null,{"$f":"'3 - Alt Num Lanes Input'!E127","v":"Contraflow Left Interchange"},null,null,null,null,null,null,null,null,null,null,null,null,null,null,null,null,"N-S",null,null,null,null,null,null,{"$f":"'3 - Alt Num Lanes Input'!AC127","v":1},null,{"$f":"'3 - Alt Num Lanes Input'!AE127","v":2},null,{"$f":"'3 - Alt Num Lanes Input'!AG127","v":1},null,null,null,{"$f":"'3 - Alt Num Lanes Input'!AK127","v":1},null,{"$f":"'3 - Alt Num Lanes Input'!AM127","v":2},null,{"$f":"'3 - Alt Num Lanes Input'!AO127","v":1},null,null,null,{"$f":"'3 - Alt Num Lanes Input'!AS127","v":1},null,null,null,{"$f":"'3 - Alt Num Lanes Input'!AW127","v":1},null,null,null,{"$f":"'3 - Alt Num Lanes Input'!BA127","v":1},null,null,null,{"$f":"'3 - Alt Num Lanes Input'!BE127","v":1}]
[]
[null,null,null,null,null,null,null,null,null,null,null,null,null,null,null,null,null,null,null,null,null,null,null,null,null,null,null,null,null,null,null,null,null,"E-W",null,null,null,null,null,null,{"$f":"'3 - Alt Num Lanes Input'!AC129","v":1},null,null,null,{"$f":"'3 - Alt Num Lanes Input'!AG129","v":1},null,null,null,{"$f":"'3 - Alt Num Lanes Input'!AK129","v":1},null,null,null,{"$f":"'3 - Alt Num Lanes Input'!AO129","v":1},null,null,null,{"$f":"'3 - Alt Num Lanes Input'!AS129","v":1},null,{"$f":"'3 - Alt Num Lanes Input'!AU129","v":2},null,{"$f":"'3 - Alt Num Lanes Input'!AW129","v":1},null,null,null,{"$f":"'3 - Alt Num Lanes Input'!BA129","v":1},null,{"$f":"'3 - Alt Num Lanes Input'!BC129","v":2},null,{"$f":"'3 - Alt Num Lanes Input'!BE129","v":1}]
[]
[null,null,null,null,null,null,null,null,null,null,null,null,null,null,null,null,"Diverging Diamond Interchange",null,null,null,null,null,null,null,null,null,null,null,null,null,null,null,null,"N-S",null,null,null,null,null,null,{"$f":"'3 - Alt Num Lanes Input'!AC131","v":1},null,{"$f":"'3 - Alt Num Lanes Input'!AE131","v":2},null,{"$f":"'3 - Alt Num Lanes Input'!AG131","v":1},null,null,null,{"$f":"'3 - Alt Num Lanes Input'!AK131","v":1},null,{"$f":"'3 - Alt Num Lanes Input'!AM131","v":2},null,{"$f":"'3 - Alt Num Lanes Input'!AO131","v":1},null,null,null,{"$f":"'3 - Alt Num Lanes Input'!AS131","v":1},null,null,null,{"$f":"'3 - Alt Num Lanes Input'!AW131","v":1},null,null,null,{"$f":"'3 - Alt Num Lanes Input'!BA131","v":1},null,null,null,{"$f":"'3 - Alt Num Lanes Input'!BE131","v":1}]
[]
[null,null,null,null,null,null,null,null,null,null,null,null,null,null,null,null,null,null,null,null,null,null,null,null,null,null,null,null,null,null,null,null,null,"E-W",null,null,null,null,null,null,{"$f":"'3 - Alt Num Lanes Input'!AC133","v":1},null,null,null,{"$f":"'3 - Alt Num Lanes Input'!AG133","v":1},null,null,null,{"$f":"'3 - Alt Num Lanes Input'!AK133","v":1},null,null,null,{"$f":"'3 - Alt Num Lanes Input'!AO133","v":1},null,null,null,{"$f":"'3 - Alt Num Lanes Input'!AS133","v":1},null,{"$f":"'3 - Alt Num Lanes Input'!AU133","v":2},null,{"$f":"'3 - Alt Num Lanes Input'!AW133","v":1},null,null,null,{"$f":"'3 - Alt Num Lanes Input'!BA133","v":1},null,{"$f":"'3 - Alt Num Lanes Input'!BC133","v":2},null,{"$f":"'3 - Alt Num Lanes Input'!BE133","v":1}]
[]
[null,null,null,null,null,null,null,null,null,null,null,null,null,null,null,null,"Single Point ",null,null,null,null,null,null,null,null,null,null,null,null,null,null,null,null,"N-S",null,null,null,null,null,null,{"$f":"'3 - Alt Num Lanes Input'!AC135","v":1},null,{"$f":"'3 - Alt Num Lanes Input'!AE135","v":2},null,{"$f":"'3 - Alt Num Lanes Input'!AG135","v":1},null,null,null,{"$f":"'3 - Alt Num Lanes Input'!AK135","v":1},null,{"$f":"'3 - Alt Num Lanes Input'!AM135","v":2},null,{"$f":"'3 - Alt Num Lanes Input'!AO135","v":1},null,null,null,{"$f":"'3 - Alt Num Lanes Input'!AS135","v":1},null,{"$f":"'3 - Alt Num Lanes Input'!AU135","v":2},null,{"$f":"'3 - Alt Num Lanes Input'!AW135","v":1},null,null,null,{"$f":"'3 - Alt Num Lanes Input'!BA135","v":1},null,{"$f":"'3 - Alt Num Lanes Input'!BC135","v":2},null,{"$f":"'3 - Alt Num Lanes Input'!BE135","v":1}]
[]
[null,null,null,null,null,null,null,null,null,null,null,null,null,null,null,null,null,null,null,null,null,null,null,null,null,null,null,null,null,null,null,null,null,"E-W",null,null,null,null,null,null,{"$f":"'3 - Alt Num Lanes Input'!AC137","v":1},null,{"$f":"'3 - Alt Num Lanes Input'!AE137","v":2},null,{"$f":"'3 - Alt Num Lanes Input'!AG137","v":1},null,null,null,{"$f":"'3 - Alt Num Lanes Input'!AK137","v":1},null,{"$f":"'3 - Alt Num Lanes Input'!AM137","v":2},null,{"$f":"'3 - Alt Num Lanes Input'!AO137","v":1},null,null,null,{"$f":"'3 - Alt Num Lanes Input'!AS137","v":1},null,{"$f":"'3 - Alt Num Lanes Input'!AU137","v":2},null,{"$f":"'3 - Alt Num Lanes Input'!AW137","v":1},null,null,null,{"$f":"'3 - Alt Num Lanes Input'!BA137","v":1},null,{"$f":"'3 - Alt Num Lanes Input'!BC137","v":2},null,{"$f":"'3 - Alt Num Lanes Input'!BE137","v":1}]
[]
[null,null,null,null,null,null,null,null,null,null,null,null,null,null,null,null,{"$f":"'3 - Alt Num Lanes Input'!E139","v":"Single Point with Roundabout"},null,null,null,null,null,null,null,null,null,null,null,null,null,null,null,null,"N-S",null,null,null,null,"See the respective intersection tab(s) to view the # of lanes inputs."]
[]
[null,null,null,null,null,null,null,null,null,null,null,null,null,null,null,null,null,null,null,null,null,null,null,null,null,null,null,null,null,null,null,null,null,"E-W"]
[]
[]
[null,"Capacity Analysis for Planning of Junctions"]
[]
[null,"Detailed Report - Page 3 of 4"]
[]
[]
[]
[null,null,null,null,"Results for Non-roundabout Intersections"]
[]
[null,null,null,null,"TYPE OF INTERSECTION",null,null,null,null,null,null,null,null,null,null,null,null,null,null,null,null,null,null,"Sheet",null,null,null,null,null,"Zone 1 (North)",null,null,null,null,null,"Zone 2 (South)",null,null,null,null,null,"Zone 3 (East)",null,null,null,null,null,"Zone 4 (West)",null,null,null,null,null,"Zone 5 (Center) ",null,null,null,null,null,"Overall v/c Ratio ",null,null,null,null,null,null,"Pedestrian Accommodations",null,null,null,"Bicycle Accommodations",null,null,null,"Transit Accommodations"]
[]
[null,null,null,null,null,null,null,null,null,null,null,null,null,null,null,null,null,null,null,null,null,null,null,null,null,null,null,null,null,"CLV",null,null,"V/C",null,null,"CLV",null,null,"V/C",null,null,"CLV",null,null,"V/C",null,null,"CLV",null,null,"V/C",null,null,"CLV",null,null,"V/C"]
[]
[null,null,null,null,{"$f":"'3 - Alt Num Lanes Input'!E24","v":"Traffic Signal"},null,null,null,null,null,null,null,null,null,null,null,null,null,null,null,null,null,null,"FULL",null,null,null,null,null,null,null,null,null,null,null,null,null,null,null,null,null,null,null,null,null,null,null,null,null,null,null,null,null,{"$f":"Result_Conventional_CLV_Z5","v":780.9806094182826},null,null,{"$f":"Result_Conventional_VC_Z5","v":0.46},null,null,{"$f":"MAX(AG193,AM193,AS193,AY193,BE193)","v":0.46},null,null,null,null,null,null,{"$f":"'4b - Detailed Results'!BO24","v":"Good"},null,null,null,{"$f":"'4b - Detailed Results'!BS24","v":"Excellent"},null,null,null,null,null,true]
[]
[null,null,null,null,"Conventional Shared RT LN",null,null,null,null,null,null,null,null,null,null,null,null,null,null,null,null,null,null,"CSRL",null,null,null,null,null,null,null,null,null,null,null,null,null,null,null,null,null,null,null,null,null,null,null,null,null,null,null,null,null,{"$f":"Result_ConventionalSharedRTLT_CLV_Z5","v":617.5},null,null,{"$f":"Result_ConventionalSharedRTLT_VC_Z5","v":0.36},null,null,{"$f":"MAX(AG195,AM195,AS195,AY195,BE195)","v":0.36},null,null,null,null,null,null,{"$f":"'4b - Detailed Results'!BO26","v":"Excellent"},null,null,null,{"$f":"'4b - Detailed Results'!BS26","v":"Excellent"},null,null,null,null,null,true]
[]
[null,null,null,null,{"$f":"'3 - Alt Num Lanes Input'!E28","v":"Two-Way Stop Control"},null,null,null,null,null,null,null,null,null,null,null,null,null,null,null,null,null,null,"N-S",null,null,null,null,null,null,null,null,null,null,null,null,null,null,null,null,null,null,null,null,null,null,null,null,null,null,null,null,null,"--",null,null,{"$f":"Result_TWSC_NS_VC_Z5","v":15.849681734685804},null,null,{"$f":"MAX(AG197,AM197,AS197,AY197,BE197)","v":15.849681734685804},null,null,null,null,null,null,{"$f":"'4b - Detailed Results'!BO28","v":"Fair"},null,null,null,{"$f":"'4b - Detailed Results'!BS28","v":"Good"}]
[]
[null,null,null,null,null,null,null,null,null,null,null,null,null,null,null,null,null,null,null,null,null,null,null,"E-W",null,null,null,null,null,null,null,null,null,null,null,null,null,null,null,null,null,null,null,null,null,null,null,null,null,null,null,null,null,"--",null,null,{"$f":"Result_TWSC_EW_VC_Z5","v":1.261768977408358},null,null,{"$f":"MAX(AG199,AM199,AS199,AY199,BE199)","v":1.261768977408358},null,null,null,null,null,null,{"$f":"'4b - Detailed Results'!BO30","v":"Fair"},null,null,null,{"$f":"'4b - Detailed Results'!BS30","v":"Good"}]
[]
[null,null,null,null,{"$f":"'3 - Alt Num Lanes Input'!E32","v":"All-Way Stop Control"},null,null,null,null,null,null,null,null,null,null,null,null,null,null,null,null,null,null,"FULL",null,null,null,null,null,null,null,null,null,null,null,null,null,null,null,null,null,null,null,null,null,null,null,null,null,null,null,null,null,{"$f":"Result_AWSC_CLV_Z5","v":1572},null,null,{"$f":"Result_AWSC_VC_Z5","v":1.31},null,null,{"$f":"MAX(AG201,AM201,AS201,AY201,BE201)","v":1.31},null,null,null,null,null,null,{"$f":"'4b - Detailed Results'!BO32","v":"Good"},null,null,null,{"$f":"'4b - Detailed Results'!BS32","v":"Excellent"}]
[]
[null,null,null,null,"Continuous Green T",null,null,null,null,null,null,null,null,null,null,null,null,null,null,null,null,null,null,"W",null,null,null,null,null,null,null,null,null,null,null,null,null,null,null,null,null,null,null,null,null,null,null,null,null,null,null,null,null,{"$f":"Result_CGT_W_CLV_Z5","v":242},null,null,{"$f":"Result_CGT_W_VC_Z5","v":0.14000000000000001},null,null,{"$f":"MAX(AG203,AM203,AS203,AY203,BE203)","v":0.14000000000000001},null,null,null,null,null,null,{"$f":"'4b - Detailed Results'!BO34","v":"Good"},null,null,null,{"$f":"'4b - Detailed Results'!BS34","v":"Excellent"},null,null,null,null,null,true]
[]
[null,null,null,null,null,null,null,null,null,null,null,null,null,null,null,null,null,null,null,null,null,null,null,"N",null,null,null,null,null,null,null,null,null,null,null,null,null,null,null,null,null,null,null,null,null,null,null,null,null,null,null,null,null,{"$f":"Result_CGT_N_CLV_Z5","v":167.26315789473688},null,null,{"$f":"Result_CGT_N_VC_Z5","v":0.1},null,null,{"$f":"MAX(AG205,AM205,AS205,AY205,BE205)","v":0.1},null,null,null,null,null,null,{"$f":"'4b - Detailed Results'!BO36","v":"Good"},null,null,null,{"$f":"'4b - Detailed Results'!BS36","v":"Excellent"},null,null,null,null,null,true]
[]
[null,null,null,null,null,null,null,null,null,null,null,null,null,null,null,null,null,null,null,null,null,null,null,"E",null,null,null,null,null,null,null,null,null,null,null,null,null,null,null,null,null,null,null,null,null,null,null,null,null,null,null,null,null,{"$f":"Result_CGT_E_CLV_Z5","v":320.26315789473688},null,null,{"$f":"Result_CGT_E_VC_Z5","v":0.18},null,null,{"$f":"MAX(AG207,AM207,AS207,AY207,BE207)","v":0.18},null,null,null,null,null,null,{"$f":"'4b - Detailed Results'!BO38","v":"Good"},null,null,null,{"$f":"'4b - Detailed Results'!BS38","v":"Excellent"},null,null,null,null,null,true]
[]
[null,null,null,null,null,null,null,null,null,null,null,null,null,null,null,null,null,null,null,null,null,null,null,"S",null,null,null,null,null,null,null,null,null,null,null,null,null,null,null,null,null,null,null,null,null,null,null,null,null,null,null,null,null,{"$f":"Result_CGT_S_CLV_Z5","v":242},null,null,{"$f":"Result_CGT_S_VC_Z5","v":0.14000000000000001},null,null,{"$f":"MAX(AG209,AM209,AS209,AY209,BE209)","v":0.14000000000000001},null,null,null,null,null,null,{"$f":"'4b - Detailed Results'!BO40","v":"Good"},null,null,null,{"$f":"'4b - Detailed Results'!BS40","v":"Excellent"},null,null,null,null,null,true]
[]
[null,null,null,null,"Quadrant Roadway",null,null,null,null,null,null,null,null,null,null,null,null,null,null,null,null,null,null,"S-W",null,null,null,null,null,null,null,null,null,null,null,{"$f":"Result_QR_SW_CLV_Z2","v":389.63157894736844},null,null,{"$f":"Result_QR_SW_VC_Z2","v":0.22},null,null,null,null,null,null,null,null,{"$f":"Result_QR_SW_CLV_Z4","v":242.00000000000003},null,null,{"$f":"Result_QR_SW_VC_Z4","v":0.14000000000000001},null,null,{"$f":"Result_QR_SW_CLV_Z5","v":372.5},null,null,{"$f":"Result_QR_SW_VC_Z5","v":0.21},null,null,{"$f":"MAX(AG211,AM211,AS211,AY211,BE211)","v":0.22},null,null,null,null,null,null,{"$f":"'4b - Detailed Results'!BO42","v":"Good"},null,null,null,{"$f":"'4b - Detailed Results'!BS42","v":"Excellent"},null,null,null,null,null,true]
[]
[null,null,null,null,null,null,null,null,null,null,null,null,null,null,null,null,null,null,null,null,null,null,null,"N-E",null,null,null,null,null,{"$f":"Result_QR_NE_CLV_Z1","v":351.63157894736844},null,null,{"$f":"Result_QR_NE_VC_Z1","v":0.2},null,null,null,null,null,null,null,null,{"$f":"Result_QR_NE_CLV_Z3","v":291},null,null,{"$f":"Result_QR_NE_VC_Z3","v":0.17},null,null,null,null,null,null,null,null,{"$f":"Result_QR_NE_CLV_Z5","v":459},null,null,{"$f":"Result_QR_NE_VC_Z5","v":0.26},null,null,{"$f":"MAX(AG213,AM213,AS213,AY213,BE213)","v":0.26},null,null,null,null,null,null,{"$f":"'4b - Detailed Results'!BO44","v":"Good"},null,null,null,{"$f":"'4b - Detailed Results'!BS44","v":"Excellent"},null,null,null,null,null,true]
[]
[null,null,null,null,null,null,null,null,null,null,null,null,null,null,null,null,null,null,null,null,null,null,null,"S-E",null,null,null,null,null,null,null,null,null,null,null,{"$f":"Result_QR_SE_CLV_Z2","v":392.26315789473688},null,null,{"$f":"Result_QR_SE_VC_Z2","v":0.22},null,null,{"$f":"Result_QR_SE_CLV_Z3","v":378.63157894736844},null,null,{"$f":"Result_QR_SE_VC_Z3","v":0.22},null,null,null,null,null,null,null,null,{"$f":"Result_QR_SE_CLV_Z5","v":408},null,null,{"$f":"Result_QR_SE_VC_Z5","v":0.23},null,null,{"$f":"MAX(AG215,AM215,AS215,AY215,BE215)","v":0.23},null,null,null,null,null,null,{"$f":"'4b - Detailed Results'!BO46","v":"Good"},null,null,null,{"$f":"'4b - Detailed Results'!BS46","v":"Excellent"},null,null,null,null,null,true]
[]
[null,null,null,null,null,null,null,null,null,null,null,null,null,null,null,null,null,null,null,null,null,null,null,"N-W",null,null,null,null,null,{"$f":"Result_QR_NW_CLV_Z1","v":313.13157894736844},null,null,{"$f":"Result_QR_NW_VC_Z1","v":0.18},null,null,null,null,null,null,null,null,null,null,null,null,null,null,{"$f":"Result_QR_NW_CLV_Z4","v":281.63157894736844},null,null,{"$f":"Result_QR_NW_VC_Z4","v":0.16},null,null,{"$f":"Result_QR_NW_CLV_Z5","v":423.5},null,null,{"$f":"Result_QR_NW_VC_Z5","v":0.24},null,null,{"$f":"MAX(AG217,AM217,AS217,AY217,BE217)","v":0.24},null,null,null,null,null,null,{"$f":"'4b - Detailed Results'!BO48","v":"Good"},null,null,null,{"$f":"'4b - Detailed Results'!BS48","v":"Excellent"},null,null,null,null,null,true]
[]
[null,null,null,null,"Partial Displaced Left Turn",null,null,null,null,null,null,null,null,null,null,null,null,null,null,null,null,null,null,"N-S",null,null,null,null,null,{"$f":"Result_PDLT_NS_CLV_Z1","v":573.63157894736844},null,null,{"$f":"Result_PDLT_NS_VC_Z1","v":0.32},null,null,{"$f":"Result_PDLT_NS_CLV_Z2","v":342.36842105263156},null,null,{"$f":"Result_PDLT_NS_VC_Z2","v":0.19},null,null,null,null,null,null,null,null,null,null,null,null,null,null,{"$f":"Result_PDLT_NS_CLV_Z5","v":644.63157894736844},null,null,{"$f":"Result_PDLT_NS_VC_Z5","v":0.37},null,null,{"$f":"MAX(AG219,AM219,AS219,AY219,BE219)","v":0.37},null,null,null,null,null,null,{"$f":"'4b - Detailed Results'!BO50","v":"Good"},null,null,null,{"$f":"'4b - Detailed Results'!BS50","v":"Excellent"},null,null,null,null,null,true]
[]
[null,null,null,null,null,null,null,null,null,null,null,null,null,null,null,null,null,null,null,null,null,null,null,"E-W",null,null,null,null,null,null,null,null,null,null,null,null,null,null,null,null,null,{"$f":"Result_PDLT_EW_CLV_Z3","v":267.63157894736844},null,null,{"$f":"Result_PDLT_EW_VC_Z3","v":0.15},null,null,{"$f":"Result_PDLT_EW_CLV_Z4","v":338.63157894736844},null,null,{"$f":"Result_PDLT_EW_VC_Z4","v":0.19},null,null,{"$f":"Result_PDLT_EW_CLV_Z5","v":491.63157894736844},null,null,{"$f":"Result_PDLT_EW_VC_Z5","v":0.28000000000000003},null,null,{"$f":"MAX(AG221,AM221,AS221,AY221,BE221)","v":0.28000000000000003},null,null,null,null,null,null,{"$f":"'4b - Detailed Results'!BO52","v":"Good"},null,null,null,{"$f":"'4b - Detailed Results'!BS52","v":"Excellent"},null,null,null,null,null,true]
[]
[null,null,null,null,"Displaced Left Turn",null,null,null,null,null,null,null,null,null,null,null,null,null,null,null,null,null,null,"FULL",null,null,null,null,null,{"$f":"Result_DLT_CLV_Z1","v":303.13157894736844},null,null,{"$f":"Result_DLT_VC_Z1","v":0.17},null,null,{"$f":"Result_DLT_CLV_Z2","v":224.86842105263159},null,null,{"$f":"Result_DLT_VC_Z2","v":0.12},null,null,{"$f":"Result_DLT_CLV_Z3","v":150.13157894736844},null,null,{"$f":"Result_DLT_VC_Z3","v":0.08},null,null,{"$f":"Result_DLT_CLV_Z4","v":185.63157894736844},null,null,{"$f":"Result_DLT_VC_Z4","v":0.1},null,null,{"$f":"Result_DLT_CLV_Z5","v":357},null,null,{"$f":"Result_DLT_VC_Z5","v":0.2},null,null,{"$f":"MAX(AG223,AM223,AS223,AY223,BE223)","v":0.2},null,null,null,null,null,null,{"$f":"'4b - Detailed Results'!BO54","v":"Good"},null,null,null,{"$f":"'4b - Detailed Results'!BS54","v":"Excellent"},null,null,null,null,null,true]
[]
[null,null,null,null,{"$f":"'3 - Alt Num Lanes Input'!E56","v":"Signalized Restricted Crossing U-Turn"},null,null,null,null,null,null,null,null,null,null,null,null,null,null,null,null,null,null,"N-S",null,null,null,null,null,{"$f":"Result_RCUT_NS_CLV_Z1","v":436.75},null,null,{"$f":"Result_RCUT_NS_VC_Z1","v":0.24},null,null,{"$f":"Result_RCUT_NS_CLV_Z2","v":701.75},null,null,{"$f":"Result_RCUT_NS_VC_Z2","v":0.39},null,null,{"$f":"Result_RCUT_NS_CLV_Z3","v":816.47058823529414},null,null,{"$f":"Result_RCUT_NS_VC_Z3","v":0.45},null,null,{"$f":"Result_RCUT_NS_CLV_Z4","v":636.47058823529414},null,null,{"$f":"Result_RCUT_NS_VC_Z4","v":0.35},null,null,null,null,null,null,null,null,{"$f":"MAX(AG225,AM225,AS225,AY225,BE225)","v":0.45},null,null,null,null,null,null,{"$f":"'4b - Detailed Results'!BO56","v":"Good"},null,null,null,{"$f":"'4b - Detailed Results'!BS56","v":"Excellent"},null,null,null,null,null,true]
[]
[null,null,null,null,null,null,null,null,null,null,null,null,null,null,null,null,null,null,null,null,null,null,null,"E-W",null,null,null,null,null,{"$f":"Result_RCUT_EW_CLV_Z1","v":636.47058823529414},null,null,{"$f":"Result_RCUT_EW_VC_Z1","v":0.35},null,null,{"$f":"Result_RCUT_EW_CLV_Z2","v":1260},null,null,{"$f":"Result_RCUT_EW_VC_Z2","v":0.7},null,null,{"$f":"Result_RCUT_EW_CLV_Z3","v":908},null,null,{"$f":"Result_RCUT_EW_VC_Z3","v":0.5},null,null,{"$f":"Result_RCUT_EW_CLV_Z4","v":436.75},null,null,{"$f":"Result_RCUT_EW_VC_Z4","v":0.24},null,null,null,null,null,null,null,null,{"$f":"MAX(AG227,AM227,AS227,AY227,BE227)","v":0.7},null,null,null,null,null,null,{"$f":"'4b - Detailed Results'!BO58","v":"Good"},null,null,null,{"$f":"'4b - Detailed Results'!BS58","v":"Excellent"},null,null,null,null,null,true]
[]
[null,null,null,null,{"$f":"'3 - Alt Num Lanes Input'!E60","v":"Unsignalized Restricted Crossing U-Turn"},null,null,null,null,null,null,null,null,null,null,null,null,null,null,null,null,null,null,"N-S",null,null,null,null,null,{"$f":"Result_URCUT_NS_CLV_Z1","v":286},null,null,{"$f":"Result_URCUT_NS_VC_Z1","v":0.21970629188825147},null,null,{"$f":"Result_URCUT_NS_CLV_Z2","v":816},null,null,{"$f":"Result_URCUT_NS_VC_Z2","v":0.35281527018121533},null,null,{"$f":"Result_URCUT_NS_CLV_Z3","v":541},null,null,{"$f":"Result_URCUT_NS_VC_Z3","v":0.58924366590961619},null,null,{"$f":"Result_URCUT_NS_CLV_Z4","v":235},null,null,{"$f":"Result_URCUT_NS_VC_Z4","v":0.37302508570013782},null,null,null,null,null,null,null,null,{"$f":"MAX(AG229,AM229,AS229,AY229,BE229)","v":0.58924366590961619},null,null,null,null,null,null,{"$f":"'4b - Detailed Results'!BO60","v":"Good"},null,null,null,{"$f":"'4b - Detailed Results'!BS60","v":"Excellent"}]
[]
[null,null,null,null,null,null,null,null,null,null,null,null,null,null,null,null,null,null,null,null,null,null,null,"E-W",null,null,null,null,null,{"$f":"Result_URCUT_EW_CLV_Z1","v":306},null,null,{"$f":"Result_URCUT_EW_VC_Z1","v":0.41452726507542276},null,null,{"$f":"Result_URCUT_EW_CLV_Z2","v":235},null,null,{"$f":"Result_URCUT_EW_VC_Z2","v":1.0642953494101834},null,null,{"$f":"Result_URCUT_EW_CLV_Z3","v":286},null,null,{"$f":"Result_URCUT_EW_VC_Z3","v":0.57217127930046763},null,null,{"$f":"Result_URCUT_EW_CLV_Z4","v":286},null,null,{"$f":"Result_URCUT_EW_VC_Z4","v":0.21970629188825147},null,null,null,null,null,null,null,null,{"$f":"MAX(AG231,AM231,AS231,AY231,BE231)","v":1.0642953494101834},null,null,null,null,null,null,{"$f":"'4b - Detailed Results'!BO62","v":"Good"},null,null,null,{"$f":"'4b - Detailed Results'!BS62","v":"Excellent"}]
[]
[null,null,null,null,"Median U-Turn",null,null,null,null,null,null,null,null,null,null,null,null,null,null,null,null,null,null,"N-S",null,null,null,null,null,{"$f":"Result_MUT_NS_CLV_Z1","v":309.25},null,null,{"$f":"Result_MUT_NS_VC_Z1","v":0.17},null,null,{"$f":"Result_MUT_NS_CLV_Z2","v":485.5},null,null,{"$f":"Result_MUT_NS_VC_Z2","v":0.27},null,null,null,null,null,null,null,null,null,null,null,null,null,null,{"$f":"Result_MUT_NS_CLV_Z5","v":408},null,null,{"$f":"Result_MUT_NS_VC_Z5","v":0.23},null,null,{"$f":"MAX(AG233,AM233,AS233,AY233,BE233)","v":0.27},null,null,null,null,null,null,{"$f":"'4b - Detailed Results'!BO64","v":"Good"},null,null,null,{"$f":"'4b - Detailed Results'!BS64","v":"Excellent"},null,null,null,null,null,true]
[]
[null,null,null,null,null,null,null,null,null,null,null,null,null,null,null,null,null,null,null,null,null,null,null,"E-W",null,null,null,null,null,null,null,null,null,null,null,null,null,null,null,null,null,{"$f":"Result_MUT_EW_CLV_Z3","v":309.25},null,null,{"$f":"Result_MUT_EW_VC_Z3","v":0.17},null,null,{"$f":"Result_MUT_EW_CLV_Z4","v":220.5},null,null,{"$f":"Result_MUT_EW_VC_Z4","v":0.12},null,null,{"$f":"Result_MUT_EW_CLV_Z5","v":477.5},null,null,{"$f":"Result_MUT_EW_VC_Z5","v":0.27},null,null,{"$f":"MAX(AG235,AM235,AS235,AY235,BE235)","v":0.27},null,null,null,null,null,null,{"$f":"'4b - Detailed Results'!BO66","v":"Good"},null,null,null,{"$f":"'4b - Detailed Results'!BS66","v":"Excellent"},null,null,null,null,null,true]
[]
[null,null,null,null,"Partial Median U-Turn",null,null,null,null,null,null,null,null,null,null,null,null,null,null,null,null,null,null,"N-S",null,null,null,null,null,{"$f":"Result_PMUT_NS_CLV_Z1","v":270.5},null,null,{"$f":"Result_PMUT_NS_VC_Z1","v":0.15},null,null,{"$f":"Result_PMUT_NS_CLV_Z2","v":446.75},null,null,{"$f":"Result_PMUT_NS_VC_Z2","v":0.25},null,null,null,null,null,null,null,null,null,null,null,null,null,null,{"$f":"Result_PMUT_NS_CLV_Z5","v":440.63157894736844},null,null,{"$f":"Result_PMUT_NS_VC_Z5","v":0.25},null,null,{"$f":"MAX(AG237,AM237,AS237,AY237,BE237)","v":0.25},null,null,null,null,null,null,{"$f":"'4b - Detailed Results'!BO68","v":"Good"},null,null,null,{"$f":"'4b - Detailed Results'!BS68","v":"Excellent"},null,null,null,null,null,true]
[]
[null,null,null,null,null,null,null,null,null,null,null,null,null,null,null,null,null,null,null,null,null,null,null,"E-W",null,null,null,null,null,null,null,null,null,null,null,null,null,null,null,null,null,{"$f":"Result_PMUT_EW_CLV_Z3","v":181.75},null,null,{"$f":"Result_PMUT_EW_VC_Z3","v":0.1},null,null,{"$f":"Result_PMUT_EW_CLV_Z4","v":181.75},null,null,{"$f":"Result_PMUT_EW_VC_Z4","v":0.1},null,null,{"$f":"Result_PMUT_EW_CLV_Z5","v":405.13157894736844},null,null,{"$f":"Result_PMUT_EW_VC_Z5","v":0.23},null,null,{"$f":"MAX(AG239,AM239,AS239,AY239,BE239)","v":0.23},null,null,null,null,null,null,{"$f":"'4b - Detailed Results'!BO70","v":"Good"},null,null,null,{"$f":"'4b - Detailed Results'!BS70","v":"Excellent"},null,null,null,null,null,true]
[]
[null,null,null,null,{"$f":"'4b - Detailed Results'!E72","v":"Bowtie"},null,null,null,null,null,null,null,null,null,null,null,null,null,null,null,null,null,null,"N-S",null,null,null,null,null,null,null,null,null,null,null,null,null,null,null,null,null,{"$f":"Result_Bowtie_NS_CLV_Z3","v":286},null,null,{"$f":"Result_Bowtie_NS_VC_Z3","v":0.23735770608528212},null,null,{"$f":"Result_Bowtie_NS_CLV_Z4","v":286},null,null,{"$f":"Result_Bowtie_NS_VC_Z4","v":0.22077593350399499},null,null,{"$f":"Result_Bowtie_NS_CLV_Z5","v":847},null,null,{"$f":"Result_Bowtie_NS_VC_Z5","v":0.48},null,null,{"$f":"MAX(AG241,AM241,AS241,AY241,BE241)","v":0.48},null,null,null,null,null,null,{"$f":"'4b - Detailed Results'!BO72","v":"Good"},null,null,null,{"$f":"'4b - Detailed Results'!BS72","v":"Excellent"}]
[]
[null,null,null,null,null,null,null,null,null,null,null,null,null,null,null,null,null,null,null,null,null,null,null,"E-W",null,null,null,null,null,{"$f":"Result_Bowtie_EW_CLV_Z1","v":286},null,null,{"$f":"Result_Bowtie_EW_VC_Z1","v":0.23735770608528212},null,null,{"$f":"Result_Bowtie_EW_CLV_Z2","v":816},null,null,{"$f":"Result_Bowtie_EW_VC_Z2","v":0.62990615992748222},null,null,null,null,null,null,null,null,null,null,null,null,null,null,{"$f":"Result_Bowtie_EW_CLV_Z5","v":847},null,null,{"$f":"Result_Bowtie_EW_VC_Z5","v":0.48},null,null,{"$f":"MAX(AG243,AM243,AS243,AY243,BE243)","v":0.62990615992748222},null,null,null,null,null,null,{"$f":"'4b - Detailed Results'!BO74","v":"Good"},null,null,null,{"$f":"'4b - Detailed Results'!BS74","v":"Excellent"}]
[]
[null,null,null,null,{"$f":"'4b - Detailed Results'!E76","v":"Split Intersection"},null,null,null,null,null,null,null,null,null,null,null,null,null,null,null,null,null,null,"N-S",null,null,null,null,null,null,null,null,null,null,null,null,null,null,null,null,null,{"$f":"Result_SplitIntx_NS_CLV_Z3","v":778},null,null,{"$f":"Result_SplitIntx_NS_VC_Z3","v":0.44},null,null,{"$f":"Result_SplitIntx_NS_CLV_Z4","v":510},null,null,{"$f":"Result_SplitIntx_NS_VC_Z4","v":0.28999999999999998},null,null,null,null,null,null,null,null,{"$f":"MAX(AG245,AM245,AS245,AY245,BE245)","v":0.44},null,null,null,null,null,null,{"$f":"'4b - Detailed Results'!BO76","v":"Good"},null,null,null,{"$f":"'4b - Detailed Results'!BS76","v":"Excellent"}]
[]
[null,null,null,null,null,null,null,null,null,null,null,null,null,null,null,null,null,null,null,null,null,null,null,"E-W",null,null,null,null,null,{"$f":"Result_SplitIntx_EW_CLV_Z1","v":745},null,null,{"$f":"Result_SplitIntx_EW_VC_Z1","v":0.43},null,null,{"$f":"Result_SplitIntx_EW_CLV_Z2","v":849},null,null,{"$f":"Result_SplitIntx_EW_VC_Z2","v":0.49},null,null,null,null,null,null,null,null,null,null,null,null,null,null,null,null,null,null,null,null,{"$f":"MAX(AG247,AM247,AS247,AY247,BE247)","v":0.49},null,null,null,null,null,null,{"$f":"'4b - Detailed Results'!BO78","v":"Good"},null,null,null,{"$f":"'4b - Detailed Results'!BS78","v":"Excellent"}]
[]
[]
[null,null,null,null,"Results for Grade Separated Intersections"]
[]
[null,null,null,null,"TYPE OF INTERSECTION",null,null,null,null,null,null,null,null,null,null,null,null,"Sheet",null,null,null,null,null,"Zone 1       (North)",null,null,null,null,null,"Zone 2       (South)",null,null,null,null,null,"Zone 3     (East)",null,null,null,null,null,"Zone 4     (West)",null,null,null,null,null,"Zone 5       (Center)",null,null,null,null,null,"Zone 6       (Raised)",null,null,null,null,null,"Overall v/c Ratio ",null,null,null,null,null,null,"Ped",null,null,null,"Bicycle",null,null,null,"Transit Accommodations"]
[]
[null,null,null,null,null,null,null,null,null,null,null,null,null,null,null,null,null,null,null,null,null,null,null,"CLV",null,null,"V/C",null,null,"CLV",null,null,"V/C",null,null,"CLV",null,null,"V/C",null,null,"CLV",null,null,"V/C",null,null,"CLV",null,null,"V/C",null,null,"CLV",null,null,"V/C"]
[]
[null,null,null,null,"Echelon",null,null,null,null,null,null,null,null,null,null,null,null,"N-S",null,null,null,null,null,null,null,null,null,null,null,null,null,null,null,null,null,null,null,null,null,null,null,null,null,null,null,null,null,{"$f":"Result_Echelon_NS_CLV_Z5","v":204},null,null,{"$f":"Result_Echelon_NS_VC_Z5","v":0.11},null,null,{"$f":"Result_Echelon_NS_CLV_Z6","v":357},null,null,{"$f":"Result_Echelon_NS_VC_Z6","v":0.2},null,null,{"$f":"MAX(AG256,AM256,AS256,AY256,BE256)","v":0.2},null,null,null,null,null,null,{"$f":"'4b - Detailed Results'!BO87","v":"Good"},null,null,null,{"$f":"'4b - Detailed Results'!BS87","v":"Good"}]
[]
[null,null,null,null,null,null,null,null,null,null,null,null,null,null,null,null,null,"E-W",null,null,null,null,null,null,null,null,null,null,null,null,null,null,null,null,null,null,null,null,null,null,null,null,null,null,null,null,null,{"$f":"Result_Echelon_EW_CLV_Z5","v":204},null,null,{"$f":"Result_Echelon_EW_VC_Z5","v":0.11},null,null,{"$f":"Result_Echelon_EW_CLV_Z6","v":357},null,null,{"$f":"Result_Echelon_EW_VC_Z6","v":0.2},null,null,{"$f":"MAX(AG258,AM258,AS258,AY258,BE258)","v":0.2},null,null,null,null,null,null,{"$f":"'4b - Detailed Results'!BO89","v":"Good"},null,null,null,{"$f":"'4b - Detailed Results'!BS89","v":"Good"}]
[]
[null,null,null,null,"Center Turn Overpass",null,null,null,null,null,null,null,null,null,null,null,null,"FULL",null,null,null,null,null,null,null,null,null,null,null,null,null,null,null,null,null,null,null,null,null,null,null,null,null,null,null,null,null,{"$f":"Result_CTO_CLV_Z5","v":357},null,null,{"$f":"Result_CTO_VC_Z5","v":0.2},null,null,{"$f":"Result_CTO_CLV_Z6","v":140},null,null,{"$f":"Result_CTO_VC_Z6","v":0.08},null,null,{"$f":"MAX(AG260,AM260,AS260,AY260,BE260)","v":0.2},null,null,null,null,null,null,{"$f":"'4b - Detailed Results'!BO91","v":"Good"},null,null,null,{"$f":"'4b - Detailed Results'!BS91","v":"Excellent"}]
[]
[]
[null,"Capacity Analysis for Planning of Junctions"]
[]
[null,"Detailed Report - Page 4 of 4"]
[]
[]
[]
[null,null,null,null,"Results for Roundabouts"]
[]
[null,null,null,null,"TYPE OF ROUNDABOUT",null,null,null,null,null,null,"Zone 1 (North)",null,null,null,null,null,null,null,null,null,null,null,"Zone 3 (East)",null,null,null,null,null,null,null,null,null,null,null,"Zone 2 (South)",null,null,null,null,null,null,null,null,null,null,null,"Zone 4 (West)",null,null,null,null,null,null,null,null,null,null,null,"Overall v/c Ratio ",null,null,null,null,null,null,"Pedestrian Accommodations",null,null,null,"Bicycle Accommodations",null,null,null,"Transit Accommodations"]
[null,{"$f":"IF(L279>1,1,0)","v":0},{"$f":"IF(X279>1,1,0)","v":0}]
[null,{"$f":"IF(AJ279>1,1,0)","v":0},{"$f":"IF(AV279>1,1,0)","v":0},null,null,null,null,null,null,null,null,"Lane 1",null,null,null,"Lane 2",null,null,null," Lane 3",null,null,null,"Lane 1",null,null,null,"Lane 2",null,null,null," Lane 3",null,null,null,"Lane 1",null,null,null,"Lane 2",null,null,null," Lane 3",null,null,null,"Lane 1",null,null,null,"Lane 2",null,null,null," Lane 3"]
[]
[null,null,null,null,"50 ICD",null,null,null,null,null,null,{"$f":"Result_50ICD_VC_Z1","v":0.42052776234173883},null,null,null,null,null,null,null,null,null,null,null,{"$f":"Result_50ICD_VC_Z3","v":0.38628448968657914},null,null,null,null,null,null,null,null,null,null,null,{"$f":"Result_50ICD_VC_Z2","v":1.0639288231617303},null,null,null,null,null,null,null,null,null,null,null,{"$f":"Result_50ICD_VC_Z4","v":0.797136004213433},null,null,null,null,null,null,null,null,null,null,null,{"$f":"MAX(L275:BG276)","v":1.0639288231617303},null,null,null,null,null,null,{"$f":"'4b - Detailed Results'!BO110","v":"Excellent"},null,null,null,{"$f":"'4b - Detailed Results'!BS110","v":"Good"},null,null,null,null,null,true]
[null,{"$f":"IF(L281>1,1,0)","v":0},{"$f":"IF(AJ281>1,1,0)","v":0}]
[null,{"$f":"IF(OR(X281>1, AB281>1),1,0)","v":0},{"$f":"IF(OR(AV281>1, AZ281>1),1,0)","v":0},null,"75 ICD",null,null,null,null,null,null,{"$f":"Result_75ICD_VC_Z1","v":0.40136233845165875},null,null,null,null,null,null,null,null,null,null,null,{"$f":"Result_75ICD_VC_Z3","v":0.38170406359124004},null,null,null,null,null,null,null,null,null,null,null,{"$f":"Result_75ICD_VC_Z2","v":1.0260914534790657},null,null,null,null,null,null,null,null,null,null,null,{"$f":"Result_75ICD_VC_Z4","v":0.67150663064832983},null,null,null,null,null,null,null,null,null,null,null,{"$f":"MAX(L277:BG278)","v":1.0260914534790657},null,null,null,null,null,null,{"$f":"'4b - Detailed Results'!BO112","v":"Excellent"},null,null,null,{"$f":"'4b - Detailed Results'!BS112","v":"Good"},null,null,null,null,null,true]
[]
[null,null,null,null,"1 X 1",null,null,null,null,null,null,{"$f":"Result_1x1Rdbt_VC_Z1","v":0.29226131359598517},null,null,null,null,null,null,null,null,null,null,null,{"$f":"Result_1x1Rdbt_VC_Z3","v":0.27184398349836608},null,null,null,null,null,null,null,null,null,null,null,{"$f":"Result_1x1Rdbt_VC_Z2","v":0.77561080606526822},null,null,null,null,null,null,null,null,null,null,null,{"$f":"Result_1x1Rdbt_VC_Z4","v":0.39932208093482385},null,null,null,null,null,null,null,null,null,null,null,{"$f":"MAX(L279:BG280)","v":0.77561080606526822},null,null,null,null,null,null,{"$f":"'4b - Detailed Results'!BO114","v":"Excellent"},null,null,null,{"$f":"'4b - Detailed Results'!BS114","v":"Excellent"},null,null,null,null,null,true]
[null,{"$f":"IF(AV283>1,1,0)","v":0},{"$f":"IF(X283>1,1,0)","v":0}]
[null,{"$f":"IF(OR(L283>1, P283>1),1,0)","v":0},{"$f":"IF(OR(AJ283>1,AN283>1),1,0)","v":0},null,"1NS X 2EW",null,null,null,null,null,null,{"$f":"Result_1x2Rdbt_VC_L1_Z1","v":0.26821393827608347},null,null,null,null,null,null,null,null,null,null,null,{"$f":"Result_1x2Rdbt_VC_L1_Z3","v":0.12717761263152494},null,null,null,{"$f":"Result_1x2Rdbt_VC_L2_Z3","v":0.13382817041754827},null,null,null,null,null,null,null,{"$f":"Result_1x2Rdbt_VC_L1_Z2","v":0.72043664771552562},null,null,null,null,null,null,null,null,null,null,null,{"$f":"Result_1x2Rdbt_VC_L1_Z4","v":0.17990422646463175},null,null,null,{"$f":"Result_1x2Rdbt_VC_L2_Z4","v":0.18438144211542062},null,null,null,null,null,null,null,{"$f":"MAX(L281:BG282)","v":0.72043664771552562},null,null,null,null,null,null,{"$f":"'4b - Detailed Results'!BO116","v":"Good"},null,null,null,{"$f":"'4b - Detailed Results'!BS116","v":"Excellent"},null,null,null,null,null,true]
[]
[null,null,null,null,"2NS X 1EW",null,null,null,null,null,null,{"$f":"Result_2x1Rdbt_VC_L1_Z1","v":0.13576217396475573},null,null,null,{"$f":"Result_2x1Rdbt_VC_L2_Z1","v":0.14215338728632426},null,null,null,null,null,null,null,{"$f":"Result_2x1Rdbt_VC_L1_Z3","v":0.25250598191990237},null,null,null,null,null,null,null,null,null,null,null,{"$f":"Result_2x1Rdbt_VC_L1_Z2","v":0.36285640527036489},null,null,null,{"$f":"Result_2x1Rdbt_VC_L2_Z2","v":0.38183142328922859},null,null,null,null,null,null,null,{"$f":"Result_2x1Rdbt_VC_L1_Z4","v":0.34788951342532187},null,null,null,null,null,null,null,null,null,null,null,{"$f":"MAX(L283:BG284)","v":0.38183142328922859},null,null,null,null,null,null,{"$f":"'4b - Detailed Results'!BO118","v":"Good"},null,null,null,{"$f":"'4b - Detailed Results'!BS118","v":"Excellent"},null,null,null,null,null,true]
[null,{"$f":"IF(OR(L285>1, P285>1),1,0)","v":0},{"$f":"IF(OR(AV285>1,AZ285>1),1,0)","v":0}]
[null,{"$f":"IF(OR(AJ285>1, AN285>1),1,0)","v":0},{"$f":"IF(OR(X285>1, AB285>1),1,0)","v":0},null,"2 X 2",null,null,null,null,null,null,{"$f":"Result_2x2Rdbt_VC_L1_Z1","v":0.13576217396475573},null,null,null,{"$f":"Result_2x2Rdbt_VC_L2_Z1","v":0.14215338728632426},null,null,null,null,null,null,null,{"$f":"Result_2x2Rdbt_VC_L1_Z3","v":0.17990422646463175},null,null,null,{"$f":"Result_2x2Rdbt_VC_L2_Z3","v":0.18438144211542062},null,null,null,null,null,null,null,{"$f":"Result_2x2Rdbt_VC_L1_Z2","v":0.36285640527036489},null,null,null,{"$f":"Result_2x2Rdbt_VC_L2_Z2","v":0.38183142328922859},null,null,null,null,null,null,null,{"$f":"Result_2x2Rdbt_VC_L1_Z4","v":0.12717761263152494},null,null,null,{"$f":"Result_2x2Rdbt_VC_L2_Z4","v":0.13382817041754827},null,null,null,null,null,null,null,{"$f":"MAX(L285:BG286)","v":0.38183142328922859},null,null,null,null,null,null,{"$f":"'4b - Detailed Results'!BO120","v":"Good"},null,null,null,{"$f":"'4b - Detailed Results'!BS120","v":"Excellent"},null,null,null,null,null,true]
[]
[null,null,null,null,"3 X 3",null,null,null,null,null,null,{"$f":"Result_3x3Rdbt_VC_L1_Z1","v":9.2433820571748593E-2},null,null,null,{"$f":"Result_3x3Rdbt_VC_L2_Z1","v":9.2433820571748621E-2},null,null,null,{"$f":"Result_3x3Rdbt_VC_L3_Z1","v":9.6557017779390061E-2},null,null,null,{"$f":"Result_3x3Rdbt_VC_L1_Z3","v":0.12248798397591949},null,null,null,{"$f":"Result_3x3Rdbt_VC_L2_Z3","v":0.12248798397591952},null,null,null,{"$f":"Result_3x3Rdbt_VC_L3_Z3","v":0.12524022483311587},null,null,null,{"$f":"Result_3x3Rdbt_VC_L1_Z2","v":0.24705116954578035},null,null,null,{"$f":"Result_3x3Rdbt_VC_L2_Z2","v":0.24705116954578035},null,null,null,{"$f":"Result_3x3Rdbt_VC_L3_Z2","v":0.25935719317758921},null,null,null,{"$f":"Result_3x3Rdbt_VC_L1_Z4","v":8.6589012855506353E-2},null,null,null,{"$f":"Result_3x3Rdbt_VC_L2_Z4","v":8.6589012855506381E-2},null,null,null,{"$f":"Result_3x3Rdbt_VC_L3_Z4","v":9.0902153491164844E-2},null,null,null,{"$f":"MAX(L287:BG288)","v":0.25935719317758921},null,null,null,null,null,null,{"$f":"'4b - Detailed Results'!BO122","v":"Fair"},null,null,null,{"$f":"'4b - Detailed Results'!BS122","v":"Excellent"},null,null,null,null,null,true]
[null,{"$f":"IF(OR(L287>1, P287>1,T287>1),1,0)","v":0},{"$f":"IF(OR(X287>1, AB287>1,AF287>1),1,0)","v":0}]
[]
[null,{"$f":"IF(OR(AJ287>1, AN287>1,AR287>1),1,0)","v":0},{"$f":"IF(OR(AV287>1, AZ287>1,BD287>1),1,0)","v":0}]
[null,null,null,null,"Results for Interchanges"]
[]
[null,null,null,null,"TYPE OF INTERCHANGE",null,null,null,null,null,null,null,null,null,null,null,null,"Sheet",null,null,null,null,null,"Zone 1       (Rt Mrg)",null,null,null,null,null,"Zone 2       (Lt Mrg)",null,null,null,null,null,"Zone 3     (Ctr. 1)",null,null,null,null,null,"Zone 4     (Ctr. 2)",null,null,null,null,null,"Zone 5       (Lt Mrg)",null,null,null,null,null,"Zone 6       (Rt Mrg)",null,null,null,null,null,"Overall v/c Ratio ",null,null,null,null,null,null,"Pedestrian Accommodations",null,null,null,"Bicycle Accommodations",null,null,null,"Transit Accommodations"]
[]
[null,null,null,null,null,null,null,null,null,null,null,null,null,null,null,null,null,null,null,null,null,null,null,"CLV",null,null,"V/C",null,null,"CLV",null,null,"V/C",null,null,"CLV",null,null,"V/C",null,null,"CLV",null,null,"V/C",null,null,"CLV",null,null,"V/C",null,null,"CLV",null,null,"V/C"]
[]
[null,null,null,null,"Diamond",null,null,null,null,null,null,null,null,null,null,null,null,"N-S",null,null,null,null,null,null,null,null,null,null,null,null,null,null,null,null,null,{"$f":"Result_TD_NS_CLV_Z3","v":410.5},null,null,{"$f":"Result_TD_NS_VC_Z3","v":0.23},null,null,{"$f":"Result_TD_NS_CLV_Z4","v":446},null,null,{"$f":"Result_TD_NS_VC_Z4","v":0.25},null,null,null,null,null,null,null,null,null,null,null,null,null,null,{"$f":"MAX(AA297,AG297,AM297,AS297,AY297,BE297)","v":0.25},null,null,null,null,null,null,{"$f":"'4b - Detailed Results'!BO131","v":"Good"},null,null,null,{"$f":"'4b - Detailed Results'!BS131","v":"Fair"},null,null,null,null,null,true]
[]
[null,null,null,null,null,null,null,null,null,null,null,null,null,null,null,null,null,"E-W",null,null,null,null,null,null,null,null,null,null,null,null,null,null,null,null,null,{"$f":"Result_TD_EW_CLV_Z3","v":493.28947368421052},null,null,{"$f":"Result_TD_EW_VC_Z3","v":0.28000000000000003},null,null,{"$f":"Result_TD_EW_CLV_Z4","v":293},null,null,{"$f":"Result_TD_EW_VC_Z4","v":0.17},null,null,null,null,null,null,null,null,null,null,null,null,null,null,{"$f":"MAX(AA299,AG299,AM299,AS299,AY299,BE299)","v":0.28000000000000003},null,null,null,null,null,null,{"$f":"'4b - Detailed Results'!BO133","v":"Good"},null,null,null,{"$f":"'4b - Detailed Results'!BS133","v":"Fair"},null,null,null,null,null,true]
[]
[null,null,null,null,"Partial Cloverleaf A",null,null,null,null,null,null,null,null,null,null,null,null,"N-S",null,null,null,null,null,null,null,null,null,null,null,null,null,null,null,null,null,{"$f":"Result_PCLA_NS_CLV_Z3","v":150.13157894736844},null,null,{"$f":"Result_PCLA_NS_VC_Z3","v":0.08},null,null,{"$f":"Result_PCLA_NS_CLV_Z4","v":338.63157894736844},null,null,{"$f":"Result_PCLA_NS_VC_Z4","v":0.19},null,null,null,null,null,null,null,null,null,null,null,null,null,null,{"$f":"MAX(AA301,AG301,AM301,AS301,AY301,BE301)","v":0.19},null,null,null,null,null,null,{"$f":"'4b - Detailed Results'!BO135","v":"Good"},null,null,null,{"$f":"'4b - Detailed Results'!BS135","v":"Excellent"},null,null,null,null,null,true]
[]
[null,null,null,null,null,null,null,null,null,null,null,null,null,null,null,null,null,"E-W",null,null,null,null,null,null,null,null,null,null,null,null,null,null,null,null,null,{"$f":"Result_PCLA_EW_CLV_Z3","v":150.13157894736844},null,null,{"$f":"Result_PCLA_EW_VC_Z3","v":0.08},null,null,{"$f":"Result_PCLA_EW_CLV_Z4","v":224.86842105263159},null,null,{"$f":"Result_PCLA_EW_VC_Z4","v":0.12},null,null,null,null,null,null,null,null,null,null,null,null,null,null,{"$f":"MAX(AA303,AG303,AM303,AS303,AY303,BE303)","v":0.12},null,null,null,null,null,null,{"$f":"'4b - Detailed Results'!BO137","v":"Good"},null,null,null,{"$f":"'4b - Detailed Results'!BS137","v":"Excellent"},null,null,null,null,null,true]
[]
[null,null,null,null,"Partial Cloverleaf B",null,null,null,null,null,null,null,null,null,null,null,null,"N-S",null,null,null,null,null,null,null,null,null,null,null,null,null,null,null,null,null,{"$f":"Result_PCLB_NS_CLV_Z3","v":224.86842105263159},null,null,{"$f":"Result_PCLB_NS_VC_Z3","v":0.12},null,null,{"$f":"Result_PCLB_NS_CLV_Z4","v":338.63157894736844},null,null,{"$f":"Result_PCLB_NS_VC_Z4","v":0.19},null,null,null,null,null,null,null,null,null,null,null,null,null,null,{"$f":"MAX(AA305,AG305,AM305,AS305,AY305,BE305)","v":0.19},null,null,null,null,null,null,{"$f":"'4b - Detailed Results'!BO139","v":"Good"},null,null,null,{"$f":"'4b - Detailed Results'!BS139","v":"Excellent"},null,null,null,null,null,true]
[]
[null,null,null,null,null,null,null,null,null,null,null,null,null,null,null,null,null,"E-W",null,null,null,null,null,null,null,null,null,null,null,null,null,null,null,null,null,{"$f":"Result_PCLB_EW_CLV_Z3","v":165.63157894736844},null,null,{"$f":"Result_PCLB_EW_VC_Z3","v":0.09},null,null,{"$f":"Result_PCLB_EW_CLV_Z4","v":150.13157894736844},null,null,{"$f":"Result_PCLB_EW_VC_Z4","v":0.08},null,null,null,null,null,null,null,null,null,null,null,null,null,null,{"$f":"MAX(AA307,AG307,AM307,AS307,AY307,BE307)","v":0.09},null,null,null,null,null,null,{"$f":"'4b - Detailed Results'!BO141","v":"Good"},null,null,null,{"$f":"'4b - Detailed Results'!BS141","v":"Excellent"},null,null,null,null,null,true]
[]
[null,null,null,null,"Displaced Left Turn",null,null,null,null,null,null,null,null,null,null,null,null,"N-S",null,null,null,null,null,{"$f":"Result_DLTI_NS_CLV_Z1","v":324.18421052631578},null,null,{"$f":"Result_DLTI_NS_VC_Z1","v":0.18},null,null,null,null,null,null,null,null,{"$f":"Result_DLTI_NS_CLV_Z3","v":516.23684210526312},null,null,{"$f":"Result_DLTI_NS_VC_Z3","v":0.28999999999999998},null,null,{"$f":"Result_DLTI_NS_CLV_Z4","v":500.73684210526318},null,null,{"$f":"Result_DLTI_NS_VC_Z4","v":0.28000000000000003},null,null,null,null,null,null,null,null,{"$f":"Result_DLTI_NS_CLV_Z6","v":224.86842105263159},null,null,{"$f":"Result_DLTI_NS_VC_Z6","v":0.12},null,null,{"$f":"MAX(AA309,AG309,AM309,AS309,AY309,BE309)","v":0.28999999999999998},null,null,null,null,null,null,{"$f":"'4b - Detailed Results'!BO143","v":"Good"},null,null,null,{"$f":"'4b - Detailed Results'!BS143","v":"Excellent"},null,null,null,null,null,true]
[]
[null,null,null,null,null,null,null,null,null,null,null,null,null,null,null,null,null,"E-W",null,null,null,null,null,{"$f":"Result_DLTI_EW_CLV_Z1","v":206.68421052631578},null,null,{"$f":"Result_DLTI_EW_VC_Z1","v":0.11},null,null,null,null,null,null,null,null,{"$f":"Result_DLTI_EW_CLV_Z3","v":185.63157894736844},null,null,{"$f":"Result_DLTI_EW_VC_Z3","v":0.1},null,null,{"$f":"Result_DLTI_EW_CLV_Z4","v":734.86842105263156},null,null,{"$f":"Result_DLTI_EW_VC_Z4","v":0.41},null,null,null,null,null,null,null,null,{"$f":"Result_DLTI_EW_CLV_Z6","v":332.23684210526318},null,null,{"$f":"Result_DLTI_EW_VC_Z6","v":0.18},null,null,{"$f":"MAX(AA311,AG311,AM311,AS311,AY311,BE311)","v":0.41},null,null,null,null,null,null,{"$f":"'4b - Detailed Results'!BO145","v":"Good"},null,null,null,{"$f":"'4b - Detailed Results'!BS145","v":"Excellent"},null,null,null,null,null,true]
[]
[null,null,null,null,"Contraflow Left Interchange",null,null,null,null,null,null,null,null,null,null,null,null,"N-S",null,null,null,null,null,null,null,null,null,null,null,null,null,null,null,null,null,{"$f":"Result_CLI_NS_CLV_Z3","v":331},null,null,{"$f":"Result_CLI_NS_VC_Z3","v":0.19},null,null,{"$f":"Result_CLI_NS_CLV_Z4","v":348},null,null,{"$f":"Result_CLI_NS_VC_Z4","v":0.2},null,null,null,null,null,null,null,null,null,null,null,null,null,null,{"$f":"MAX(AA313,AG313,AM313,AS313,AY313,BE313)","v":0.2},null,null,null,null,null,null,{"$f":"'4b - Detailed Results'!BO147","v":"Good"},null,null,null,{"$f":"'4b - Detailed Results'!BS147","v":"Excellent"}]
[]
[null,null,null,null,null,null,null,null,null,null,null,null,null,null,null,null,null,"E-W",null,null,null,null,null,null,null,null,null,null,null,null,null,null,null,null,null,{"$f":"Result_CLI_EW_CLV_Z3","v":213},null,null,{"$f":"Result_CLI_EW_VC_Z3","v":0.12},null,null,{"$f":"Result_CLI_EW_CLV_Z4","v":375},null,null,{"$f":"Result_CLI_EW_VC_Z4","v":0.21},null,null,null,null,null,null,null,null,null,null,null,null,null,null,{"$f":"MAX(AA315,AG315,AM315,AS315,AY315,BE315)","v":0.21},null,null,null,null,null,null,{"$f":"'4b - Detailed Results'!BO149","v":"Good"},null,null,null,{"$f":"'4b - Detailed Results'!BS149","v":"Excellent"}]
[]
[null,null,null,null,"Diverging Diamond Interchange",null,null,null,null,null,null,null,null,null,null,null,null,"N-S",null,null,null,null,null,{"$f":"Result_DCD_NS_CLV_Z1","v":324.18421052631578},null,null,{"$f":"Result_DCD_NS_VC_Z1","v":0.18},null,null,{"$f":"Result_DCD_NS_CLV_Z2","v":150.13157894736844},null,null,{"$f":"Result_DCD_NS_VC_Z2","v":0.08},null,null,{"$f":"Result_DCD_NS_CLV_Z3","v":388},null,null,{"$f":"Result_DCD_NS_VC_Z3","v":0.22},null,null,{"$f":"Result_DCD_NS_CLV_Z4","v":423.5},null,null,{"$f":"Result_DCD_NS_VC_Z4","v":0.24},null,null,{"$f":"Result_DCD_NS_CLV_Z5","v":338.63157894736844},null,null,{"$f":"Result_DCD_NS_VC_Z5","v":0.19},null,null,{"$f":"Result_DCD_NS_CLV_Z6","v":171.18421052631578},null,null,{"$f":"Result_DCD_NS_VC_Z6","v":0.1},null,null,{"$f":"MAX(AA317,AG317,AM317,AS317,AY317,BE317)","v":0.24},null,null,null,null,null,null,{"$f":"'4b - Detailed Results'!BO151","v":"Good"},null,null,null,{"$f":"'4b - Detailed Results'!BS151","v":"Excellent"},null,null,null,null,null,true]
[]
[null,null,null,null,null,null,null,null,null,null,null,null,null,null,null,null,null,"E-W",null,null,null,null,null,{"$f":"Result_DCD_EW_CLV_Z1","v":213},null,null,{"$f":"Result_DCD_EW_VC_Z1","v":0.12},null,null,{"$f":"Result_DCD_EW_CLV_Z2","v":270.5},null,null,{"$f":"Result_DCD_EW_VC_Z2","v":0.15},null,null,{"$f":"Result_DCD_EW_CLV_Z3","v":150.13157894736844},null,null,{"$f":"Result_DCD_EW_VC_Z3","v":0.08},null,null,{"$f":"Result_DCD_EW_CLV_Z4","v":224.86842105263159},null,null,{"$f":"Result_DCD_EW_VC_Z4","v":0.12},null,null,{"$f":"Result_DCD_EW_CLV_Z5","v":235},null,null,{"$f":"Result_DCD_EW_VC_Z5","v":0.13},null,null,{"$f":"Result_DCD_EW_CLV_Z6","v":357.5},null,null,{"$f":"Result_DCD_EW_VC_Z6","v":0.2},null,null,{"$f":"MAX(AA319,AG319,AM319,AS319,AY319,BE319)","v":0.2},null,null,null,null,null,null,{"$f":"'4b - Detailed Results'!BO153","v":"Good"},null,null,null,{"$f":"'4b - Detailed Results'!BS153","v":"Excellent"},null,null,null,null,null,true]
[]
[null,null,null,null,"Single Point ",null,null,null,null,null,null,null,null,null,null,null,null,"N-S",null,null,null,null,null,{"$f":"Result_SPI_NS_CLV_Z1","v":330.5},null,null,{"$f":"Result_SPI_NS_VC_Z1","v":0.18},null,null,null,null,null,null,null,null,{"$f":"Result_SPI_NS_CLV_Z3","v":395},null,null,{"$f":"Result_SPI_NS_VC_Z3","v":0.23},null,null,null,null,null,null,null,null,null,null,null,null,null,null,{"$f":"Result_SPI_NS_CLV_Z6","v":177.5},null,null,{"$f":"Result_SPI_NS_VC_Z6","v":0.1},null,null,{"$f":"MAX(AA321,AG321,AM321,AS321,AY321,BE321)","v":0.23},null,null,null,null,null,null,{"$f":"'4b - Detailed Results'!BO155","v":"Good"},null,null,null,{"$f":"'4b - Detailed Results'!BS155","v":"Excellent"},null,null,null,null,null,true]
[]
[null,null,null,null,null,null,null,null,null,null,null,null,null,null,null,null,null,"E-W",null,null,null,null,null,{"$f":"Result_SPI_EW_CLV_Z1","v":213},null,null,{"$f":"Result_SPI_EW_VC_Z1","v":0.12},null,null,null,null,null,null,null,null,{"$f":"Result_SPI_EW_CLV_Z3","v":242.00000000000003},null,null,{"$f":"Result_SPI_EW_VC_Z3","v":0.14000000000000001},null,null,null,null,null,null,null,null,null,null,null,null,null,null,{"$f":"Result_SPI_EW_CLV_Z6","v":357.5},null,null,{"$f":"Result_SPI_EW_VC_Z6","v":0.2},null,null,{"$f":"MAX(AA323,AG323,AM323,AS323,AY323,BE323)","v":0.2},null,null,null,null,null,null,{"$f":"'4b - Detailed Results'!BO157","v":"Good"},null,null,null,{"$f":"'4b - Detailed Results'!BS157","v":"Excellent"},null,null,null,null,null,true]
[]
[null,null,null,null,"Single Point with Roundabout",null,null,null,null,null,null,null,null,null,null,null,null,"N-S",null,null,null,null,null,null,null,null,{"$f":"Result_SPIRAB_NS_VC_Z1","v":0.18678507840233188},null,null,null,null,null,{"$f":"Result_SPIRAB_NS_VC_Z2","v":0.45600118623299835},null,null,null,null,null,null,null,null,null,null,null,null,null,null,null,null,null,{"$f":"Result_SPIRAB_NS_VC_Z3","v":6.4476367486939856E-2},null,null,null,null,null,{"$f":"Result_SPIRAB_NS_VC_Z4","v":4.5751691380839857E-2},null,null,{"$f":"MAX(AA325,AG325,AM325,AS325,AY325,BE325)","v":0.45600118623299835},null,null,null,null,null,null,{"$f":"'4b - Detailed Results'!BO159","v":"Good"},null,null,null,{"$f":"'4b - Detailed Results'!BS159","v":"Excellent"}]
[]
[null,null,null,null,null,null,null,null,null,null,null,null,null,null,null,null,null,"E-W",null,null,null,null,null,null,null,null,{"$f":"Result_SPIRAB_EW_VC_Z1","v":8.3795201800247493E-2},null,null,null,null,null,{"$f":"Result_SPIRAB_EW_VC_Z2","v":0.29085405227447558},null,null,null,null,null,null,null,null,null,null,null,null,null,null,null,null,null,{"$f":"Result_SPIRAB_EW_VC_Z3","v":0.23735770608528212},null,null,null,null,null,{"$f":"Result_SPIRAB_EW_VC_Z4","v":0.22077593350399499},null,null,{"$f":"MAX(AA327,AG327,AM327,AS327,AY327,BE327)","v":0.29085405227447558},null,null,null,null,null,null,{"$f":"'4b - Detailed Results'!BO161","v":"Good"},null,null,null,{"$f":"'4b - Detailed Results'!BS161","v":"Excellent"}]

{"sheet":"Conventional Shared RT LT","index":14,"n_rows":74,"n_cols":110,"rows_kept":74,"cut":false,"hidden":true,"merged":[[45,113,46,114],[60,93,61,94],[13,88,14,93],[13,94,14,96],[43,107,44,112],[43,113,44,115],[58,90,59,95],[58,96,59,98],[44,90,44,92],[44,93,44,95],[44,96,44,98],[52,87,52,89],[52,90,52,92],[52,93,52,95],[52,96,52,98],[53,87,56,89],[53,90,56,92],[53,93,56,95],[53,96,56,98],[45,90,48,92],[45,93,48,95],[45,96,48,98],[50,87,50,92],[50,93,50,95],[50,96,50,98],[51,87,51,89],[51,90,51,92],[51,93,51,95],[51,96,51,98],[36,108,38,108],[36,109,38,109],[36,110,38,113],[39,72,41,75],[39,76,41,76],[39,77,41,77],[39,78,41,78],[39,80,41,83],[39,84,41,84],[39,108,41,108],[39,109,41,109],[39,110,41,113],[36,72,38,75],[36,76,38,76],[36,77,38,77],[36,78,38,78],[36,80,38,83],[36,101,38,101],[36,102,38,105],[36,107,41,107],[42,93,42,98],[30,108,32,108],[30,109,32,109],[30,110,32,113],[33,72,35,75],[33,76,35,76],[33,77,35,77],[33,80,35,83],[33,84,35,84],[33,85,35,85],[33,86,35,86],[33,89,35,96],[33,101,35,101],[33,102,35,105],[33,107,35,107],[33,108,35,108],[33,109,35,109],[33,110,35,113],[30,72,32,75],[30,101,32,101],[30,102,32,105],[30,107,32,107],[20,103,20,106],[21,66,22,70],[21,71,22,71],[21,72,22,74],[21,87,21,89],[21,90,21,92],[21,93,21,98],[21,103,21,106],[23,87,26,89],[23,90,26,92],[23,93,26,95],[24,103,25,104],[15,87,18,89],[15,90,18,92],[15,93,18,95],[15,96,18,98],[17,66,18,70],[17,71,18,71],[17,72,18,74],[19,64,22,65],[19,66,20,70],[19,71,20,74],[19,87,19,89],[19,90,19,92],[19,93,19,95],[19,96,19,98],[20,87,20,89],[20,90,20,92],[20,93,20,95],[20,96,20,98],[11,64,14,65],[11,66,12,70],[11,71,12,74],[13,66,14,70],[13,71,14,71],[13,72,14,74],[15,64,18,65],[15,66,16,70],[15,71,16,74],[0,63,1,122],[2,63,3,122],[5,64,6,74],[7,64,10,65],[7,66,8,70],[7,71,8,74],[9,66,10,70],[9,71,10,71],[9,72,10,74],[5,90,6,91],[5,76,7,89],[9,48,12,59],[0,1,1,60],[2,1,3,60],[5,2,6,9],[5,10,6,35],[5,36,6,59],[7,36,8,41],[7,42,8,47],[7,48,8,53],[7,54,8,59],[73,13,73,46],[7,2,8,9],[7,10,8,35],[9,2,10,9],[9,10,10,35],[11,2,12,9],[11,10,12,35],[9,36,12,47],[30,7,32,10],[30,11,32,11],[30,12,32,15],[30,16,32,16],[33,12,33,16],[43,93,43,98],[36,85,41,85],[28,87,28,92],[30,100,35,100],[27,7,29,15],[27,16,29,16],[30,76,32,76],[30,77,32,77],[30,78,35,78],[42,90,42,92],[43,90,43,92],[27,87,27,89],[27,90,27,92],[27,93,27,95],[28,93,28,95],[29,93,29,95],[36,84,38,84],[36,89,38,96],[36,99,38,99],[36,100,38,100],[36,86,41,86],[30,99,35,99],[29,87,29,92],[43,75,44,76]]}
[null,"Conventional Shared RT LN",null,null,null,null,null,null,null,null,null,null,null,null,null,null,null,null,null,null,null,null,null,null,null,null,null,null,null,null,null,null,null,null,null,null,null,null,null,null,null,null,null,null,null,null,null,null,null,null,null,null,null,null,null,null,null,null,null,null,null,null,null,"Conventional Shared RT LN"]
[]
[null,"Design and Results",null,null,null,null,null,null,null,null,null,null,null,null,null,null,null,null,null,null,null,null,null,null,null,null,null,null,null,null,null,null,null,null,null,null,null,null,null,null,null,null,null,null,null,null,null,null,null,null,null,null,null,null,null,null,null,null,null,null,null,null,null,"Data Input and Configuration"]
[]
[]
[null,null,"Project Name:",null,null,null,null,null,null,null,{"$f":"P_Name","v":"Cap-X Sample Street"},null,null,null,null,null,null,null,null,null,null,null,null,null,null,null,null,null,null,null,null,null,null,null,null,null,"Volume-to-Capacity Ratio",null,null,null,null,null,null,null,null,null,null,null,null,null,null,null,null,null,null,null,null,null,null,null,null,null,null,null,"LT EQ",null,null,null,null,null,null,null,null,null,null,null,"Multimodal Capacity Adjustment Factor",null,null,null,null,null,null,null,null,null,null,null,null,null,{"$f":"IF(Multimodal=1,1,IF(MAX(CJ30,CI37,CP43,CV31)<3,1,IF(MAX(CJ30,CI37,CP43,CV31)<4,0.9,0.8)))","v":1}]
[]
[null,null,"Project Number:",null,null,null,null,null,null,null,{"$f":"P_Number","v":10000},null,null,null,null,null,null,null,null,null,null,null,null,null,null,null,null,null,null,null,null,null,null,null,null,null,"< 0.750",null,null,null,null,null,"0.750 - 0.875",null,null,null,null,null,"0.875 - 1.00",null,null,null,null,null,"≥ 1.00",null,null,null,null,null,null,null,null,null,"SB",null,"Opposing Traffic ",null,null,null,null,{"$f":"CS52+CP52","v":714}]
[]
[null,null,"Location",null,null,null,null,null,null,null,{"$f":"Location","v":"Anywhere, USA"},null,null,null,null,null,null,null,null,null,null,null,null,null,null,null,null,null,null,null,null,null,null,null,null,null,"VOLUME / CAPACITY RATIO:",null,null,null,null,null,null,null,null,null,null,null,{"$f":"H31","v":0.36},null,null,null,null,null,null,null,null,null,null,null,null,null,null,null,null,null,"1 LT =",null,null,null,null,{"$f":"IF(BT8<199, 1.1, IF(BT8<599,2, IF(BT8<799,3, IF(BT8<999,4, IF(BT8>1000,5,5)))))","v":3},"TVE"]
[]
[null,null,"Date",null,null,null,null,null,null,null,{"$f":"Date","v":"2017 AM"},null,null,null,null,null,null,null,null,null,null,null,null,null,null,null,null,null,null,null,null,null,null,null,null,null,null,null,null,null,null,null,null,null,null,null,null,null,null,null,null,null,null,null,null,null,null,null,null,null,null,null,null,null,"NB",null,"Opposing Traffic ",null,null,null,null,{"$f":"CM21+CJ21","v":255}]
[]
[null,null,null,null,null,null,null,null,null,null,null,null,null,null,null,null,null,null,null,null,null,null,null,null,null,null,null,null,null,null,null,null,null,null,null,null,null,null,null,null,null,null,null,null,null,null,null,null,null,null,null,null,null,null,null,null,null,null,null,null,null,null,null,null,null,null,"1 LT =",null,null,null,null,{"$f":"IF(BT12<199, 1.1, IF(BT12<599,2, IF(BT12<799,3, IF(BT12<999,4, IF(BT12>1000,5,5)))))","v":2},"TVE"]
[]
[null,null,null,null,null,null,null,null,null,null,null,null,null,null,null,null,null,null,null,null,null,null,null,null,null,null,null,null,null,null,null,null,null,null,null,null,null,null,null,null,null,null,null,null,null,null,null,null,null,null,null,null,null,null,null,null,null,null,null,null,null,null,null,null,"WB",null,"Opposing Traffic ",null,null,null,null,{"$f":"BZ37+BZ40","v":255}]
[]
[null,null,null,null,null,null,null,null,null,null,null,null,null,null,null,null,null,null,null,null,null,null,null,null,null,null,null,null,null,null,null,null,null,null,null,null,null,null,null,null,null,null,null,null,null,null,null,null,null,null,null,null,null,null,null,null,null,null,null,null,null,null,null,null,null,null,"1 LT =",null,null,null,null,{"$f":"IF(BT16<199, 1.1, IF(BT16<599,2, IF(BT16<799,3, IF(BT16<999,4, IF(BT16>1000,5,5)))))","v":2},"TVE"]
[]
[null,null,null,null,null,null,null,null,null,null,null,null,null,null,null,null,null,null,null,null,null,null,null,null,null,null,null,null,null,null,null,null,null,null,null,null,null,null,null,null,null,null,null,null,null,null,null,null,null,null,null,null,null,null,null,null,null,null,null,null,null,null,null,null,"EB",null,"Opposing Traffic ",null,null,null,null,{"$f":"DE34+DE31","v":255},null,null,null,null,null,null,null,null,null,null,null,null,null,null,null,"pepch",null,null,"pepch",null,null,"pepch",null,null,"pepch"]
[null,null,null,null,null,null,null,null,null,null,null,null,null,null,null,null,null,null,null,null,null,null,null,null,null,null,null,null,null,null,null,null,null,null,null,null,null,null,null,null,null,null,null,null,null,null,null,null,null,null,null,null,null,null,null,null,null,null,null,null,null,null,null,null,null,null,null,null,null,null,null,null,null,null,null,null,null,null,null,null,null,null,null,null,null,null,null,{"$f":"SBR_Master","v":51},null,null,{"$f":"SBT_Master","v":204},null,null,{"$f":"SBL_Master","v":31},null,null,{"$f":"SBU_Master","v":0}]
[null,null,null,null,null,null,null,null,null,null,null,null,null,null,null,null,null,null,null,null,null,null,null,null,null,null,null,null,null,null,null,null,null,null,null,null,null,null,null,null,null,null,null,null,null,null,null,null,null,null,null,null,null,null,null,null,null,null,null,null,null,null,null,null,null,null,"1 LT =",null,null,null,null,{"$f":"IF(BT20<199, 1.1, IF(BT20<599,2, IF(BT20<799,3, IF(BT20<999,4, IF(BT20>1000,5,5)))))","v":2},"TVE"]
[]
[]
[]
[]
[]
[null,null,null,null,null,null,null,{"$f":"CL37","v":617.5},null,null,null,null,null,null,null,null,"CLV",null,null,null,null,null,null,null,null,null,null,null,null,null,null,null,null,null,null,null,null,null,null,null,null,null,null,null,null,null,null,null,null,null,null,null,null,null,null,null,null,null,null,null,null,null,null,null,null,null,null,null,null,null,null,null,null,null,null,null,null,null,null,null,null,null,null,null,null,null,null,"pepch",null,null,"pepch",null,null,"pepch"]
[null,null,null,null,null,null,null,null,null,null,null,null,null,null,null,null,null,null,null,null,null,null,null,null,null,null,null,null,null,null,null,null,null,null,null,null,null,null,null,null,null,null,null,null,null,null,null,null,null,null,null,null,null,null,null,null,null,null,null,null,null,null,null,null,null,null,null,null,null,null,null,null,null,null,null,null,null,null,null,null,null,null,null,null,null,null,null,{"$f":"CM21+CJ21","v":255},null,null,null,null,null,{"$f":"SBL_Master","v":31}]
[null,null,null,null,null,null,null,null,null,null,null,null,null,null,null,null,null,null,null,null,null,null,null,null,null,null,null,null,null,null,null,null,null,null,null,null,null,null,null,null,null,null,null,null,null,null,null,null,null,null,null,null,null,null,null,null,null,null,null,null,null,null,null,null,null,null,null,null,null,null,null,null,null,null,null,null,null,null,null,null,null,null,null,null,null,null,null,{"$f":"'3 - Alt Num Lanes Input'!AM26","v":2},null,null,null,null,null,{"$f":"'3 - Alt Num Lanes Input'!AK26","v":1}]
[null,null,null,null,null,null,null,{"$f":"ROUND(H28/M31,2)","v":0.36},null,null,null,"V/C",{"$f":"CM6*IF((EBL_Master+EBR_Master+EBT_Master+EBU_Master)=0,CLV_Limit_3,IF((WBL_Master+WBR_Master+WBT_Master+WBU_Master)=0,CLV_Limit_3,IF((NBL_Master+NBR_Master+NBT_Master+NBU_Master)=0,CLV_Limit_3,IF((SBL_Master+SBR_Master+SBT_Master+SBU_Master)=0,CLV_Limit_3,CLV_Limit_4))))","v":1700},null,null,null,"MAX",null,null,null,null,null,null,null,null,null,null,null,null,null,null,null,null,null,null,null,null,null,null,null,null,null,null,null,null,null,null,null,null,null,null,null,null,null,null,null,null,null,null,null,null,null,null,null,null,null,null,null,null,null,null,null,null,null,null,null,"pepch",{"$f":"EBU_Master","v":0},null,null,null,null,null,null,null,null,null,null,null,null,null,null,null,null,null,null,null,null,null,{"$f":"'3 - Alt Num Lanes Input'!BC26","v":2},{"$f":"DE34+DE31","v":255},"pepch",null,null,null,null,null,null,{"$f":"WBR_Master","v":51},"pepch"]
[]
[]
[null,null,null,null,null,null,null,null,null,null,null,null,{"$f":"IF((EBL_Master+EBR_Master+EBT_Master+EBU_Master)=0,\"3 Phases\",IF((WBL_Master+WBR_Master+WBT_Master+WBU_Master)=0,\"3 Phases\",IF((NBL_Master+NBR_Master+NBT_Master+NBU_Master)=0,\"3 Phases\",IF((SBL_Master+SBR_Master+SBT_Master+SBU_Master)=0,\"3 Phases\",\"4 Phases\"))))","v":"4 Phases"},null,null,null,null,null,null,null,null,null,null,null,null,null,null,null,null,null,null,null,null,null,null,null,null,null,null,null,null,null,null,null,null,null,null,null,null,null,null,null,null,null,null,null,null,null,null,null,null,null,null,null,null,null,null,null,null,null,null,null,null,null,null,null,"pepch",{"$f":"EBL_Master","v":31},null,null,null,null,null,null,"pepch",{"$f":"EBL_Master","v":31},{"$f":"'3 - Alt Num Lanes Input'!AS26","v":1},null,null,null,null,null,null,null,null,null,null,null,null,null,null,"pepch",null,null,null,null,null,null,{"$f":"WBT_Master","v":204},"pepch"]
[]
[]
[null,null,null,null,null,null,null,null,null,null,null,null,null,null,null,null,null,null,null,null,null,null,null,null,null,null,null,null,null,null,null,null,null,null,null,null,null,null,null,null,null,null,null,null,null,null,null,null,null,null,null,null,null,null,null,null,null,null,null,null,null,null,null,null,null,null,null,null,null,null,null,null,null,null,null,null,"pepch",{"$f":"EBT_Master","v":204},null,null,null,null,null,null,"pepch",{"$f":"BZ37+BZ40","v":255},{"$f":"'3 - Alt Num Lanes Input'!AU26","v":2},null,null,{"$f":"MAX(CP29/CP30,CM44/CM43)+MAX(CJ29/CJ30,CP44/CP43)+MAX(CH37/CI37,CW31/CV31)+MAX(CW37/CV37,CH34/CI34)","v":617.5},null,null,null,null,null,null,null,null,null,{"$f":"'3 - Alt Num Lanes Input'!BA26","v":1},{"$f":"DE37","v":31},"pepch",null,null,null,null,null,null,{"$f":"WBL_Master","v":31},"pepch"]
[]
[]
[null,null,null,null,null,null,null,null,null,null,null,null,null,null,null,null,null,null,null,null,null,null,null,null,null,null,null,null,null,null,null,null,null,null,null,null,null,null,null,null,null,null,null,null,null,null,null,null,null,null,null,null,null,null,null,null,null,null,null,null,null,null,null,null,null,null,null,null,null,null,null,null,null,null,null,null,"pepch",{"$f":"EBR_Master","v":51},null,null,null,null,null,null,"pepch",null,null,null,null,null,null,null,null,null,null,null,null,null,null,null,null,null,null,null,null,null,null,null,{"$f":"WBU_Master","v":0},"pepch"]
[]
[]
[null,null,null,null,null,null,null,null,null,null,null,null,null,null,null,null,null,null,null,null,null,null,null,null,null,null,null,null,null,null,null,null,null,null,null,null,null,null,null,null,null,null,null,null,null,null,null,null,null,null,null,null,null,null,null,null,null,null,null,null,null,null,null,null,null,null,null,null,null,null,null,null,null,null,null,null,null,null,null,null,null,null,null,null,null,null,null,null,null,null,{"$f":"'3 - Alt Num Lanes Input'!AC26","v":1},null,null,{"$f":"'3 - Alt Num Lanes Input'!AE26","v":2}]
[null,null,null,null,null,null,null,null,null,null,null,null,null,null,null,null,null,null,null,null,null,null,null,null,null,null,null,null,null,null,null,null,null,null,null,null,null,null,null,null,null,null,null,null,null,null,null,null,null,null,null,null,null,null,null,null,null,null,null,null,null,null,null,null,null,null,null,null,null,null,null,null,null,null,null,null,null,null,null,null,null,null,null,null,null,null,null,null,null,null,{"$f":"NBL_Master","v":102},null,null,{"$f":"CP52+CS52","v":714}]
[null,null,null,null,null,null,null,null,null,null,null,null,null,null,null,null,null,null,null,null,null,null,null,null,null,null,null,null,null,null,null,null,null,null,null,null,null,null,null,null,null,null,null,null,null,null,null,null,null,null,null,null,null,null,null,null,null,null,null,null,null,null,null,null,null,null,null,null,null,null,null,null,null,null,null,null,null,null,null,null,null,null,null,null,null,null,null,null,null,null,"pepch",null,null,"pepch",null,null,"pepch"]
[]
[]
[]
[]
[]
[]
[null,null,null,null,null,null,null,null,null,null,null,null,null,null,null,null,null,null,null,null,null,null,null,null,null,null,null,null,null,null,null,null,null,null,null,null,null,null,null,null,null,null,null,null,null,null,null,null,null,null,null,null,null,null,null,null,null,null,null,null,null,null,null,null,null,null,null,null,null,null,null,null,null,null,null,null,null,null,null,null,null,null,null,null,null,null,null,{"$f":"NBU_Master","v":0},null,null,{"$f":"'3 - Alt Num Lanes Input'!CM26","v":102},null,null,{"$f":"NBT_Master","v":510},null,null,{"$f":"NBR_Master","v":204}]
[null,null,null,null,null,null,null,null,null,null,null,null,null,null,null,null,null,null,null,null,null,null,null,null,null,null,null,null,null,null,null,null,null,null,null,null,null,null,null,null,null,null,null,null,null,null,null,null,null,null,null,null,null,null,null,null,null,null,null,null,null,null,null,null,null,null,null,null,null,null,null,null,null,null,null,null,null,null,null,null,null,null,null,null,null,null,null,"pepch",null,null,"pepch",null,null,"pepch",null,null,"pepch"]
[]
[]
[]
[]
[]
[]
[]
[]
[]
[]
[]
[]
[]
[]
[]
[]
[]
[]
[]
[]
[null,null,null,null,null,null,null,null,null,null,null,null,null,"Note: This diagram does not reflect the actual lane configuration of the Intersection"]

{"sheet":"Traffic Signal","index":15,"n_rows":74,"n_cols":102,"rows_kept":74,"cut":false,"hidden":false,"merged":[[45,87,48,89],[45,90,48,92],[45,93,48,95],[45,96,48,98],[42,87,42,92],[42,93,42,95],[42,96,42,98],[43,87,43,89],[43,90,43,92],[43,93,43,95],[43,96,43,98],[44,87,44,89],[44,90,44,92],[44,93,44,95],[44,96,44,98],[36,99,41,99],[36,100,38,100],[36,101,38,101],[36,102,38,105],[39,80,41,83],[39,84,41,84],[39,85,41,85],[39,86,41,86],[39,100,41,100],[39,101,41,101],[39,102,41,105],[36,80,38,83],[36,84,38,84],[36,85,38,85],[36,86,38,86],[36,89,38,96],[30,99,32,99],[30,100,32,100],[30,101,32,101],[30,102,32,105],[33,80,35,83],[33,84,35,84],[33,85,35,85],[33,89,35,96],[33,99,35,99],[33,100,35,100],[33,101,35,101],[33,102,35,105],[28,87,28,89],[28,90,28,92],[28,93,28,95],[28,96,28,98],[29,87,29,89],[29,90,29,92],[29,93,29,98],[30,80,32,83],[30,84,32,84],[30,85,32,85],[30,86,35,86],[0,63,1,122],[2,63,3,122],[23,87,26,89],[23,90,26,92],[23,93,26,95],[23,96,26,98],[9,79,12,84],[5,78,6,79],[20,87,21,92],[20,93,21,95],[5,64,7,77],[0,1,1,60],[2,1,3,60],[6,2,7,9],[6,10,7,35],[8,36,9,41],[8,42,9,47],[8,48,9,53],[8,54,9,59],[5,36,5,38],[5,42,5,44],[8,2,9,9],[8,10,9,35],[6,36,7,59],[33,107,34,112],[33,113,34,115],[33,70,34,75],[33,76,34,78],[50,87,51,92],[50,93,51,95],[73,13,73,46],[12,2,13,9],[12,10,13,35],[10,48,13,59],[10,36,13,47],[10,2,11,9],[10,10,11,35],[27,7,29,15],[27,16,29,16],[30,7,32,10],[30,11,32,11],[30,16,32,16],[30,12,32,15],[33,12,33,16],[27,87,27,89],[27,90,27,92],[27,93,27,95],[27,96,27,98]]}
[null,"Traffic Signal",null,null,null,null,null,null,null,null,null,null,null,null,null,null,null,null,null,null,null,null,null,null,null,null,null,null,null,null,null,null,null,null,null,null,null,null,null,null,null,null,null,null,null,null,null,null,null,null,null,null,null,null,null,null,null,null,null,null,null,null,null,"Traffic Signal"]
[]
[null,"Design and results",null,null,null,null,null,null,null,null,null,null,null,null,null,null,null,null,null,null,null,null,null,null,null,null,null,null,null,null,null,null,null,null,null,null,null,null,null,null,null,null,null,null,null,null,null,null,null,null,null,null,null,null,null,null,null,null,null,null,null,null,null,"Data Input and Configuration"]
[]
[]
[null,null,null,null,null,null,null,null,null,null,null,null,null,null,null,null,null,null,null,null,null,null,null,null,null,null,null,null,null,null,null,null,null,null,null,null,null,null,null,null,null,null,null,null,null,null,null,null,null,null,null,null,null,null,null,null,null,null,null,null,null,null,null,null,"Multimodal Capacity Adjustment Factor",null,null,null,null,null,null,null,null,null,null,null,null,null,{"$f":"IF(Multimodal=1,1,IF(MAX(CM30,CV34,CP43,CI37)<3,1,IF(MAX(CI37,CP43,CV34,CM30)<4,0.9,0.8)))","v":1}]
[null,null,"Project Name:",null,null,null,null,null,null,null,{"$f":"P_Name","v":"Cap-X Sample Street"},null,null,null,null,null,null,null,null,null,null,null,null,null,null,null,null,null,null,null,null,null,null,null,null,null,"Volume-to-Capacity Ratio"]
[]
[null,null,"Project Number:",null,null,null,null,null,null,null,{"$f":"P_Number","v":10000},null,null,null,null,null,null,null,null,null,null,null,null,null,null,null,null,null,null,null,null,null,null,null,null,null,"< 0.750",null,null,null,null,null,"0.750 - 0.875",null,null,null,null,null,"0.875 - 1.00",null,null,null,null,null,"≥ 1.00"]
[]
[null,null,"Location",null,null,null,null,null,null,null,{"$f":"Location","v":"Anywhere, USA"},null,null,null,null,null,null,null,null,null,null,null,null,null,null,null,null,null,null,null,null,null,null,null,null,null,"VOLUME / CAPACITY RATIO:",null,null,null,null,null,null,null,null,null,null,null,{"$f":"H31","v":0.46}]
[]
[null,null,"Date",null,null,null,null,null,null,null,{"$f":"Date","v":"2017 AM"}]
[]
[]
[]
[]
[]
[]
[]
[]
[]
[]
[]
[]
[]
[]
[null,null,null,null,null,null,null,{"$f":"CL37","v":780.9806094182826},null,null,null,null,null,null,null,null,"CLV",null,null,null,null,null,null,null,null,null,null,null,null,null,null,null,null,null,null,null,null,null,null,null,null,null,null,null,null,null,null,null,null,null,null,null,null,null,null,null,null,null,null,null,null,null,null,null,null,null,null,null,null,null,null,null,null,null,null,null,null,null,null,null,null,null,null,null,null,null,null,"pepch",null,null,"pepch",null,null,"pepch",null,null,"pepch"]
[null,null,null,null,null,null,null,null,null,null,null,null,null,null,null,null,null,null,null,null,null,null,null,null,null,null,null,null,null,null,null,null,null,null,null,null,null,null,null,null,null,null,null,null,null,null,null,null,null,null,null,null,null,null,null,null,null,null,null,null,null,null,null,null,null,null,null,null,null,null,null,null,null,null,null,null,null,null,null,null,null,null,null,null,null,null,null,{"$f":"IF(AND('3 - Alt Num Lanes Input'!AK24=0,'3 - Alt Num Lanes Input'!AM24=1,'3 - Alt Num Lanes Input'!AO24=0),0,IF(AND('3 - Alt Num Lanes Input'!AK24=0,'3 - Alt Num Lanes Input'!AM24=2,'3 - Alt Num Lanes Input'!AO24=0),0,IF(AND('3 - Alt Num Lanes Input'!AK24=1,'3 - Alt Num Lanes Input'!AM24=1,'3 - Alt Num Lanes Input'!AO24=0),0,SBR_Master)))","v":51},null,null,{"$f":"SBT_Master + IF('3 - Alt Num Lanes Input'!AK24=0,SBL_Master,0) + IF('3 - Alt Num Lanes Input'!AO24=0,SBR_Master,0)","v":204},null,null,{"$f":"IF(AND('3 - Alt Num Lanes Input'!AK24=0,'3 - Alt Num Lanes Input'!AM24=1,'3 - Alt Num Lanes Input'!AO24=0),0,IF(AND('3 - Alt Num Lanes Input'!AK24=0,'3 - Alt Num Lanes Input'!AM24=2,'3 - Alt Num Lanes Input'!AO24=0),0,IF(AND('3 - Alt Num Lanes Input'!AK24=0,'3 - Alt Num Lanes Input'!AM24=1,'3 - Alt Num Lanes Input'!AO24=1),0,SBL_Master)))","v":31},null,null,{"$f":"SBU_Master","v":0}]
[null,null,null,null,null,null,null,null,null,null,null,null,null,null,null,null,null,null,null,null,null,null,null,null,null,null,null,null,null,null,null,null,null,null,null,null,null,null,null,null,null,null,null,null,null,null,null,null,null,null,null,null,null,null,null,null,null,null,null,null,null,null,null,null,null,null,null,null,null,null,null,null,null,null,null,null,null,null,null,null,null,null,null,null,null,null,null,{"$f":"IF('3 - Alt Num Lanes Input'!AO24=0,1,'3 - Alt Num Lanes Input'!AO24)","v":1},null,null,{"$f":"IF('3 - Alt Num Lanes Input'!AM24=0,1,'3 - Alt Num Lanes Input'!AM24)","v":1},null,null,{"$f":"IF('3 - Alt Num Lanes Input'!AK24=0,1,'3 - Alt Num Lanes Input'!AK24)","v":1}]
[null,null,null,null,null,null,null,{"$f":"ROUND(H28/M31,2)","v":0.46},null,null,null,"V/C",{"$f":"CA6*IF((EBL_Master+EBR_Master+EBT_Master+EBU_Master)=0,CLV_Limit_3,IF((WBL_Master+WBR_Master+WBT_Master+WBU_Master)=0,CLV_Limit_3,IF((NBL_Master+NBR_Master+NBT_Master+NBU_Master)=0,CLV_Limit_3,IF((SBL_Master+SBR_Master+SBT_Master+SBU_Master)=0,CLV_Limit_3,CLV_Limit_4))))","v":1700},null,null,null,"MAX",null,null,null,null,null,null,null,null,null,null,null,null,null,null,null,null,null,null,null,null,null,null,null,null,null,null,null,null,null,null,null,null,null,null,null,null,null,null,null,null,null,null,null,null,null,null,null,null,null,null,null,null,null,null,null,null,null,null,null,null,null,null,null,null,null,null,null,"pepch",{"$f":"EBU_Master","v":0},{"$f":"IF('3 - Alt Num Lanes Input'!AS24=0,1,'3 - Alt Num Lanes Input'!AS24)","v":1},null,null,null,null,null,null,null,null,null,null,null,null,{"$f":"IF('3 - Alt Num Lanes Input'!BE24=0,1,'3 - Alt Num Lanes Input'!BE24)","v":1},{"$f":"IF(AND('3 - Alt Num Lanes Input'!BA24=0,'3 - Alt Num Lanes Input'!BC24=1,'3 - Alt Num Lanes Input'!BE24=0),0,IF(AND('3 - Alt Num Lanes Input'!BA24=0,'3 - Alt Num Lanes Input'!BC24=2,'3 - Alt Num Lanes Input'!BE24=0),0,IF(AND('3 - Alt Num Lanes Input'!BA24=1,'3 - Alt Num Lanes Input'!BC24=1,'3 - Alt Num Lanes Input'!BE24=0),0,WBR_Master)))","v":51},"pepch"]
[]
[]
[null,null,null,null,null,null,null,null,null,null,null,null,{"$f":"IF((EBL_Master+EBR_Master+EBT_Master+EBU_Master)=0,\"3 Phases\",IF((WBL_Master+WBR_Master+WBT_Master+WBU_Master)=0,\"3 Phases\",IF((NBL_Master+NBR_Master+NBT_Master+NBU_Master)=0,\"3 Phases\",IF((SBL_Master+SBR_Master+SBT_Master+SBU_Master)=0,\"3 Phases\",\"4 Phases\"))))","v":"4 Phases"},null,null,null,null,null,null,null,null,null,null,null,null,null,null,null,null,null,null,null,null,null,null,null,null,null,null,null,null,null,null,null,null,null,null,null,null,null,null,null,null,null,null,null,null,null,null,null,null,null,null,null,null,null,null,null,null,null,null,null,null,null,null,null,null,null,null,null,null,null,null,null,"pepch",{"$f":"IF(AND('3 - Alt Num Lanes Input'!AS24=0,'3 - Alt Num Lanes Input'!AU24=1,'3 - Alt Num Lanes Input'!AW24=0),0,IF(AND('3 - Alt Num Lanes Input'!AS24=0,'3 - Alt Num Lanes Input'!AU24=2,'3 - Alt Num Lanes Input'!AW24=0),0,IF(AND('3 - Alt Num Lanes Input'!AS24=0,'3 - Alt Num Lanes Input'!AU24=1,'3 - Alt Num Lanes Input'!AW24=1),0,EBL_Master)))","v":31},null,null,null,null,null,null,null,null,null,null,null,null,null,{"$f":"IF('3 - Alt Num Lanes Input'!BC24=0,1,'3 - Alt Num Lanes Input'!BC24)","v":1},{"$f":"WBT_Master + IF('3 - Alt Num Lanes Input'!BA24=0,WBL_Master,0) + IF('3 - Alt Num Lanes Input'!BE24=0,WBR_Master,0)","v":204},"pepch"]
[]
[]
[null,null,null,null,null,null,null,null,null,null,null,null,null,null,null,null,null,null,null,null,null,null,null,null,null,null,null,null,null,null,null,null,null,null,null,null,null,null,null,null,null,null,null,null,null,null,null,null,null,null,null,null,null,null,null,null,null,null,null,null,null,null,null,null,null,null,null,null,null,null,null,null,null,null,null,null,null,null,null,null,null,null,null,null,"pepch",{"$f":"EBT_Master + IF('3 - Alt Num Lanes Input'!AS24=0,EBL_Master,0) + IF('3 - Alt Num Lanes Input'!AW24=0,EBR_Master,0)","v":204},{"$f":"IF('3 - Alt Num Lanes Input'!AU24=0,1,'3 - Alt Num Lanes Input'!AU24)","v":1},null,null,{"$f":"MAX((CH34/LTAF+CH31/UTAF)/CI31 + MAX(CW34/CV34, ROUND(MAX(0,CW31/RTAF/CV31-CP29/LTAF/CP30),0)), (CW37/LTAF+CW40/UTAF)/CV37 +MAX(CH37/CI37, ROUND(MAX(0,CH40/RTAF/CI40-CM44/LTAF/CJ43),0)))+MAX((CM44/LTAF+CJ44/UTAF)/LTAF/CJ43 + MAX(CM29/CM30, ROUND(MAX(0,CJ29/RTAF/CJ30-CH34/LTAF/CI31),0)), (CP29/LTAF+CS29/UTAF)/LTAF/CP30 +MAX(CP44/CP43, ROUND(MAX(0,CS44/RTAF/CS43-CW37/LTAF/CV37),0)))","v":780.9806094182826},null,null,null,null,null,null,null,null,null,{"$f":"IF('3 - Alt Num Lanes Input'!BA24=0,1,'3 - Alt Num Lanes Input'!BA24)","v":1},{"$f":"IF(AND('3 - Alt Num Lanes Input'!BA24=0,'3 - Alt Num Lanes Input'!BC24=1,'3 - Alt Num Lanes Input'!BE24=0),0,IF(AND('3 - Alt Num Lanes Input'!BA24=0,'3 - Alt Num Lanes Input'!BC24=2,'3 - Alt Num Lanes Input'!BE24=0),0,IF(AND('3 - Alt Num Lanes Input'!BA24=0,'3 - Alt Num Lanes Input'!BC24=1,'3 - Alt Num Lanes Input'!BE24=1),0,WBL_Master)))","v":31},"pepch"]
[]
[]
[null,null,null,null,null,null,null,null,null,null,null,null,null,null,null,null,null,null,null,null,null,null,null,null,null,null,null,null,null,null,null,null,null,null,null,null,null,null,null,null,null,null,null,null,null,null,null,null,null,null,null,null,null,null,null,null,null,null,null,null,null,null,null,null,null,null,null,null,null,null,null,null,null,null,null,null,null,null,null,null,null,null,null,null,"pepch",{"$f":"IF(AND('3 - Alt Num Lanes Input'!AS24=0,'3 - Alt Num Lanes Input'!AU24=1,'3 - Alt Num Lanes Input'!AW24=0),0,IF(AND('3 - Alt Num Lanes Input'!AS24=0,'3 - Alt Num Lanes Input'!AU24=2,'3 - Alt Num Lanes Input'!AW24=0),0,IF(AND('3 - Alt Num Lanes Input'!AS24=1,'3 - Alt Num Lanes Input'!AU24=1,'3 - Alt Num Lanes Input'!AW24=0),0,EBR_Master)))","v":51},{"$f":"IF('3 - Alt Num Lanes Input'!AW24=0,1,'3 - Alt Num Lanes Input'!AW24)","v":1},null,null,null,null,null,null,null,null,null,null,null,null,null,{"$f":"WBU_Master","v":0},"pepch"]
[]
[]
[null,null,null,null,null,null,null,null,null,null,null,null,null,null,null,null,null,null,null,null,null,null,null,null,null,null,null,null,null,null,null,null,null,null,null,null,null,null,null,null,null,null,null,null,null,null,null,null,null,null,null,null,null,null,null,null,null,null,null,null,null,null,null,null,null,null,null,null,null,null,null,null,null,null,null,null,null,null,null,null,null,null,null,null,null,null,null,{"$f":"IF('3 - Alt Num Lanes Input'!AC24=0,1,'3 - Alt Num Lanes Input'!AC24)","v":1},null,null,null,null,null,{"$f":"IF('3 - Alt Num Lanes Input'!AE24=0,1,'3 - Alt Num Lanes Input'!AE24)","v":1},null,null,{"$f":"IF('3 - Alt Num Lanes Input'!AG24=0,1,'3 - Alt Num Lanes Input'!AG24)","v":1}]
[null,null,null,null,null,null,null,null,null,null,null,null,null,null,null,null,null,null,null,null,null,null,null,null,null,null,null,null,null,null,null,null,null,null,null,null,null,null,null,null,null,null,null,null,null,null,null,null,null,null,null,null,null,null,null,null,null,null,null,null,null,null,null,null,null,null,null,null,null,null,null,null,null,null,null,null,null,null,null,null,null,null,null,null,null,null,null,{"$f":"NBU_Master","v":0},null,null,{"$f":"IF(AND('3 - Alt Num Lanes Input'!AC24=0,'3 - Alt Num Lanes Input'!AE24=1,'3 - Alt Num Lanes Input'!AG24=0),0,IF(AND('3 - Alt Num Lanes Input'!AC24=0,'3 - Alt Num Lanes Input'!AE24=2,'3 - Alt Num Lanes Input'!AG24=0),0,IF(AND('3 - Alt Num Lanes Input'!AC24=0,'3 - Alt Num Lanes Input'!AE24=1,'3 - Alt Num Lanes Input'!AG24=1),0,NBL_Master)))","v":102},null,null,{"$f":"NBT_Master + IF('3 - Alt Num Lanes Input'!AC24=0,NBL_Master,0) + IF('3 - Alt Num Lanes Input'!AG24=0,NBR_Master,0)","v":510},null,null,{"$f":"IF(AND('3 - Alt Num Lanes Input'!AC24=0,'3 - Alt Num Lanes Input'!AE24=1,'3 - Alt Num Lanes Input'!AG24=0),0,IF(AND('3 - Alt Num Lanes Input'!AC24=0,'3 - Alt Num Lanes Input'!AE24=2,'3 - Alt Num Lanes Input'!AG24=0),0,IF(AND('3 - Alt Num Lanes Input'!AC24=1,'3 - Alt Num Lanes Input'!AE24=1,'3 - Alt Num Lanes Input'!AG24=0),0,NBR_Master)))","v":204}]
[null,null,null,null,null,null,null,null,null,null,null,null,null,null,null,null,null,null,null,null,null,null,null,null,null,null,null,null,null,null,null,null,null,null,null,null,null,null,null,null,null,null,null,null,null,null,null,null,null,null,null,null,null,null,null,null,null,null,null,null,null,null,null,null,null,null,null,null,null,null,null,null,null,null,null,null,null,null,null,null,null,null,null,null,null,null,null,"pepch",null,null,"pepch",null,null,"pepch",null,null,"pepch"]
[]
[]
[]
[]
[]
[]
[]
[]
[]
[]
[]
[]
[]
[]
[]
[]
[]
[]
[]
[]
[]
[]
[]
[]
[]
[]
[]
[]
[null,null,null,null,null,null,null,null,null,null,null,null,null,"Note: This diagram does not reflect the actual lane configuration of the Intersection"]

{"sheet":"CGT N","index":16,"n_rows":74,"n_cols":125,"rows_kept":74,"cut":false,"hidden":false,"merged":[[73,13,73,46],[44,87,55,98],[33,12,33,16],[42,87,42,92],[42,93,42,95],[42,96,42,98],[43,87,43,89],[43,90,43,92],[43,93,43,95],[43,96,43,98],[36,99,41,99],[36,100,38,100],[36,101,38,101],[36,102,38,105],[39,80,41,83],[39,84,41,84],[39,85,41,85],[39,86,41,86],[39,100,41,100],[39,101,41,101],[39,102,41,105],[36,80,38,83],[36,84,38,84],[36,85,38,85],[36,86,38,86],[36,89,38,96],[30,99,32,99],[30,100,32,100],[30,101,32,101],[30,102,32,105],[33,80,35,83],[33,84,35,84],[33,85,35,85],[33,89,35,96],[33,99,35,99],[33,100,35,100],[30,86,35,86],[33,101,35,101],[33,102,35,105],[23,90,26,92],[23,93,26,95],[23,96,26,98],[30,80,32,83],[30,84,32,84],[30,85,32,85],[27,90,27,92],[27,93,27,95],[27,96,27,98],[28,90,28,92],[28,93,28,95],[28,96,28,98],[29,90,29,92],[29,93,29,98],[27,7,29,15],[27,16,29,16],[30,7,32,10],[30,11,32,11],[30,12,32,15],[30,16,32,16],[8,54,9,59],[10,2,11,9],[10,10,11,35],[10,36,13,47],[10,48,13,59],[12,2,13,9],[12,10,13,35],[8,2,9,9],[8,10,9,35],[8,36,9,41],[8,42,9,47],[8,48,9,53],[5,36,5,38],[5,42,5,44],[6,2,7,9],[6,10,7,35],[6,36,7,59],[0,124,1,149],[0,1,1,60],[0,63,1,122],[2,1,3,60],[2,63,3,122]]}
[null,"Continuous Green T (N)",null,null,null,null,null,null,null,null,null,null,null,null,null,null,null,null,null,null,null,null,null,null,null,null,null,null,null,null,null,null,null,null,null,null,null,null,null,null,null,null,null,null,null,null,null,null,null,null,null,null,null,null,null,null,null,null,null,null,null,null,null,"Continuous Green T (N)",null,null,null,null,null,null,null,null,null,null,null,null,null,null,null,null,null,null,null,null,null,null,null,null,null,null,null,null,null,null,null,null,null,null,null,null,null,null,null,null,null,null,null,null,null,null,null,null,null,null,null,null,null,null,null,null,null,null,null,null,"Assumptions"]
[]
[null,"Design and results",null,null,null,null,null,null,null,null,null,null,null,null,null,null,null,null,null,null,null,null,null,null,null,null,null,null,null,null,null,null,null,null,null,null,null,null,null,null,null,null,null,null,null,null,null,null,null,null,null,null,null,null,null,null,null,null,null,null,null,null,null,"Data Input and Configuration"]
[]
[]
[]
[null,null,"Project Name:",null,null,null,null,null,null,null,{"$f":"P_Name","v":"Cap-X Sample Street"},null,null,null,null,null,null,null,null,null,null,null,null,null,null,null,null,null,null,null,null,null,null,null,null,null,"Volume-to-Capacity Ratio"]
[]
[null,null,"Project Number:",null,null,null,null,null,null,null,{"$f":"P_Number","v":10000},null,null,null,null,null,null,null,null,null,null,null,null,null,null,null,null,null,null,null,null,null,null,null,null,null,"< 0.750",null,null,null,null,null,"0.750 - 0.875",null,null,null,null,null,"0.875 - 1.00",null,null,null,null,null,"≥ 1.00"]
[]
[null,null,"Location",null,null,null,null,null,null,null,{"$f":"Location","v":"Anywhere, USA"},null,null,null,null,null,null,null,null,null,null,null,null,null,null,null,null,null,null,null,null,null,null,null,null,null,"VOLUME / CAPACITY RATIO:",null,null,null,null,null,null,null,null,null,null,null,{"$f":"H31","v":0.1}]
[]
[null,null,"Date",null,null,null,null,null,null,null,{"$f":"Date","v":"2017 AM"}]
[]
[]
[]
[]
[]
[]
[]
[]
[]
[]
[]
[]
[]
[]
[null,null,null,null,null,null,null,{"$f":"CL37","v":167.26315789473688},null,null,null,null,null,null,null,null,"CLV",null,null,null,null,null,null,null,null,null,null,null,null,null,null,null,null,null,null,null,null,null,null,null,null,null,null,null,null,null,null,null,null,null,null,null,null,null,null,null,null,null,null,null,null,null,null,null,null,null,null,null,null,null,null,null,null,null,null,null,null,null,null,null,null,null,null,null,null,null,null,null,null,null,"pepch",null,null,"pepch",null,null,"pepch"]
[null,null,null,null,null,null,null,null,null,null,null,null,null,null,null,null,null,null,null,null,null,null,null,null,null,null,null,null,null,null,null,null,null,null,null,null,null,null,null,null,null,null,null,null,null,null,null,null,null,null,null,null,null,null,null,null,null,null,null,null,null,null,null,null,null,null,null,null,null,null,null,null,null,null,null,null,null,null,null,null,null,null,null,null,null,null,null,null,null,null,{"$f":"IF('3 - Alt Num Lanes Input'!AO36>0,SBR_Master,0)","v":51},null,null,{"$f":"SBL_Master+IF('3 - Alt Num Lanes Input'!AO36=0,SBR_Master,0)","v":31},null,null,{"$f":"SBU_Master","v":0}]
[null,null,null,null,null,null,null,null,null,null,null,null,null,null,null,null,null,null,null,null,null,null,null,null,null,null,null,null,null,null,null,null,null,null,null,null,null,null,null,null,null,null,null,null,null,null,null,null,null,null,null,null,null,null,null,null,null,null,null,null,null,null,null,null,null,null,null,null,null,null,null,null,null,null,null,null,null,null,null,null,null,null,null,null,null,null,null,null,null,null,{"$f":"IF('3 - Alt Num Lanes Input'!AO36=0,1,'3 - Alt Num Lanes Input'!AO36)","v":1},null,null,{"$f":"IF('3 - Alt Num Lanes Input'!AK36=0,1,'3 - Alt Num Lanes Input'!AK36)","v":1}]
[null,null,null,null,null,null,null,{"$f":"ROUND(H28/CLV_Limit_3,2)","v":0.1},null,null,null,"V/C",{"$f":"CLV_Limit_3","v":1750},null,null,null,"MAX",null,null,null,null,null,null,null,null,null,null,null,null,null,null,null,null,null,null,null,null,null,null,null,null,null,null,null,null,null,null,null,null,null,null,null,null,null,null,null,null,null,null,null,null,null,null,null,null,null,null,null,null,null,null,null,null,null,null,null,null,null,null,null,null,null,null,null,"pepch",{"$f":"EBU_Master","v":0},{"$f":"IF('3 - Alt Num Lanes Input'!AS36=0,1,'3 - Alt Num Lanes Input'!AS36)","v":1},null,null,null,null,null,null,null,null,null,null,null,null,{"$f":"IF('3 - Alt Num Lanes Input'!BE36=0,1,'3 - Alt Num Lanes Input'!BE36)","v":1},{"$f":"IF('3 - Alt Num Lanes Input'!BE36>0,WBR_Master,0)","v":51},"pepch"]
[]
[]
[null,null,null,null,null,null,null,null,null,null,null,null,"3 Phases",null,null,null,null,null,null,null,null,null,null,null,null,null,null,null,null,null,null,null,null,null,null,null,null,null,null,null,null,null,null,null,null,null,null,null,null,null,null,null,null,null,null,null,null,null,null,null,null,null,null,null,null,null,null,null,null,null,null,null,null,null,null,null,null,null,null,null,null,null,null,null,"pepch",{"$f":"EBL_Master","v":31},null,null,null,null,null,null,null,null,null,null,null,null,null,{"$f":"'3 - Alt Num Lanes Input'!BC36","v":2},{"$f":"WBT_Master+IF('3 - Alt Num Lanes Input'!BE36=0,WBR_Master,0)","v":204},"pepch"]
[]
[]
[null,null,null,null,null,null,null,null,null,null,null,null,null,null,null,null,null,null,null,null,null,null,null,null,null,null,null,null,null,null,null,null,null,null,null,null,null,null,null,null,null,null,null,null,null,null,null,null,null,null,null,null,null,null,null,null,null,null,null,null,null,null,null,null,null,null,null,null,null,null,null,null,null,null,null,null,null,null,null,null,null,null,null,null,"pepch",{"$f":"EBT_Master","v":204},{"$f":"'3 - Alt Num Lanes Input'!AU36","v":2},null,null,{"$f":"(CH34/LTAF+CH31/UTAF)/CI31+CW34/CV34+(CP29/LTAF+CS29/UTAF)/CP30","v":167.26315789473688}]
[]
[]
[]
[]
[]
[]
[]
[null,null,null,null,null,null,null,null,null,null,null,null,null,null,null,null,null,null,null,null,null,null,null,null,null,null,null,null,null,null,null,null,null,null,null,null,null,null,null,null,null,null,null,null,null,null,null,null,null,null,null,null,null,null,null,null,null,null,null,null,null,null,null,null,null,null,null,null,null,null,null,null,null,null,null,null,null,null,null,null,null,null,null,null,null,null,null,{"$f":"IF((NBL_Master+NBR_Master+NBT_Master+NBU_Master)>1,\"WARNING: Northbound Traffic Not Included\",\"\")","v":"WARNING: Northbound Traffic Not Included"}]
[]
[]
[]
[]
[]
[]
[]
[]
[]
[]
[]
[]
[]
[]
[]
[]
[]
[]
[]
[]
[]
[]
[]
[]
[]
[]
[]
[]
[null,null,null,null,null,null,null,null,null,null,null,null,null,"Note: This diagram does not reflect the actual lane configuration of the Intersection"]

{"sheet":"CGT W","index":17,"n_rows":74,"n_cols":125,"rows_kept":74,"cut":false,"hidden":false,"merged":[[33,12,33,16],[27,7,29,15],[27,16,29,16],[30,7,32,10],[30,11,32,11],[30,12,32,15],[30,16,32,16],[73,13,73,46],[44,87,44,89],[44,90,44,92],[44,93,44,95],[44,96,44,98],[45,87,48,89],[45,90,48,92],[45,93,48,95],[45,96,48,98],[36,99,41,99],[42,87,42,92],[42,93,42,95],[42,96,42,98],[43,87,43,89],[43,90,43,92],[43,93,43,95],[43,96,43,98],[36,80,38,83],[36,84,38,84],[36,85,38,85],[36,86,38,86],[36,89,38,96],[30,102,41,113],[39,100,41,100],[39,101,41,101],[33,101,35,101],[36,100,38,100],[36,101,38,101],[30,99,32,99],[30,100,32,100],[30,101,32,101],[33,80,35,83],[33,84,35,84],[33,85,35,85],[33,89,35,96],[33,99,35,99],[33,100,35,100],[30,86,35,86],[30,80,32,83],[30,84,32,84],[30,85,32,85],[23,87,26,89],[23,90,26,92],[23,93,26,95],[23,96,26,98],[27,87,27,89],[27,90,27,92],[27,93,27,95],[27,96,27,98],[28,87,28,89],[28,90,28,92],[28,93,28,95],[28,96,28,98],[29,87,29,89],[29,90,29,92],[29,93,29,98],[8,54,9,59],[10,2,11,9],[10,10,11,35],[10,36,13,47],[10,48,13,59],[12,2,13,9],[12,10,13,35],[8,2,9,9],[8,10,9,35],[8,36,9,41],[8,42,9,47],[8,48,9,53],[5,36,5,38],[5,42,5,44],[6,2,7,9],[6,10,7,35],[6,36,7,59],[0,124,1,149],[0,1,1,60],[0,63,1,122],[2,1,3,60],[2,63,3,122]]}
[null,"Continuous Green T (W)",null,null,null,null,null,null,null,null,null,null,null,null,null,null,null,null,null,null,null,null,null,null,null,null,null,null,null,null,null,null,null,null,null,null,null,null,null,null,null,null,null,null,null,null,null,null,null,null,null,null,null,null,null,null,null,null,null,null,null,null,null,"Continuous Green T (W)",null,null,null,null,null,null,null,null,null,null,null,null,null,null,null,null,null,null,null,null,null,null,null,null,null,null,null,null,null,null,null,null,null,null,null,null,null,null,null,null,null,null,null,null,null,null,null,null,null,null,null,null,null,null,null,null,null,null,null,null,"Assumptions"]
[]
[null,"Design and results",null,null,null,null,null,null,null,null,null,null,null,null,null,null,null,null,null,null,null,null,null,null,null,null,null,null,null,null,null,null,null,null,null,null,null,null,null,null,null,null,null,null,null,null,null,null,null,null,null,null,null,null,null,null,null,null,null,null,null,null,null,"Data Input and Configuration"]
[]
[]
[]
[null,null,"Project Name:",null,null,null,null,null,null,null,{"$f":"P_Name","v":"Cap-X Sample Street"},null,null,null,null,null,null,null,null,null,null,null,null,null,null,null,null,null,null,null,null,null,null,null,null,null,"Volume-to-Capacity Ratio"]
[]
[null,null,"Project Number:",null,null,null,null,null,null,null,{"$f":"P_Number","v":10000},null,null,null,null,null,null,null,null,null,null,null,null,null,null,null,null,null,null,null,null,null,null,null,null,null,"< 0.750",null,null,null,null,null,"0.750 - 0.875",null,null,null,null,null,"0.875 - 1.00",null,null,null,null,null,"≥ 1.00"]
[]
[null,null,"Location",null,null,null,null,null,null,null,{"$f":"Location","v":"Anywhere, USA"},null,null,null,null,null,null,null,null,null,null,null,null,null,null,null,null,null,null,null,null,null,null,null,null,null,"VOLUME / CAPACITY RATIO:",null,null,null,null,null,null,null,null,null,null,null,{"$f":"H31","v":0.14000000000000001}]
[]
[null,null,"Date",null,null,null,null,null,null,null,{"$f":"Date","v":"2017 AM"}]
[]
[]
[]
[]
[]
[]
[]
[]
[]
[]
[]
[]
[]
[]
[null,null,null,null,null,null,null,{"$f":"CL37","v":242},null,null,null,null,null,null,null,null,"CLV",null,null,null,null,null,null,null,null,null,null,null,null,null,null,null,null,null,null,null,null,null,null,null,null,null,null,null,null,null,null,null,null,null,null,null,null,null,null,null,null,null,null,null,null,null,null,null,null,null,null,null,null,null,null,null,null,null,null,null,null,null,null,null,null,null,null,null,null,null,null,"pepch",null,null,"pepch"]
[null,null,null,null,null,null,null,null,null,null,null,null,null,null,null,null,null,null,null,null,null,null,null,null,null,null,null,null,null,null,null,null,null,null,null,null,null,null,null,null,null,null,null,null,null,null,null,null,null,null,null,null,null,null,null,null,null,null,null,null,null,null,null,null,null,null,null,null,null,null,null,null,null,null,null,null,null,null,null,null,null,null,null,null,null,null,null,{"$f":"IF('3 - Alt Num Lanes Input'!AO34>0,SBR_Master,0)","v":51},null,null,{"$f":"SBT_Master+IF('3 - Alt Num Lanes Input'!AO34=0,SBR_Master,0)","v":204}]
[null,null,null,null,null,null,null,null,null,null,null,null,null,null,null,null,null,null,null,null,null,null,null,null,null,null,null,null,null,null,null,null,null,null,null,null,null,null,null,null,null,null,null,null,null,null,null,null,null,null,null,null,null,null,null,null,null,null,null,null,null,null,null,null,null,null,null,null,null,null,null,null,null,null,null,null,null,null,null,null,null,null,null,null,null,null,null,{"$f":"IF('3 - Alt Num Lanes Input'!AO34=0,1,'3 - Alt Num Lanes Input'!AO34)","v":1},null,null,{"$f":"'3 - Alt Num Lanes Input'!AM34","v":2}]
[null,null,null,null,null,null,null,{"$f":"ROUND(H28/CLV_Limit_3,2)","v":0.14000000000000001},null,null,null,"V/C",{"$f":"CLV_Limit_3","v":1750},null,null,null,"MAX",null,null,null,null,null,null,null,null,null,null,null,null,null,null,null,null,null,null,null,null,null,null,null,null,null,null,null,null,null,null,null,null,null,null,null,null,null,null,null,null,null,null,null,null,null,null,null,null,null,null,null,null,null,null,null,null,null,null,null,null,null,null,null,null,null,null,null,"pepch",{"$f":"EBU_Master","v":0},{"$f":"IF('3 - Alt Num Lanes Input'!AS34=0,1,'3 - Alt Num Lanes Input'!AS34)","v":1},null,null,null,null,null,null,null,null,null,null,null,null,null,null,null,{"$f":"IF((WBL_Master+WBR_Master+WBT_Master+WBU_Master)>1,\"WARNING: Westbound Traffic Not Included\",\"\")","v":"WARNING: Westbound Traffic Not Included"}]
[]
[]
[null,null,null,null,null,null,null,null,null,null,null,null,"3 Phases",null,null,null,null,null,null,null,null,null,null,null,null,null,null,null,null,null,null,null,null,null,null,null,null,null,null,null,null,null,null,null,null,null,null,null,null,null,null,null,null,null,null,null,null,null,null,null,null,null,null,null,null,null,null,null,null,null,null,null,null,null,null,null,null,null,null,null,null,null,null,null,"pepch",{"$f":"EBL_Master+IF('3 - Alt Num Lanes Input'!AW34=0,EBR_Master,0)","v":31}]
[]
[]
[null,null,null,null,null,null,null,null,null,null,null,null,null,null,null,null,null,null,null,null,null,null,null,null,null,null,null,null,null,null,null,null,null,null,null,null,null,null,null,null,null,null,null,null,null,null,null,null,null,null,null,null,null,null,null,null,null,null,null,null,null,null,null,null,null,null,null,null,null,null,null,null,null,null,null,null,null,null,null,null,null,null,null,null,"pepch",{"$f":"IF('3 - Alt Num Lanes Input'!AW34>0,EBR_Master,0)","v":51},{"$f":"IF('3 - Alt Num Lanes Input'!AW34=0,1,'3 - Alt Num Lanes Input'!AW34)","v":1},null,null,{"$f":"(CJ44/UTAF+CM44/LTAF)/CJ43+CM29/CM30+(CH34/LTAF+CH31/UTAF)/CI31","v":242}]
[]
[]
[]
[]
[]
[null,null,null,null,null,null,null,null,null,null,null,null,null,null,null,null,null,null,null,null,null,null,null,null,null,null,null,null,null,null,null,null,null,null,null,null,null,null,null,null,null,null,null,null,null,null,null,null,null,null,null,null,null,null,null,null,null,null,null,null,null,null,null,null,null,null,null,null,null,null,null,null,null,null,null,null,null,null,null,null,null,null,null,null,null,null,null,{"$f":"IF('3 - Alt Num Lanes Input'!AC34=0,1,'3 - Alt Num Lanes Input'!AC34)","v":1},null,null,null,null,null,{"$f":"'3 - Alt Num Lanes Input'!AE34","v":1}]
[null,null,null,null,null,null,null,null,null,null,null,null,null,null,null,null,null,null,null,null,null,null,null,null,null,null,null,null,null,null,null,null,null,null,null,null,null,null,null,null,null,null,null,null,null,null,null,null,null,null,null,null,null,null,null,null,null,null,null,null,null,null,null,null,null,null,null,null,null,null,null,null,null,null,null,null,null,null,null,null,null,null,null,null,null,null,null,{"$f":"NBU_Master","v":0},null,null,{"$f":"NBL_Master","v":102},null,null,{"$f":"NBT_Master","v":510}]
[null,null,null,null,null,null,null,null,null,null,null,null,null,null,null,null,null,null,null,null,null,null,null,null,null,null,null,null,null,null,null,null,null,null,null,null,null,null,null,null,null,null,null,null,null,null,null,null,null,null,null,null,null,null,null,null,null,null,null,null,null,null,null,null,null,null,null,null,null,null,null,null,null,null,null,null,null,null,null,null,null,null,null,null,null,null,null,"pepch",null,null,"pepch",null,null,"pepch"]
[]
[]
[]
[]
[]
[]
[]
[]
[]
[]
[]
[]
[]
[]
[]
[]
[]
[]
[]
[]
[]
[]
[]
[]
[]
[]
[]
[]
[null,null,null,null,null,null,null,null,null,null,null,null,null,"Note: This diagram does not reflect the actual lane configuration of the Intersection"]

{"sheet":"CGT E","index":18,"n_rows":74,"n_cols":125,"rows_kept":74,"cut":false,"hidden":false,"merged":[[33,12,33,16],[27,7,29,15],[27,16,29,16],[30,7,32,10],[30,11,32,11],[30,12,32,15],[30,16,32,16],[73,13,73,46],[44,87,44,89],[44,90,44,92],[44,93,44,95],[44,96,44,98],[45,87,48,89],[45,90,48,92],[45,93,48,95],[45,96,48,98],[42,87,42,92],[42,93,42,95],[42,96,42,98],[43,87,43,89],[43,90,43,92],[43,93,43,95],[43,96,43,98],[30,71,41,83],[36,102,38,105],[39,84,41,84],[39,85,41,85],[39,86,41,86],[39,100,41,100],[39,101,41,101],[39,102,41,105],[36,84,38,84],[36,85,38,85],[36,86,38,86],[36,89,38,96],[36,99,41,99],[36,100,38,100],[36,101,38,101],[33,99,35,99],[33,100,35,100],[33,101,35,101],[33,102,35,105],[33,84,35,84],[33,85,35,85],[33,89,35,96],[30,86,35,86],[30,84,32,84],[30,85,32,85],[23,87,26,89],[23,90,26,92],[23,93,26,95],[23,96,26,98],[27,87,27,89],[27,90,27,92],[27,93,27,95],[27,96,27,98],[28,87,28,89],[28,90,28,92],[28,93,28,95],[28,96,28,98],[29,87,29,89],[29,90,29,92],[29,93,29,98],[8,54,9,59],[10,2,11,9],[10,10,11,35],[10,36,13,47],[10,48,13,59],[12,2,13,9],[12,10,13,35],[8,2,9,9],[8,10,9,35],[8,36,9,41],[8,42,9,47],[8,48,9,53],[5,36,5,38],[5,42,5,44],[6,2,7,9],[6,10,7,35],[6,36,7,59],[0,124,1,149],[0,1,1,60],[0,63,1,122],[2,1,3,60],[2,63,3,122]]}
[null,"Continuous Green T (E)",null,null,null,null,null,null,null,null,null,null,null,null,null,null,null,null,null,null,null,null,null,null,null,null,null,null,null,null,null,null,null,null,null,null,null,null,null,null,null,null,null,null,null,null,null,null,null,null,null,null,null,null,null,null,null,null,null,null,null,null,null,"Continuous Green T (E)",null,null,null,null,null,null,null,null,null,null,null,null,null,null,null,null,null,null,null,null,null,null,null,null,null,null,null,null,null,null,null,null,null,null,null,null,null,null,null,null,null,null,null,null,null,null,null,null,null,null,null,null,null,null,null,null,null,null,null,null,"Assumptions"]
[]
[null,"Design and results",null,null,null,null,null,null,null,null,null,null,null,null,null,null,null,null,null,null,null,null,null,null,null,null,null,null,null,null,null,null,null,null,null,null,null,null,null,null,null,null,null,null,null,null,null,null,null,null,null,null,null,null,null,null,null,null,null,null,null,null,null,"Data Input and Configuration"]
[]
[]
[]
[null,null,"Project Name:",null,null,null,null,null,null,null,{"$f":"P_Name","v":"Cap-X Sample Street"},null,null,null,null,null,null,null,null,null,null,null,null,null,null,null,null,null,null,null,null,null,null,null,null,null,"Volume-to-Capacity Ratio"]
[]
[null,null,"Project Number:",null,null,null,null,null,null,null,{"$f":"P_Number","v":10000},null,null,null,null,null,null,null,null,null,null,null,null,null,null,null,null,null,null,null,null,null,null,null,null,null,"< 0.750",null,null,null,null,null,"0.750 - 0.875",null,null,null,null,null,"0.875 - 1.00",null,null,null,null,null,"≥ 1.00"]
[]
[null,null,"Location",null,null,null,null,null,null,null,{"$f":"Location","v":"Anywhere, USA"},null,null,null,null,null,null,null,null,null,null,null,null,null,null,null,null,null,null,null,null,null,null,null,null,null,"VOLUME / CAPACITY RATIO:",null,null,null,null,null,null,null,null,null,null,null,{"$f":"H31","v":0.18}]
[]
[null,null,"Date",null,null,null,null,null,null,null,{"$f":"Date","v":"2017 AM"}]
[]
[]
[]
[]
[]
[]
[]
[]
[]
[]
[]
[]
[]
[]
[null,null,null,null,null,null,null,{"$f":"CL37","v":320.26315789473688},null,null,null,null,null,null,null,null,"CLV",null,null,null,null,null,null,null,null,null,null,null,null,null,null,null,null,null,null,null,null,null,null,null,null,null,null,null,null,null,null,null,null,null,null,null,null,null,null,null,null,null,null,null,null,null,null,null,null,null,null,null,null,null,null,null,null,null,null,null,null,null,null,null,null,null,null,null,null,null,null,null,null,null,"pepch",null,null,"pepch",null,null,"pepch"]
[null,null,null,null,null,null,null,null,null,null,null,null,null,null,null,null,null,null,null,null,null,null,null,null,null,null,null,null,null,null,null,null,null,null,null,null,null,null,null,null,null,null,null,null,null,null,null,null,null,null,null,null,null,null,null,null,null,null,null,null,null,null,null,null,null,null,null,null,null,null,null,null,null,null,null,null,null,null,null,null,null,null,null,null,null,null,null,null,null,null,{"$f":"SBT_Master","v":204},null,null,{"$f":"SBL_Master","v":31},null,null,{"$f":"SBU_Master","v":0}]
[null,null,null,null,null,null,null,null,null,null,null,null,null,null,null,null,null,null,null,null,null,null,null,null,null,null,null,null,null,null,null,null,null,null,null,null,null,null,null,null,null,null,null,null,null,null,null,null,null,null,null,null,null,null,null,null,null,null,null,null,null,null,null,null,null,null,null,null,null,null,null,null,null,null,null,null,null,null,null,null,null,null,null,null,null,null,null,null,null,null,{"$f":"'3 - Alt Num Lanes Input'!AM38","v":2},null,null,{"$f":"IF('3 - Alt Num Lanes Input'!AK38=0,1,'3 - Alt Num Lanes Input'!AK38)","v":1}]
[null,null,null,null,null,null,null,{"$f":"ROUND(H28/CLV_Limit_3,2)","v":0.18},null,null,null,"V/C",{"$f":"CLV_Limit_3","v":1750},null,null,null,"MAX",null,null,null,null,null,null,null,null,null,null,null,null,null,null,null,null,null,null,null,null,null,null,null,null,null,null,null,null,null,null,null,null,null,null,null,null,null,null,null,null,null,null,null,null,null,null,null,null,null,null,null,null,null,null,{"$f":"IF((EBL_Master+EBR_Master+EBT_Master+EBU_Master)>1,\"WARNING: Eastbound Traffic Not Included\",\"\")","v":"WARNING: Eastbound Traffic Not Included"}]
[]
[]
[null,null,null,null,null,null,null,null,null,null,null,null,"3 Phases",null,null,null,null,null,null,null,null,null,null,null,null,null,null,null,null,null,null,null,null,null,null,null,null,null,null,null,null,null,null,null,null,null,null,null,null,null,null,null,null,null,null,null,null,null,null,null,null,null,null,null,null,null,null,null,null,null,null,null,null,null,null,null,null,null,null,null,null,null,null,null,null,null,null,null,null,null,null,null,null,null,null,null,null,null,null,{"$f":"IF('3 - Alt Num Lanes Input'!BE38=0,1,'3 - Alt Num Lanes Input'!BE38)","v":1},{"$f":"IF('3 - Alt Num Lanes Input'!BE38>0,WBR_Master,0)","v":51},"pepch"]
[]
[]
[null,null,null,null,null,null,null,null,null,null,null,null,null,null,null,null,null,null,null,null,null,null,null,null,null,null,null,null,null,null,null,null,null,null,null,null,null,null,null,null,null,null,null,null,null,null,null,null,null,null,null,null,null,null,null,null,null,null,null,null,null,null,null,null,null,null,null,null,null,null,null,null,null,null,null,null,null,null,null,null,null,null,null,null,null,null,null,null,null,{"$f":"(CW40/UTAF+CW37/LTAF)/CV37+(CS29/UTAF+CP29/LTAF)/CP30+CP44/CP43","v":320.26315789473688},null,null,null,null,null,null,null,null,null,{"$f":"IF('3 - Alt Num Lanes Input'!BA38=0,1,'3 - Alt Num Lanes Input'!BA38)","v":1},{"$f":"WBL_Master+IF('3 - Alt Num Lanes Input'!BE38=0,WBR_Master,0)","v":31},"pepch"]
[]
[]
[null,null,null,null,null,null,null,null,null,null,null,null,null,null,null,null,null,null,null,null,null,null,null,null,null,null,null,null,null,null,null,null,null,null,null,null,null,null,null,null,null,null,null,null,null,null,null,null,null,null,null,null,null,null,null,null,null,null,null,null,null,null,null,null,null,null,null,null,null,null,null,null,null,null,null,null,null,null,null,null,null,null,null,null,null,null,null,null,null,null,null,null,null,null,null,null,null,null,null,null,{"$f":"WBU_Master","v":0},"pepch"]
[]
[]
[null,null,null,null,null,null,null,null,null,null,null,null,null,null,null,null,null,null,null,null,null,null,null,null,null,null,null,null,null,null,null,null,null,null,null,null,null,null,null,null,null,null,null,null,null,null,null,null,null,null,null,null,null,null,null,null,null,null,null,null,null,null,null,null,null,null,null,null,null,null,null,null,null,null,null,null,null,null,null,null,null,null,null,null,null,null,null,null,null,null,null,null,null,{"$f":"'3 - Alt Num Lanes Input'!AE38","v":2},null,null,{"$f":"IF('3 - Alt Num Lanes Input'!AG38=0,1,'3 - Alt Num Lanes Input'!AG38)","v":1}]
[null,null,null,null,null,null,null,null,null,null,null,null,null,null,null,null,null,null,null,null,null,null,null,null,null,null,null,null,null,null,null,null,null,null,null,null,null,null,null,null,null,null,null,null,null,null,null,null,null,null,null,null,null,null,null,null,null,null,null,null,null,null,null,null,null,null,null,null,null,null,null,null,null,null,null,null,null,null,null,null,null,null,null,null,null,null,null,null,null,null,null,null,null,{"$f":"NBT_Master+IF('3 - Alt Num Lanes Input'!AG38=0,NBR_Master,0)","v":510},null,null,{"$f":"IF('3 - Alt Num Lanes Input'!AG38>0,NBR_Master,0)","v":204}]
[null,null,null,null,null,null,null,null,null,null,null,null,null,null,null,null,null,null,null,null,null,null,null,null,null,null,null,null,null,null,null,null,null,null,null,null,null,null,null,null,null,null,null,null,null,null,null,null,null,null,null,null,null,null,null,null,null,null,null,null,null,null,null,null,null,null,null,null,null,null,null,null,null,null,null,null,null,null,null,null,null,null,null,null,null,null,null,null,null,null,null,null,null,"pepch",null,null,"pepch"]
[]
[]
[]
[]
[]
[]
[]
[]
[]
[]
[]
[]
[]
[]
[]
[]
[]
[]
[]
[]
[]
[]
[]
[]
[]
[]
[]
[]
[null,null,null,null,null,null,null,null,null,null,null,null,null,"Note: This diagram does not reflect the actual lane configuration of the Intersection"]

{"sheet":"CGT S","index":19,"n_rows":74,"n_cols":125,"rows_kept":74,"cut":false,"hidden":false,"merged":[[33,12,33,16],[27,7,29,15],[27,16,29,16],[30,7,32,10],[30,11,32,11],[30,12,32,15],[30,16,32,16],[73,13,73,46],[44,87,44,89],[44,90,44,92],[44,93,44,95],[45,87,48,89],[45,90,48,92],[45,93,48,95],[42,87,42,92],[42,93,42,95],[43,87,43,89],[43,90,43,92],[43,93,43,95],[36,99,41,99],[36,100,38,100],[36,101,38,101],[36,102,38,105],[39,80,41,83],[39,84,41,84],[39,85,41,85],[39,86,41,86],[39,100,41,100],[39,101,41,101],[39,102,41,105],[36,80,38,83],[36,84,38,84],[36,85,38,85],[36,86,38,86],[36,89,38,96],[33,100,35,100],[30,86,35,86],[33,101,35,101],[33,102,35,105],[30,80,32,83],[30,84,32,84],[30,85,32,85],[33,80,35,83],[33,84,35,84],[33,85,35,85],[33,89,35,96],[33,99,35,99],[16,87,27,98],[30,99,32,99],[30,100,32,100],[30,101,32,101],[30,102,32,105],[28,87,28,89],[28,90,28,92],[28,93,28,95],[28,96,28,98],[29,87,29,89],[29,90,29,92],[29,93,29,98],[8,54,9,59],[10,2,11,9],[10,10,11,35],[10,36,13,47],[10,48,13,59],[12,2,13,9],[12,10,13,35],[8,2,9,9],[8,10,9,35],[8,36,9,41],[8,42,9,47],[8,48,9,53],[5,36,5,38],[5,42,5,44],[6,2,7,9],[6,10,7,35],[6,36,7,59],[0,124,1,149],[0,1,1,60],[0,63,1,122],[2,1,3,60],[2,63,3,122]]}
[null,"Continuous Green T (S)",null,null,null,null,null,null,null,null,null,null,null,null,null,null,null,null,null,null,null,null,null,null,null,null,null,null,null,null,null,null,null,null,null,null,null,null,null,null,null,null,null,null,null,null,null,null,null,null,null,null,null,null,null,null,null,null,null,null,null,null,null,"Continuous Green T (S)",null,null,null,null,null,null,null,null,null,null,null,null,null,null,null,null,null,null,null,null,null,null,null,null,null,null,null,null,null,null,null,null,null,null,null,null,null,null,null,null,null,null,null,null,null,null,null,null,null,null,null,null,null,null,null,null,null,null,null,null,"Assumptions"]
[]
[null,"Design and results",null,null,null,null,null,null,null,null,null,null,null,null,null,null,null,null,null,null,null,null,null,null,null,null,null,null,null,null,null,null,null,null,null,null,null,null,null,null,null,null,null,null,null,null,null,null,null,null,null,null,null,null,null,null,null,null,null,null,null,null,null,"Data Input and Configuration"]
[]
[]
[]
[null,null,"Project Name:",null,null,null,null,null,null,null,{"$f":"P_Name","v":"Cap-X Sample Street"},null,null,null,null,null,null,null,null,null,null,null,null,null,null,null,null,null,null,null,null,null,null,null,null,null,"Volume-to-Capacity Ratio"]
[]
[null,null,"Project Number:",null,null,null,null,null,null,null,{"$f":"P_Number","v":10000},null,null,null,null,null,null,null,null,null,null,null,null,null,null,null,null,null,null,null,null,null,null,null,null,null,"< 0.750",null,null,null,null,null,"0.750 - 0.875",null,null,null,null,null,"0.875 - 1.00",null,null,null,null,null,"≥ 1.00"]
[]
[null,null,"Location",null,null,null,null,null,null,null,{"$f":"Location","v":"Anywhere, USA"},null,null,null,null,null,null,null,null,null,null,null,null,null,null,null,null,null,null,null,null,null,null,null,null,null,"VOLUME / CAPACITY RATIO:",null,null,null,null,null,null,null,null,null,null,null,{"$f":"H31","v":0.14000000000000001}]
[]
[null,null,"Date",null,null,null,null,null,null,null,{"$f":"Date","v":"2017 AM"}]
[]
[]
[]
[null,null,null,null,null,null,null,null,null,null,null,null,null,null,null,null,null,null,null,null,null,null,null,null,null,null,null,null,null,null,null,null,null,null,null,null,null,null,null,null,null,null,null,null,null,null,null,null,null,null,null,null,null,null,null,null,null,null,null,null,null,null,null,null,null,null,null,null,null,null,null,null,null,null,null,null,null,null,null,null,null,null,null,null,null,null,null,{"$f":"IF((SBL_Master+SBR_Master+SBT_Master+SBU_Master)>1,\"WARNING: Southbound Traffic Not Included\",\"\")","v":"WARNING: Southbound Traffic Not Included"}]
[]
[]
[]
[]
[]
[]
[]
[]
[]
[]
[null,null,null,null,null,null,null,{"$f":"CL37","v":242},null,null,null,null,null,null,null,null,"CLV"]
[]
[]
[null,null,null,null,null,null,null,{"$f":"ROUND(H28/CLV_Limit_3,2)","v":0.14000000000000001},null,null,null,"V/C",{"$f":"CLV_Limit_3","v":1750},null,null,null,"MAX"]
[]
[]
[null,null,null,null,null,null,null,null,null,null,null,null,"3 Phases",null,null,null,null,null,null,null,null,null,null,null,null,null,null,null,null,null,null,null,null,null,null,null,null,null,null,null,null,null,null,null,null,null,null,null,null,null,null,null,null,null,null,null,null,null,null,null,null,null,null,null,null,null,null,null,null,null,null,null,null,null,null,null,null,null,null,null,null,null,null,null,null,null,null,null,null,null,null,null,null,null,null,null,null,null,null,{"$f":"'3 - Alt Num Lanes Input'!BC40","v":2},{"$f":"WBT_Master","v":204},"pepch"]
[]
[]
[null,null,null,null,null,null,null,null,null,null,null,null,null,null,null,null,null,null,null,null,null,null,null,null,null,null,null,null,null,null,null,null,null,null,null,null,null,null,null,null,null,null,null,null,null,null,null,null,null,null,null,null,null,null,null,null,null,null,null,null,null,null,null,null,null,null,null,null,null,null,null,null,null,null,null,null,null,null,null,null,null,null,null,null,"pepch",{"$f":"EBT_Master+IF('3 - Alt Num Lanes Input'!AW40=0,EBR_Master,0)","v":204},{"$f":"'3 - Alt Num Lanes Input'!AU40","v":2},null,null,{"$f":"(CJ44/UTAF+CM44/LTAF)/CJ43+(CW40/UTAF+CW37/LTAF)/CV37+CH37/CI37","v":242},null,null,null,null,null,null,null,null,null,{"$f":"IF('3 - Alt Num Lanes Input'!BA40=0,1,'3 - Alt Num Lanes Input'!BA40)","v":1},{"$f":"WBL_Master","v":31},"pepch"]
[]
[]
[null,null,null,null,null,null,null,null,null,null,null,null,null,null,null,null,null,null,null,null,null,null,null,null,null,null,null,null,null,null,null,null,null,null,null,null,null,null,null,null,null,null,null,null,null,null,null,null,null,null,null,null,null,null,null,null,null,null,null,null,null,null,null,null,null,null,null,null,null,null,null,null,null,null,null,null,null,null,null,null,null,null,null,null,"pepch",{"$f":"IF('3 - Alt Num Lanes Input'!AW40>0,EBR_Master,0)","v":51},{"$f":"IF('3 - Alt Num Lanes Input'!AW40=0,1,'3 - Alt Num Lanes Input'!AW40)","v":1},null,null,null,null,null,null,null,null,null,null,null,null,null,{"$f":"WBU_Master","v":0},"pepch"]
[]
[]
[null,null,null,null,null,null,null,null,null,null,null,null,null,null,null,null,null,null,null,null,null,null,null,null,null,null,null,null,null,null,null,null,null,null,null,null,null,null,null,null,null,null,null,null,null,null,null,null,null,null,null,null,null,null,null,null,null,null,null,null,null,null,null,null,null,null,null,null,null,null,null,null,null,null,null,null,null,null,null,null,null,null,null,null,null,null,null,{"$f":"IF('3 - Alt Num Lanes Input'!AC40=0,1,'3 - Alt Num Lanes Input'!AC40)","v":1},null,null,null,null,null,{"$f":"IF('3 - Alt Num Lanes Input'!AG40=0,1,'3 - Alt Num Lanes Input'!AG40)","v":1}]
[null,null,null,null,null,null,null,null,null,null,null,null,null,null,null,null,null,null,null,null,null,null,null,null,null,null,null,null,null,null,null,null,null,null,null,null,null,null,null,null,null,null,null,null,null,null,null,null,null,null,null,null,null,null,null,null,null,null,null,null,null,null,null,null,null,null,null,null,null,null,null,null,null,null,null,null,null,null,null,null,null,null,null,null,null,null,null,{"$f":"NBU_Master","v":0},null,null,{"$f":"NBL_Master+IF('3 - Alt Num Lanes Input'!AG40=0,NBR_Master,0)","v":102},null,null,{"$f":"IF('3 - Alt Num Lanes Input'!AG40>0,NBR_Master,0)","v":204}]
[null,null,null,null,null,null,null,null,null,null,null,null,null,null,null,null,null,null,null,null,null,null,null,null,null,null,null,null,null,null,null,null,null,null,null,null,null,null,null,null,null,null,null,null,null,null,null,null,null,null,null,null,null,null,null,null,null,null,null,null,null,null,null,null,null,null,null,null,null,null,null,null,null,null,null,null,null,null,null,null,null,null,null,null,null,null,null,"pepch",null,null,"pepch",null,null,"pepch"]
[]
[]
[]
[]
[]
[]
[]
[]
[]
[]
[]
[]
[]
[]
[]
[]
[]
[]
[]
[]
[]
[]
[]
[]
[]
[]
[]
[]
[null,null,null,null,null,null,null,null,null,null,null,null,null,"Note: This diagram does not reflect the actual lane configuration of the Intersection"]

{"sheet":"TWSC N-S","index":20,"n_rows":65,"n_cols":126,"rows_kept":65,"cut":false,"hidden":false,"merged":[[0,125,1,150],[63,94,63,96],[62,97,62,99],[63,97,63,99],[8,91,8,93],[53,88,53,90],[53,91,53,93],[53,94,53,96],[53,97,53,99],[61,97,61,99],[59,88,59,90],[59,91,59,93],[59,94,59,96],[59,97,59,99],[58,88,58,90],[58,91,58,93],[7,88,7,90],[7,91,7,93],[7,94,7,96],[7,97,7,99],[54,94,54,96],[54,97,54,99],[55,88,55,90],[55,91,55,93],[30,66,32,66],[36,67,38,67],[33,68,35,68],[36,68,38,68],[36,70,38,70],[65,91,65,96],[62,88,62,90],[63,88,63,90],[62,91,62,93],[63,91,63,93],[62,94,62,96],[61,88,61,90],[61,91,61,93],[61,94,61,96],[64,88,64,90],[64,91,64,93],[64,94,64,96],[30,70,32,70],[30,71,32,71],[33,70,35,70],[33,71,35,71],[30,72,32,72],[30,73,32,73],[51,94,51,96],[33,122,35,122],[36,122,38,122],[39,122,41,122],[25,118,27,118],[25,119,27,119],[39,120,41,120],[39,121,41,121],[36,120,38,120],[36,121,38,121],[33,120,35,120],[33,121,35,121],[30,120,32,120],[30,121,32,121],[43,65,45,65],[25,122,27,122],[39,66,41,66],[39,67,41,67],[43,66,45,66],[43,68,45,68],[43,67,45,67],[39,68,41,68],[43,69,45,69],[36,118,38,118],[36,119,38,119],[27,97,27,99],[28,88,28,90],[28,91,28,93],[29,88,29,90],[30,67,32,67],[33,66,35,66],[33,67,35,67],[36,66,38,66],[30,65,32,65],[33,65,35,65],[36,65,38,65],[39,65,41,65],[30,122,32,122],[33,114,35,114],[33,115,35,115],[36,112,38,112],[36,113,38,113],[36,114,38,114],[36,115,38,115],[30,78,32,78],[30,79,32,79],[30,80,32,80],[33,85,35,85],[33,86,35,86],[33,90,35,97],[30,107,32,107],[33,107,35,107],[30,101,32,101],[33,100,35,100],[33,101,35,101],[33,102,35,102],[30,102,32,102],[30,108,32,108],[30,103,32,106],[30,109,32,109],[30,110,32,110],[30,111,32,111],[39,112,41,112],[39,113,41,113],[39,114,41,114],[39,115,41,115],[36,109,38,109],[39,118,41,118],[39,119,41,119],[43,77,45,77],[44,88,44,90],[44,91,44,93],[44,94,44,96],[44,97,44,99],[45,88,48,90],[36,110,38,110],[36,111,38,111],[39,110,41,110],[36,77,38,77],[36,107,38,107],[39,108,41,108],[39,107,41,107],[36,116,38,116],[36,117,38,117],[39,116,41,116],[39,117,41,117],[39,102,41,102],[39,103,41,106],[36,102,38,102],[43,76,45,76],[43,75,45,75],[33,69,35,69],[36,69,38,69],[39,69,41,69],[39,70,41,70],[39,71,41,71],[43,74,45,74],[43,71,45,71],[43,70,45,70],[36,101,38,101],[36,100,41,100],[39,101,41,101],[36,103,38,106],[39,80,41,80],[36,80,38,80],[33,80,35,80],[33,81,35,84],[36,71,38,71],[39,73,41,73],[36,87,38,87],[8,97,8,99],[9,97,9,99],[8,94,8,96],[9,94,9,96],[60,88,60,90],[60,91,60,93],[60,94,60,96],[60,97,60,99],[56,88,56,90],[56,91,56,93],[56,94,56,96],[56,97,56,99],[57,88,57,90],[57,91,57,93],[57,94,57,96],[57,97,57,99],[58,94,58,96],[58,97,58,99],[36,98,38,98],[55,94,55,96],[55,97,55,99],[54,88,54,90],[54,91,54,93],[23,94,26,96],[8,88,8,90],[9,88,9,90],[12,88,12,90],[12,91,12,93],[12,94,12,96],[13,88,13,90],[13,91,13,93],[13,94,13,96],[10,88,10,90],[10,91,10,93],[10,94,10,96],[11,88,11,90],[11,91,11,93],[11,94,11,96],[13,71,13,86],[17,71,17,86],[16,97,16,99],[17,88,17,90],[17,91,17,93],[17,94,17,96],[17,97,17,99],[9,91,9,93],[14,94,14,96],[15,97,15,99],[14,97,14,99],[15,88,15,90],[14,88,14,90],[15,91,15,93],[14,91,14,93],[12,97,12,99],[13,97,13,99],[10,97,10,99],[11,97,11,99],[14,71,14,86],[15,71,15,86],[15,94,15,96],[0,1,1,60],[0,63,1,122],[2,1,3,60],[2,63,3,122],[5,2,6,9],[5,10,6,35],[5,36,6,59],[6,71,7,86],[9,2,10,9],[9,10,10,35],[9,36,12,47],[9,48,12,59],[11,2,12,9],[11,10,12,35],[7,54,8,59],[7,2,8,9],[7,10,8,35],[10,100,10,101],[7,48,8,53],[8,71,8,86],[10,71,10,86],[11,71,11,86],[12,71,12,86],[9,71,9,86],[7,36,8,41],[7,42,8,47],[51,97,51,99],[43,97,43,99],[50,88,50,90],[50,91,50,93],[50,94,50,96],[50,97,50,99],[49,97,49,99],[43,88,43,90],[43,91,43,93],[45,91,48,93],[43,94,43,96],[42,97,42,99],[49,88,49,90],[49,91,49,93],[49,94,49,96],[42,88,42,93],[42,94,42,96],[36,90,38,97],[30,81,32,84],[30,85,32,85],[30,86,32,86],[30,87,35,87],[25,110,27,110],[25,111,27,111],[30,100,32,100],[27,88,27,90],[27,91,27,93],[27,94,27,96],[22,94,22,96],[18,97,18,99],[19,88,19,90],[19,91,19,93],[19,94,19,96],[19,97,19,99],[21,88,21,90],[21,91,21,93],[21,94,21,96],[21,97,21,99],[22,88,22,90],[22,91,22,93],[23,88,26,90],[23,91,26,93],[23,97,26,99],[18,71,18,86],[19,71,19,86],[16,88,16,90],[16,91,16,93],[16,94,16,96],[16,71,16,86],[18,88,18,90],[18,91,18,93],[18,94,18,96],[54,37,55,39],[20,94,20,96],[20,97,20,99],[28,94,28,96],[28,97,28,99],[20,88,20,90],[20,91,20,93],[29,91,29,93],[29,94,29,99],[20,72,21,86],[52,88,52,90],[52,91,52,93],[52,94,52,96],[52,97,52,99],[36,76,38,76],[33,76,35,76],[30,76,32,76],[39,76,41,76],[30,74,32,74],[30,75,32,75],[33,74,35,74],[33,75,35,75],[36,74,38,74],[22,97,22,99],[33,77,35,77],[30,77,32,77],[57,17,59,18],[57,19,59,20],[33,15,34,17],[33,18,34,20],[33,21,34,23],[29,41,31,42],[29,43,31,44],[32,41,34,42],[32,43,34,44],[35,41,37,42],[35,43,37,44],[52,37,53,39],[52,40,53,42],[52,43,53,45],[54,43,55,45],[51,17,53,18],[51,19,53,20],[54,17,56,18],[54,19,56,20],[35,15,36,17],[35,18,36,20],[35,21,36,23],[44,117,44,118],[44,119,44,121],[45,117,45,118],[45,119,45,121],[43,72,45,72],[33,103,35,106],[33,72,35,72],[33,73,35,73],[36,72,38,72],[36,73,38,73],[39,72,41,72],[33,109,35,109],[33,78,35,78],[33,79,35,79],[39,109,41,109],[45,94,48,96],[45,97,48,99],[33,108,35,108],[36,108,38,108],[36,75,38,75],[39,74,41,74],[39,75,41,75],[39,77,41,77],[39,111,41,111],[25,114,27,114],[25,115,27,115],[25,121,27,121],[30,114,32,114],[30,115,32,115],[33,110,35,110],[33,111,35,111],[30,118,32,118],[30,119,32,119],[33,118,35,118],[33,119,35,119],[30,112,32,112],[30,113,32,113],[25,120,27,120],[25,112,27,112],[25,113,27,113],[25,116,27,116],[25,117,27,117],[30,116,32,116],[30,117,32,117],[33,116,35,116],[33,117,35,117],[33,112,35,112],[33,113,35,113],[64,97,64,99],[20,38,22,46],[20,47,22,47],[43,73,45,73],[24,67,24,69],[25,67,25,69],[25,65,25,66],[24,65,24,66],[30,68,32,68],[30,69,32,69],[36,78,38,78],[36,79,38,79],[39,78,41,78],[39,79,41,79],[39,81,41,84],[39,85,41,85],[39,86,41,86],[39,87,41,87],[36,81,38,84],[36,85,38,85],[36,86,38,86],[54,40,55,42],[51,88,51,90],[51,91,51,93]]}
[null,"Two Way Stop Control (N-S)",null,null,null,null,null,null,null,null,null,null,null,null,null,null,null,null,null,null,null,null,null,null,null,null,null,null,null,null,null,null,null,null,null,null,null,null,null,null,null,null,null,null,null,null,null,null,null,null,null,null,null,null,null,null,null,null,null,null,null,null,null,"Two Way Stop Control (N-S)",null,null,null,null,null,null,null,null,null,null,null,null,null,null,null,null,null,null,null,null,null,null,null,null,null,null,null,null,null,null,null,null,null,null,null,null,null,null,null,null,null,null,null,null,null,null,null,null,null,null,null,null,null,null,null,null,null,null,null,null,null,"Assumptions"]
[]
[null,"Design and Results",null,null,null,null,null,null,null,null,null,null,null,null,null,null,null,null,null,null,null,null,null,null,null,null,null,null,null,null,null,null,null,null,null,null,null,null,null,null,null,null,null,null,null,null,null,null,null,null,null,null,null,null,null,null,null,null,null,null,null,null,null,"Data Input and Configuration"]
[]
[]
[null,null,"Project Name:",null,null,null,null,null,null,null,{"$f":"P_Name","v":"Cap-X Sample Street"},null,null,null,null,null,null,null,null,null,null,null,null,null,null,null,null,null,null,null,null,null,null,null,null,null,"Volume-to-Capacity Ratio"]
[]
[null,null,"Project Number:",null,null,null,null,null,null,null,{"$f":"P_Number","v":10000},null,null,null,null,null,null,null,null,null,null,null,null,null,null,null,null,null,null,null,null,null,null,null,null,null,"< 0.750",null,null,null,null,null,"0.750 - 0.875",null,null,null,null,null,"0.875 - 1.00",null,null,null,null,null,"≥ 1.00",null,null,null,null,null,null,null,null,null,null,null,null,null,null,null,null,null,null,null,null,null,null,null,null,null,null,null,null,null,null,null,null,null,null,null,null,null,null,null,{"$f":"CQ29/CQ10","v":3.4984009100231542E-2}]
[null,null,null,null,null,null,null,null,null,null,null,null,null,null,null,null,null,null,null,null,null,null,null,null,null,null,null,null,null,null,null,null,null,null,null,null,null,null,null,null,null,null,null,null,null,null,null,null,null,null,null,null,null,null,null,null,null,null,null,null,null,null,null,null,null,null,null,null,null,null,null,"Volume-to-Capacity Ratio",null,null,null,null,null,null,null,null,null,null,null,null,null,null,null,null,null,null,null,{"$f":"CN29/CN11","v":0.11333333333333333},null,null,{"$f":"CQ29/CQ11","v":3.4984009100231542E-2},null,null,{"$f":"CT29/CT11","v":0}]
[null,null,"Location",null,null,null,null,null,null,null,{"$f":"Location","v":"Anywhere, USA"},null,null,null,null,null,null,null,null,null,null,null,null,null,null,null,null,null,null,null,null,null,null,null,null,null,"VOLUME / CAPACITY RATIO:",null,null,null,null,null,null,null,null,null,null,null,{"$f":"AM21","v":15.849681734685804},null,null,null,null,null,null,null,null,null,null,null,null,null,null,null,null,null,null,null,null,null,null,"Capacity Shared lane, CSH",null,null,null,null,null,null,null,null,null,null,null,null,null,null,null,null,null,null,null,null,null,null,{"$f":"(CQ29+CT29)/((CQ29/CQ11)+(CT29/CT11))","v":886.11913835212295}]
[null,null,null,null,null,null,null,null,null,null,null,null,null,null,null,null,null,null,null,null,null,null,null,null,null,null,null,null,null,null,null,null,null,null,null,null,null,null,null,null,null,null,null,null,null,null,null,null,null,null,null,null,null,null,null,null,null,null,null,null,null,null,null,null,null,null,null,null,null,null,null,"Movement Capacity, Cm",null,null,null,null,null,null,null,null,null,null,null,null,null,null,null,null,null,null,null,{"$f":"CN30*1800","v":1800},null,null,{"$f":"CQ12","v":886.11913835212295},null,null,{"$f":"CT12*(1-(CX31/DO31))","v":487.36928785075821}]
[null,null,"Date",null,null,null,null,null,null,null,{"$f":"Date","v":"2017 AM"},null,null,null,null,null,null,null,null,null,null,null,null,null,null,null,null,null,null,null,null,null,null,null,null,null,null,null,null,null,null,null,null,null,null,null,null,null,null,null,null,null,null,null,null,null,null,null,null,null,null,null,null,null,null,null,null,null,null,null,null,"Potential Capacity, Cp",null,null,null,null,null,null,null,null,null,null,null,null,null,null,null,null,null,null,null,null,null,null,{"$f":"CQ22*(EXP(-(CQ22*CQ14)/3600)/(1-EXP(-(CQ22*CQ13)/3600)))","v":886.11913835212295},null,null,{"$f":"CT22*(EXP(-(CT22*CT14)/3600)/(1-EXP(-(CT22*CT13)/3600)))","v":535.87761117281389}]
[null,null,null,null,null,null,null,null,null,null,null,null,null,null,null,null,null,null,null,null,null,null,null,null,null,null,null,null,null,null,null,null,null,null,null,null,null,null,null,null,null,null,null,null,null,null,null,null,null,null,null,null,null,null,null,null,null,null,null,null,null,null,null,null,null,null,null,null,null,null,null,"Follow-up Headway, tf",null,null,null,null,null,null,null,null,null,null,null,null,null,null,null,null,null,null,null,null,null,null,{"$f":"CQ19+(CQ17*CQ15)","v":2.218},null,null,{"$f":"CT19+(CT17*CT15)","v":3.1179999999999999}]
[null,null,null,null,null,null,null,null,null,null,null,null,null,null,null,null,null,null,null,null,null,null,null,null,null,null,null,null,null,null,null,null,null,null,null,null,null,null,null,null,null,null,null,null,null,null,null,null,null,null,null,null,null,null,null,null,null,null,null,null,null,null,null,null,null,null,null,null,null,null,null,"Critical Headway, tc",null,null,null,null,null,null,null,null,null,null,null,null,null,null,null,null,null,null,null,null,null,null,{"$f":"CQ20+(CQ18*CQ15)-CQ16","v":4.1199999999999992},null,null,{"$f":"CT20+(CT18*CT15)-CT16","v":6.92}]
[null,null,null,null,null,null,null,null,null,null,null,null,null,null,null,null,null,null,null,null,null,null,null,null,null,null,null,null,null,null,null,null,null,null,null,null,null,null,null,null,null,null,null,null,null,null,null,null,null,null,null,null,null,null,null,null,null,null,null,null,null,null,null,null,null,null,null,null,null,null,null,"P,HV",null,null,null,null,null,null,null,null,null,null,null,null,null,null,null,null,null,null,null,null,null,null,{"$f":"SB_Truck_Percentage","v":0.02},null,null,{"$f":"SB_Truck_Percentage","v":0.02}]
[null,null,null,null,null,null,null,null,null,null,null,null,null,null,null,null,null,null,null,null,null,null,null,null,null,null,null,null,null,null,null,null,null,null,null,null,null,null,null,null,null,null,null,null,null,null,null,null,null,null,null,null,null,null,null,null,null,null,null,null,null,null,null,null,null,null,null,null,null,null,null,"t3,LT Adjustment",null,null,null,null,null,null,null,null,null,null,null,null,null,null,null,null,null,null,null,null,null,null,0,null,null,0]
[null,null,null,null,null,null,null,null,null,null,null,null,null,null,null,null,null,null,null,null,null,null,null,null,null,null,null,null,null,null,null,null,null,null,null,null,null,null,null,null,null,null,null,null,null,null,null,null,null,null,null,null,null,null,null,null,null,null,null,null,null,null,null,null,null,null,null,null,null,null,null,"tf,HV",null,null,null,null,null,null,null,null,null,null,null,null,null,null,null,null,null,null,null,null,null,null,{"$f":"IF(CQ23=1,0.9,1)","v":0.9},null,null,{"$f":"IF(CT23=1,0.9,1)","v":0.9}]
[null,null,null,null,null,null,null,null,null,null,null,null,null,null,null,null,null,null,null,null,null,null,null,null,null,null,null,null,null,null,null,null,null,null,null,null,null,null,null,null,null,null,null,null,null,null,null,null,null,null,null,null,null,null,null,null,null,null,null,null,null,null,null,null,null,null,null,null,null,null,null,"tc,HV",null,null,null,null,null,null,null,null,null,null,null,null,null,null,null,null,null,null,null,null,null,null,{"$f":"IF(CQ23=1,1,2)","v":1},null,null,{"$f":"IF(CT23=1,1,2)","v":1}]
[null,null,null,null,null,null,null,null,null,null,null,null,null,null,null,null,null,null,null,null,null,null,null,null,null,null,null,null,null,null,null,null,null,null,null,null,null,null,null,null,null,null,null,null,null,null,null,null,null,null,null,null,null,null,null,null,null,null,null,null,null,null,null,null,null,null,null,null,null,null,null,"Follwoup Headway tf,base",null,null,null,null,null,null,null,null,null,null,null,null,null,null,null,null,null,null,null,null,null,null,{"$f":"IF(CQ23=3,3.1,2.2)","v":2.2000000000000002},null,null,{"$f":"IF(CT23=3,2.3,3.1)","v":3.1}]
[null,null,null,null,null,null,null,null,null,null,null,null,null,null,null,null,null,null,null,null,null,null,null,null,null,null,null,null,null,null,null,null,null,null,null,null,null,null,null,null,null,null,null,null,null,null,null,null,null,null,null,null,null,null,null,null,null,null,null,null,null,null,null,null,null,null,null,null,null,null,null,"Critical Headway, tc,base",null,null,null,null,null,null,null,null,null,null,null,null,null,null,null,null,null,null,null,null,null,null,{"$f":"IF(CQ23=3,5.3,4.1)","v":4.0999999999999996},null,null,{"$f":"IF(CT23=3,5.6,6.9)","v":6.9}]
[null,null,null,null,null,null,null,null,null,null,null,null,null,null,null,null,null,null,null,null,null,null,null,null,null,null,null,null,null,null,null,null,null,null,null,null,null,null,{"$f":"MAX(P36,S36,V36,AR30,AR33,AR36,AR55,AO55,AL55,R58,R55,R52)","v":15.849681734685804},null,null,null,null,null,null,null,null,"V/C",null,null,null,null,null,null,null,null,null,null,null,null,null,null,null,null,null,null,null,null,null,null,null,null,"Conflicting Volume, Vc",null,null,null,null,null,null,null,null,null,null,null,null,null,null,null,"pepch",null,null,"pepch",null,null,"pepch",null,null,"pepch"]
[null,null,null,null,null,null,null,null,null,null,null,null,null,null,null,null,null,null,null,null,null,null,null,null,null,null,null,null,null,null,null,null,null,null,null,null,null,null,null,null,null,null,null,null,null,null,null,null,null,null,null,null,null,null,null,null,null,null,null,null,null,null,null,null,null,null,null,null,null,null,null,null,null,null,null,null,null,null,null,null,null,null,null,null,null,null,null,null,null,null,null,null,null,null,{"$f":"CQ44+CT44","v":714},null,null,{"$f":"IF(CT23=3,((0.73*CQ44)+(0.73*CT44)), (CQ44+CT44))-IF(AND(CT23=3,'3 - Alt Num Lanes Input'!AG28>0),(0.73*CT44),0)-IF(AND(OR(CT23=2,CT23=1),'3 - Alt Num Lanes Input'!AG28>0),(CT44),0)","v":510}]
[null,null,null,null,null,null,null,null,null,null,null,null,null,null,null,null,null,null,null,null,null,null,null,null,null,null,null,null,null,null,null,null,null,null,null,null,null,null,null,null,null,null,null,null,null,null,null,null,null,null,null,null,null,null,null,null,null,null,null,null,null,null,null,null,null,null,null,null,null,null,null,null,null,null,null,null,null,null,null,null,null,null,null,null,null,null,null,null,null,null,null,null,null,null,{"$f":"CQ43","v":1},null,null,{"$f":"CQ43","v":1}]
[]
[null,null,null,null,null,null,null,null,null,null,null,null,null,null,null,null,null,null,null,null,null,null,null,null,null,null,null,null,null,null,null,null,null,null,null,null,null,null,null,null,null,null,null,null,null,null,null,null,null,null,null,null,null,null,null,null,null,null,null,null,null,null,null,null,null,"P'",null,{"$f":"(0.65*BP26)-(BP26/(BP26+3))+(0.6*BP26)","v":1.3482235594658627E-2}]
[null,null,null,null,null,null,null,null,null,null,null,null,null,null,null,null,null,null,null,null,null,null,null,null,null,null,null,null,null,null,null,null,null,null,null,null,null,null,null,null,null,null,null,null,null,null,null,null,null,null,null,null,null,null,null,null,null,null,null,null,null,null,null,null,null,"P\"",null,{"$f":"(1-(CN44+CK44)/CN63)*(1-(CQ29+CT29)/CQ10)*(1-(CX34/DP34))","v":1.4681892385840169E-2},null,null,null,null,null,null,null,null,null,null,null,null,null,null,null,null,null,null,null,null,null,null,null,null,null,null,null,null,null,null,null,null,null,null,null,null,null,null,null,null,null,null,"tc,base","tf,base","tc,hv","tf,hv","t3,LT","P,HV","tc","tf","Cp","Cm","CSH","V/C","V/C,SH"]
[]
[null,null,null,null,null,null,null,null,null,null,null,null,null,null,null,null,null,null,null,null,null,null,null,null,null,null,null,null,null,null,null,null,null,null,null,null,null,null,null,null,null,null,null,null,null,null,null,null,null,null,null,null,null,null,null,null,null,null,null,null,null,null,null,null,null,null,null,null,null,null,null,null,null,null,null,null,null,null,null,null,null,null,null,null,null,null,null,null,"pepch",null,null,"pepch",null,null,"pepch",null,null,"pepch"]
[null,null,null,null,null,null,null,null,null,null,null,null,null,null,null,null,null,null,null,null,null,null,null,null,null,null,null,null,null,null,null,null,null,null,null,null,null,null,null,null,null,null,null,null,null,null,null,null,null,null,null,null,null,null,null,null,null,null,null,null,null,null,null,null,null,null,null,null,null,null,null,null,null,null,null,null,null,null,null,null,null,null,null,null,null,null,null,null,{"$f":"SBR_Master","v":51},null,null,{"$f":"SBT_Master","v":204},null,null,{"$f":"SBL_Master","v":31},null,null,{"$f":"SBU_Master","v":0}]
[null,null,null,null,null,null,null,null,null,null,null,null,null,null,null,null,null,null,null,null,null,null,null,null,null,null,null,null,null,null,null,null,null,null,null,null,null,null,null,null,null,"R",null,{"$f":"IF('3 - Alt Num Lanes Input'!BE28=0,DS31,DR31)","v":9.0521272601576053E-2},null,null,null,null,null,null,null,null,null,null,null,null,null,null,null,null,null,null,null,null,null,null,null,null,null,null,null,null,null,null,null,null,null,null,null,null,null,null,null,null,null,null,null,null,{"$f":"'3 - Alt Num Lanes Input'!AO28","v":1},null,null,{"$f":"'3 - Alt Num Lanes Input'!AM28","v":1},null,null,{"$f":"'3 - Alt Num Lanes Input'!AK28","v":1}]
[null,null,null,null,null,null,null,null,null,null,null,null,null,null,null,null,null,null,null,null,null,null,null,null,null,null,null,null,null,null,null,null,null,null,null,null,null,null,null,null,null,null,null,null,null,null,null,null,null,null,null,null,null,null,null,null,null,null,null,null,null,null,null,null,null,null,null,null,null,null,null,null,null,null,null,null,null,null,null,null,null,null,null,null,null,null,null,{"$f":"'3 - Alt Num Lanes Input'!AS28","v":1},null,null,null,null,null,null,null,null,null,null,null,null,{"$f":"'3 - Alt Num Lanes Input'!BE28","v":1},{"$f":"WBR_Master","v":51},"pepch",null,null,null,null,{"$f":"CQ43","v":1},{"$f":"IF(DD31=1, (CQ44+(0.5*CT44)),((0.5*CQ44)+(0.5*CT44)))-IF('3 - Alt Num Lanes Input'!AG28=0,0,(0.5*CT44))","v":510},"pepch",{"$f":"IF(DD31=1,6.2,IF(DD31=2,6.9,7.1))","v":6.2},{"$f":"IF(DD31=3,3.9,3.3)","v":3.3},{"$f":"IF(DD31=1,1,2)","v":1},{"$f":"IF(DD31=1,0.9,1)","v":0.9},0,{"$f":"WB_Truck_Percentage","v":0.02},{"$f":"DG31+(DI31*DL31)-DK31","v":6.22},{"$f":"DH31+(DJ31*DL31)","v":3.3179999999999996},{"$f":"DE31*(EXP(-(DE31*DM31)/3600)/(1-EXP(-(DE31*DN31)/3600)))","v":563.40348002478311},{"$f":"DO31","v":563.40348002478311},{"$f":"(CX34+CX31)/((CX34/DP34)+(CX31/DP31))","v":237.4251977464082},{"$f":"CX31/DP31","v":9.0521272601576053E-2},{"$f":"IF(CX31=0,0,CX31/DQ31)","v":0.21480449625432199}]
[]
[null,null,null,null,null,null,null,null,null,null,null,null,null,null,null,null,null,null,null,null,null,null,null,null,null,null,null,null,null,null,null,null,null,null,null,null,null,null,null,null,null,"T",null,{"$f":"DR34","v":0.98350120867003388}]
[null,null,null,null,null,null,null,null,null,null,null,null,null,null,null,"R",null,null,"T",null,null,"L",null,null,null,null,null,null,null,null,null,null,null,null,null,null,null,null,null,null,null,null,null,null,null,null,null,null,null,null,null,null,null,null,null,null,null,null,null,null,null,null,null,null,null,{"$f":"IF(CI34=0,0,CI34/BP34)","v":2.2506843637505294},{"$f":"CI34/BQ34","v":15.849681734685804},{"$f":"(CI34+CI37)/((CI34/BQ34)+(CI37/BQ37))","v":13.773588380176841},{"$f":"BR34*BP25*(1-CX31/DP31)","v":1.9558752357884193},{"$f":"CB34*(EXP(-(CB34*BT34)/3600)/(1-EXP(-(CB34*BS34)/3600)))","v":159.50955027676511},{"$f":"BY34+(BW34*BU34)","v":3.5179999999999998},{"$f":"BZ34+(BX34*BU34)-BV34","v":7.1199999999999992},{"$f":"EB_Truck_Percentage","v":0.02},{"$f":"IF((CX31+CX34+CX37+CX40)=0,0.7,0)","v":0},{"$f":"IF(CC34=1,0.9,1)","v":0.9},{"$f":"IF(CC34=1,1,2)","v":1},{"$f":"IF(CC34=3,3.8,3.5)","v":3.5},{"$f":"IF(CC34=1,7.1,IF(CC34=2,7.5,6.4))","v":7.1},"pepch",{"$f":"IF(CC34=1,(2*(CQ29+CT29)+CN29+0.5*(CK29)+2*(CN44+CK44)+CQ44+(0.5*CT44)+(0.5*CX31)+(0.5*CX34)),IF(CC34=2,(2*(CQ29+CT29)+CN29+0.5*(CK29)+2*(CN44+CK44)+CQ44+0.5*(CX31)+0.5*(CX34)),(2*(CQ29+CT29)+CN29+0.5*(CK29)+2*(CN44+CK44)+CQ44+0.4*(CX31)+0.5*(CX34))))-IF('3 - Alt Num Lanes Input'!AO28=0,0,(0.5*CK29))","v":1209.5},{"$f":"CN30","v":1},null,null,null,null,"pepch",{"$f":"EBL_Master","v":31},null,null,null,null,null,null,null,null,null,null,null,null,null,{"$f":"'3 - Alt Num Lanes Input'!BC28","v":1},{"$f":"WBT_Master","v":204},"pepch",null,null,null,null,{"$f":"CQ43","v":1},{"$f":"(2*(CN44+CK44)+(CQ44)+(0.5*CT44)+2*(CQ29+CT29)+CN29+CK29)-IF('3 - Alt Num Lanes Input'!AG28=0,0,(0.5*CT44))","v":1031},"pepch",6.5,4,{"$f":"IF(DD34=1,1,2)","v":1},{"$f":"IF(DD34=1,0.9,1)","v":0.9},{"$f":"IF((CI28+CI31+CI34+CI37)=0,0.7,0)","v":0},{"$f":"WB_Truck_Percentage","v":0.02},{"$f":"DG34+(DI34*DL34)-DK34","v":6.52},{"$f":"DH34+(DJ34*DL34)","v":4.0179999999999998},{"$f":"DE34*(EXP(-(DE34*DM34)/3600)/(1-EXP(-(DE34*DN34)/3600)))","v":233.09092361404655},{"$f":"DO34*(1-(CQ29+CT29)/CQ10)*(1-(CN44+CK44)/CN63)","v":207.42221585661753},null,{"$f":"CX34/DP34","v":0.98350120867003388}]
[]
[null,null,null,null,null,null,null,null,null,null,null,null,null,null,null,"n/a",null,null,{"$f":"CN9","v":0.11333333333333333},null,null,{"$f":"CQ9","v":3.4984009100231542E-2},null,null,null,null,null,null,null,null,null,null,null,null,null,null,null,null,null,null,null,"L",null,{"$f":"IF('3 - Alt Num Lanes Input'!BA28=0,DS37,DR37)","v":-1.0872248465640904}]
[null,null,null,null,null,null,null,null,null,null,null,null,null,null,null,null,null,null,null,null,null,null,null,null,null,null,null,null,null,null,null,null,null,null,null,null,null,null,null,null,null,null,null,null,null,null,null,null,null,null,null,null,null,null,null,null,null,null,null,null,null,null,null,null,null,null,{"$f":"CI37/BQ37","v":1.2119577969714344},null,{"$f":"BR37*(1-(CQ29+CT29)/CQ10)*(1-(CN44+CK44)/CN63)","v":168.32269284440127},{"$f":"CB37*(EXP(-(CB37*BT37)/3600)/(1-EXP(-(CB37*BS37)/3600)))","v":189.15279531786581},{"$f":"BY37+(BW37*BU37)","v":4.0179999999999998},{"$f":"BZ37+(BX37*BU37)-BV37","v":6.52},{"$f":"EB_Truck_Percentage","v":0.02},{"$f":"IF((CX31+CX34+CX37+CX40)=0,0.7,0)","v":0},{"$f":"IF(CC37=1,0.9,1)","v":0.9},{"$f":"IF(CC37=1,1,2)","v":1},4,6.5,"pepch",{"$f":"(2*(CQ29+CT29)+(CN29)+(0.5*CK29)+2*(CN44+CK44)+CQ44+CT44)-IF('3 - Alt Num Lanes Input'!AO28=0,0,(0.5*CK29))","v":1184},{"$f":"CN30","v":1},null,null,null,null,"pepch",{"$f":"EBT_Master","v":204},{"$f":"'3 - Alt Num Lanes Input'!AU28","v":1},null,null,{"$f":"MAX(BO34,BO37,BO40,CK64,CN64,DR37,DR34,DR31,CT9,CQ9)","v":15.849681734685804},null,null,null,null,null,null,null,"V/C",null,{"$f":"'3 - Alt Num Lanes Input'!BA28","v":1},{"$f":"WBL_Master","v":31},"pepch",null,null,null,null,{"$f":"CQ43","v":1},{"$f":"IF(CC34=1,(2*(CN44+CK44)+CQ44+0.5*(CT44)+2*(CQ29+CT29)+CN29+(0.5*CK29)+(0.5*CI40)+(0.5*CI37)),IF(CC34=2,(2*(CN44+CK44)+CQ44+0.5*(CT44)+2*(CQ29+CT29)+CN29+(0.5*CI40)+(0.5*CI37)),(2*(CN44+CK44)+CQ44+0.5*(CT44)+2*(CQ29+CT29)+CN29+(0.4*CI40)+(0.5*CI37))))-IF('3 - Alt Num Lanes Input'!AG28=0,0,(0.5*CT44))","v":1133},"pepch",{"$f":"IF(DD37=1,7.1,IF(DD37=2,7.5,6.4))","v":7.1},{"$f":"IF(DD37=3,3.8,3.5)","v":3.5},{"$f":"IF(DD37=1,1,2)","v":1},{"$f":"IF(DD37=1,0.9,1)","v":0.9},{"$f":"IF((CI31+CI34+CI37+CI40)=0,0.7,0)","v":0},{"$f":"WB_Truck_Percentage","v":0.02},{"$f":"DG37+(DI37*DL37)-DK37","v":7.1199999999999992},{"$f":"DH37+(DJ37*DL37)","v":3.5179999999999998},{"$f":"DE37*(EXP(-(DE37*DM37)/3600)/(1-EXP(-(DE37*DN37)/3600)))","v":180.00855087955969},{"$f":"DO37*DP45*(1-(CI40/BQ40))","v":-28.512961323472286},{"$f":"(CX37+CX34)/((CX37/DP37)+(CX34/DP34))","v":-2265.6359222574652},{"$f":"CX37/DP37","v":-1.0872248465640904},{"$f":"IF(CX37=0,0,CX37/DQ37)","v":-1.3682692658364897E-2}]
[]
[]
[null,null,null,null,null,null,null,null,null,null,null,null,null,null,null,null,null,null,null,null,null,null,null,null,null,null,null,null,null,null,null,null,null,null,null,null,null,null,null,null,null,null,null,null,null,null,null,null,null,null,null,null,null,null,null,null,null,null,null,null,null,null,null,null,null,{"$f":"IF(CI40=0,0,CI40/BP40)","v":0.25458313610325606},{"$f":"CI40/BQ40","v":6.0957883544846082E-2},{"$f":"(CI37+CI40)/((CI37/BQ37)+(CI40/BQ40))","v":200.32748743936821},{"$f":"BR40","v":836.6432204372685},{"$f":"CB40*(EXP(-(CB40*BT40)/3600)/(1-EXP(-(CB40*BS40)/3600)))","v":836.6432204372685},{"$f":"BY40+(BW40*BU40)","v":3.3179999999999996},{"$f":"BZ40+(BX40*BU40)-BV40","v":6.22},{"$f":"EB_Truck_Percentage","v":0.02},0,{"$f":"IF(CC40=1,0.9,1)","v":0.9},{"$f":"IF(CC40=1,1,2)","v":1},{"$f":"IF(CC40=3,3.9,3.3)","v":3.3},{"$f":"IF(CC40=1,6.2,IF(CC40=2,6.9,7.1))","v":6.2},"pepch",{"$f":"IF(CC40=1, (CN29+(0.5*CK29)),((0.5*CN29)+(0.5*CK29)))-IF('3 - Alt Num Lanes Input'!AO28=0,0,(0.5*CK29))","v":204},{"$f":"CN30","v":1},null,null,null,null,"pepch",{"$f":"EBR_Master","v":51},{"$f":"'3 - Alt Num Lanes Input'!AW28","v":1}]
[]
[]
[null,null,null,null,null,null,null,null,null,null,null,null,null,null,null,null,null,null,null,null,null,null,null,null,null,null,null,null,null,null,null,null,null,null,null,null,null,null,null,null,null,null,null,null,null,null,null,null,null,null,null,null,null,null,null,null,null,null,null,null,null,null,null,null,null,null,null,null,null,null,null,null,null,null,null,null,null,null,null,null,null,null,null,null,null,null,null,null,{"$f":"'3 - Alt Num Lanes Input'!AC28","v":1},null,null,null,null,null,{"$f":"'3 - Alt Num Lanes Input'!AE28","v":1},null,null,{"$f":"'3 - Alt Num Lanes Input'!AG28","v":1}]
[null,null,null,null,null,null,null,null,null,null,null,null,null,null,null,null,null,null,null,null,null,null,null,null,null,null,null,null,null,null,null,null,null,null,null,null,null,null,null,null,null,null,null,null,null,null,null,null,null,null,null,null,null,null,null,null,null,null,null,null,null,null,null,null,null,"V/C,SH","V/C","CSH","Cm","Cp","tf","tc","P,HV","t3,LT","tf,hv","tc,hv","tf,base","tc,base",null,null,null,null,null,null,null,null,null,null,{"$f":"NBU_Master","v":0},null,null,{"$f":"NBL_Master","v":102},null,null,{"$f":"NBT_Master","v":510},null,null,{"$f":"NBR_Master","v":204}]
[null,null,null,null,null,null,null,null,null,null,null,null,null,null,null,null,null,null,null,null,null,null,null,null,null,null,null,null,null,null,null,null,null,null,null,null,null,null,null,null,null,null,null,null,null,null,null,null,null,null,null,null,null,null,null,null,null,null,null,null,null,null,null,null,null,null,null,null,null,null,null,null,null,null,null,null,null,null,null,null,null,null,null,null,null,null,null,null,"pepch",null,null,"pepch",null,null,"pepch",null,null,"pepch",null,null,null,null,null,null,null,null,null,null,null,null,null,null,null,null,null,null,null,"P'",null,{"$f":"(0.65*DP46)-(DP46/(DP46+3))+(0.6*DP46)","v":-0.16868020426351046}]
[null,null,null,null,null,null,null,null,null,null,null,null,null,null,null,null,null,null,null,null,null,null,null,null,null,null,null,null,null,null,null,null,null,null,null,null,null,null,null,null,null,null,null,null,null,null,null,null,null,null,null,null,null,null,null,null,null,null,null,null,null,null,null,null,null,null,null,null,null,null,null,null,null,null,null,null,null,null,null,null,null,null,null,null,null,null,null,null,null,null,null,null,null,null,null,null,null,null,null,null,null,null,null,null,null,null,null,null,null,null,null,null,null,null,null,null,null,"P\"",null,{"$f":"(1-(CN44+CK44)/CN63)*(1-(CQ29+CT29)/CQ10)*(1-(CI37/BQ37))","v":-0.1886163357810495}]
[]
[]
[]
[null,null,null,null,null,null,null,null,null,null,null,null,null,null,null,null,null,null,null,null,null,null,null,null,null,null,null,null,null,null,null,null,null,null,null,null,null,null,null,null,null,null,null,null,null,null,null,null,null,null,null,null,null,null,null,null,null,null,null,null,null,null,null,null,null,null,null,null,null,null,null,null,null,null,null,null,null,null,null,null,null,null,null,null,null,null,null,null,{"$f":"CN30","v":1},null,null,{"$f":"CN30","v":1}]
[null,null,null,null,null,null,null,null,null,null,null,null,null,null,null,null,null,null,null,null,null,null,null,null,null,null,null,null,null,null,null,null,null,null,null,null,null,null,null,null,null,null,null,null,null,null,null,null,null,null,null,null,null,null,null,null,null,null,null,null,null,null,null,null,null,null,null,null,null,null,null,null,null,null,null,null,null,null,null,null,null,null,null,null,null,null,null,null,{"$f":"IF(CK50=3,((0.73*CN29)+(0.73*CK29)), (CN29+CK29))-IF(AND(CK50=3,'3 - Alt Num Lanes Input'!AO28>0),(0.73*CK29),0)-IF(AND(OR(CK50=2,CK50=1),'3 - Alt Num Lanes Input'!AO28>0),(CK29),0)","v":204},null,null,{"$f":"CN29+CK29","v":255}]
[null,null,null,null,null,null,null,null,null,null,null,null,null,null,null,null,null,{"$f":"IF('3 - Alt Num Lanes Input'!AS28=0,BN34,BO34)","v":15.849681734685804},null,"L",null,null,null,null,null,null,null,null,null,null,null,null,null,null,null,null,null,null,null,null,null,null,null,null,null,null,null,null,null,null,null,null,null,null,null,null,null,null,null,null,null,null,null,null,null,null,null,null,null,null,null,null,null,null,null,null,null,null,null,null,null,null,null,null,null,null,null,null,"pepch",null,null,"pepch",null,null,"pepch",null,null,"pepch"]
[null,null,null,null,null,null,null,null,null,null,null,null,null,null,null,null,null,null,null,null,null,null,null,null,null,null,null,null,null,null,null,null,null,null,null,null,null,"L",null,null,"T",null,null,"R",null,null,null,null,null,null,null,null,null,null,null,null,null,null,null,null,null,null,null,null,null,null,null,null,null,null,null,null,null,null,null,null,null,null,null,null,null,null,null,null,null,"tc,base",null,null,{"$f":"IF(CK50=3,5.6,6.9)","v":6.9},null,null,{"$f":"IF(CN50=3,5.3,4.1)","v":4.0999999999999996}]
[null,null,null,null,null,null,null,null,null,null,null,null,null,null,null,null,null,null,null,null,null,null,null,null,null,null,null,null,null,null,null,null,null,null,null,null,null,null,null,null,null,null,null,null,null,null,null,null,null,null,null,null,null,null,null,null,null,null,null,null,null,null,null,null,null,null,null,null,null,null,null,null,null,null,null,null,null,null,null,null,null,null,null,null,null,"tf,base",null,null,{"$f":"IF(CK50=3,2.3,3.1)","v":3.1},null,null,{"$f":"IF(CN50=3,3.1,2.2)","v":2.2000000000000002}]
[null,null,null,null,null,null,null,null,null,null,null,null,null,null,null,null,null,{"$f":"BO37","v":1.2119577969714344},null,"T",null,null,null,null,null,null,null,null,null,null,null,null,null,null,null,null,null,{"$f":"CN64","v":7.7863108956476856E-2},null,null,{"$f":"CQ64","v":0.28333333333333333},null,null,"n/a",null,null,null,null,null,null,null,null,null,null,null,null,null,null,null,null,null,null,null,null,null,null,null,null,null,null,null,null,null,null,null,null,null,null,null,null,null,null,null,null,null,"tc,hv",null,null,{"$f":"IF(CK50=1,1,2)","v":1},null,null,{"$f":"IF(CN50=1,1,2)","v":1}]
[null,null,null,null,null,null,null,null,null,null,null,null,null,null,null,null,null,null,null,null,null,null,null,null,null,null,null,null,null,null,null,null,null,null,null,null,null,null,null,null,null,null,null,null,null,null,null,null,null,null,null,null,null,null,null,null,null,null,null,null,null,null,null,null,null,null,null,null,null,null,null,null,null,null,null,null,null,null,null,null,null,null,null,null,null,"tf,hv",null,null,{"$f":"IF(CK50=1,0.9,1)","v":0.9},null,null,{"$f":"IF(CN50=1,0.9,1)","v":0.9}]
[null,null,null,null,null,null,null,null,null,null,null,null,null,null,null,null,null,null,null,null,null,null,null,null,null,null,null,null,null,null,null,null,null,null,null,null,null,null,null,null,null,null,null,null,null,null,null,null,null,null,null,null,null,null,null,null,null,null,null,null,null,null,null,null,null,null,null,null,null,null,null,null,null,null,null,null,null,null,null,null,null,null,null,null,null,"t3,LT",null,null,0,null,null,0]
[null,null,null,null,null,null,null,null,null,null,null,null,null,null,null,null,null,{"$f":"IF('3 - Alt Num Lanes Input'!AW28=0,BN40,BO40)","v":6.0957883544846082E-2},null,"R",null,null,null,null,null,null,null,null,null,null,null,null,null,null,null,null,null,null,null,null,null,null,null,null,null,null,null,null,null,null,null,null,null,null,null,null,null,null,null,null,null,null,null,null,null,null,null,null,null,null,null,null,null,null,null,null,null,null,null,null,null,null,null,null,null,"P,HV",null,null,{"$f":"NB_Truck_Percentage","v":0.02},null,null,{"$f":"NB_Truck_Percentage","v":0.02}]
[null,null,null,null,null,null,null,null,null,null,null,null,null,null,null,null,null,null,null,null,null,null,null,null,null,null,null,null,null,null,null,null,null,null,null,null,null,null,null,null,null,null,null,null,null,null,null,null,null,null,null,null,null,null,null,null,null,null,null,null,null,null,null,null,null,null,null,null,null,null,null,null,null,null,null,null,null,null,null,null,null,null,null,null,null,"tc",null,null,{"$f":"CK53+(CK55*CK58)-CK57","v":6.92},null,null,{"$f":"CN53+(CN55*CN58)-CN57","v":4.1199999999999992}]
[null,null,null,null,null,null,null,null,null,null,null,null,null,null,null,null,null,null,null,null,null,null,null,null,null,null,null,null,null,null,null,null,null,null,null,null,null,null,null,null,null,null,null,null,null,null,null,null,null,null,null,null,null,null,null,null,null,null,null,null,null,null,null,null,null,null,null,null,null,null,null,null,null,null,null,null,null,null,null,null,null,null,null,null,null,"tf",null,null,{"$f":"CK54+(CK56*CK58)","v":3.1179999999999999},null,null,{"$f":"CN54+(CN56*CN58)","v":2.218}]
[null,null,null,null,null,null,null,null,null,null,null,null,null,null,null,null,null,null,null,null,null,null,null,null,null,null,null,null,null,null,null,null,null,null,null,null,null,null,null,null,null,null,null,null,null,null,null,null,null,null,null,null,null,null,null,null,null,null,null,null,null,null,null,null,null,null,null,null,null,null,null,null,null,null,null,null,null,null,null,null,null,null,null,null,null,"Cp",null,null,{"$f":"CK51*(EXP(-(CK51*CK59)/3600)/(1-EXP(-(CK51*CK60)/3600)))","v":850.99557994944075},null,null,{"$f":"CN51*(EXP(-(CN51*CN59)/3600)/(1-EXP(-(CN51*CN60)/3600)))","v":1309.991360054926}]
[null,null,null,null,null,null,null,null,null,null,null,null,null,null,null,null,null,null,null,null,null,null,null,null,null,null,null,null,null,null,null,null,null,null,null,null,null,null,null,null,null,null,null,null,null,null,null,null,null,null,null,null,null,null,null,null,null,null,null,null,null,null,null,null,null,null,null,null,null,null,null,null,null,null,null,null,null,null,null,null,null,null,null,null,null,"Cm",null,null,{"$f":"CK61*(1-(CI40/BQ40))","v":799.12069048970397},null,null,{"$f":"CN61","v":1309.991360054926},null,null,{"$f":"CQ43*1800","v":1800}]
[null,null,null,null,null,null,null,null,null,null,null,null,null,null,null,null,null,null,null,null,null,null,null,null,null,null,null,null,null,null,null,null,null,null,null,null,null,null,null,null,null,null,null,null,null,null,null,null,null,null,null,null,null,null,null,null,null,null,null,null,null,null,null,null,null,null,null,null,null,null,null,null,null,null,null,null,null,null,null,null,null,null,null,null,null,"CSH",null,null,null,null,null,{"$f":"(CN44+CK44)/((CN44/CN62)+(CK44/CK62))","v":1309.991360054926}]
[null,null,null,null,null,null,null,null,null,null,null,null,null,null,null,null,null,null,null,null,null,null,null,null,null,null,null,null,null,null,null,null,null,null,null,null,null,null,null,null,null,null,null,null,null,null,null,null,null,null,null,null,null,null,null,null,null,null,null,null,null,null,null,null,null,null,null,null,null,null,null,null,null,null,null,null,null,null,null,null,null,null,null,null,null,"V/C",null,null,{"$f":"CK44/CK62","v":0},null,null,{"$f":"CN44/CN62","v":7.7863108956476856E-2},null,null,{"$f":"CQ44/CQ62","v":0.28333333333333333}]
[null,null,null,null,null,null,null,null,null,null,null,null,null,null,null,null,null,null,null,null,null,null,null,null,null,null,null,null,null,null,null,null,null,null,null,null,null,null,null,null,null,null,null,null,null,null,null,null,null,null,null,null,null,null,null,null,null,null,null,null,null,null,null,null,null,null,null,null,null,null,null,null,null,null,null,null,null,null,null,null,null,null,null,null,null,"V/C,SH",null,null,null,null,null,{"$f":"CN44/CN63","v":7.7863108956476856E-2}]

{"sheet":"TWSC E-W","index":21,"n_rows":65,"n_cols":126,"rows_kept":65,"cut":false,"hidden":false,"merged":[[0,125,1,150],[25,122,27,122],[30,122,32,122],[33,122,35,122],[36,122,38,122],[39,122,41,122],[64,88,64,90],[64,91,64,93],[64,94,64,96],[64,97,64,99],[29,94,29,99],[30,108,32,108],[30,109,32,109],[30,100,32,100],[30,101,32,101],[30,102,32,102],[30,103,32,106],[30,107,32,107],[33,108,35,108],[33,109,35,109],[33,100,35,100],[33,101,35,101],[33,102,35,102],[33,103,35,106],[33,107,35,107],[7,91,7,93],[7,94,7,96],[7,97,7,99],[30,65,32,65],[33,65,35,65],[36,65,38,65],[39,65,41,65],[17,71,17,86],[18,71,18,86],[13,88,13,90],[13,91,13,93],[13,94,13,96],[13,97,13,99],[17,88,17,90],[17,91,17,93],[17,94,17,96],[17,97,17,99],[18,88,18,90],[18,91,18,93],[18,94,18,96],[18,97,18,99],[14,88,14,90],[33,77,35,77],[30,68,32,68],[0,63,1,122],[2,1,3,60],[2,63,3,122],[5,2,6,9],[5,10,6,35],[5,36,6,59],[9,36,12,47],[9,48,12,59],[11,2,12,9],[11,10,12,35],[0,1,1,60],[7,2,8,9],[7,10,8,35],[7,36,8,41],[7,42,8,47],[7,48,8,53],[7,54,8,59],[9,2,10,9],[9,10,10,35],[12,88,12,90],[12,91,12,93],[12,94,12,96],[12,97,12,99],[7,88,7,90],[30,69,32,69],[19,88,19,90],[19,91,19,93],[19,94,19,96],[19,97,19,99],[22,88,22,90],[22,91,22,93],[22,94,22,96],[22,97,22,99],[23,88,26,90],[23,91,26,93],[23,94,26,96],[23,97,26,99],[20,88,20,90],[20,91,20,93],[20,94,20,96],[20,97,20,99],[21,88,21,90],[21,91,21,93],[21,94,21,96],[21,97,21,99],[27,88,27,90],[28,88,28,90],[28,91,28,93],[28,94,28,96],[28,97,28,99],[30,78,32,78],[30,79,32,79],[30,80,32,80],[30,81,32,84],[30,85,32,85],[30,86,32,86],[30,87,35,87],[29,88,29,90],[29,91,29,93],[33,90,35,97],[30,66,32,66],[30,67,32,67],[36,78,38,78],[36,79,38,79],[36,80,38,80],[36,81,38,84],[36,85,38,85],[36,86,38,86],[36,87,38,87],[33,78,35,78],[33,79,35,79],[33,80,35,80],[33,81,35,84],[33,85,35,85],[33,86,35,86],[30,70,32,70],[30,71,32,71],[30,72,32,72],[30,73,32,73],[30,74,32,74],[30,75,32,75],[30,76,32,76],[33,66,35,66],[33,67,35,67],[36,118,38,118],[36,119,38,119],[36,120,38,120],[39,78,41,78],[39,79,41,79],[39,80,41,80],[39,81,41,84],[39,85,41,85],[39,86,41,86],[36,107,38,107],[36,108,38,108],[36,109,38,109],[36,90,38,97],[36,100,41,100],[36,101,38,101],[36,102,38,102],[36,103,38,106],[39,87,41,87],[39,101,41,101],[39,102,41,102],[36,112,38,112],[36,113,38,113],[39,103,41,106],[39,107,41,107],[36,98,38,98],[36,114,38,114],[36,115,38,115],[36,116,38,116],[36,117,38,117],[49,88,49,90],[49,91,49,93],[49,94,49,96],[49,97,49,99],[43,88,43,90],[43,91,43,93],[43,94,43,96],[43,97,43,99],[44,88,44,90],[44,91,44,93],[44,94,44,96],[44,97,44,99],[45,88,48,90],[45,91,48,93],[45,94,48,96],[57,88,57,90],[57,91,57,93],[57,94,57,96],[57,97,57,99],[58,88,58,90],[58,91,58,93],[58,94,58,96],[58,97,58,99],[50,88,50,90],[50,91,50,93],[50,94,50,96],[50,97,50,99],[51,88,51,90],[51,91,51,93],[51,94,51,96],[51,97,51,99],[52,88,52,90],[52,91,52,93],[52,94,52,96],[52,97,52,99],[53,88,53,90],[53,91,53,93],[53,94,53,96],[53,97,53,99],[43,65,45,65],[33,15,34,17],[33,18,34,20],[33,21,34,23],[29,39,31,40],[29,41,31,42],[32,39,34,40],[32,41,34,42],[31,15,32,17],[31,18,32,20],[31,21,32,23],[56,19,58,20],[56,21,58,22],[53,37,54,39],[53,40,54,42],[53,43,54,45],[55,37,56,39],[55,40,56,42],[55,43,56,45],[35,39,37,40],[35,41,37,42],[50,19,52,20],[50,21,52,22],[53,19,55,20],[53,21,55,22],[33,68,35,68],[33,69,35,69],[33,70,35,70],[33,71,35,71],[33,72,35,72],[33,73,35,73],[33,74,35,74],[33,76,35,76],[36,66,38,66],[36,67,38,67],[36,68,38,68],[36,69,38,69],[36,70,38,70],[36,71,38,71],[36,72,38,72],[36,73,38,73],[36,74,38,74],[39,66,41,66],[39,67,41,67],[39,68,41,68],[39,69,41,69],[39,70,41,70],[39,71,41,71],[39,72,41,72],[39,73,41,73],[39,74,41,74],[30,119,32,119],[30,120,32,120],[30,121,32,121],[33,110,35,110],[33,111,35,111],[33,112,35,112],[33,113,35,113],[33,114,35,114],[33,115,35,115],[33,116,35,116],[33,117,35,117],[33,118,35,118],[33,119,35,119],[33,120,35,120],[33,121,35,121],[30,110,32,110],[30,111,32,111],[30,112,32,112],[30,113,32,113],[30,114,32,114],[30,115,32,115],[30,116,32,116],[30,117,32,117],[30,118,32,118],[56,91,56,93],[56,94,56,96],[56,97,56,99],[36,121,38,121],[39,110,41,110],[39,111,41,111],[39,112,41,112],[39,113,41,113],[39,114,41,114],[39,115,41,115],[39,116,41,116],[39,117,41,117],[39,118,41,118],[39,119,41,119],[39,120,41,120],[39,121,41,121],[45,97,48,99],[42,88,42,93],[42,94,42,96],[42,97,42,99],[39,108,41,108],[39,109,41,109],[36,110,38,110],[36,111,38,111],[63,88,63,90],[63,91,63,93],[63,94,63,96],[63,97,63,99],[8,88,8,90],[8,91,8,93],[8,94,8,96],[8,97,8,99],[9,88,9,90],[9,91,9,93],[9,94,9,96],[9,97,9,99],[10,88,10,90],[10,91,10,93],[10,94,10,96],[10,97,10,99],[11,88,11,90],[11,91,11,93],[11,94,11,96],[11,97,11,99],[59,88,59,90],[59,91,59,93],[59,94,59,96],[59,97,59,99],[14,91,14,93],[14,94,14,96],[14,97,14,99],[15,88,15,90],[15,91,15,93],[27,91,27,93],[27,94,27,96],[62,88,62,90],[62,91,62,93],[62,94,62,96],[62,97,62,99],[60,88,60,90],[60,91,60,93],[60,94,60,96],[60,97,60,99],[61,88,61,90],[61,91,61,93],[61,94,61,96],[61,97,61,99],[55,88,55,90],[55,91,55,93],[55,94,55,96],[55,97,55,99],[56,88,56,90],[8,71,8,86],[9,71,9,86],[10,71,10,86],[11,71,11,86],[12,71,12,86],[13,71,13,86],[14,71,14,86],[15,71,15,86],[16,71,16,86],[25,116,27,116],[25,117,27,117],[25,118,27,118],[15,94,15,96],[15,97,15,99],[16,88,16,90],[16,91,16,93],[16,94,16,96],[16,97,16,99],[27,97,27,99],[39,77,41,77],[30,77,32,77],[33,75,35,75],[25,119,27,119],[25,120,27,120],[25,121,27,121],[25,114,27,114],[25,115,27,115],[43,66,45,66],[43,67,45,67],[43,68,45,68],[43,69,45,69],[43,70,45,70],[43,71,45,71],[43,73,45,73],[43,74,45,74],[43,75,45,75],[43,76,45,76],[43,77,45,77],[43,72,45,72],[25,110,27,110],[25,111,27,111],[25,112,27,112],[25,113,27,113],[7,70,7,86],[21,38,23,46],[21,47,23,47],[17,103,17,105],[53,77,53,78],[53,79,53,80],[54,77,54,78],[54,79,54,80],[18,103,18,104],[18,105,18,106],[19,103,19,104],[19,105,19,106],[52,77,52,79],[19,71,19,86],[20,72,21,86],[54,88,54,90],[54,91,54,93],[54,94,54,96],[54,97,54,99],[36,75,38,75],[36,76,38,76],[36,77,38,77],[39,75,41,75],[39,76,41,76]]}
[null,"Two Way Stop Control (E-W)",null,null,null,null,null,null,null,null,null,null,null,null,null,null,null,null,null,null,null,null,null,null,null,null,null,null,null,null,null,null,null,null,null,null,null,null,null,null,null,null,null,null,null,null,null,null,null,null,null,null,null,null,null,null,null,null,null,null,null,null,null,"Two Way Stop Control (E-W)",null,null,null,null,null,null,null,null,null,null,null,null,null,null,null,null,null,null,null,null,null,null,null,null,null,null,null,null,null,null,null,null,null,null,null,null,null,null,null,null,null,null,null,null,null,null,null,null,null,null,null,null,null,null,null,null,null,null,null,null,null,"Assumptions"]
[]
[null,"Design and Results",null,null,null,null,null,null,null,null,null,null,null,null,null,null,null,null,null,null,null,null,null,null,null,null,null,null,null,null,null,null,null,null,null,null,null,null,null,null,null,null,null,null,null,null,null,null,null,null,null,null,null,null,null,null,null,null,null,null,null,null,null,"Data Input and Configuration"]
[]
[]
[null,null,"Project Name:",null,null,null,null,null,null,null,{"$f":"P_Name","v":"Cap-X Sample Street"},null,null,null,null,null,null,null,null,null,null,null,null,null,null,null,null,null,null,null,null,null,null,null,null,null,"Volume-to-Capacity Ratio"]
[]
[null,null,"Project Number:",null,null,null,null,null,null,null,{"$f":"P_Number","v":10000},null,null,null,null,null,null,null,null,null,null,null,null,null,null,null,null,null,null,null,null,null,null,null,null,null,"< 0.750",null,null,null,null,null,"0.750 - 0.875",null,null,null,null,null,"0.875 - 1.00",null,null,null,null,null,"≥ 1.00",null,null,null,null,null,null,null,null,null,null,null,null,null,null,null,"Volume-to-Capacity Ratio,SH",null,null,null,null,null,null,null,null,null,null,null,null,null,null,null,null,null,{"$f":"IF(CK29=0,0,CK29/CK10)","v":0.11313309490163785},null,null,null,null,null,{"$f":"IF(CQ29=0,0,CQ29/CQ10)","v":-2.6165375497382747E-2}]
[null,null,null,null,null,null,null,null,null,null,null,null,null,null,null,null,null,null,null,null,null,null,null,null,null,null,null,null,null,null,null,null,null,null,null,null,null,null,null,null,null,null,null,null,null,null,null,null,null,null,null,null,null,null,null,null,null,null,null,null,null,null,null,null,null,null,null,null,null,null,null,"Volume-to-Capacity Ratio",null,null,null,null,null,null,null,null,null,null,null,null,null,null,null,null,{"$f":"CK29/CK11","v":6.0957883544846082E-2},null,null,{"$f":"CN29/CN11","v":0.50470759096334317},null,null,{"$f":"CQ29/CQ11","v":-0.70305801812092206}]
[null,null,"Location",null,null,null,null,null,null,null,{"$f":"Location","v":"Anywhere, USA"},null,null,null,null,null,null,null,null,null,null,null,null,null,null,null,null,null,null,null,null,null,null,null,null,null,"VOLUME / CAPACITY RATIO:",null,null,null,null,null,null,null,null,null,null,null,{"$f":"AM22","v":1.261768977408358},null,null,null,null,null,null,null,null,null,null,null,null,null,null,null,null,null,null,null,null,null,null,"Capacity Shared lane, CSH",null,null,null,null,null,null,null,null,null,null,null,null,null,null,null,null,{"$f":"((CK29+CN29)/((CK29/CK11)+(CN29/CN11)))","v":450.79647157484118},null,null,null,null,null,{"$f":"((CN29+CQ29)/((CN29/CN11)+(CQ29/CQ11)))","v":-1184.7718372358481}]
[null,null,null,null,null,null,null,null,null,null,null,null,null,null,null,null,null,null,null,null,null,null,null,null,null,null,null,null,null,null,null,null,null,null,null,null,null,null,null,null,null,null,null,null,null,null,null,null,null,null,null,null,null,null,null,null,null,null,null,null,null,null,null,null,null,null,null,null,null,null,null,"Movement Capacity, Cm",null,null,null,null,null,null,null,null,null,null,null,null,null,null,null,null,{"$f":"CK12","v":836.6432204372685},null,null,{"$f":"CN12*(1-(CI34+CI31)/BP34)*(1-(CX37+CX40)/DQ37)","v":404.19443585269255},null,null,{"$f":"CQ12*DB19*(1-(CT44/CT62))","v":-44.093089334013072}]
[null,null,"Date",null,null,null,null,null,null,null,{"$f":"Date","v":"2017 AM"},null,null,null,null,null,null,null,null,null,null,null,null,null,null,null,null,null,null,null,null,null,null,null,null,null,null,null,null,null,null,null,null,null,null,null,null,null,null,null,null,null,null,null,null,null,null,null,null,null,null,null,null,null,null,null,null,null,null,null,null,"Potential Capacity, Cp",null,null,null,null,null,null,null,null,null,null,null,null,null,null,null,null,{"$f":"CK22*(EXP(-(CK22*CK14)/3600)/(1-EXP(-(CK22*CK13)/3600)))","v":836.6432204372685},null,null,{"$f":"CN22*(EXP(-(CN22*CN14)/3600)/(1-EXP(-(CN22*CN13)/3600)))","v":424.02549705851828},null,null,{"$f":"CQ22*(EXP(-(CQ22*CQ14)/3600)/(1-EXP(-(CQ22*CQ13)/3600)))","v":253.63478216979573}]
[null,null,null,null,null,null,null,null,null,null,null,null,null,null,null,null,null,null,null,null,null,null,null,null,null,null,null,null,null,null,null,null,null,null,null,null,null,null,null,null,null,null,null,null,null,null,null,null,null,null,null,null,null,null,null,null,null,null,null,null,null,null,null,null,null,null,null,null,null,null,null,"Follow-up Headway, tf",null,null,null,null,null,null,null,null,null,null,null,null,null,null,null,null,{"$f":"CK19+(CK17*CK15)","v":3.3179999999999996},null,null,{"$f":"CN19+(CN17*CN15)","v":4.0179999999999998},null,null,{"$f":"CQ19+(CQ17*CQ15)","v":3.5179999999999998}]
[null,null,null,null,null,null,null,null,null,null,null,null,null,null,null,null,null,null,null,null,null,null,null,null,null,null,null,null,null,null,null,null,null,null,null,null,null,null,null,null,null,null,null,null,null,null,null,null,null,null,null,null,null,null,null,null,null,null,null,null,null,null,null,null,null,null,null,null,null,null,null,"Critical Headway, tc",null,null,null,null,null,null,null,null,null,null,null,null,null,null,null,null,{"$f":"CK20+(CK18*CK15)-CK16","v":6.22},null,null,{"$f":"CN20+(CN18*CN15)-CN16","v":6.52},null,null,{"$f":"CQ20+(CQ18*CQ15)-CQ16","v":7.1199999999999992}]
[null,null,null,null,null,null,null,null,null,null,null,null,null,null,null,null,null,null,null,null,null,null,null,null,null,null,null,null,null,null,null,null,null,null,null,null,null,null,null,null,null,null,null,null,null,null,null,null,null,null,null,null,null,null,null,null,null,null,null,null,null,null,null,null,null,null,null,null,null,null,null,"P,HV",null,null,null,null,null,null,null,null,null,null,null,null,null,null,null,null,{"$f":"SB_Truck_Percentage","v":0.02},null,null,{"$f":"SB_Truck_Percentage","v":0.02},null,null,{"$f":"SB_Truck_Percentage","v":0.02}]
[null,null,null,null,null,null,null,null,null,null,null,null,null,null,null,null,null,null,null,null,null,null,null,null,null,null,null,null,null,null,null,null,null,null,null,null,null,null,null,null,null,null,null,null,null,null,null,null,null,null,null,null,null,null,null,null,null,null,null,null,null,null,null,null,null,null,null,null,null,null,null,"t3,LT Adjustment",null,null,null,null,null,null,null,null,null,null,null,null,null,null,null,null,0,null,null,{"$f":"IF((CK44+CN44+CQ44+CT44)=0,0.7,0)","v":0},null,null,{"$f":"IF((CK44+CN44+CQ44+CT44)=0,0.7,0)","v":0}]
[null,null,null,null,null,null,null,null,null,null,null,null,null,null,null,null,null,null,null,null,null,null,null,null,null,null,null,null,null,null,null,null,null,null,null,null,null,null,null,null,null,null,null,null,null,null,null,null,null,null,null,null,null,null,null,null,null,null,null,null,null,null,null,null,null,null,null,null,null,null,null,"tf,HV",null,null,null,null,null,null,null,null,null,null,null,null,null,null,null,null,{"$f":"IF(CK23=1,0.9,1)","v":0.9},null,null,{"$f":"IF(CN23=1,0.9,1)","v":0.9},null,null,{"$f":"IF(CQ23=1,0.9,1)","v":0.9}]
[null,null,null,null,null,null,null,null,null,null,null,null,null,null,null,null,null,null,null,null,null,null,null,null,null,null,null,null,null,null,null,null,null,null,null,null,null,null,null,null,null,null,null,null,null,null,null,null,null,null,null,null,null,null,null,null,null,null,null,null,null,null,null,null,null,null,null,null,null,null,null,"tc,HV",null,null,null,null,null,null,null,null,null,null,null,null,null,null,null,null,{"$f":"IF(CK23=1,1,2)","v":1},null,null,{"$f":"IF(CN23=1,1,2)","v":1},null,null,{"$f":"IF(CQ23=1,1,2)","v":1},null,null,null,null,null,null,null,null,"SBLt"]
[null,null,null,null,null,null,null,null,null,null,null,null,null,null,null,null,null,null,null,null,null,null,null,null,null,null,null,null,null,null,null,null,null,null,null,null,null,null,null,null,null,null,null,null,null,null,null,null,null,null,null,null,null,null,null,null,null,null,null,null,null,null,null,null,null,null,null,null,null,null,null,"Follwoup Headway tf,base",null,null,null,null,null,null,null,null,null,null,null,null,null,null,null,null,{"$f":"IF(CK23=3,3.9,3.3)","v":3.3},null,null,4,null,null,{"$f":"IF(CQ23=3,3.8,3.5)","v":3.5},null,null,null,null,null,null,null,null,"P'",null,{"$f":"(0.65*DB20)-(DB20/(DB20+3))+(0.6*DB20)","v":-0.22118676794370234}]
[null,null,null,null,null,null,null,null,null,null,null,null,null,null,null,null,null,null,null,null,null,null,null,null,null,null,null,null,null,null,null,null,null,null,null,null,null,null,null,null,null,null,null,null,null,null,null,null,null,null,null,null,null,null,null,null,null,null,null,null,null,null,null,null,null,null,null,null,null,null,null,"Critical Headway, tc,base",null,null,null,null,null,null,null,null,null,null,null,null,null,null,null,null,{"$f":"IF(CK23=1,6.2,IF(CK23=2,6.9,7.1))","v":6.2},null,null,6.5,null,null,{"$f":"IF(CQ23=1,7.1,IF(CQ23=2,7.5,6.4))","v":7.1},null,null,null,null,null,null,null,null,"P\"",null,{"$f":"(1-((CI34+CI31)/BP34))*(1-((CX37+CX40)/DQ37))*(1-(CQ44/CQ62))","v":-0.24952641971127895}]
[null,null,null,null,null,null,null,null,null,null,null,null,null,null,null,null,null,null,null,null,null,null,null,null,null,null,null,null,null,null,null,null,null,null,null,null,null,null,null,null,null,null,null,null,null,null,null,null,null,null,null,null,null,null,null,null,null,null,null,null,null,null,null,null,null,null,null,null,null,null,null,null,"Conflicting Volume, Vc",null,null,null,null,null,null,null,null,null,null,null,null,null,null,null,"pepch",null,null,"pepch",null,null,"pepch"]
[null,null,null,null,null,null,null,null,null,null,null,null,null,null,null,null,null,null,null,null,null,null,null,null,null,null,null,null,null,null,null,null,null,null,null,null,null,null,{"$f":"MAX(P34,S34,V34,AP30,AP33,AP36,AR56,AO56,AL56,T57,T54,T51)","v":1.261768977408358},null,null,null,null,null,null,null,null,"V/C",null,null,null,null,null,null,null,null,null,null,null,null,null,null,null,null,null,null,null,null,null,null,null,null,null,null,null,null,null,null,null,null,null,null,null,null,null,null,null,null,{"$f":"IF(CK23=1,CX34+(0.5*CX31),((0.5*CX34)+(0.5*CX31)))-IF('3 - Alt Num Lanes Input'!BE30=0,0,(0.5*CX31))","v":204},null,null,{"$f":"((2*(CX37+CX40))+CX34+(0.5*CX31)+(2*(CI34+CI31))+CI37+CI40)-IF('3 - Alt Num Lanes Input'!BE30=0,0,(0.5*CX31))","v":583},null,null,{"$f":"IF(CQ23=1,(2*(CX37+CX40)+CX34+0.5*(CX31)+2*(CI34+CI31)+CI37+(0.5*CI40)+(0.5*CT44)+(0.5*CQ44)),IF(CQ23=2,(2*(CX37+CX40)+CX34+0.5*(CX31)+2*(CI34+CI31)+CI37+0.5*(CT44)+0.5*(CQ44)),(2*(CX37+CX40)+CX34+0.5*(CX31)+2*(CI34+CI31)+CI37+0.4*(CT44)+0.5*(CQ44))))-IF('3 - Alt Num Lanes Input'!BE30=0,0,(0.5*CX31))","v":914.5}]
[null,null,null,null,null,null,null,null,null,null,null,null,null,null,null,null,null,null,null,null,null,null,null,null,null,null,null,null,null,null,null,null,null,null,null,null,null,null,null,null,null,null,null,null,null,null,null,null,null,null,null,null,null,null,null,null,null,null,null,null,null,null,null,null,null,null,null,null,null,null,null,null,null,null,null,null,null,null,null,null,null,null,null,null,null,null,null,null,{"$f":"CW34","v":1},null,null,{"$f":"CW34","v":1},null,null,{"$f":"CW34","v":1}]
[]
[]
[null,null,null,null,null,null,null,null,null,null,null,null,null,null,null,null,null,null,null,null,null,null,null,null,null,null,null,null,null,null,null,null,null,null,null,null,null,null,null,null,null,null,null,null,null,null,null,null,null,null,null,null,null,null,null,null,null,null,null,null,null,null,null,null,null,null,null,null,null,null,null,null,null,null,null,null,null,null,null,null,null,null,null,null,null,null,null,null,null,null,null,null,null,null,null,null,null,null,null,null,null,null,null,null,null,null,null,null,null,null,"tc,base","tf,base","tc,hv","tf,hv","t3,LT","P,HV","tc","tf","Cp","Cm","CSH","V/C","V/C,SH"]
[]
[null,null,null,null,null,null,null,null,null,null,null,null,null,null,null,null,null,null,null,null,null,null,null,null,null,null,null,null,null,null,null,null,null,null,null,null,null,null,null,null,null,null,null,null,null,null,null,null,null,null,null,null,null,null,null,null,null,null,null,null,null,null,null,null,null,null,null,null,null,null,null,null,null,null,null,null,null,null,null,null,null,null,null,null,null,null,null,null,"pepch",null,null,"pepch",null,null,"pepch",null,null,null,null,null,null,null,null,null,null,null,null,null,null,null,null,null,null,null,null,null,null,null,null,null,null,"V/C","V/C"]
[null,null,null,null,null,null,null,null,null,null,null,null,null,null,null,null,null,null,null,null,null,null,null,null,null,null,null,null,null,null,null,null,null,null,null,null,null,null,null,null,null,null,null,null,null,null,null,null,null,null,null,null,null,null,null,null,null,null,null,null,null,null,null,null,null,null,null,null,null,null,null,null,null,null,null,null,null,null,null,null,null,null,null,null,null,null,null,null,{"$f":"SBR_Master","v":51},null,null,{"$f":"SBT_Master","v":204},null,null,{"$f":"SBL_Master","v":31}]
[null,null,null,null,null,null,null,null,null,null,null,null,null,null,null,null,null,null,null,null,null,null,null,null,null,null,null,null,null,null,null,null,null,null,null,null,null,null,null,"R",null,"n/a",null,null,null,null,null,null,null,null,null,null,null,null,null,null,null,null,null,null,null,null,null,null,null,null,null,null,null,null,null,null,null,null,null,null,null,null,null,null,null,null,null,null,null,null,null,null,{"$f":"'3 - Alt Num Lanes Input'!AO30","v":1},null,null,{"$f":"'3 - Alt Num Lanes Input'!AM30","v":1},null,null,{"$f":"'3 - Alt Num Lanes Input'!AK30","v":1}]
[null,null,null,null,null,null,null,null,null,null,null,null,null,null,null,null,null,null,null,null,null,null,null,null,null,null,null,null,null,null,null,null,null,null,null,null,null,null,null,null,null,null,null,null,null,null,null,null,null,null,null,null,null,null,null,null,null,null,null,null,null,null,null,null,null,null,{"$f":"CI31/BQ31","v":0},null,{"$f":"BR31*(1-(CK29/CK11))","v":799.12069048970397},{"$f":"CB31*(EXP(-(CB31*BT31)/3600)/(1-EXP(-(CB31*BS31)/3600)))","v":850.99557994944075},{"$f":"BY31+(BW31*BU31)","v":3.1179999999999999},{"$f":"BZ31+(BX31*BU31)-BV31","v":6.92},{"$f":"EB_Truck_Percentage","v":0.02},0,{"$f":"IF(CC31=1,0.9,1)","v":0.9},{"$f":"IF(CC31=1,1,2)","v":1},{"$f":"IF(CC31=3,2.3,3.1)","v":3.1},{"$f":"IF(CC31=3,5.6,6.9)","v":6.9},"pepch",{"$f":"(IF(CC31=3,(0.73*(CX34)+0.73*(CX31)), CX34+CX31))-IF(AND(CC31=3,'3 - Alt Num Lanes Input'!BE30>0),(0.73*CX31),0)-IF(AND(OR(CC31=2,CC31=1),'3 - Alt Num Lanes Input'!BE30>0),(CX31),0)","v":204},{"$f":"CW34","v":1},null,null,null,null,"pepch",{"$f":"EBU_Master","v":0},{"$f":"'3 - Alt Num Lanes Input'!AS30","v":1},null,null,null,null,null,null,null,null,null,null,null,null,{"$f":"'3 - Alt Num Lanes Input'!BE30","v":1},{"$f":"WBR_Master","v":51},"pepch",null,null,null,null,null,null,"pepch"]
[null,null,null,null,null,null,null,null,null,null,null,null,null,null,null,"R",null,null,"T",null,null,"L"]
[null,null,null,null,null,null,null,null,null,null,null,null,null,null,null,null,null,null,null,null,null,null,null,null,null,null,null,null,null,null,null,null,null,null,null,null,null,null,null,"T",null,{"$f":"DR34","v":0.11333333333333333}]
[null,null,null,null,null,null,null,null,null,null,null,null,null,null,null,{"$f":"IF('3 - Alt Num Lanes Input'!AO30=0,CK8,CK9)","v":6.0957883544846082E-2},null,null,{"$f":"CN9","v":0.50470759096334317},null,null,{"$f":"IF('3 - Alt Num Lanes Input'!AK30=0,CQ8,CQ9)","v":-0.70305801812092206},null,null,null,null,null,null,null,null,null,null,null,null,null,null,null,null,null,null,null,null,null,null,null,null,null,null,null,null,null,null,null,null,null,null,null,null,null,null,null,null,null,null,null,{"$f":"CI34/BP34","v":2.3664278212262572E-2},{"$f":"CI34/BQ34","v":2.3664278212262572E-2},{"$f":"(CI34+CI31)/((CI34/BQ34)+(CI31/BQ31))","v":1309.991360054926},{"$f":"BR34","v":1309.991360054926},{"$f":"CB34*(EXP(-(CB34*BT34)/3600)/(1-EXP(-(CB34*BS34)/3600)))","v":1309.991360054926},{"$f":"BY34+(BW34*BU34)","v":2.218},{"$f":"BZ34+(BX34*BU34)-BV34","v":4.1199999999999992},{"$f":"EB_Truck_Percentage","v":0.02},0,{"$f":"IF(CC34=1,0.9,1)","v":0.9},{"$f":"IF(CC34=1,1,2)","v":1},{"$f":"IF(CC34=3,3.1,2.2)","v":2.2000000000000002},{"$f":"IF(CC34=3,5.3,4.1)","v":4.0999999999999996},"pepch",{"$f":"CX34+CX31","v":255},{"$f":"CW34","v":1},null,null,null,null,"pepch",{"$f":"EBL_Master","v":31},null,null,null,null,null,null,null,null,null,null,null,null,null,{"$f":"'3 - Alt Num Lanes Input'!BC30","v":1},{"$f":"WBT_Master","v":204},"pepch",null,null,null,null,null,null,"pepch",null,null,null,null,null,null,null,null,null,{"$f":"1800*CW34","v":1800},null,{"$f":"CX34/DP34","v":0.11333333333333333}]
[]
[null,null,null,null,null,null,null,null,null,null,null,null,null,null,null,null,null,null,null,null,null,null,null,null,null,null,null,null,null,null,null,null,null,null,null,null,null,null,null,"L",null,{"$f":"DR37","v":2.3664278212262572E-2}]
[null,null,null,null,null,null,null,null,null,null,null,null,null,null,null,null,null,null,null,null,null,null,null,null,null,null,null,null,null,null,null,null,null,null,null,null,null,null,null,null,null,null,null,null,null,null,null,null,null,null,null,null,null,null,null,null,null,null,null,null,null,null,null,null,null,null,{"$f":"CI37/BQ37","v":0.11333333333333333},null,{"$f":"CJ37*1800","v":1800},null,null,null,null,null,null,null,null,null,"pepch",null,null,null,null,null,null,"pepch",{"$f":"EBT_Master","v":204},{"$f":"'3 - Alt Num Lanes Input'!AU30","v":1},null,null,{"$f":"MAX(BO31,BO34,CN64,CQ64,CT64,DR40,DR37,CQ9,CN9,CK9)","v":1.261768977408358},null,null,null,null,null,null,null,"V/C",null,{"$f":"'3 - Alt Num Lanes Input'!BA30","v":1},{"$f":"WBL_Master","v":31},"pepch",null,null,null,null,{"$f":"CJ37","v":1},{"$f":"CI37+CI40","v":255},"pepch",{"$f":"IF(DD37=3,5.3,4.1)","v":4.0999999999999996},{"$f":"IF(DD37=3,3.1,2.2)","v":2.2000000000000002},{"$f":"IF(DD37=1,1,2)","v":1},{"$f":"IF(DD37=1,0.9,1)","v":0.9},0,{"$f":"WB_Truck_Percentage","v":0.02},{"$f":"DG37+(DI37*DL37)-DK37","v":4.1199999999999992},{"$f":"DH37+(DJ37*DL37)","v":2.218},{"$f":"DE37*(EXP(-(DE37*DM37)/3600)/(1-EXP(-(DE37*DN37)/3600)))","v":1309.991360054926},{"$f":"DO37","v":1309.991360054926},{"$f":"(CX37+CX40)/((CX37/DP37)+(CX40/DP40))","v":1309.991360054926},{"$f":"CX37/DP37","v":2.3664278212262572E-2},{"$f":"CX37/DQ37","v":2.3664278212262572E-2}]
[]
[]
[null,null,null,null,null,null,null,null,null,null,null,null,null,null,null,null,null,null,null,null,null,null,null,null,null,null,null,null,null,null,null,null,null,null,null,null,null,null,null,null,null,null,null,null,null,null,null,null,null,null,null,null,null,null,null,null,null,null,null,null,null,null,null,null,null,null,null,null,null,null,null,null,null,null,null,null,null,null,"pepch",null,null,null,null,null,null,"pepch",{"$f":"EBR_Master","v":51},{"$f":"'3 - Alt Num Lanes Input'!AW30","v":1},null,null,null,null,null,null,null,null,null,null,null,null,null,{"$f":"WBU_Master","v":0},"pepch",null,null,null,null,{"$f":"CJ37","v":1},{"$f":"(IF(DD40=3,(0.73*(CI37)+0.73*(CI40)), CI37+CI40))-IF(AND(DD40=3,'3 - Alt Num Lanes Input'!AW30>0),(0.73*CI40),0)-IF(AND(OR(DD40=2,DD40=1),'3 - Alt Num Lanes Input'!AW30>0),(CI40),0)","v":204},"pepch",{"$f":"IF(DD40=3,5.6,6.9)","v":6.9},{"$f":"IF(DD40=3,2.3,3.1)","v":3.1},{"$f":"IF(DD40=1,1,2)","v":1},{"$f":"IF(DD40=1,0.9,1)","v":0.9},0,{"$f":"WB_Truck_Percentage","v":0.02},{"$f":"DG40+(DI40*DL40)-DK40","v":6.92},{"$f":"DH40+(DJ40*DL40)","v":3.1179999999999999},{"$f":"DE40*(EXP(-(DE40*DM40)/3600)/(1-EXP(-(DE40*DN40)/3600)))","v":850.99557994944075},{"$f":"DO40*(1-(CT44/CT62))","v":668.85176865557332},null,{"$f":"CX40/DP40","v":0}]
[]
[]
[null,null,null,null,null,null,null,null,null,null,null,null,null,null,null,null,null,null,null,null,null,null,null,null,null,null,null,null,null,null,null,null,null,null,null,null,null,null,null,null,null,null,null,null,null,null,null,null,null,null,null,null,null,null,null,null,null,null,null,null,null,null,null,null,null,null,null,null,null,null,null,null,null,null,null,null,null,null,null,null,null,null,null,null,null,null,null,null,{"$f":"'3 - Alt Num Lanes Input'!AC30","v":1},null,null,null,null,null,{"$f":"'3 - Alt Num Lanes Input'!AE30","v":1},null,null,{"$f":"'3 - Alt Num Lanes Input'!AG30","v":1}]
[null,null,null,null,null,null,null,null,null,null,null,null,null,null,null,null,null,null,null,null,null,null,null,null,null,null,null,null,null,null,null,null,null,null,null,null,null,null,null,null,null,null,null,null,null,null,null,null,null,null,null,null,null,null,null,null,null,null,null,null,null,null,null,null,null,"V/C,SH","V/C","CSH","Cm","Cp","tf","tc","P,HV","t3,LT","tf,hv","tc,hv","tf,base","tc,base",null,null,null,null,null,null,null,null,null,null,null,null,null,{"$f":"NBL_Master","v":102},null,null,{"$f":"NBT_Master","v":510},null,null,{"$f":"NBR_Master","v":204}]
[null,null,null,null,null,null,null,null,null,null,null,null,null,null,null,null,null,null,null,null,null,null,null,null,null,null,null,null,null,null,null,null,null,null,null,null,null,null,null,null,null,null,null,null,null,null,null,null,null,null,null,null,null,null,null,null,null,null,null,null,null,null,null,null,null,null,null,null,null,null,null,null,null,null,null,null,null,null,null,null,null,null,null,null,null,null,null,null,null,null,null,"pepch",null,null,"pepch",null,null,"pepch"]
[]
[]
[]
[]
[null,null,null,null,null,null,null,null,null,null,null,null,null,null,null,null,null,null,null,null,null,null,null,null,null,null,null,null,null,null,null,null,null,null,null,null,null,null,null,null,null,null,null,null,null,null,null,null,null,null,null,null,null,null,null,null,null,null,null,null,null,null,null,null,null,null,null,null,null,null,null,null,null,null,null,null,null,null,null,null,null,null,null,null,null,null,null,null,null,null,null,{"$f":"CJ37","v":1},null,null,{"$f":"CJ37","v":1},null,null,{"$f":"CJ37","v":1}]
[null,null,null,null,null,null,null,null,null,null,null,null,null,null,null,null,null,null,null,{"$f":"BO34","v":2.3664278212262572E-2},null,"L",null,null,null,null,null,null,null,null,null,null,null,null,null,null,null,null,null,null,null,null,null,null,null,null,null,null,null,null,null,null,null,null,null,null,null,null,null,null,null,null,null,null,null,null,null,null,null,null,null,null,null,null,null,null,null,null,null,null,null,null,null,null,null,null,null,null,null,null,null,{"$f":"IF(CN50=1,(2*(CI34+CI31)+CI37+0.5*(CI40)+2*(CX37+CX40)+CX34+(0.5*CX31)+(0.5*CK29)+(0.5*CN29)),IF(CN50=2,(2*(CI34+CI31)+CI37+0.5*(CI40)+2*(CX37+CX40)+CX34+(0.5*CK29)+(0.5*CN29)),(2*(CI34+CI31)+CI37+0.5*(CI40)+2*(CX37+CX40)+CX34+(0.4*CK29)+(0.5*CN29))))-IF('3 - Alt Num Lanes Input'!AW30=0,0,(0.5*CI40))","v":685},null,null,{"$f":"((2*(CI34+CI31))+CI37+(0.5*CI40)+(2*(CX37+CX40))+CX34+CX31)-IF('3 - Alt Num Lanes Input'!AW30=0,0,(0.5*CI40))","v":583},null,null,{"$f":"(IF(CT503=1,CI37+(0.5*CI40),((0.5*CI37)+(0.5*CI40))))-IF('3 - Alt Num Lanes Input'!AW30=0,0,(0.5*CI40))","v":102}]
[null,null,null,null,null,null,null,null,null,null,null,null,null,null,null,null,null,null,null,null,null,null,null,null,null,null,null,null,null,null,null,null,null,null,null,null,null,null,null,null,null,null,null,null,null,null,null,null,null,null,null,null,null,null,null,null,null,null,null,null,null,null,null,null,null,null,null,null,null,null,null,null,null,null,null,null,null,null,null,null,null,null,null,null,null,null,null,null,null,null,null,"pepch",null,null,"pepch",null,null,"pepch"]
[null,null,null,null,null,null,null,null,null,null,null,null,null,null,null,null,null,null,null,null,null,null,null,null,null,null,null,null,null,null,null,null,null,null,null,null,null,null,null,null,null,null,null,null,null,null,null,null,null,null,null,null,null,null,null,null,null,null,null,null,null,null,null,null,null,null,null,null,null,null,null,null,null,null,null,null,null,"NBLt",null,null,null,null,null,null,null,"tc,base",null,null,null,null,null,{"$f":"IF(CN50=1,7.1,IF(CN50=2,7.5,6.4))","v":7.1},null,null,6.5,null,null,{"$f":"IF(CT50=1,6.2,IF(CT50=2,6.9,7.1))","v":6.2}]
[null,null,null,null,null,null,null,null,null,null,null,null,null,null,null,null,null,null,null,{"$f":"BO37","v":0.11333333333333333},null,"T",null,null,null,null,null,null,null,null,null,null,null,null,null,null,null,"L",null,null,"T",null,null,"R",null,null,null,null,null,null,null,null,null,null,null,null,null,null,null,null,null,null,null,null,null,null,null,null,null,null,null,null,null,null,null,null,null,"P'",null,{"$f":"(0.65*CB55)-(CB55/(CB55+3))+(0.6*CB55)","v":0.45418374358199759},null,null,null,null,null,"tf,base",null,null,null,null,null,{"$f":"IF(CN50=3,3.8,3.5)","v":3.5},null,null,4,null,null,{"$f":"IF(CT50=3,3.9,3.3)","v":3.3}]
[null,null,null,null,null,null,null,null,null,null,null,null,null,null,null,null,null,null,null,null,null,null,null,null,null,null,null,null,null,null,null,null,null,null,null,null,null,null,null,null,null,null,null,null,null,null,null,null,null,null,null,null,null,null,null,null,null,null,null,null,null,null,null,null,null,null,null,null,null,null,null,null,null,null,null,null,null,"P\"",null,{"$f":"(1-((CI34+CI31)/BP34))*(1-((CX37+CX40)/DQ37))*(1-(CN29/CN11))","v":0.47212829709875781},null,null,null,null,null,"tc,hv",null,null,null,null,null,{"$f":"IF(CN50=1,1,2)","v":1},null,null,{"$f":"IF(CQ50=1,1,2)","v":1},null,null,{"$f":"IF(CT50=1,1,2)","v":1}]
[null,null,null,null,null,null,null,null,null,null,null,null,null,null,null,null,null,null,null,null,null,null,null,null,null,null,null,null,null,null,null,null,null,null,null,null,null,{"$f":"IF('3 - Alt Num Lanes Input'!AC30=0,CN65,CN64)","v":0.66034370930822772},null,null,{"$f":"CQ64","v":1.261768977408358},null,null,{"$f":"IF('3 - Alt Num Lanes Input'!AG30=0,CT65,CT64)","v":0.21403614259041023},null,null,null,null,null,null,null,null,null,null,null,null,null,null,null,null,null,null,null,null,null,null,null,null,null,null,null,null,null,null,null,null,null,null,null,null,null,null,null,null,null,"tf,hv",null,null,null,null,null,{"$f":"IF(CN50=1,0.9,1)","v":0.9},null,null,{"$f":"IF(CQ50=1,0.9,1)","v":0.9},null,null,{"$f":"IF(CT50=1,0.9,1)","v":0.9}]
[null,null,null,null,null,null,null,null,null,null,null,null,null,null,null,null,null,null,null,"n/a",null,"R",null,null,null,null,null,null,null,null,null,null,null,null,null,null,null,null,null,null,null,null,null,null,null,null,null,null,null,null,null,null,null,null,null,null,null,null,null,null,null,null,null,null,null,null,null,null,null,null,null,null,null,null,null,null,null,null,null,null,null,null,null,null,null,"t3,LT",null,null,null,null,null,{"$f":"IF((CK29+CN29+CQ29+CT29)=0,0.7,0)","v":0},null,null,{"$f":"IF((CK29+CN29+CQ29+CT29)=0,0.7,0)","v":0},null,null,0]
[null,null,null,null,null,null,null,null,null,null,null,null,null,null,null,null,null,null,null,null,null,null,null,null,null,null,null,null,null,null,null,null,null,null,null,null,null,null,null,null,null,null,null,null,null,null,null,null,null,null,null,null,null,null,null,null,null,null,null,null,null,null,null,null,null,null,null,null,null,null,null,null,null,null,null,null,null,null,null,null,null,null,null,null,null,"P,HV",null,null,null,null,null,{"$f":"NB_Truck_Percentage","v":0.02},null,null,{"$f":"NB_Truck_Percentage","v":0.02},null,null,{"$f":"NB_Truck_Percentage","v":0.02}]
[null,null,null,null,null,null,null,null,null,null,null,null,null,null,null,null,null,null,null,null,null,null,null,null,null,null,null,null,null,null,null,null,null,null,null,null,null,null,null,null,null,null,null,null,null,null,null,null,null,null,null,null,null,null,null,null,null,null,null,null,null,null,null,null,null,null,null,null,null,null,null,null,null,null,null,null,null,null,null,null,null,null,null,null,null,"tc",null,null,null,null,null,{"$f":"CN53+(CN55*CN58)-CN57","v":7.1199999999999992},null,null,{"$f":"CQ53+(CQ55*CQ58)-CQ57","v":6.52},null,null,{"$f":"CT53+(CT55*CT58)-CT57","v":6.22}]
[null,null,null,null,null,null,null,null,null,null,null,null,null,null,null,null,null,null,null,null,null,null,null,null,null,null,null,null,null,null,null,null,null,null,null,null,null,null,null,null,null,null,null,null,null,null,null,null,null,null,null,null,null,null,null,null,null,null,null,null,null,null,null,null,null,null,null,null,null,null,null,null,null,null,null,null,null,null,null,null,null,null,null,null,null,"tf",null,null,null,null,null,{"$f":"CN54+(CN56*CN58)","v":3.5179999999999998},null,null,{"$f":"CQ54+(CQ56*CQ58)","v":4.0179999999999998},null,null,{"$f":"CT54+(CT56*CT58)","v":3.3179999999999996}]
[null,null,null,null,null,null,null,null,null,null,null,null,null,null,null,null,null,null,null,null,null,null,null,null,null,null,null,null,null,null,null,null,null,null,null,null,null,null,null,null,null,null,null,null,null,null,null,null,null,null,null,null,null,null,null,null,null,null,null,null,null,null,null,null,null,null,null,null,null,null,null,null,null,null,null,null,null,null,null,null,null,null,null,null,null,"Cp",null,null,null,null,null,{"$f":"CN51*(EXP(-(CN51*CN59)/3600)/(1-EXP(-(CN51*CN60)/3600)))","v":362.17083149499626},null,null,{"$f":"CQ51*(EXP(-(CQ51*CQ59)/3600)/(1-EXP(-(CQ51*CQ60)/3600)))","v":424.02549705851828},null,null,{"$f":"CT51*(EXP(-(CT51*CT59)/3600)/(1-EXP(-(CT51*CT60)/3600)))","v":953.11005669908809}]
[null,null,null,null,null,null,null,null,null,null,null,null,null,null,null,null,null,null,null,null,null,null,null,null,null,null,null,null,null,null,null,null,null,null,null,null,null,null,null,null,null,null,null,null,null,null,null,null,null,null,null,null,null,null,null,null,null,null,null,null,null,null,null,null,null,null,null,null,null,null,null,null,null,null,null,null,null,null,null,null,null,null,null,null,null,"Cm",null,null,null,null,null,{"$f":"CN61*CB54*(1-(CK29/CK11))","v":154.46501354098552},null,null,{"$f":"CQ61*(1-(CI34+CI31)/BP34)*(1-(CX37+CX40)/DQ37)","v":404.19443585269255},null,null,{"$f":"CT61","v":953.11005669908809}]
[null,null,null,null,null,null,null,null,null,null,null,null,null,null,null,null,null,null,null,null,null,null,null,null,null,null,null,null,null,null,null,null,null,null,null,null,null,null,null,null,null,null,null,null,null,null,null,null,null,null,null,null,null,null,null,null,null,null,null,null,null,null,null,null,null,null,null,null,null,null,null,null,null,null,null,null,null,null,null,null,null,null,null,null,null,"CSH",null,null,null,null,null,{"$f":"(CN44+CQ44)/((CN44/CN62)+(CQ44/CQ62))","v":318.39964650846667},null,null,null,null,null,{"$f":"(CQ44+CT44)/((CQ44/CQ62)+(CT44/CT62))","v":483.80371522264124}]
[null,null,null,null,null,null,null,null,null,null,null,null,null,null,null,null,null,null,null,null,null,null,null,null,null,null,null,null,null,null,null,null,null,null,null,null,null,null,null,null,null,null,null,null,null,null,null,null,null,null,null,null,null,null,null,null,null,null,null,null,null,null,null,null,null,null,null,null,null,null,null,null,null,null,null,null,null,null,null,null,null,null,null,null,null,"V/C",null,null,null,null,null,{"$f":"CN44/CN62","v":0.66034370930822772},null,null,{"$f":"CQ44/CQ62","v":1.261768977408358},null,null,{"$f":"CT44/CT62","v":0.21403614259041023}]
[null,null,null,null,null,null,null,null,null,null,null,null,null,null,null,null,null,null,null,null,null,null,null,null,null,null,null,null,null,null,null,null,null,null,null,null,null,null,null,null,null,null,null,null,null,null,null,null,null,null,null,null,null,null,null,null,null,null,null,null,null,null,null,null,null,null,null,null,null,null,null,null,null,null,null,null,null,null,null,null,null,null,null,null,null,"V/C,SH",null,null,null,null,null,{"$f":"IF(CN44=0,0,CN44/CN63)","v":0.32035211445276429},null,null,null,null,null,{"$f":"IF(CT44=0,0,CT44/CT63)","v":0.42165860571393382}]

{"sheet":"AWSC","index":22,"n_rows":52,"n_cols":125,"rows_kept":52,"cut":false,"hidden":false,"merged":[[0,124,1,149],[17,71,18,74],[21,71,22,74],[7,64,8,67],[9,64,10,67],[11,64,12,67],[19,91,20,95],[30,9,32,12],[30,13,32,13],[30,14,32,17],[30,18,32,18],[9,36,12,47],[9,48,12,59],[11,2,12,9],[11,10,12,35],[19,71,20,74],[15,71,16,74],[7,54,8,59],[9,2,10,9],[9,10,10,35],[28,88,28,90],[28,91,28,93],[28,94,28,96],[27,9,29,17],[27,18,29,18],[44,88,44,90],[44,91,44,93],[44,94,44,96],[44,97,44,99],[45,88,48,90],[45,91,48,93],[45,94,48,96],[45,97,48,99],[42,88,42,93],[42,94,42,96],[42,97,42,99],[43,88,43,90],[43,91,43,93],[43,94,43,96],[43,97,43,99],[27,91,27,93],[27,94,27,96],[27,97,27,99],[36,100,41,100],[36,101,38,101],[36,102,38,102],[36,103,38,106],[39,81,41,84],[39,85,41,85],[39,86,41,86],[39,87,41,87],[39,101,41,101],[39,102,41,102],[39,103,41,106],[36,81,38,84],[36,85,38,85],[36,86,38,86],[36,87,38,87],[36,90,38,97],[30,101,32,101],[30,102,32,102],[30,103,32,106],[33,81,35,84],[33,85,35,85],[33,86,35,86],[33,90,35,97],[33,100,35,100],[33,101,35,101],[33,102,35,102],[33,103,35,106],[30,81,32,84],[30,85,32,85],[30,86,32,86],[30,87,35,87],[30,100,32,100],[5,64,6,81],[17,96,18,115],[7,68,8,81],[9,68,10,81],[11,68,12,81],[34,72,35,76],[34,115,35,119],[51,91,52,95],[19,87,20,90],[34,68,35,71],[51,87,52,90],[34,111,35,114],[11,82,12,85],[11,86,12,89],[11,90,12,93],[28,97,28,99],[29,88,29,90],[29,91,29,93],[29,94,29,99],[23,88,26,90],[23,91,26,93],[23,94,26,96],[23,97,26,99],[27,88,27,90],[5,82,6,85],[5,86,6,89],[5,90,6,93],[9,99,12,107],[0,63,1,122],[2,1,3,60],[2,63,3,122],[5,2,6,9],[5,10,6,35],[5,36,6,59],[5,99,6,107],[7,99,8,107],[0,1,1,60],[7,2,8,9],[7,10,8,35],[7,36,8,41],[7,42,8,47],[7,48,8,53],[7,82,8,85],[9,82,10,85],[7,86,8,89],[9,86,10,89],[7,90,8,93],[9,90,10,93]]}
[null,"All Way Stop Control",null,null,null,null,null,null,null,null,null,null,null,null,null,null,null,null,null,null,null,null,null,null,null,null,null,null,null,null,null,null,null,null,null,null,null,null,null,null,null,null,null,null,null,null,null,null,null,null,null,null,null,null,null,null,null,null,null,null,null,null,null,"All Way Stop Control",null,null,null,null,null,null,null,null,null,null,null,null,null,null,null,null,null,null,null,null,null,null,null,null,null,null,null,null,null,null,null,null,null,null,null,null,null,null,null,null,null,null,null,null,null,null,null,null,null,null,null,null,null,null,null,null,null,null,null,null,"Assumptions"]
[]
[null,"Design and Results",null,null,null,null,null,null,null,null,null,null,null,null,null,null,null,null,null,null,null,null,null,null,null,null,null,null,null,null,null,null,null,null,null,null,null,null,null,null,null,null,null,null,null,null,null,null,null,null,null,null,null,null,null,null,null,null,null,null,null,null,null,"Data Input and Configuration"]
[]
[]
[null,null,"Project Name:",null,null,null,null,null,null,null,{"$f":"P_Name","v":"Cap-X Sample Street"},null,null,null,null,null,null,null,null,null,null,null,null,null,null,null,null,null,null,null,null,null,null,null,null,null,"Volume-to-Capacity Ratio",null,null,null,null,null,null,null,null,null,null,null,null,null,null,null,null,null,null,null,null,null,null,null,null,null,null,null,"Total Entering Capacity (veh/h)",null,null,null,null,null,null,null,null,null,null,null,null,null,null,null,null,null,"E/W App.",null,null,null,"N/S App.",null,null,null,"Used?",null,null,null,null,null,null,null,null,"Total Entering Flow Rate"]
[]
[null,null,"Project Number:",null,null,null,null,null,null,null,{"$f":"P_Number","v":10000},null,null,null,null,null,null,null,null,null,null,null,null,null,null,null,null,null,null,null,null,null,null,null,null,null,"< 0.750",null,null,null,null,null,"0.750 - 0.875",null,null,null,null,null,"0.875 - 1.00",null,null,null,null,null,"≥ 1.00",null,null,null,null,null,null,null,null,null,1200,null,null,null,"both streets: 1-lane approaches",null,null,null,null,null,null,null,null,null,null,null,null,null,{"$f":"IF(AND(SUM(CJ31:CJ42)<=1, SUM(CW31:CW42)<=1),TRUE,FALSE)","v":true},null,null,null,{"$f":"IF(AND(SUM(CK30:CV30)=1, SUM(CK43:CV43)=1),TRUE,FALSE)","v":true},null,null,null,{"$f":"IF(AND(CE8=TRUE, CI8=TRUE),BM8,FALSE)","v":1200},null,null,null,null,null,null,null,null,"Ve"]
[]
[null,null,"Location",null,null,null,null,null,null,null,{"$f":"Location","v":"Anywhere, USA"},null,null,null,null,null,null,null,null,null,null,null,null,null,null,null,null,null,null,null,null,null,null,null,null,null,"VOLUME / CAPACITY RATIO:",null,null,null,null,null,null,null,null,null,null,null,{"$f":"Result_AWSC_VC_Z5","v":1.31},null,null,null,null,null,null,null,null,null,null,null,null,null,null,null,1500,null,null,null,"one street: 1-lane approaches, one street: 2-lane approaches",null,null,null,null,null,null,null,null,null,null,null,null,null,{"$f":"AND(OR(NOT(CE8),NOT(CI8)),OR(NOT(CE12),NOT(CI12)))","v":false},null,null,null,{"$f":"AND(OR(NOT(CE8),NOT(CI8)),OR(NOT(CE12),NOT(CI12)))","v":false},null,null,null,{"$f":"IF(AND(CE10=TRUE, CI10=TRUE),BM10,FALSE)","v":false},null,null,null,null,null,null,null,null,{"$f":"SUM(CN20+DL35+BU35+CN52)","v":1572}]
[]
[null,null,"Date",null,null,null,null,null,null,null,{"$f":"Date","v":"2017 AM"},null,null,null,null,null,null,null,null,null,null,null,null,null,null,null,null,null,null,null,null,null,null,null,null,null,null,null,null,null,null,null,null,null,null,null,null,null,null,null,null,null,null,null,null,null,null,null,null,null,null,null,null,null,1800,null,null,null,"both streets: 2-lane approaches",null,null,null,null,null,null,null,null,null,null,null,null,null,{"$f":"IF(AND(SUM(CJ31:CJ42)>=2, SUM(CW31:CW42)>=2),TRUE,FALSE)","v":false},null,null,null,{"$f":"IF(AND(SUM(CK30:CV30)>=2,SUM(CK43:CV43)>=2),TRUE,FALSE)","v":false},null,null,null,{"$f":"IF(AND(CM8=FALSE,CM10=FALSE),BM12,IF(AND(CE12=TRUE, CI12=TRUE),BM12,FALSE))","v":false}]
[]
[]
[]
[]
[]
[null,null,null,null,null,null,null,null,null,null,null,null,null,null,null,null,null,null,null,null,null,null,null,null,null,null,null,null,null,null,null,null,null,null,null,null,null,null,null,null,null,null,null,null,null,null,null,null,null,null,null,null,null,null,null,null,null,null,null,null,null,null,null,null,null,null,null,null,null,null,null,null,null,null,null,null,null,null,null,null,null,null,null,null,null,null,null,null,null,null,null,null,null,null,null,null,"*U-Turns are converted into Left Turns"]
[]
[null,null,null,null,null,null,null,null,null,null,null,null,null,null,null,null,null,null,null,null,null,null,null,null,null,null,null,null,null,null,null,null,null,null,null,null,null,null,null,null,null,null,null,null,null,null,null,null,null,null,null,null,null,null,null,null,null,null,null,null,null,null,null,null,null,null,null,null,null,null,null,null,null,null,null,null,null,null,null,null,null,null,null,null,null,null,null,"Vy",null,null,null,{"$f":"SUM(CK29:CV29)","v":286}]
[]
[]
[]
[]
[]
[]
[]
[null,null,null,null,null,null,null,null,null,{"$f":"CV10","v":1572},null,null,null,null,null,null,null,null,"CLV",null,null,null,null,null,null,null,null,null,null,null,null,null,null,null,null,null,null,null,null,null,null,null,null,null,null,null,null,null,null,null,null,null,null,null,null,null,null,null,null,null,null,null,null,null,null,null,null,null,null,null,null,null,null,null,null,null,null,null,null,null,null,null,null,null,null,null,null,null,"pepch",null,null,"pepch",null,null,"pepch",null,null,"pepch"]
[null,null,null,null,null,null,null,null,null,null,null,null,null,null,null,null,null,null,null,null,null,null,null,null,null,null,null,null,null,null,null,null,null,null,null,null,null,null,null,null,null,null,null,null,null,null,null,null,null,null,null,null,null,null,null,null,null,null,null,null,null,null,null,null,null,null,null,null,null,null,null,null,null,null,null,null,null,null,null,null,null,null,null,null,null,null,null,null,{"$f":"SBR_Master","v":51},null,null,{"$f":"SBT_Master","v":204},null,null,{"$f":"SBL_Master","v":31}]
[null,null,null,null,null,null,null,null,null,null,null,null,null,null,null,null,null,null,null,null,null,null,null,null,null,null,null,null,null,null,null,null,null,null,null,null,null,null,null,null,null,null,null,null,null,null,null,null,null,null,null,null,null,null,null,null,null,null,null,null,null,null,null,null,null,null,null,null,null,null,null,null,null,null,null,null,null,null,null,null,null,null,null,null,null,null,null,null,{"$f":"'3 - Alt Num Lanes Input'!AO32","v":0},null,null,{"$f":"'3 - Alt Num Lanes Input'!AM32","v":1},null,null,{"$f":"'3 - Alt Num Lanes Input'!AK32","v":0}]
[null,null,null,null,null,null,null,null,null,{"$f":"ROUND(J28/O31,2)","v":1.31},null,null,null,"V/C",{"$f":"IF(CM8,BM8,IF(CM12,BM12,BM10))","v":1200},null,null,null,"MAX",null,null,null,null,null,null,null,null,null,null,null,null,null,null,null,null,null,null,null,null,null,null,null,null,null,null,null,null,null,null,null,null,null,null,null,null,null,null,null,null,null,null,null,null,null,null,null,null,null,null,null,null,null,null,null,null,null,null,null,null,null,null,null,null,null,null,"pepch",null,{"$f":"'3 - Alt Num Lanes Input'!AS32","v":0},null,null,null,null,null,null,null,null,null,null,null,null,{"$f":"'3 - Alt Num Lanes Input'!BE32","v":0},{"$f":"WBR_Master","v":51},"pepch"]
[]
[]
[null,null,null,null,null,null,null,null,null,null,null,null,null,null,null,null,null,null,null,null,null,null,null,null,null,null,null,null,null,null,null,null,null,null,null,null,null,null,null,null,null,null,null,null,null,null,null,null,null,null,null,null,null,null,null,null,null,null,null,null,null,null,null,null,null,null,null,null,null,null,null,null,null,null,null,null,null,null,null,null,null,null,null,null,null,"pepch",{"$f":"EBL_Master","v":31},null,null,null,null,null,null,null,null,null,null,null,null,null,{"$f":"'3 - Alt Num Lanes Input'!BC32","v":1},{"$f":"WBT_Master","v":204},"pepch"]
[null,null,null,null,null,null,null,null,null,null,null,null,null,null,null,null,null,null,null,null,null,null,null,null,null,null,null,null,null,null,null,null,null,null,null,null,null,null,null,null,null,null,null,null,null,null,null,null,null,null,null,null,null,null,null,null,null,null,null,null,null,null,null,null,null,null,null,null,"Vy",null,null,null,{"$f":"SUM(CI31:CI42)","v":286},null,null,null,null,null,null,null,null,null,null,null,null,null,null,null,null,null,null,null,null,null,null,null,null,null,null,null,null,null,null,null,null,null,null,null,null,null,null,"Vy",null,null,null,{"$f":"SUM(CX31:CX42)","v":286}]
[]
[null,null,null,null,null,null,null,null,null,null,null,null,null,null,null,null,null,null,null,null,null,null,null,null,null,null,null,null,null,null,null,null,null,null,null,null,null,null,null,null,null,null,null,null,null,null,null,null,null,null,null,null,null,null,null,null,null,null,null,null,null,null,null,null,null,null,null,null,null,null,null,null,null,null,null,null,null,null,null,null,null,null,null,null,null,"pepch",{"$f":"EBT_Master","v":204},{"$f":"'3 - Alt Num Lanes Input'!AU32","v":1},null,null,{"$f":"CV10","v":1572},null,null,null,null,null,null,null,null,null,{"$f":"'3 - Alt Num Lanes Input'!BA32","v":0},{"$f":"WBL_Master","v":31},"pepch"]
[]
[]
[null,null,null,null,null,null,null,null,null,null,null,null,null,null,null,null,null,null,null,null,null,null,null,null,null,null,null,null,null,null,null,null,null,null,null,null,null,null,null,null,null,null,null,null,null,null,null,null,null,null,null,null,null,null,null,null,null,null,null,null,null,null,null,null,null,null,null,null,null,null,null,null,null,null,null,null,null,null,null,null,null,null,null,null,null,"pepch",{"$f":"EBR_Master","v":51},{"$f":"'3 - Alt Num Lanes Input'!AW32","v":0},null,null,null,null,null,null,null,null,null,null,null,null,null,null,"pepch"]
[]
[]
[null,null,null,null,null,null,null,null,null,null,null,null,null,null,null,null,null,null,null,null,null,null,null,null,null,null,null,null,null,null,null,null,null,null,null,null,null,null,null,null,null,null,null,null,null,null,null,null,null,null,null,null,null,null,null,null,null,null,null,null,null,null,null,null,null,null,null,null,null,null,null,null,null,null,null,null,null,null,null,null,null,null,null,null,null,null,null,null,{"$f":"'3 - Alt Num Lanes Input'!AC32","v":0},null,null,null,null,null,{"$f":"'3 - Alt Num Lanes Input'!AE32","v":1},null,null,{"$f":"'3 - Alt Num Lanes Input'!AG32","v":0}]
[null,null,null,null,null,null,null,null,null,null,null,null,null,null,null,null,null,null,null,null,null,null,null,null,null,null,null,null,null,null,null,null,null,null,null,null,null,null,null,null,null,null,null,null,null,null,null,null,null,null,null,null,null,null,null,null,null,null,null,null,null,null,null,null,null,null,null,null,null,null,null,null,null,null,null,null,null,null,null,null,null,null,null,null,null,null,null,null,null,null,null,{"$f":"NBL_Master","v":102},null,null,{"$f":"NBT_Master","v":510},null,null,{"$f":"NBL_Master","v":102}]
[null,null,null,null,null,null,null,null,null,null,null,null,null,null,null,null,null,null,null,null,null,null,null,null,null,null,null,null,null,null,null,null,null,null,null,null,null,null,null,null,null,null,null,null,null,null,null,null,null,null,null,null,null,null,null,null,null,null,null,null,null,null,null,null,null,null,null,null,null,null,null,null,null,null,null,null,null,null,null,null,null,null,null,null,null,null,null,null,"pepch",null,null,"pepch",null,null,"pepch",null,null,"pepch"]
[]
[]
[]
[]
[]
[]
[null,null,null,null,null,null,null,null,null,null,null,null,null,null,null,null,null,null,null,null,null,null,null,null,null,null,null,null,null,null,null,null,null,null,null,null,null,null,null,null,null,null,null,null,null,null,null,null,null,null,null,null,null,null,null,null,null,null,null,null,null,null,null,null,null,null,null,null,null,null,null,null,null,null,null,null,null,null,null,null,null,null,null,null,null,null,null,"Vy",null,null,null,{"$f":"SUM(CK44:CV44)","v":714}]

{"sheet":"QR S-W","index":23,"n_rows":74,"n_cols":116,"rows_kept":74,"cut":false,"hidden":false,"merged":[[29,72,30,73],[29,100,30,101],[57,96,58,97],[64,108,65,109],[36,117,37,118],[6,108,7,109],[34,102,35,103],[13,90,14,91],[23,9,23,13],[11,2,12,9],[11,10,12,35],[22,114,24,114],[22,115,24,115],[22,116,24,119],[19,115,21,115],[19,116,21,119],[19,103,21,110],[19,113,21,113],[19,114,21,114],[22,66,24,69],[22,70,24,70],[22,71,24,71],[22,72,24,72],[22,75,24,82],[68,55,68,59],[23,43,23,47],[17,13,19,13],[20,4,22,7],[20,8,22,8],[20,9,22,12],[20,13,22,13],[17,38,19,46],[17,47,19,47],[20,38,22,41],[20,42,22,42],[20,43,22,46],[20,47,22,47],[62,50,64,58],[62,59,64,59],[65,50,67,53],[65,54,67,54],[65,55,67,58],[65,59,67,59],[17,4,19,12],[0,1,1,60],[2,1,3,60],[5,2,6,9],[5,10,6,35],[5,36,6,59],[7,2,8,9],[7,10,8,35],[9,2,10,9],[9,10,10,35],[7,36,8,41],[7,42,8,47],[7,48,8,53],[7,54,8,59],[9,36,12,47],[9,48,12,59],[0,63,1,122],[2,63,3,122],[9,101,12,103],[9,104,12,106],[9,107,12,109],[9,110,12,112],[16,66,18,69],[16,70,18,70],[16,71,18,71],[16,72,18,72],[16,85,18,85],[16,86,18,86],[13,101,13,103],[13,104,13,106],[6,80,7,81],[6,66,8,79],[73,14,73,47],[16,116,18,119],[15,101,15,103],[15,104,15,106],[15,107,15,109],[15,110,15,112],[13,110,13,112],[14,110,14,112],[13,107,13,109],[14,101,14,103],[14,104,14,106],[14,107,14,109],[19,71,21,71],[19,72,21,72],[19,75,21,82],[19,85,21,85],[16,87,18,87],[16,88,18,91],[16,113,18,113],[16,114,18,114],[16,115,18,115],[22,100,24,100],[22,103,24,110],[22,113,24,113],[22,94,24,97],[22,98,24,98],[22,99,24,99],[19,86,21,86],[19,87,21,87],[19,88,21,91],[19,66,21,69],[19,70,21,70],[25,99,27,99],[25,100,27,100],[25,113,27,113],[25,114,27,114],[25,115,27,115],[25,116,27,119],[25,66,27,69],[25,70,27,70],[25,71,27,71],[25,72,27,72],[25,94,27,97],[25,98,27,98],[30,110,30,112],[31,79,34,81],[31,82,34,84],[31,107,34,109],[31,110,34,112],[28,79,28,81],[28,82,28,84],[28,107,28,109],[28,110,28,112],[29,79,29,81],[29,82,29,84],[29,107,29,109],[29,110,29,112],[37,101,40,103],[37,104,40,106],[41,101,41,103],[41,104,41,106],[42,101,42,103],[42,104,42,106],[30,79,30,81],[30,82,30,84],[30,107,30,109],[58,101,58,103],[58,104,58,106],[58,107,58,109],[58,110,58,112],[59,101,62,103],[59,104,62,106],[59,107,62,109],[59,110,62,112],[56,107,56,109],[56,110,56,112],[57,101,57,103],[57,104,57,106],[57,107,57,109],[57,110,57,112],[53,94,55,97],[53,98,55,98],[53,99,55,99],[53,100,55,100],[56,101,56,103],[56,104,56,106],[43,101,43,103],[43,104,43,106],[47,103,49,110],[50,94,52,97],[50,98,52,98],[50,99,52,99],[50,100,52,100],[50,103,52,110]]}
[null,"Quadrant Roadway Intersection (S-W)",null,null,null,null,null,null,null,null,null,null,null,null,null,null,null,null,null,null,null,null,null,null,null,null,null,null,null,null,null,null,null,null,null,null,null,null,null,null,null,null,null,null,null,null,null,null,null,null,null,null,null,null,null,null,null,null,null,null,null,null,null,"Quadrant Roadway Intersection (S-W)"]
[]
[null,"Design and Results",null,null,null,null,null,null,null,null,null,null,null,null,null,null,null,null,null,null,null,null,null,null,null,null,null,null,null,null,null,null,null,null,null,null,null,null,null,null,null,null,null,null,null,null,null,null,null,null,null,null,null,null,null,null,null,null,null,null,null,null,null,"Data Input and Configuration"]
[]
[]
[null,null,"Project Name:",null,null,null,null,null,null,null,{"$f":"P_Name","v":"Cap-X Sample Street"},null,null,null,null,null,null,null,null,null,null,null,null,null,null,null,null,null,null,null,null,null,null,null,null,null,"Volume-to-Capacity Ratio"]
[null,null,null,null,null,null,null,null,null,null,null,null,null,null,null,null,null,null,null,null,null,null,null,null,null,null,null,null,null,null,null,null,null,null,null,null,null,null,null,null,null,null,null,null,null,null,null,null,null,null,null,null,null,null,null,null,null,null,null,null,null,null,null,null,null,null,"Multimodal Capacity Adjustment Factor",null,null,null,null,null,null,null,null,null,null,null,null,null,{"$f":"IF(Multimodal=1,1,IF(MAX(CW23,DA16,DJ20,DD29)<3,1,IF(MAX(CW23,DA16,DJ20,DD29)<4,0.9,0.8)))","v":1}]
[null,null,"Project Number:",null,null,null,null,null,null,null,{"$f":"P_Number","v":10000},null,null,null,null,null,null,null,null,null,null,null,null,null,null,null,null,null,null,null,null,null,null,null,null,null,"< 0.750",null,null,null,null,null,"0.750 - 0.875",null,null,null,null,null,"0.875 - 1.00",null,null,null,null,null,"≥ 1.00"]
[]
[null,null,"Location",null,null,null,null,null,null,null,{"$f":"Location","v":"Anywhere, USA"},null,null,null,null,null,null,null,null,null,null,null,null,null,null,null,null,null,null,null,null,null,null,null,null,null,"VOLUME / CAPACITY RATIO:",null,null,null,null,null,null,null,null,null,null,null,{"$f":"MAX(E21,AM21,AY66)","v":0.22}]
[]
[null,null,"Date",null,null,null,null,null,null,null,{"$f":"Date","v":"2017 AM"}]
[]
[null,null,null,null,null,null,null,null,null,null,null,null,null,null,null,null,null,null,null,null,null,null,null,null,null,null,null,null,null,null,null,null,null,null,null,null,null,null,null,null,null,null,null,null,null,null,null,null,null,null,null,null,null,null,null,null,null,null,null,null,null,null,null,null,null,null,null,null,null,null,null,null,null,null,null,null,null,null,null,null,null,null,null,null,null,null,null,null,null,null,null,null,null,null,null,null,null,null,null,null,null,"pepch",null,null,"pepch",null,null,"pepch",null,null,"pepch"]
[null,null,null,null,null,null,null,null,null,null,null,null,null,null,null,null,null,null,null,null,null,null,null,null,null,null,null,null,null,null,null,null,null,null,null,null,null,null,null,null,null,null,null,null,null,null,null,null,null,null,null,null,null,null,null,null,null,null,null,null,null,null,null,null,null,null,null,null,null,null,null,null,null,null,null,null,null,null,null,null,null,null,null,null,null,null,null,null,null,null,null,null,null,null,null,null,null,null,null,null,null,{"$f":"SBR_Master","v":51},null,null,{"$f":"SBT_Master","v":204},null,null,{"$f":"SBL_Master","v":31},null,null,{"$f":"SBU_Master","v":0}]
[null,null,null,null,null,null,null,null,null,null,null,null,null,null,null,null,null,null,null,null,null,null,null,null,null,null,null,null,null,null,null,null,null,null,null,null,null,null,null,null,null,null,null,null,null,null,null,null,null,null,null,null,null,null,null,null,null,null,null,null,null,null,null,null,null,null,null,null,null,null,null,null,null,null,null,null,null,null,null,null,null,null,null,null,null,null,null,null,null,null,null,null,null,null,null,null,null,null,null,null,null,1,null,null,2]
[null,null,null,null,null,null,null,null,null,null,null,null,null,null,null,null,null,null,null,null,null,null,null,null,null,null,null,null,null,null,null,null,null,null,null,null,null,null,null,null,null,null,null,null,null,null,null,null,null,null,null,null,null,null,null,null,null,null,null,null,null,null,null,null,null,null,null,null,null,null,"pepch",{"$f":"EBU_Master","v":0},null,null,null,null,null,null,null,null,null,null,null,null,null,2,{"$f":"CX15+DK20","v":255},"pepch",null,null,null,null,null,null,null,null,null,null,null,null,null,null,null,null,null,null,null,null,null,null,null,null,null,1,{"$f":"WBR_Master","v":51},"pepch"]
[null,null,null,null,{"$f":"BX23","v":242.00000000000003},null,null,null,null,null,null,null,null,"CLV",null,null,null,null,null,null,null,null,null,null,null,null,null,null,null,null,null,null,null,null,null,null,null,null,{"$f":"CZ23","v":372.5},null,null,null,null,null,null,null,null,"CLV"]
[]
[null,null,null,null,null,null,null,null,null,null,null,null,null,null,null,null,null,null,null,null,null,null,null,null,null,null,null,null,null,null,null,null,null,null,null,null,null,null,null,null,null,null,null,null,null,null,null,null,null,null,null,null,null,null,null,null,null,null,null,null,null,null,null,null,null,null,null,null,null,null,"pepch",{"$f":"EBL_Master","v":31},null,null,null,null,null,null,null,null,null,null,null,null,null,1,{"$f":"DG15+DK23+DK26","v":31},"pepch",null,null,null,null,null,null,null,null,null,null,null,null,null,null,null,null,null,null,null,null,null,null,null,null,null,2,{"$f":"WBT_Master","v":204},"pepch"]
[null,null,null,null,{"$f":"ROUND(E18/CLV_Limit_3,2)","v":0.14000000000000001},null,null,null,"V/C",{"$f":"CLV_Limit_3*CC7","v":1750},null,null,null,"MAX",null,null,null,null,null,null,null,null,null,null,null,null,null,null,null,null,null,null,null,null,null,null,null,null,{"$f":"ROUND(AM18/CLV_Limit_2,2)","v":0.21},null,null,null,"V/C",{"$f":"CLV_Limit_2*CC7","v":1800},null,null,null,"MAX"]
[]
[null,null,null,null,null,null,null,null,null,null,null,null,null,null,null,null,null,null,null,null,null,null,null,null,null,null,null,null,null,null,null,null,null,null,null,null,null,null,null,null,null,null,null,null,null,null,null,null,null,null,null,null,null,null,null,null,null,null,null,null,null,null,null,null,null,null,null,null,null,null,"pepch",{"$f":"EBT_Master","v":204},2,null,null,{"$f":"MAX(CB30/LTAF/CB29, ROUND(MAX(0,CE30/RTAF/CE29-CI20/LTAF/CH20),0))+ MAX(CI20/LTAF/CH20 +MAX((BT17+BT23)/BU23, ROUND(MAX(0,(BT20+BT26)/RTAF/BU26-CB30/LTAF/CB29),0)), CI17 /CH17 )","v":242.00000000000003},null,null,null,null,null,null,null,null,null,null,null,null,null,null,null,null,null,null,null,null,null,null,"pepch",{"$f":"BT23+CE30+BT17","v":235},2,null,null,{"$f":"MAX(DD30/DD29, DG30/RTAF/DG29, (DA15+DD15)/DA16, (CX15+DG15)/RTAF/CX16) +MAX(CV23/CW23, CV26/RTAF/CW26, (DK20+DK23+DK26)/DJ20, DK17/RTAF/DJ17)","v":372.5},null,null,null,null,null,null,null,null,null,null,{"$f":"WBL_Master","v":31},"pepch"]
[null,null,null,null,null,null,null,null,null,"3 Phases",null,null,null,null,null,null,null,null,null,null,null,null,null,null,null,null,null,null,null,null,null,null,null,null,null,null,null,null,null,null,null,null,null,"2 Phases"]
[]
[null,null,null,null,null,null,null,null,null,null,null,null,null,null,null,null,null,null,null,null,null,null,null,null,null,null,null,null,null,null,null,null,null,null,null,null,null,null,null,null,null,null,null,null,null,null,null,null,null,null,null,null,null,null,null,null,null,null,null,null,null,null,null,null,null,null,null,null,null,null,"pepch",{"$f":"EBR_Master","v":51},1,null,null,null,null,null,null,null,null,null,null,null,null,null,null,null,null,null,null,null,null,null,null,null,null,null,"pepch",{"$f":"CX58+BT17","v":0},1,null,null,null,null,null,null,null,null,null,null,null,null,null,{"$f":"WBU_Master","v":0},"pepch"]
[]
[]
[null,null,null,null,null,null,null,null,null,null,null,null,null,null,null,null,null,null,null,null,null,null,null,null,null,null,null,null,null,null,null,null,null,null,null,null,null,null,null,null,null,null,null,null,null,null,null,null,null,null,null,null,null,null,null,null,null,null,null,null,null,null,null,null,null,null,null,null,null,null,null,null,null,null,null,null,null,null,null,1,null,null,1,null,null,null,null,null,null,null,null,null,null,null,null,null,null,null,null,null,null,null,null,null,null,null,null,2,null,null,1]
[null,null,null,null,null,null,null,null,null,null,null,null,null,null,null,null,null,null,null,null,null,null,null,null,null,null,null,null,null,null,null,null,null,null,null,null,null,null,null,null,null,null,null,null,null,null,null,null,null,null,null,null,null,null,null,null,null,null,null,null,null,null,null,null,null,null,null,null,null,null,null,null,null,null,null,null,null,null,null,{"$f":"DA58+BT17","v":102},null,null,{"$f":"DD15+CX58","v":31},null,null,null,null,null,null,null,null,null,null,null,null,null,null,null,null,null,null,null,null,null,null,null,null,{"$f":"DD58+DG15","v":510},null,null,{"$f":"DG58+DK26","v":204}]
[null,null,null,null,null,null,null,null,null,null,null,null,null,null,null,null,null,null,null,null,null,null,null,null,null,null,null,null,null,null,null,null,null,null,null,null,null,null,null,null,null,null,null,null,null,null,null,null,null,null,null,null,null,null,null,null,null,null,null,null,null,null,null,null,null,null,null,null,null,null,null,null,null,null,null,null,null,null,null,"pepch",null,null,"pepch",null,null,null,null,null,null,null,null,null,null,null,null,null,null,null,null,null,null,null,null,null,null,null,null,"pepch",null,null,"pepch"]
[]
[]
[]
[]
[]
[]
[]
[]
[]
[]
[null,null,null,null,null,null,null,null,null,null,null,null,null,null,null,null,null,null,null,null,null,null,null,null,null,null,null,null,null,null,null,null,null,null,null,null,null,null,null,null,null,null,null,null,null,null,null,null,null,null,null,null,null,null,null,null,null,null,null,null,null,null,null,null,null,null,null,null,null,null,null,null,null,null,null,null,null,null,null,null,null,null,null,null,null,null,null,null,null,null,null,null,null,null,null,null,null,null,null,null,null,"pepch",null,null,"pepch"]
[null,null,null,null,null,null,null,null,null,null,null,null,null,null,null,null,null,null,null,null,null,null,null,null,null,null,null,null,null,null,null,null,null,null,null,null,null,null,null,null,null,null,null,null,null,null,null,null,null,null,null,null,null,null,null,null,null,null,null,null,null,null,null,null,null,null,null,null,null,null,null,null,null,null,null,null,null,null,null,null,null,null,null,null,null,null,null,null,null,null,null,null,null,null,null,null,null,null,null,null,null,{"$f":"DD15+BT17","v":31},null,null,{"$f":"CX58+DA15","v":204}]
[null,null,null,null,null,null,null,null,null,null,null,null,null,null,null,null,null,null,null,null,null,null,null,null,null,null,null,null,null,null,null,null,null,null,null,null,null,null,null,null,null,null,null,null,null,null,null,null,null,null,null,null,null,null,null,null,null,null,null,null,null,null,null,null,null,null,null,null,null,null,null,null,null,null,null,null,null,null,null,null,null,null,null,null,null,null,null,null,null,null,null,null,null,null,null,null,null,null,null,null,null,1,null,null,2]
[]
[]
[]
[]
[]
[]
[null,null,null,null,null,null,null,null,null,null,null,null,null,null,null,null,null,null,null,null,null,null,null,null,null,null,null,null,null,null,null,null,null,null,null,null,null,null,null,null,null,null,null,null,null,null,null,null,null,null,null,null,null,null,null,null,null,null,null,null,null,null,null,null,null,null,null,null,null,null,null,null,null,null,null,null,null,null,null,null,null,null,null,null,null,null,null,null,null,null,null,null,null,null,null,null,null,null,"pepch",{"$f":"BT20+DG15+DK26","v":31},1,null,null,{"$f":"MAX(CV51/LTAF/CW51, ROUND(MAX(0,CV54/RTAF/CW54-(DA58+CX58)/LTAF/DA57),0))+ MAX((DA58+CX58)/LTAF/DA57 +MAX( DA43/DA44, ROUND(MAX(0,CX43/RTAF/CX44-CV51/LTAF/CW51),0)),(DD58+DG58) /DD57)","v":389.63157894736844}]
[]
[]
[null,null,null,null,null,null,null,null,null,null,null,null,null,null,null,null,null,null,null,null,null,null,null,null,null,null,null,null,null,null,null,null,null,null,null,null,null,null,null,null,null,null,null,null,null,null,null,null,null,null,null,null,null,null,null,null,null,null,null,null,null,null,null,null,null,null,null,null,null,null,null,null,null,null,null,null,null,null,null,null,null,null,null,null,null,null,null,null,null,null,null,null,null,null,null,null,null,null,"pepch",{"$f":"DK23+BT26","v":82},1]
[]
[]
[null,null,null,null,null,null,null,null,null,null,null,null,null,null,null,null,null,null,null,null,null,null,null,null,null,null,null,null,null,null,null,null,null,null,null,null,null,null,null,null,null,null,null,null,null,null,null,null,null,null,null,null,null,null,null,null,null,null,null,null,null,null,null,null,null,null,null,null,null,null,null,null,null,null,null,null,null,null,null,null,null,null,null,null,null,null,null,null,null,null,null,null,null,null,null,null,null,null,null,null,null,null,null,null,1,null,null,2]
[null,null,null,null,null,null,null,null,null,null,null,null,null,null,null,null,null,null,null,null,null,null,null,null,null,null,null,null,null,null,null,null,null,null,null,null,null,null,null,null,null,null,null,null,null,null,null,null,null,null,null,null,null,null,null,null,null,null,null,null,null,null,null,null,null,null,null,null,null,null,null,null,null,null,null,null,null,null,null,null,null,null,null,null,null,null,null,null,null,null,null,null,null,null,null,null,null,null,null,null,null,{"$f":"NBU_Master","v":0},null,null,{"$f":"NBL_Master","v":102},null,null,{"$f":"NBT_Master","v":510},null,null,{"$f":"NBR_Master","v":204}]
[null,null,null,null,null,null,null,null,null,null,null,null,null,null,null,null,null,null,null,null,null,null,null,null,null,null,null,null,null,null,null,null,null,null,null,null,null,null,null,null,null,null,null,null,null,null,null,null,null,null,null,null,null,null,null,null,null,null,null,null,null,null,null,null,null,null,null,null,null,null,null,null,null,null,null,null,null,null,null,null,null,null,null,null,null,null,null,null,null,null,null,null,null,null,null,null,null,null,null,null,null,"pepch",null,null,"pepch",null,null,"pepch",null,null,"pepch"]
[]
[]
[]
[null,null,null,null,null,null,null,null,null,null,null,null,null,null,null,null,null,null,null,null,null,null,null,null,null,null,null,null,null,null,null,null,null,null,null,null,null,null,null,null,null,null,null,null,null,null,null,null,null,null,{"$f":"CZ51","v":389.63157894736844},null,null,null,null,null,null,null,null,"CLV"]
[]
[]
[null,null,null,null,null,null,null,null,null,null,null,null,null,null,null,null,null,null,null,null,null,null,null,null,null,null,null,null,null,null,null,null,null,null,null,null,null,null,null,null,null,null,null,null,null,null,null,null,null,null,{"$f":"ROUND(AY63/CLV_Limit_3,2)","v":0.22},null,null,null,"V/C",{"$f":"CLV_Limit_3*CC7","v":1750},null,null,null,"MAX"]
[]
[]
[null,null,null,null,null,null,null,null,null,null,null,null,null,null,null,null,null,null,null,null,null,null,null,null,null,null,null,null,null,null,null,null,null,null,null,null,null,null,null,null,null,null,null,null,null,null,null,null,null,null,null,null,null,null,null,"3 Phases"]
[]
[]
[]
[]
[null,null,null,null,null,null,null,null,null,null,null,null,null,null,"Note: This diagram does not reflect the actual lane configuration of the Intersection"]

{"sheet":"QR N-E","index":24,"n_rows":74,"n_cols":116,"rows_kept":74,"cut":false,"hidden":false,"merged":[[0,1,1,60],[2,1,3,60],[5,2,6,9],[5,10,6,35],[7,2,8,9],[7,10,8,35],[9,2,10,9],[9,10,10,35],[11,2,12,9],[11,10,12,35],[5,36,6,59],[7,36,8,41],[27,2,29,10],[27,11,29,11],[30,2,32,5],[30,6,32,6],[30,7,32,10],[30,11,32,11],[66,47,68,55],[66,56,68,56],[49,2,51,10],[49,11,51,11],[52,2,54,5],[52,6,54,6],[52,7,54,10],[52,11,54,11],[55,7,55,11],[33,7,33,11],[16,73,16,75],[16,76,16,78],[16,79,16,81],[16,82,16,84],[17,73,17,75],[17,76,17,78],[17,79,17,81],[17,82,17,84],[0,63,1,122],[2,63,3,122],[12,73,15,75],[12,76,15,78],[12,79,15,81],[12,82,15,84],[6,80,7,81],[6,66,8,79],[25,85,27,85],[25,86,27,86],[25,87,27,87],[25,88,27,91],[28,85,30,85],[28,86,30,86],[28,87,30,87],[28,88,30,91],[18,73,18,75],[18,76,18,78],[18,79,18,81],[18,82,18,84],[22,75,24,82],[25,75,27,82],[34,79,37,81],[34,82,37,84],[40,73,43,75],[40,76,43,78],[40,101,43,103],[40,104,43,106],[31,79,31,81],[31,82,31,84],[32,79,32,81],[32,82,32,84],[33,79,33,81],[33,82,33,84],[44,73,44,75],[44,76,44,78],[44,101,44,103],[47,88,49,91],[44,104,44,106],[45,73,45,75],[45,76,45,78],[45,101,45,103],[45,104,45,106],[50,66,52,69],[50,70,52,70],[50,71,52,71],[50,72,52,72],[47,113,49,113],[47,114,49,114],[47,115,49,115],[47,116,49,119],[46,73,46,75],[46,76,46,78],[46,101,46,103],[46,104,46,106],[50,115,52,115],[50,116,52,119],[50,103,52,110],[50,113,52,113],[50,114,52,114],[47,66,49,69],[47,70,49,70],[47,71,49,71],[47,72,49,72],[47,85,49,85],[47,86,49,86],[50,75,52,82],[56,115,58,115],[56,116,58,119],[56,66,58,69],[56,70,58,70],[56,71,58,71],[56,72,58,72],[56,94,58,97],[56,98,58,98],[53,66,55,69],[53,70,55,70],[53,71,55,71],[53,72,55,72],[53,75,55,82],[53,94,55,97],[53,98,55,98],[53,99,55,99],[53,113,55,113],[53,114,55,114],[53,115,55,115],[53,116,55,119],[56,99,58,99],[56,100,58,100],[53,100,55,100],[53,103,55,110],[50,85,52,85],[47,87,49,87],[56,113,58,113],[56,114,58,114],[50,86,52,86],[50,87,52,87],[50,88,52,91],[61,73,61,75],[61,76,61,78],[61,79,61,81],[61,82,61,84],[62,73,65,75],[62,76,65,78],[62,79,65,81],[62,82,65,84],[59,73,59,75],[59,76,59,78],[59,79,59,81],[59,82,59,84],[60,73,60,75],[60,76,60,78],[60,79,60,81],[60,82,60,84],[73,14,73,47],[7,42,8,47],[7,48,8,53],[7,54,8,59],[9,36,12,47],[9,48,12,59],[69,47,71,50],[69,51,71,51],[69,52,71,55],[69,56,71,56],[72,52,72,56]]}
[null,"Quadrant Roadway Intersection (N-E)",null,null,null,null,null,null,null,null,null,null,null,null,null,null,null,null,null,null,null,null,null,null,null,null,null,null,null,null,null,null,null,null,null,null,null,null,null,null,null,null,null,null,null,null,null,null,null,null,null,null,null,null,null,null,null,null,null,null,null,null,null,"Quadrant Roadway Intersection (N-E)"]
[]
[null,"Design and Results",null,null,null,null,null,null,null,null,null,null,null,null,null,null,null,null,null,null,null,null,null,null,null,null,null,null,null,null,null,null,null,null,null,null,null,null,null,null,null,null,null,null,null,null,null,null,null,null,null,null,null,null,null,null,null,null,null,null,null,null,null,"Data Input and Configuration"]
[]
[]
[null,null,"Project Name:",null,null,null,null,null,null,null,{"$f":"P_Name","v":"Cap-X Sample Street"},null,null,null,null,null,null,null,null,null,null,null,null,null,null,null,null,null,null,null,null,null,null,null,null,null,"Volume-to-Capacity Ratio"]
[null,null,null,null,null,null,null,null,null,null,null,null,null,null,null,null,null,null,null,null,null,null,null,null,null,null,null,null,null,null,null,null,null,null,null,null,null,null,null,null,null,null,null,null,null,null,null,null,null,null,null,null,null,null,null,null,null,null,null,null,null,null,null,null,null,null,"Multimodal Capacity Adjustment Factor",null,null,null,null,null,null,null,null,null,null,null,null,null,{"$f":"IF(Multimodal=1,1,IF(MAX(BU54,CH51,BY47,CB60)<3,1,IF(MAX(BU54,CH51,BY47,CB60)<4,0.9,0.8)))","v":1}]
[null,null,"Project Number:",null,null,null,null,null,null,null,{"$f":"P_Number","v":10000},null,null,null,null,null,null,null,null,null,null,null,null,null,null,null,null,null,null,null,null,null,null,null,null,null,"< 0.750",null,null,null,null,null,"0.750 - 0.875",null,null,null,null,null,"0.875 - 1.00",null,null,null,null,null,"≥ 1.00"]
[]
[null,null,"Location",null,null,null,null,null,null,null,{"$f":"Location","v":"Anywhere, USA"},null,null,null,null,null,null,null,null,null,null,null,null,null,null,null,null,null,null,null,null,null,null,null,null,null,"VOLUME / CAPACITY RATIO:",null,null,null,null,null,null,null,null,null,null,null,{"$f":"MAX(C31,C53,AV70)","v":0.26}]
[]
[null,null,"Date",null,null,null,null,null,null,null,{"$f":"Date","v":"2017 AM"}]
[]
[]
[]
[]
[null,null,null,null,null,null,null,null,null,null,null,null,null,null,null,null,null,null,null,null,null,null,null,null,null,null,null,null,null,null,null,null,null,null,null,null,null,null,null,null,null,null,null,null,null,null,null,null,null,null,null,null,null,null,null,null,null,null,null,null,null,null,null,null,null,null,null,null,null,null,null,null,null,"pepch",null,null,"pepch",null,null,"pepch",null,null,"pepch"]
[null,null,null,null,null,null,null,null,null,null,null,null,null,null,null,null,null,null,null,null,null,null,null,null,null,null,null,null,null,null,null,null,null,null,null,null,null,null,null,null,null,null,null,null,null,null,null,null,null,null,null,null,null,null,null,null,null,null,null,null,null,null,null,null,null,null,null,null,null,null,null,null,null,{"$f":"SBR_Master","v":51},null,null,{"$f":"SBT_Master","v":204},null,null,{"$f":"SBL_Master","v":31},null,null,{"$f":"SBU_Master","v":0}]
[null,null,null,null,null,null,null,null,null,null,null,null,null,null,null,null,null,null,null,null,null,null,null,null,null,null,null,null,null,null,null,null,null,null,null,null,null,null,null,null,null,null,null,null,null,null,null,null,null,null,null,null,null,null,null,null,null,null,null,null,null,null,null,null,null,null,null,null,null,null,null,null,null,null,null,null,2,null,null,1]
[]
[]
[]
[]
[]
[]
[null,null,null,null,null,null,null,null,null,null,null,null,null,null,null,null,null,null,null,null,null,null,null,null,null,null,null,null,null,null,null,null,null,null,null,null,null,null,null,null,null,null,null,null,null,null,null,null,null,null,null,null,null,null,null,null,null,null,null,null,null,null,null,null,null,null,null,null,null,null,null,null,null,null,null,{"$f":"MAX(CI29/LTAF/CH29, ROUND(MAX(0,CI26/RTAF/CH26-(CB18+CE18)/LTAF/CB19),0))+ MAX((CB18+CE18)/LTAF/CB19 +MAX(CB33/CB32, ROUND(MAX(0,CE33/RTAF/CE32-CI29/LTAF/CH29),0)),(BY18+BV18 )/BY19 )","v":351.63157894736844},null,null,null,null,null,null,null,null,null,1,{"$f":"DK48+BT51","v":82},"pepch"]
[]
[null,null,{"$f":"BX26","v":351.63157894736844},null,null,null,null,null,null,null,null,"CLV"]
[null,null,null,null,null,null,null,null,null,null,null,null,null,null,null,null,null,null,null,null,null,null,null,null,null,null,null,null,null,null,null,null,null,null,null,null,null,null,null,null,null,null,null,null,null,null,null,null,null,null,null,null,null,null,null,null,null,null,null,null,null,null,null,null,null,null,null,null,null,null,null,null,null,null,null,null,null,null,null,null,null,null,null,null,null,1,{"$f":"DK54+BV61+BT48","v":31},"pepch"]
[]
[null,null,{"$f":"ROUND(C28/CLV_Limit_3,2)","v":0.2},null,null,null,"V/C",{"$f":"CLV_Limit_3*CC7","v":1750},null,null,null,"MAX"]
[null,null,null,null,null,null,null,null,null,null,null,null,null,null,null,null,null,null,null,null,null,null,null,null,null,null,null,null,null,null,null,null,null,null,null,null,null,null,null,null,null,null,null,null,null,null,null,null,null,null,null,null,null,null,null,null,null,null,null,null,null,null,null,null,null,null,null,null,null,null,null,null,null,null,null,null,null,null,null,2,null,null,1]
[null,null,null,null,null,null,null,null,null,null,null,null,null,null,null,null,null,null,null,null,null,null,null,null,null,null,null,null,null,null,null,null,null,null,null,null,null,null,null,null,null,null,null,null,null,null,null,null,null,null,null,null,null,null,null,null,null,null,null,null,null,null,null,null,null,null,null,null,null,null,null,null,null,null,null,null,null,null,null,{"$f":"CB61+CE18","v":510},null,null,{"$f":"BY61+DK57","v":102}]
[null,null,null,null,null,null,null,"3 Phases",null,null,null,null,null,null,null,null,null,null,null,null,null,null,null,null,null,null,null,null,null,null,null,null,null,null,null,null,null,null,null,null,null,null,null,null,null,null,null,null,null,null,null,null,null,null,null,null,null,null,null,null,null,null,null,null,null,null,null,null,null,null,null,null,null,null,null,null,null,null,null,"pepch",null,null,"pepch"]
[]
[]
[]
[]
[]
[]
[]
[]
[]
[]
[null,null,null,null,null,null,null,null,null,null,null,null,null,null,null,null,null,null,null,null,null,null,null,null,null,null,null,null,null,null,null,null,null,null,null,null,null,null,null,null,null,null,null,null,null,null,null,null,null,null,null,null,null,null,null,null,null,null,null,null,null,null,null,null,null,null,null,null,null,null,null,null,null,"pepch",null,null,"pepch",null,null,null,null,null,null,null,null,null,null,null,null,null,null,null,null,null,null,null,null,null,null,null,null,"pepch",null,null,"pepch"]
[null,null,null,null,null,null,null,null,null,null,null,null,null,null,null,null,null,null,null,null,null,null,null,null,null,null,null,null,null,null,null,null,null,null,null,null,null,null,null,null,null,null,null,null,null,null,null,null,null,null,null,null,null,null,null,null,null,null,null,null,null,null,null,null,null,null,null,null,null,null,null,null,null,{"$f":"BV18+BT48","v":51},null,null,{"$f":"+BY18+BV61","v":204},null,null,null,null,null,null,null,null,null,null,null,null,null,null,null,null,null,null,null,null,null,null,null,null,{"$f":"BY61+CE18","v":102},null,null,{"$f":"CB18+DK57","v":31}]
[null,null,null,null,null,null,null,null,null,null,null,null,null,null,null,null,null,null,null,null,null,null,null,null,null,null,null,null,null,null,null,null,null,null,null,null,null,null,null,null,null,null,null,null,null,null,null,null,null,null,null,null,null,null,null,null,null,null,null,null,null,null,null,null,null,null,null,null,null,null,null,null,null,1,null,null,2,null,null,null,null,null,null,null,null,null,null,null,null,null,null,null,null,null,null,null,null,null,null,null,null,1,null,null,1]
[null,null,null,null,null,null,null,null,null,null,null,null,null,null,null,null,null,null,null,null,null,null,null,null,null,null,null,null,null,null,null,null,null,null,null,null,null,null,null,null,null,null,null,null,null,null,null,null,null,null,null,null,null,null,null,null,null,null,null,null,null,null,null,null,null,null,null,null,null,null,"pepch",{"$f":"EBU_Master","v":0},null,null,null,null,null,null,null,null,null,null,null,null,null,1,{"$f":"DK57+CE18","v":0},"pepch",null,null,null,null,null,null,null,null,null,null,null,null,null,null,null,null,null,null,null,null,null,null,null,null,null,1,{"$f":"WBR_Master","v":51},"pepch"]
[]
[null,null,{"$f":"BX54","v":459},null,null,null,null,null,null,null,null,"CLV"]
[null,null,null,null,null,null,null,null,null,null,null,null,null,null,null,null,null,null,null,null,null,null,null,null,null,null,null,null,null,null,null,null,null,null,null,null,null,null,null,null,null,null,null,null,null,null,null,null,null,null,null,null,null,null,null,null,null,null,null,null,null,null,null,null,null,null,null,null,null,null,"pepch",{"$f":"EBL_Master","v":31},null,null,null,null,null,null,null,null,null,null,null,null,null,2,{"$f":"DK51+BY61","v":306},"pepch+",null,null,null,null,null,null,null,null,null,null,null,null,null,null,null,null,null,null,null,null,null,null,null,null,null,2,{"$f":"WBT_Master","v":204},"pepch"]
[]
[null,null,{"$f":"ROUND(C50/CLV_Limit_2,2)","v":0.26},null,null,null,"V/C",{"$f":"CLV_Limit_2*CC7","v":1800},null,null,null,"MAX"]
[null,null,null,null,null,null,null,null,null,null,null,null,null,null,null,null,null,null,null,null,null,null,null,null,null,null,null,null,null,null,null,null,null,null,null,null,null,null,null,null,null,null,null,null,null,null,null,null,null,null,null,null,null,null,null,null,null,null,null,null,null,null,null,null,null,null,null,null,null,null,"pepch",{"$f":"EBT_Master","v":204},2,null,null,{"$f":"MAX((CB61+BY61)/CB60, (CE61+BV61)/RTAF/CE60, BY46/BY47, BV46/RTAF/BV47) +MAX((BT54+BT51+BT48)/BU54, BT57/RTAF/BU57, CI51/CH51, CI48/RTAF/CH48)","v":459},null,null,null,null,null,null,null,null,null,null,null,null,null,null,null,null,null,null,null,null,null,null,"pepch",{"$f":"BT51+BV61+BT48","v":31},1,null,null,{"$f":"MAX(DA46/LTAF/DA47, ROUND(MAX(0,CX46/RTAF/CX47-CV54/LTAF/CW54),0))+ MAX(CV54/LTAF/CW54 +MAX((DK51+DK57)/DJ51, ROUND(MAX(0,(DK48+DK54)/RTAF/DJ48-DA46/LTAF/DA47),0)),CV57/CW57)","v":291},null,null,null,null,null,null,null,null,null,null,{"$f":"WBL_Master","v":31},"pepch"]
[]
[null,null,null,null,null,null,null,"2 Phases"]
[null,null,null,null,null,null,null,null,null,null,null,null,null,null,null,null,null,null,null,null,null,null,null,null,null,null,null,null,null,null,null,null,null,null,null,null,null,null,null,null,null,null,null,null,null,null,null,null,null,null,null,null,null,null,null,null,null,null,null,null,null,null,null,null,null,null,null,null,null,null,"pepch",{"$f":"EBR_Master","v":51},1,null,null,null,null,null,null,null,null,null,null,null,null,null,null,null,null,null,null,null,null,null,null,null,null,null,"pepch",{"$f":"BT54+CE61","v":408},2,null,null,null,null,null,null,null,null,null,null,null,null,null,{"$f":"WBU_Master","v":0},"pepch"]
[]
[]
[null,null,null,null,null,null,null,null,null,null,null,null,null,null,null,null,null,null,null,null,null,null,null,null,null,null,null,null,null,null,null,null,null,null,null,null,null,null,null,null,null,null,null,null,null,null,null,null,null,null,null,null,null,null,null,null,null,null,null,null,null,null,null,null,null,null,null,null,null,null,null,null,null,null,null,null,null,null,null,2,null,null,1]
[null,null,null,null,null,null,null,null,null,null,null,null,null,null,null,null,null,null,null,null,null,null,null,null,null,null,null,null,null,null,null,null,null,null,null,null,null,null,null,null,null,null,null,null,null,null,null,null,null,null,null,null,null,null,null,null,null,null,null,null,null,null,null,null,null,null,null,null,null,null,null,null,null,{"$f":"NBU_Master","v":0},null,null,{"$f":"NBL_Master","v":102},null,null,{"$f":"+NBT_Master","v":510},null,null,{"$f":"NBR_Master","v":204}]
[null,null,null,null,null,null,null,null,null,null,null,null,null,null,null,null,null,null,null,null,null,null,null,null,null,null,null,null,null,null,null,null,null,null,null,null,null,null,null,null,null,null,null,null,null,null,null,null,null,null,null,null,null,null,null,null,null,null,null,null,null,null,null,null,null,null,null,null,null,null,null,null,null,"pepch",null,null,"pepch",null,null,"pepch",null,null,"pepch"]
[]
[]
[]
[]
[null,null,null,null,null,null,null,null,null,null,null,null,null,null,null,null,null,null,null,null,null,null,null,null,null,null,null,null,null,null,null,null,null,null,null,null,null,null,null,null,null,null,null,null,null,null,null,{"$f":"CZ54","v":291},null,null,null,null,null,null,null,null,"CLV"]
[]
[]
[null,null,null,null,null,null,null,null,null,null,null,null,null,null,null,null,null,null,null,null,null,null,null,null,null,null,null,null,null,null,null,null,null,null,null,null,null,null,null,null,null,null,null,null,null,null,null,{"$f":"ROUND(AV67/CLV_Limit_3,2)","v":0.17},null,null,null,"V/C",{"$f":"CLV_Limit_3*CC7","v":1750},null,null,null,"MAX"]
[]
[]
[null,null,null,null,null,null,null,null,null,null,null,null,null,null,null,null,null,null,null,null,null,null,null,null,null,null,null,null,null,null,null,null,null,null,null,null,null,null,null,null,null,null,null,null,null,null,null,null,null,null,null,null,"3 Phases"]
[null,null,null,null,null,null,null,null,null,null,null,null,null,null,"Note: This diagram does not reflect the actual lane configuration of the Intersection"]

{"sheet":"QR S-E","index":25,"n_rows":74,"n_cols":116,"rows_kept":74,"cut":false,"hidden":false,"merged":[[6,80,7,81],[29,7,29,11],[22,49,22,53],[67,7,67,11],[73,14,73,48],[16,44,18,52],[16,53,18,53],[19,44,21,47],[19,48,21,48],[19,49,21,52],[19,53,21,53],[61,2,63,10],[61,11,63,11],[64,2,66,5],[64,6,66,6],[64,7,66,10],[64,11,66,11],[23,2,25,10],[23,11,25,11],[26,2,28,5],[26,6,28,6],[26,7,28,10],[26,11,28,11],[17,76,17,78],[0,63,1,122],[2,63,3,122],[11,73,14,75],[11,76,14,78],[11,79,14,81],[11,82,14,84],[0,1,1,60],[2,1,3,60],[5,2,6,9],[5,10,6,35],[5,36,6,59],[7,54,8,59],[7,2,8,9],[7,10,8,35],[9,2,10,9],[9,10,10,35],[11,2,12,9],[11,10,12,35],[7,36,8,41],[7,42,8,47],[7,48,8,53],[9,36,12,47],[9,48,12,59],[6,66,8,79],[17,79,17,81],[17,82,17,84],[18,66,20,69],[18,72,20,72],[15,73,15,75],[15,76,15,78],[15,79,15,81],[15,82,15,84],[16,73,16,75],[16,76,16,78],[16,79,16,81],[16,82,16,84],[17,73,17,75],[21,88,23,91],[21,103,23,110],[21,113,23,113],[21,114,23,114],[21,115,23,115],[21,116,23,119],[18,115,20,115],[18,116,20,119],[21,66,23,69],[21,70,23,70],[21,71,23,71],[21,72,23,72],[21,75,23,82],[21,85,23,85],[21,86,23,86],[21,87,23,87],[18,85,20,85],[18,86,20,86],[18,87,20,87],[18,88,20,91],[18,113,20,113],[18,114,20,114],[18,70,20,70],[18,71,20,71],[27,66,29,69],[27,70,29,70],[27,71,29,71],[27,72,29,72],[27,94,29,97],[27,98,29,98],[27,99,29,99],[27,100,29,100],[24,98,26,98],[24,99,26,99],[24,100,26,100],[24,66,26,69],[24,70,26,70],[24,71,26,71],[24,72,26,72],[24,75,26,82],[24,94,26,97],[27,113,29,113],[27,114,29,114],[27,115,29,115],[27,116,29,119],[30,79,30,81],[30,82,30,84],[30,107,30,109],[30,110,30,112],[24,115,26,115],[24,116,26,119],[24,103,26,110],[24,113,26,113],[24,114,26,114],[33,110,36,112],[39,73,42,75],[39,76,42,78],[31,79,31,81],[31,82,31,84],[31,107,31,109],[31,110,31,112],[32,79,32,81],[32,82,32,84],[32,107,32,109],[32,110,32,112],[43,73,43,75],[43,76,43,78],[44,73,44,75],[44,76,44,78],[45,73,45,75],[45,76,45,78],[33,79,36,81],[33,82,36,84],[33,107,36,109],[55,85,57,85],[55,86,57,86],[55,87,57,87],[55,88,57,91],[58,73,58,75],[58,76,58,78],[58,79,58,81],[58,82,58,84],[49,75,51,82],[52,75,54,82],[52,85,54,85],[52,86,54,86],[52,87,54,87],[52,88,54,91],[61,73,64,75],[61,76,64,78],[61,79,64,81],[61,82,64,84],[59,73,59,75],[59,76,59,78],[59,79,59,81],[59,82,59,84],[60,73,60,75],[60,76,60,78],[60,79,60,81],[60,82,60,84]]}
[null,"Quadrant Roadway Intersection (S-E)",null,null,null,null,null,null,null,null,null,null,null,null,null,null,null,null,null,null,null,null,null,null,null,null,null,null,null,null,null,null,null,null,null,null,null,null,null,null,null,null,null,null,null,null,null,null,null,null,null,null,null,null,null,null,null,null,null,null,null,null,null,"Quadrant Roadway Intersection (S-E)"]
[]
[null,"Design and Results",null,null,null,null,null,null,null,null,null,null,null,null,null,null,null,null,null,null,null,null,null,null,null,null,null,null,null,null,null,null,null,null,null,null,null,null,null,null,null,null,null,null,null,null,null,null,null,null,null,null,null,null,null,null,null,null,null,null,null,null,null,"Data Input and Configuration"]
[]
[]
[null,null,"Project Name:",null,null,null,null,null,null,null,{"$f":"P_Name","v":"Cap-X Sample Street"},null,null,null,null,null,null,null,null,null,null,null,null,null,null,null,null,null,null,null,null,null,null,null,null,null,"Volume-to-Capacity Ratio"]
[null,null,null,null,null,null,null,null,null,null,null,null,null,null,null,null,null,null,null,null,null,null,null,null,null,null,null,null,null,null,null,null,null,null,null,null,null,null,null,null,null,null,null,null,null,null,null,null,null,null,null,null,null,null,null,null,null,null,null,null,null,null,null,null,null,null,"Multimodal Capacity Adjustment Factor",null,null,null,null,null,null,null,null,null,null,null,null,null,{"$f":"IF(Multimodal=1,1,IF(MAX(BU25,CB31,CH22,BY18)<3,1,IF(MAX(BU25,CB31,CH22,BY18)<4,0.9,0.8)))","v":1}]
[null,null,"Project Number:",null,null,null,null,null,null,null,{"$f":"P_Number","v":10000},null,null,null,null,null,null,null,null,null,null,null,null,null,null,null,null,null,null,null,null,null,null,null,null,null,"< 0.750",null,null,null,null,null,"0.750 - 0.875",null,null,null,null,null,"0.875 - 1.00",null,null,null,null,null,"≥ 1.00"]
[]
[null,null,"Location",null,null,null,null,null,null,null,{"$f":"Location","v":"Anywhere, USA"},null,null,null,null,null,null,null,null,null,null,null,null,null,null,null,null,null,null,null,null,null,null,null,null,null,"VOLUME / CAPACITY RATIO:",null,null,null,null,null,null,null,null,null,null,null,{"$f":"MAX(AS20,C27,C65)","v":0.23}]
[]
[null,null,"Date",null,null,null,null,null,null,null,{"$f":"Date","v":"2017 AM"}]
[]
[]
[]
[null,null,null,null,null,null,null,null,null,null,null,null,null,null,null,null,null,null,null,null,null,null,null,null,null,null,null,null,null,null,null,null,null,null,null,null,null,null,null,null,null,null,null,null,null,null,null,null,null,null,null,null,null,null,null,null,null,null,null,null,null,null,null,null,null,null,null,null,null,null,null,null,null,"pepch",null,null,"pepch",null,null,"pepch",null,null,"pepch"]
[null,null,null,null,null,null,null,null,null,null,null,null,null,null,null,null,null,null,null,null,null,null,null,null,null,null,null,null,null,null,null,null,null,null,null,null,null,null,null,null,null,null,null,null,{"$f":"CZ25","v":378.63157894736844},null,null,null,null,null,null,null,null,"CLV",null,null,null,null,null,null,null,null,null,null,null,null,null,null,null,null,null,null,null,{"$f":"SBR_Master","v":51},null,null,{"$f":"SBT_Master","v":204},null,null,{"$f":"SBL_Master","v":31},null,null,{"$f":"SBU_Master","v":0}]
[null,null,null,null,null,null,null,null,null,null,null,null,null,null,null,null,null,null,null,null,null,null,null,null,null,null,null,null,null,null,null,null,null,null,null,null,null,null,null,null,null,null,null,null,null,null,null,null,null,null,null,null,null,null,null,null,null,null,null,null,null,null,null,null,null,null,null,null,null,null,null,null,null,1,null,null,2]
[null,null,null,null,null,null,null,null,null,null,null,null,null,null,null,null,null,null,null,null,null,null,null,null,null,null,null,null,null,null,null,null,null,null,null,null,null,null,null,null,null,null,null,null,null,null,null,null,null,null,null,null,null,null,null,null,null,null,null,null,null,null,null,null,null,null,null,null,null,null,"pepch",{"$f":"EBU_Master","v":0},null,null,null,null,null,null,null,null,null,null,null,null,null,1,{"$f":"DK19+CE17","v":51},"pepch",null,null,null,null,null,null,null,null,null,null,null,null,null,null,null,null,null,null,null,null,null,null,null,null,null,null,{"$f":"WBR_Master","v":51},"pepch"]
[null,null,null,null,null,null,null,null,null,null,null,null,null,null,null,null,null,null,null,null,null,null,null,null,null,null,null,null,null,null,null,null,null,null,null,null,null,null,null,null,null,null,null,null,{"$f":"ROUND(AS17/CLV_Limit_3,2)","v":0.22},null,null,null,"V/C",{"$f":"CLV_Limit_3*CC7","v":1750},null,null,null,"MAX"]
[]
[null,null,null,null,null,null,null,null,null,null,null,null,null,null,null,null,null,null,null,null,null,null,null,null,null,null,null,null,null,null,null,null,null,null,null,null,null,null,null,null,null,null,null,null,null,null,null,null,null,null,null,null,null,null,null,null,null,null,null,null,null,null,null,null,null,null,null,null,null,null,"pepch",{"$f":"EBL_Master","v":31},null,null,null,null,null,null,null,null,null,null,null,null,null,2,{"$f":"DK22+BT19+DD32","v":306},"pepch",null,null,null,null,null,null,null,null,null,null,null,null,null,null,null,null,null,null,null,null,null,null,null,null,null,2,{"$f":"WBT_Master","v":204},"pepch"]
[null,null,null,null,null,null,null,null,null,null,null,null,null,null,null,null,null,null,null,null,null,null,null,null,null,null,null,null,null,null,null,null,null,null,null,null,null,null,null,null,null,null,null,null,null,null,null,null,null,"3 Phases"]
[null,null,{"$f":"BX25","v":408},null,null,null,null,null,null,null,null,"CLV"]
[null,null,null,null,null,null,null,null,null,null,null,null,null,null,null,null,null,null,null,null,null,null,null,null,null,null,null,null,null,null,null,null,null,null,null,null,null,null,null,null,null,null,null,null,null,null,null,null,null,null,null,null,null,null,null,null,null,null,null,null,null,null,null,null,null,null,null,null,null,null,"pepch",{"$f":"EBT_Master","v":204},2,null,null,{"$f":"MAX(CB32/CB31, CE32/RTAF/CE31, (BY17+CB17+CE17)/BY18, BV17/RTAF/BV18) +MAX((BT25+BT22)/BU25, (BT28+BT19)/RTAF/BU28, CI22/CH22, CI19/RTAF/CH19)","v":408},null,null,null,null,null,null,null,null,null,null,null,null,null,null,null,null,null,null,null,null,null,null,"pepch",{"$f":"BT25+DK28","v":204},2,null,null,{"$f":"MAX(DD32/LTAF/DD31, ROUND(MAX(0,DG32/RTAF/DG31-(DK25+DK28)/LTAF/DJ25),0))+ MAX((DK25+DK28)/LTAF/DJ25 +MAX(CV25/CW25, ROUND(MAX(0,CV28/RTAF/CW28-DD32/LTAF/DD31),0)),(DK22+DK19) /DJ22)","v":378.63157894736844},null,null,null,null,null,null,null,null,null,1,{"$f":"WBL_Master","v":31},"pepch"]
[]
[null,null,{"$f":"ROUND(C24/CLV_Limit_2,2)","v":0.23},null,null,null,"V/C",{"$f":"CLV_Limit_2*CC7","v":1800},null,null,null,"MAX"]
[null,null,null,null,null,null,null,null,null,null,null,null,null,null,null,null,null,null,null,null,null,null,null,null,null,null,null,null,null,null,null,null,null,null,null,null,null,null,null,null,null,null,null,null,null,null,null,null,null,null,null,null,null,null,null,null,null,null,null,null,null,null,null,null,null,null,null,null,null,null,"pepch",{"$f":"EBR_Master","v":51},1,null,null,null,null,null,null,null,null,null,null,null,null,null,null,null,null,null,null,null,null,null,null,null,null,null,"pepch",{"$f":"BV60+BT22","v":31},1,null,null,null,null,null,null,null,null,null,null,null,null,null,{"$f":"WBU_Master","v":0},"pepch"]
[]
[null,null,null,null,null,null,null,"2 Phases"]
[null,null,null,null,null,null,null,null,null,null,null,null,null,null,null,null,null,null,null,null,null,null,null,null,null,null,null,null,null,null,null,null,null,null,null,null,null,null,null,null,null,null,null,null,null,null,null,null,null,null,null,null,null,null,null,null,null,null,null,null,null,null,null,null,null,null,null,null,null,null,null,null,null,null,null,null,null,null,null,2,null,null,1,null,null,null,null,null,null,null,null,null,null,null,null,null,null,null,null,null,null,null,null,null,null,null,null,1,null,null,1]
[null,null,null,null,null,null,null,null,null,null,null,null,null,null,null,null,null,null,null,null,null,null,null,null,null,null,null,null,null,null,null,null,null,null,null,null,null,null,null,null,null,null,null,null,null,null,null,null,null,null,null,null,null,null,null,null,null,null,null,null,null,null,null,null,null,null,null,null,null,null,null,null,null,null,null,null,null,null,null,{"$f":"CB60+CE17","v":510},null,null,{"$f":"DK28+BV60","v":0},null,null,null,null,null,null,null,null,null,null,null,null,null,null,null,null,null,null,null,null,null,null,null,null,{"$f":"BY60+BT19+CE17","v":102},null,null,{"$f":"CE60+CB17","v":235}]
[null,null,null,null,null,null,null,null,null,null,null,null,null,null,null,null,null,null,null,null,null,null,null,null,null,null,null,null,null,null,null,null,null,null,null,null,null,null,null,null,null,null,null,null,null,null,null,null,null,null,null,null,null,null,null,null,null,null,null,null,null,null,null,null,null,null,null,null,null,null,null,null,null,null,null,null,null,null,null,"pepch",null,null,"pepch",null,null,null,null,null,null,null,null,null,null,null,null,null,null,null,null,null,null,null,null,null,null,null,null,"pepch",null,null,"pepch"]
[]
[]
[]
[]
[]
[]
[]
[]
[]
[]
[null,null,null,null,null,null,null,null,null,null,null,null,null,null,null,null,null,null,null,null,null,null,null,null,null,null,null,null,null,null,null,null,null,null,null,null,null,null,null,null,null,null,null,null,null,null,null,null,null,null,null,null,null,null,null,null,null,null,null,null,null,null,null,null,null,null,null,null,null,null,null,null,null,"pepch",null,null,"pepch"]
[null,null,null,null,null,null,null,null,null,null,null,null,null,null,null,null,null,null,null,null,null,null,null,null,null,null,null,null,null,null,null,null,null,null,null,null,null,null,null,null,null,null,null,null,null,null,null,null,null,null,null,null,null,null,null,null,null,null,null,null,null,null,null,null,null,null,null,null,null,null,null,null,null,{"$f":"BY17+BT28","v":255},null,null,{"$f":"CB17+BT19+CE17","v":31}]
[null,null,null,null,null,null,null,null,null,null,null,null,null,null,null,null,null,null,null,null,null,null,null,null,null,null,null,null,null,null,null,null,null,null,null,null,null,null,null,null,null,null,null,null,null,null,null,null,null,null,null,null,null,null,null,null,null,null,null,null,null,null,null,null,null,null,null,null,null,null,null,null,null,2,null,null,1]
[]
[]
[]
[]
[]
[]
[null,null,null,null,null,null,null,null,null,null,null,null,null,null,null,null,null,null,null,null,null,null,null,null,null,null,null,null,null,null,null,null,null,null,null,null,null,null,null,null,null,null,null,null,null,null,null,null,null,null,null,null,null,null,null,null,null,null,null,null,null,null,null,null,null,null,null,null,null,null,null,null,null,null,null,{"$f":"MAX(CI56/LTAF/CH56, ROUND(MAX(0,CI53/RTAF/CH53-BY45/LTAF/BY46),0))+ MAX(BY45/LTAF/BY46+MAX((CB60+BV60)/CB59, ROUND(MAX(0,(CE60+BY60)/RTAF/CE59-CI56/LTAF/CH56),0)),BV45 /BV46 )","v":392.26315789473688},null,null,null,null,null,null,null,null,null,1,{"$f":"DK28+BT22","v":31},"pepch"]
[]
[]
[null,null,null,null,null,null,null,null,null,null,null,null,null,null,null,null,null,null,null,null,null,null,null,null,null,null,null,null,null,null,null,null,null,null,null,null,null,null,null,null,null,null,null,null,null,null,null,null,null,null,null,null,null,null,null,null,null,null,null,null,null,null,null,null,null,null,null,null,null,null,null,null,null,null,null,null,null,null,null,null,null,null,null,null,null,1,{"$f":"DK25+BV60","v":31},"pepch"]
[]
[]
[null,null,null,null,null,null,null,null,null,null,null,null,null,null,null,null,null,null,null,null,null,null,null,null,null,null,null,null,null,null,null,null,null,null,null,null,null,null,null,null,null,null,null,null,null,null,null,null,null,null,null,null,null,null,null,null,null,null,null,null,null,null,null,null,null,null,null,null,null,null,null,null,null,null,null,null,null,null,null,2,null,null,1]
[null,null,null,null,null,null,null,null,null,null,null,null,null,null,null,null,null,null,null,null,null,null,null,null,null,null,null,null,null,null,null,null,null,null,null,null,null,null,null,null,null,null,null,null,null,null,null,null,null,null,null,null,null,null,null,null,null,null,null,null,null,null,null,null,null,null,null,null,null,null,null,null,null,{"$f":"NBU_Master","v":0},null,null,{"$f":"NBL_Master","v":102},null,null,{"$f":"NBT_Master","v":510},null,null,{"$f":"NBR_Master","v":204}]
[null,null,null,null,null,null,null,null,null,null,null,null,null,null,null,null,null,null,null,null,null,null,null,null,null,null,null,null,null,null,null,null,null,null,null,null,null,null,null,null,null,null,null,null,null,null,null,null,null,null,null,null,null,null,null,null,null,null,null,null,null,null,null,null,null,null,null,null,null,null,null,null,null,"pepch",null,null,"pepch",null,null,"pepch",null,null,"pepch"]
[null,null,{"$f":"BX53","v":392.26315789473688},null,null,null,null,null,null,null,null,"CLV"]
[]
[]
[null,null,{"$f":"ROUND(C62/CLV_Limit_3,2)","v":0.22},null,null,null,"V/C",{"$f":"CLV_Limit_3*CC7","v":1750},null,null,null,"MAX"]
[]
[]
[null,null,null,null,null,null,null,"3 Phases"]
[]
[]
[]
[]
[]
[null,null,null,null,null,null,null,null,null,null,null,null,null,null,"Note: This diagram does not reflect the actual lane configuration of the Intersection"]

{"sheet":"QR N-W","index":26,"n_rows":74,"n_cols":116,"rows_kept":74,"cut":false,"hidden":false,"merged":[[70,13,70,17],[23,48,25,56],[23,57,25,57],[26,48,28,51],[26,52,28,52],[26,53,28,56],[26,57,28,57],[64,8,66,16],[64,17,66,17],[67,8,69,11],[67,12,69,12],[67,13,69,16],[67,17,69,17],[53,48,55,56],[53,57,55,57],[56,48,58,51],[56,52,58,52],[56,53,58,56],[56,57,58,57],[59,53,59,57],[29,53,29,57],[15,101,15,103],[15,104,15,106],[15,107,15,109],[15,110,15,112],[16,101,16,103],[16,104,16,106],[16,107,16,109],[16,110,16,112],[0,63,1,122],[2,63,3,122],[11,101,14,103],[11,104,14,106],[11,107,14,109],[11,110,14,112],[6,79,7,80],[6,65,8,78],[27,94,29,97],[27,98,29,98],[27,99,29,99],[27,100,29,100],[30,107,30,109],[30,110,30,112],[17,101,17,103],[17,104,17,106],[17,107,17,109],[17,110,17,112],[21,103,23,110],[24,94,26,97],[24,98,26,98],[24,99,26,99],[24,100,26,100],[24,103,26,110],[39,76,42,78],[39,101,42,103],[39,104,42,106],[43,73,43,75],[43,76,43,78],[43,101,43,103],[43,104,43,106],[31,107,31,109],[31,110,31,112],[32,107,32,109],[32,110,32,112],[33,107,36,109],[33,110,36,112],[39,73,42,75],[46,114,48,114],[46,115,48,115],[46,116,48,119],[46,66,48,69],[46,70,48,70],[46,71,48,71],[46,72,48,72],[46,85,48,85],[46,86,48,86],[52,114,54,114],[52,115,54,115],[52,116,54,119],[49,115,51,115],[49,116,51,119],[52,66,54,69],[52,70,54,70],[52,71,54,71],[52,72,54,72],[52,75,54,82],[52,94,54,97],[52,98,54,98],[52,99,54,99],[49,86,51,86],[49,87,51,87],[49,88,51,91],[49,103,51,110],[49,113,51,113],[49,114,51,114],[49,66,51,69],[49,70,51,70],[49,71,51,71],[49,72,51,72],[49,75,51,82],[61,101,64,103],[61,104,64,106],[61,107,64,109],[61,110,64,112],[58,101,58,103],[58,104,58,106],[58,107,58,109],[58,110,58,112],[59,101,59,103],[59,104,59,106],[59,107,59,109],[59,110,59,112],[60,107,60,109],[60,110,60,112],[73,14,73,48],[0,1,1,60],[2,1,3,60],[5,2,6,9],[5,10,6,35],[60,101,60,103],[60,104,60,106],[55,99,57,99],[55,100,57,100],[52,100,54,100],[7,2,8,9],[7,10,8,35],[9,2,10,9],[9,10,10,35],[11,2,12,9],[11,10,12,35],[5,36,6,59],[7,36,8,41],[7,42,8,47],[7,48,8,53],[7,54,8,59],[9,36,12,47],[9,48,12,59],[52,103,54,110],[55,114,57,114],[55,115,57,115],[55,116,57,119],[55,66,57,69],[55,70,57,70],[55,71,57,71],[55,72,57,72],[55,94,57,97],[55,98,57,98],[55,113,57,113],[52,113,54,113],[49,85,51,85],[46,87,48,87],[46,88,48,91],[46,113,48,113],[44,73,44,75],[44,76,44,78],[44,101,44,103],[44,104,44,106],[45,73,45,75],[45,76,45,78],[45,101,45,103],[45,104,45,106]]}
[null,"Quadrant Roadway Intersection (N-W)",null,null,null,null,null,null,null,null,null,null,null,null,null,null,null,null,null,null,null,null,null,null,null,null,null,null,null,null,null,null,null,null,null,null,null,null,null,null,null,null,null,null,null,null,null,null,null,null,null,null,null,null,null,null,null,null,null,null,null,null,null,"Quadrant Roadway Intersection (N-W)"]
[]
[null,"Design and Results",null,null,null,null,null,null,null,null,null,null,null,null,null,null,null,null,null,null,null,null,null,null,null,null,null,null,null,null,null,null,null,null,null,null,null,null,null,null,null,null,null,null,null,null,null,null,null,null,null,null,null,null,null,null,null,null,null,null,null,null,null,"Data Input and Configuration"]
[]
[]
[null,null,"Project Name:",null,null,null,null,null,null,null,{"$f":"P_Name","v":"Cap-X Sample Street"},null,null,null,null,null,null,null,null,null,null,null,null,null,null,null,null,null,null,null,null,null,null,null,null,null,"Volume-to-Capacity Ratio"]
[null,null,null,null,null,null,null,null,null,null,null,null,null,null,null,null,null,null,null,null,null,null,null,null,null,null,null,null,null,null,null,null,null,null,null,null,null,null,null,null,null,null,null,null,null,null,null,null,null,null,null,null,null,null,null,null,null,null,null,null,null,null,null,null,null,"Multimodal Capacity Adjustment Factor",null,null,null,null,null,null,null,null,null,null,null,null,null,{"$f":"IF(Multimodal=1,1,IF(MAX(CW53,DD59,DJ50,DA46)<3,1,IF(MAX(CW53,DD59,DJ50,DA46)<4,0.9,0.8)))","v":1}]
[null,null,"Project Number:",null,null,null,null,null,null,null,{"$f":"P_Number","v":10000},null,null,null,null,null,null,null,null,null,null,null,null,null,null,null,null,null,null,null,null,null,null,null,null,null,"< 0.750",null,null,null,null,null,"0.750 - 0.875",null,null,null,null,null,"0.875 - 1.00",null,null,null,null,null,"≥ 1.00"]
[]
[null,null,"Location",null,null,null,null,null,null,null,{"$f":"Location","v":"Anywhere, USA"},null,null,null,null,null,null,null,null,null,null,null,null,null,null,null,null,null,null,null,null,null,null,null,null,null,"VOLUME / CAPACITY RATIO:",null,null,null,null,null,null,null,null,null,null,null,{"$f":"MAX(AW27,AW57,I68)","v":0.24}]
[]
[null,null,"Date",null,null,null,null,null,null,null,{"$f":"Date","v":"2017 AM"}]
[]
[]
[]
[null,null,null,null,null,null,null,null,null,null,null,null,null,null,null,null,null,null,null,null,null,null,null,null,null,null,null,null,null,null,null,null,null,null,null,null,null,null,null,null,null,null,null,null,null,null,null,null,null,null,null,null,null,null,null,null,null,null,null,null,null,null,null,null,null,null,null,null,null,null,null,null,null,null,null,null,null,null,null,null,null,null,null,null,null,null,null,null,null,null,null,null,null,null,null,null,null,null,null,null,null,"pepch",null,null,"pepch",null,null,"pepch",null,null,"pepch"]
[null,null,null,null,null,null,null,null,null,null,null,null,null,null,null,null,null,null,null,null,null,null,null,null,null,null,null,null,null,null,null,null,null,null,null,null,null,null,null,null,null,null,null,null,null,null,null,null,null,null,null,null,null,null,null,null,null,null,null,null,null,null,null,null,null,null,null,null,null,null,null,null,null,null,null,null,null,null,null,null,null,null,null,null,null,null,null,null,null,null,null,null,null,null,null,null,null,null,null,null,null,{"$f":"SBR_Master","v":51},null,null,{"$f":"SBT_Master","v":204},null,null,{"$f":"SBL_Master","v":31},null,null,{"$f":"SBU_Master","v":0}]
[null,null,null,null,null,null,null,null,null,null,null,null,null,null,null,null,null,null,null,null,null,null,null,null,null,null,null,null,null,null,null,null,null,null,null,null,null,null,null,null,null,null,null,null,null,null,null,null,null,null,null,null,null,null,null,null,null,null,null,null,null,null,null,null,null,null,null,null,null,null,null,null,null,null,null,null,null,null,null,null,null,null,null,null,null,null,null,null,null,null,null,null,null,null,null,null,null,null,null,null,null,1,null,null,2]
[]
[]
[]
[]
[]
[null,null,null,null,null,null,null,null,null,null,null,null,null,null,null,null,null,null,null,null,null,null,null,null,null,null,null,null,null,null,null,null,null,null,null,null,null,null,null,null,null,null,null,null,null,null,null,null,{"$f":"CZ25","v":313.13157894736844},null,null,null,null,null,null,null,null,"CLV"]
[null,null,null,null,null,null,null,null,null,null,null,null,null,null,null,null,null,null,null,null,null,null,null,null,null,null,null,null,null,null,null,null,null,null,null,null,null,null,null,null,null,null,null,null,null,null,null,null,null,null,null,null,null,null,null,null,null,null,null,null,null,null,null,null,null,null,null,null,null,null,null,null,null,null,null,null,null,null,null,null,null,null,null,null,null,null,null,null,null,null,null,null,null,null,null,null,null,null,"pepch",{"$f":"BT50+DG17","v":31},1,null,null,{"$f":"MAX(CV25/LTAF/CW25, ROUND(MAX(0,CV28/RTAF/CW28-DD32/LTAF/DD31),0))+ MAX(DD32/LTAF/DD31 +MAX((DA17+DG17)/DA18,ROUND(MAX(0,BV45/RTAF/BV46-CV25/LTAF/CW25),0)),DG32/DG31)","v":313.13157894736844}]
[]
[null,null,null,null,null,null,null,null,null,null,null,null,null,null,null,null,null,null,null,null,null,null,null,null,null,null,null,null,null,null,null,null,null,null,null,null,null,null,null,null,null,null,null,null,null,null,null,null,{"$f":"ROUND(AW24/CLV_Limit_3,2)","v":0.18},null,null,null,"V/C",{"$f":"CLV_Limit_3*CB7","v":1750},null,null,null,"MAX"]
[null,null,null,null,null,null,null,null,null,null,null,null,null,null,null,null,null,null,null,null,null,null,null,null,null,null,null,null,null,null,null,null,null,null,null,null,null,null,null,null,null,null,null,null,null,null,null,null,null,null,null,null,null,null,null,null,null,null,null,null,null,null,null,null,null,null,null,null,null,null,null,null,null,null,null,null,null,null,null,null,null,null,null,null,null,null,null,null,null,null,null,null,null,null,null,null,null,null,"pepch",{"$f":"DK53+BT47","v":31},1]
[]
[null,null,null,null,null,null,null,null,null,null,null,null,null,null,null,null,null,null,null,null,null,null,null,null,null,null,null,null,null,null,null,null,null,null,null,null,null,null,null,null,null,null,null,null,null,null,null,null,null,null,null,null,null,"3 Phases"]
[null,null,null,null,null,null,null,null,null,null,null,null,null,null,null,null,null,null,null,null,null,null,null,null,null,null,null,null,null,null,null,null,null,null,null,null,null,null,null,null,null,null,null,null,null,null,null,null,null,null,null,null,null,null,null,null,null,null,null,null,null,null,null,null,null,null,null,null,null,null,null,null,null,null,null,null,null,null,null,null,null,null,null,null,null,null,null,null,null,null,null,null,null,null,null,null,null,null,null,null,null,null,null,null,null,null,null,1,null,null,2]
[null,null,null,null,null,null,null,null,null,null,null,null,null,null,null,null,null,null,null,null,null,null,null,null,null,null,null,null,null,null,null,null,null,null,null,null,null,null,null,null,null,null,null,null,null,null,null,null,null,null,null,null,null,null,null,null,null,null,null,null,null,null,null,null,null,null,null,null,null,null,null,null,null,null,null,null,null,null,null,null,null,null,null,null,null,null,null,null,null,null,null,null,null,null,null,null,null,null,null,null,null,null,null,null,null,null,null,{"$f":"DK56+DA60+CX60","v":102},null,null,{"$f":"DK47+DD60","v":561}]
[null,null,null,null,null,null,null,null,null,null,null,null,null,null,null,null,null,null,null,null,null,null,null,null,null,null,null,null,null,null,null,null,null,null,null,null,null,null,null,null,null,null,null,null,null,null,null,null,null,null,null,null,null,null,null,null,null,null,null,null,null,null,null,null,null,null,null,null,null,null,null,null,null,null,null,null,null,null,null,null,null,null,null,null,null,null,null,null,null,null,null,null,null,null,null,null,null,null,null,null,null,null,null,null,null,null,null,"pepch",null,null,"pepch"]
[]
[]
[]
[]
[]
[]
[]
[]
[]
[]
[null,null,null,null,null,null,null,null,null,null,null,null,null,null,null,null,null,null,null,null,null,null,null,null,null,null,null,null,null,null,null,null,null,null,null,null,null,null,null,null,null,null,null,null,null,null,null,null,null,null,null,null,null,null,null,null,null,null,null,null,null,null,null,null,null,null,null,null,null,null,null,null,null,"pepch",null,null,"pepch",null,null,null,null,null,null,null,null,null,null,null,null,null,null,null,null,null,null,null,null,null,null,null,null,"pepch",null,null,"pepch"]
[null,null,null,null,null,null,null,null,null,null,null,null,null,null,null,null,null,null,null,null,null,null,null,null,null,null,null,null,null,null,null,null,null,null,null,null,null,null,null,null,null,null,null,null,null,null,null,null,null,null,null,null,null,null,null,null,null,null,null,null,null,null,null,null,null,null,null,null,null,null,null,null,null,{"$f":"CX17+DA60","v":153},null,null,{"$f":"DK56+DD17+CX60","v":31},null,null,null,null,null,null,null,null,null,null,null,null,null,null,null,null,null,null,null,null,null,null,null,null,{"$f":"BT47+DG17","v":0},null,null,{"$f":"CV28+DA17","v":235}]
[null,null,null,null,null,null,null,null,null,null,null,null,null,null,null,null,null,null,null,null,null,null,null,null,null,null,null,null,null,null,null,null,null,null,null,null,null,null,null,null,null,null,null,null,null,null,null,null,null,null,null,null,null,null,null,null,null,null,null,null,null,null,null,null,null,null,null,null,null,null,null,null,null,1,null,null,1,null,null,null,null,null,null,null,null,null,null,null,null,null,null,null,null,null,null,null,null,null,null,null,null,1,null,null,2]
[null,null,null,null,null,null,null,null,null,null,null,null,null,null,null,null,null,null,null,null,null,null,null,null,null,null,null,null,null,null,null,null,null,null,null,null,null,null,null,null,null,null,null,null,null,null,null,null,null,null,null,null,null,null,null,null,null,null,null,null,null,null,null,null,null,null,null,null,null,null,"pepch",{"$f":"EBU_Master","v":0},null,null,null,null,null,null,null,null,null,null,null,null,null,1,{"$f":"DK47+DG17","v":51},"pepch",null,null,null,null,null,null,null,null,null,null,null,null,null,null,null,null,null,null,null,null,null,null,null,null,null,1,{"$f":"WBR_Master","v":51},"pepch"]
[]
[]
[null,null,null,null,null,null,null,null,null,null,null,null,null,null,null,null,null,null,null,null,null,null,null,null,null,null,null,null,null,null,null,null,null,null,null,null,null,null,null,null,null,null,null,null,null,null,null,null,null,null,null,null,null,null,null,null,null,null,null,null,null,null,null,null,null,null,null,null,null,null,"pepch",{"$f":"EBL_Master","v":31},1,null,null,null,null,null,null,null,null,null,null,null,null,2,{"$f":"DK50+BT47","v":204},"pepch",null,null,null,null,null,null,null,null,null,null,null,null,null,null,null,null,null,null,null,null,null,null,null,null,null,2,{"$f":"WBT_Master","v":204},"pepch"]
[]
[]
[null,null,null,null,null,null,null,null,null,null,null,null,null,null,null,null,null,null,null,null,null,null,null,null,null,null,null,null,null,null,null,null,null,null,null,null,null,null,null,null,null,null,null,null,null,null,null,null,null,null,null,null,null,null,null,null,null,null,null,null,null,null,null,null,null,null,null,null,null,null,"pepch",{"$f":"EBT_Master","v":204},2,null,null,{"$f":"MAX(BY45/LTAF/BY46, ROUND(MAX(0,BV45/RTAF/BV46-(BT50+BT47)/LTAF/BU50),0))+ MAX((BT50+BT47)/LTAF/BU50 +MAX(CI50/CH50, ROUND(MAX(0,CI47/RTAF/CH47-BY45/LTAF/BY46),0)),(BT53+BT56)/BU53 )","v":281.63157894736844},null,null,null,null,null,null,null,null,null,null,null,null,null,null,null,null,null,null,null,null,null,null,"pepch",{"$f":"BT53+DK56","v":204},2,null,null,{"$f":"MAX((DD60+CX60+DA60)/DD59, DG60/RTAF/DG59, DA45/DA46,CX45/RTAF/CX46) +MAX(CV53/CW53, CV56/RTAF/CW56, (DK50+DK53)/DJ50,DK47/RTAF/DJ47)","v":423.5},null,null,null,null,null,null,null,null,null,null,{"$f":"WBL_Master","v":31},"pepch"]
[null,null,null,null,null,null,null,null,null,null,null,null,null,null,null,null,null,null,null,null,null,null,null,null,null,null,null,null,null,null,null,null,null,null,null,null,null,null,null,null,null,null,null,null,null,null,null,null,{"$f":"CZ53","v":423.5},null,null,null,null,null,null,null,null,"CLV"]
[]
[null,null,null,null,null,null,null,null,null,null,null,null,null,null,null,null,null,null,null,null,null,null,null,null,null,null,null,null,null,null,null,null,null,null,null,null,null,null,null,null,null,null,null,null,null,null,null,null,null,null,null,null,null,null,null,null,null,null,null,null,null,null,null,null,null,null,null,null,null,null,"pepch",{"$f":"EBR_Master","v":51},null,null,null,null,null,null,null,null,null,null,null,null,null,null,null,null,null,null,null,null,null,null,null,null,null,null,"pepch",{"$f":"BT56+CX60","v":51},1,null,null,null,null,null,null,null,null,null,null,null,null,null,{"$f":"WBU_Master","v":0},"pepch"]
[null,null,null,null,null,null,null,null,null,null,null,null,null,null,null,null,null,null,null,null,null,null,null,null,null,null,null,null,null,null,null,null,null,null,null,null,null,null,null,null,null,null,null,null,null,null,null,null,{"$f":"ROUND(AW54/CLV_Limit_2,2)","v":0.24},null,null,null,"V/C",{"$f":"CLV_Limit_2*CB7","v":1800},null,null,null,"MAX"]
[]
[null,null,null,null,null,null,null,null,null,null,null,null,null,null,null,null,null,null,null,null,null,null,null,null,null,null,null,null,null,null,null,null,null,null,null,null,null,null,null,null,null,null,null,null,null,null,null,null,null,null,null,null,null,null,null,null,null,null,null,null,null,null,null,null,null,null,null,null,null,null,null,null,null,null,null,null,null,null,null,null,null,null,null,null,null,null,null,null,null,null,null,null,null,null,null,null,null,null,null,null,null,null,null,null,null,null,null,2,null,null,1]
[null,null,null,null,null,null,null,null,null,null,null,null,null,null,null,null,null,null,null,null,null,null,null,null,null,null,null,null,null,null,null,null,null,null,null,null,null,null,null,null,null,null,null,null,null,null,null,null,null,null,null,null,null,"2 Phases",null,null,null,null,null,null,null,null,null,null,null,null,null,null,null,null,null,null,null,null,null,null,null,null,null,null,null,null,null,null,null,null,null,null,null,null,null,null,null,null,null,null,null,null,null,null,null,{"$f":"NBU_Master","v":0},null,null,{"$f":"NBL_Master","v":102},null,null,{"$f":"NBT_Master","v":510},null,null,{"$f":"NBR_Master","v":204}]
[null,null,null,null,null,null,null,null,null,null,null,null,null,null,null,null,null,null,null,null,null,null,null,null,null,null,null,null,null,null,null,null,null,null,null,null,null,null,null,null,null,null,null,null,null,null,null,null,null,null,null,null,null,null,null,null,null,null,null,null,null,null,null,null,null,null,null,null,null,null,null,null,null,null,null,null,null,null,null,null,null,null,null,null,null,null,null,null,null,null,null,null,null,null,null,null,null,null,null,null,null,"pepch",null,null,"pepch",null,null,"pepch",null,null,"pepch"]
[]
[]
[]
[null,null,null,null,null,null,null,null,{"$f":"BX53","v":281.63157894736844},null,null,null,null,null,null,null,null,"CLV"]
[]
[]
[null,null,null,null,null,null,null,null,{"$f":"ROUND(I65/CLV_Limit_3,2)","v":0.16},null,null,null,"V/C",{"$f":"CLV_Limit_3*CB7","v":1750},null,null,null,"MAX"]
[]
[]
[null,null,null,null,null,null,null,null,null,null,null,null,null,"3 Phases"]
[]
[]
[null,null,null,null,null,null,null,null,null,null,null,null,null,null,"Note: This diagram does not reflect the actual lane configuration of the Intersection"]

{"sheet":"P DLT N-S","index":27,"n_rows":74,"n_cols":126,"rows_kept":74,"cut":false,"hidden":false,"merged":[[30,49,30,53],[62,49,62,53],[24,13,24,17],[60,87,60,89],[60,90,60,92],[60,93,60,95],[60,96,60,98],[61,87,64,89],[61,90,64,92],[61,93,64,95],[61,96,64,98],[58,87,58,89],[58,90,58,92],[58,93,58,95],[58,96,58,98],[59,87,59,89],[59,90,59,92],[59,93,59,95],[59,96,59,98],[38,80,40,83],[38,84,40,84],[38,85,40,85],[38,86,40,86],[38,89,40,96],[41,101,43,101],[41,102,43,105],[49,84,52,86],[50,89,52,96],[53,84,53,86],[53,89,55,96],[54,84,54,86],[55,84,55,86],[41,80,43,83],[41,84,43,84],[41,85,43,85],[41,86,43,86],[41,99,43,99],[41,100,43,100],[38,99,40,99],[38,100,40,100],[38,101,40,101],[38,102,40,105],[32,101,34,101],[32,102,34,105],[35,80,37,83],[35,84,37,84],[35,85,37,85],[35,86,37,86],[35,89,37,96],[35,99,37,99],[35,100,37,100],[35,101,37,101],[32,80,34,83],[32,84,34,84],[32,85,34,85],[32,86,34,86],[32,99,34,99],[32,100,34,100],[35,102,37,105],[17,87,17,89],[17,90,17,92],[17,93,17,95],[17,96,17,98],[19,99,19,101],[20,89,22,96],[20,99,20,101],[21,99,21,101],[22,99,25,101],[23,89,25,96],[15,87,15,89],[15,90,15,92],[15,93,15,95],[15,96,15,98],[16,87,16,89],[16,90,16,92],[16,93,16,95],[16,96,16,98],[0,63,1,122],[2,63,3,122],[11,87,14,89],[11,90,14,92],[11,93,14,95],[11,96,14,98],[27,53,29,53],[0,1,1,60],[2,1,3,60],[5,2,6,9],[5,10,6,35],[7,2,8,9],[7,10,8,35],[9,2,10,9],[9,10,10,35],[11,2,12,9],[11,10,12,35],[5,36,6,59],[7,54,8,59],[0,125,1,150],[18,8,20,16],[18,17,20,17],[21,8,23,11],[21,12,23,12],[21,13,23,16],[21,17,23,17],[24,44,26,52],[73,14,73,47],[7,36,8,41],[7,42,8,47],[7,48,8,53],[9,36,12,47],[9,48,12,59],[56,44,58,52],[56,53,58,53],[59,44,61,47],[59,48,61,48],[59,49,61,52],[59,53,61,53],[24,53,26,53],[27,44,29,47],[27,48,29,48],[27,49,29,52]]}
[null,"Partial Displaced Left Turn (N-S)",null,null,null,null,null,null,null,null,null,null,null,null,null,null,null,null,null,null,null,null,null,null,null,null,null,null,null,null,null,null,null,null,null,null,null,null,null,null,null,null,null,null,null,null,null,null,null,null,null,null,null,null,null,null,null,null,null,null,null,null,null,"Partial Displaced Left Turn (N-S)",null,null,null,null,null,null,null,null,null,null,null,null,null,null,null,null,null,null,null,null,null,null,null,null,null,null,null,null,null,null,null,null,null,null,null,null,null,null,null,null,null,null,null,null,null,null,null,null,null,null,null,null,null,null,null,null,null,null,null,null,null,"Assumptions"]
[]
[null,"Design and Results",null,null,null,null,null,null,null,null,null,null,null,null,null,null,null,null,null,null,null,null,null,null,null,null,null,null,null,null,null,null,null,null,null,null,null,null,null,null,null,null,null,null,null,null,null,null,null,null,null,null,null,null,null,null,null,null,null,null,null,null,null,"Data Input and Configuration"]
[]
[]
[null,null,"Project Name:",null,null,null,null,null,null,null,{"$f":"P_Name","v":"Cap-X Sample Street"},null,null,null,null,null,null,null,null,null,null,null,null,null,null,null,null,null,null,null,null,null,null,null,null,null,"Volume-to-Capacity Ratio"]
[]
[null,null,"Project Number:",null,null,null,null,null,null,null,{"$f":"P_Number","v":10000},null,null,null,null,null,null,null,null,null,null,null,null,null,null,null,null,null,null,null,null,null,null,null,null,null,"< 0.750",null,null,null,null,null,"0.750 - 0.875",null,null,null,null,null,"0.875 - 1.00",null,null,null,null,null,"≥ 1.00"]
[]
[null,null,"Location",null,null,null,null,null,null,null,{"$f":"Location","v":"Anywhere, USA"},null,null,null,null,null,null,null,null,null,null,null,null,null,null,null,null,null,null,null,null,null,null,null,null,null,"VOLUME / CAPACITY RATIO:",null,null,null,null,null,null,null,null,null,null,null,{"$f":"MAX(I22,AS28,AS60)","v":0.37}]
[]
[null,null,"Date",null,null,null,null,null,null,null,{"$f":"Date","v":"2017 AM"}]
[]
[]
[]
[null,null,null,null,null,null,null,null,null,null,null,null,null,null,null,null,null,null,null,null,null,null,null,null,null,null,null,null,null,null,null,null,null,null,null,null,null,null,null,null,null,null,null,null,null,null,null,null,null,null,null,null,null,null,null,null,null,null,null,null,null,null,null,null,null,null,null,null,null,null,null,null,null,null,null,null,null,null,null,null,null,null,null,null,null,null,null,"pepch",null,null,"pepch",null,null,"pepch",null,null,"pepch"]
[null,null,null,null,null,null,null,null,null,null,null,null,null,null,null,null,null,null,null,null,null,null,null,null,null,null,null,null,null,null,null,null,null,null,null,null,null,null,null,null,null,null,null,null,null,null,null,null,null,null,null,null,null,null,null,null,null,null,null,null,null,null,null,null,null,null,null,null,null,null,null,null,null,null,null,null,null,null,null,null,null,null,null,null,null,null,null,{"$f":"IF('3 - Alt Num Lanes Input'!AO50>0,SBR_Master,0)","v":51},null,null,{"$f":"SBT_Master+IF('3 - Alt Num Lanes Input'!AO50=0,SBR_Master,0)","v":204},null,null,{"$f":"SBL_Master","v":31},null,null,{"$f":"SBU_Master","v":0}]
[null,null,null,null,null,null,null,null,null,null,null,null,null,null,null,null,null,null,null,null,null,null,null,null,null,null,null,null,null,null,null,null,null,null,null,null,null,null,null,null,null,null,null,null,null,null,null,null,null,null,null,null,null,null,null,null,null,null,null,null,null,null,null,null,null,null,null,null,null,null,null,null,null,null,null,null,null,null,null,null,null,null,null,null,null,null,null,{"$f":"IF('3 - Alt Num Lanes Input'!AO50=0,1,'3 - Alt Num Lanes Input'!AO50)","v":1},null,null,{"$f":"'3 - Alt Num Lanes Input'!AM50","v":1},null,null,{"$f":"'3 - Alt Num Lanes Input'!AK50","v":1}]
[null,null,null,null,null,null,null,null,{"$f":"CL24","v":573.63157894736844},null,null,null,null,null,null,null,null,"CLV"]
[null,null,null,null,null,null,null,null,null,null,null,null,null,null,null,null,null,null,null,null,null,null,null,null,null,null,null,null,null,null,null,null,null,null,null,null,null,null,null,null,null,null,null,null,null,null,null,null,null,null,null,null,null,null,null,null,null,null,null,null,null,null,null,null,null,null,null,null,null,null,null,null,null,null,null,null,null,null,null,null,null,null,null,null,null,null,null,null,null,null,null,null,null,null,null,null,null,null,null,{"$f":"'3 - Alt Num Lanes Input'!AE50","v":1}]
[null,null,null,null,null,null,null,null,null,null,null,null,null,null,null,null,null,null,null,null,null,null,null,null,null,null,null,null,null,null,null,null,null,null,null,null,null,null,null,null,null,null,null,null,null,null,null,null,null,null,null,null,null,null,null,null,null,null,null,null,null,null,null,null,null,null,null,null,null,null,null,null,null,null,null,null,null,null,null,null,null,null,null,null,null,null,null,null,null,null,null,null,null,null,null,null,null,null,null,{"$f":"NBT_Master+EBL_Master","v":541}]
[null,null,null,null,null,null,null,null,{"$f":"ROUND(I19/CLV_Limit_2,2)","v":0.32},null,null,null,"V/C",{"$f":"CLV_Limit_2","v":1800},null,null,null,"MAX",null,null,null,null,null,null,null,null,null,null,null,null,null,null,null,null,null,null,null,null,null,null,null,null,null,null,null,null,null,null,null,null,null,null,null,null,null,null,null,null,null,null,null,null,null,null,null,null,null,null,null,null,null,null,null,null,null,null,null,null,null,null,null,null,null,null,null,null,null,null,null,null,null,null,null,null,null,null,null,null,null,"pepch"]
[]
[null,null,null,null,null,null,null,null,null,null,null,null,null,null,null,null,null,null,null,null,null,null,null,null,null,null,null,null,null,null,null,null,null,null,null,null,null,null,null,null,null,null,null,null,null,null,null,null,null,null,null,null,null,null,null,null,null,null,null,null,null,null,null,null,null,null,null,null,null,null,null,null,null,null,null,null,null,null,null,null,null,null,null,null,null,null,null,null,null,{"$f":"CP17/LTAF/CP18 + CV21/CV20","v":573.63157894736844}]
[null,null,null,null,null,null,null,null,null,null,null,null,null,"2 Phases",null,null,null,null,null,null,null,null,null,null,null,null,null,null,null,null,null,null,null,null,null,null,null,null,null,null,null,null,null,null,{"$f":"CL39","v":644.63157894736844},null,null,null,null,null,null,null,null,"CLV"]
[]
[]
[null,null,null,null,null,null,null,null,null,null,null,null,null,null,null,null,null,null,null,null,null,null,null,null,null,null,null,null,null,null,null,null,null,null,null,null,null,null,null,null,null,null,null,null,{"$f":"ROUND(AS25/CLV_Limit_3,2)","v":0.37},null,null,null,"V/C",{"$f":"CLV_Limit_3","v":1750},null,null,null,"MAX"]
[]
[]
[null,null,null,null,null,null,null,null,null,null,null,null,null,null,null,null,null,null,null,null,null,null,null,null,null,null,null,null,null,null,null,null,null,null,null,null,null,null,null,null,null,null,null,null,null,null,null,null,null,"3 Phases"]
[]
[null,null,null,null,null,null,null,null,null,null,null,null,null,null,null,null,null,null,null,null,null,null,null,null,null,null,null,null,null,null,null,null,null,null,null,null,null,null,null,null,null,null,null,null,null,null,null,null,null,null,null,null,null,null,null,null,null,null,null,null,null,null,null,null,null,null,null,null,null,null,null,null,null,null,null,null,null,null,null,null,null,null,null,null,"pepch",{"$f":"EBU_Master","v":0},null,null,null,null,null,null,null,null,null,null,null,null,null,{"$f":"'3 - Alt Num Lanes Input'!BE50","v":1},{"$f":"WBR_Master","v":51},"pepch"]
[]
[]
[null,null,null,null,null,null,null,null,null,null,null,null,null,null,null,null,null,null,null,null,null,null,null,null,null,null,null,null,null,null,null,null,null,null,null,null,null,null,null,null,null,null,null,null,null,null,null,null,null,null,null,null,null,null,null,null,null,null,null,null,null,null,null,null,null,null,null,null,null,null,null,null,null,null,null,null,null,null,null,null,null,null,null,null,"pepch",{"$f":"EBL_Master","v":31},{"$f":"'3 - Alt Num Lanes Input'!AS50","v":1},null,null,null,null,null,null,null,null,null,null,null,null,{"$f":"'3 - Alt Num Lanes Input'!BC50","v":2},{"$f":"WBT_Master","v":204},"pepch"]
[]
[]
[null,null,null,null,null,null,null,null,null,null,null,null,null,null,null,null,null,null,null,null,null,null,null,null,null,null,null,null,null,null,null,null,null,null,null,null,null,null,null,null,null,null,null,null,null,null,null,null,null,null,null,null,null,null,null,null,null,null,null,null,null,null,null,null,null,null,null,null,null,null,null,null,null,null,null,null,null,null,null,null,null,null,null,null,"pepch",{"$f":"EBT_Master","v":204},{"$f":"'3 - Alt Num Lanes Input'!AU50","v":2},null,null,{"$f":" MAX(CM60/LTAF/CM59,CP60/CP59, ROUND(MAX(0,CS60/RTAF/CS59-CH36/LTAF/CI36),0), CP17/LTAF/CP18, CM17/CM18, ROUND(MAX(0,CJ17/RTAF/CJ18-CH36/LTAF/CI36),0))+MAX(CH36/LTAF/CI36 + MAX(CW36/CV36, ROUND(MAX(0,CW33/RTAF/CV33-CP17/LTAF/CP18),0)), CW39/LTAF/CV39 +MAX( CH39/CI39, ROUND(MAX(0,CH42/RTAF/CI42-CM60/LTAF/CM59),0)))","v":644.63157894736844},null,null,null,null,null,null,null,null,null,{"$f":"'3 - Alt Num Lanes Input'!BA50","v":1},{"$f":"WBL_Master","v":31},"pepch"]
[]
[]
[null,null,null,null,null,null,null,null,null,null,null,null,null,null,null,null,null,null,null,null,null,null,null,null,null,null,null,null,null,null,null,null,null,null,null,null,null,null,null,null,null,null,null,null,null,null,null,null,null,null,null,null,null,null,null,null,null,null,null,null,null,null,null,null,null,null,null,null,null,null,null,null,null,null,null,null,null,null,null,null,null,null,null,null,"pepch",{"$f":"EBR_Master","v":51},{"$f":"'3 - Alt Num Lanes Input'!AW50","v":1},null,null,null,null,null,null,null,null,null,null,null,null,null,{"$f":"WBU_Master","v":0},"pepch"]
[]
[]
[]
[]
[]
[]
[]
[]
[]
[]
[]
[null,null,null,null,null,null,null,null,null,null,null,null,null,null,null,null,null,null,null,null,null,null,null,null,null,null,null,null,null,null,null,null,null,null,null,null,null,null,null,null,null,null,null,null,null,null,null,null,null,null,null,null,null,null,null,null,null,null,null,null,null,null,null,null,null,null,null,null,null,null,null,null,null,null,null,null,null,null,null,null,null,null,null,null,"pepch",null,null,null,null,{"$f":"CM60/LTAF/CM59 + CG55/CG56","v":342.36842105263156}]
[null,null,null,null,null,null,null,null,null,null,null,null,null,null,null,null,null,null,null,null,null,null,null,null,null,null,null,null,null,null,null,null,null,null,null,null,null,null,null,null,null,null,null,null,null,null,null,null,null,null,null,null,null,null,null,null,null,null,null,null,null,null,null,null,null,null,null,null,null,null,null,null,null,null,null,null,null,null,null,null,null,null,null,null,{"$f":"SBT_Master+WBL_Master","v":235}]
[null,null,null,null,null,null,null,null,null,null,null,null,null,null,null,null,null,null,null,null,null,null,null,null,null,null,null,null,null,null,null,null,null,null,null,null,null,null,null,null,null,null,null,null,null,null,null,null,null,null,null,null,null,null,null,null,null,null,null,null,null,null,null,null,null,null,null,null,null,null,null,null,null,null,null,null,null,null,null,null,null,null,null,null,{"$f":"'3 - Alt Num Lanes Input'!AM50","v":1}]
[null,null,null,null,null,null,null,null,null,null,null,null,null,null,null,null,null,null,null,null,null,null,null,null,null,null,null,null,null,null,null,null,null,null,null,null,null,null,null,null,null,null,null,null,{"$f":"CL54","v":342.36842105263156},null,null,null,null,null,null,null,null,"CLV"]
[]
[null,null,null,null,null,null,null,null,null,null,null,null,null,null,null,null,null,null,null,null,null,null,null,null,null,null,null,null,null,null,null,null,null,null,null,null,null,null,null,null,null,null,null,null,null,null,null,null,null,null,null,null,null,null,null,null,null,null,null,null,null,null,null,null,null,null,null,null,null,null,null,null,null,null,null,null,null,null,null,null,null,null,null,null,null,null,null,null,null,null,{"$f":"'3 - Alt Num Lanes Input'!AC50","v":1},null,null,{"$f":"'3 - Alt Num Lanes Input'!AE50","v":1},null,null,{"$f":"IF('3 - Alt Num Lanes Input'!AG50=0,1,'3 - Alt Num Lanes Input'!AG50)","v":1}]
[null,null,null,null,null,null,null,null,null,null,null,null,null,null,null,null,null,null,null,null,null,null,null,null,null,null,null,null,null,null,null,null,null,null,null,null,null,null,null,null,null,null,null,null,{"$f":"ROUND(AS57/CLV_Limit_2,2)","v":0.19},null,null,null,"V/C",{"$f":"CLV_Limit_2","v":1800},null,null,null,"MAX",null,null,null,null,null,null,null,null,null,null,null,null,null,null,null,null,null,null,null,null,null,null,null,null,null,null,null,null,null,null,null,null,null,{"$f":"NBU_Master","v":0},null,null,{"$f":"NBL_Master","v":102},null,null,{"$f":"NBT_Master+IF('3 - Alt Num Lanes Input'!AG50=0,NBR_Master,0)","v":510},null,null,{"$f":"IF('3 - Alt Num Lanes Input'!AG50>0,NBR_Master,0)","v":204}]
[null,null,null,null,null,null,null,null,null,null,null,null,null,null,null,null,null,null,null,null,null,null,null,null,null,null,null,null,null,null,null,null,null,null,null,null,null,null,null,null,null,null,null,null,null,null,null,null,null,null,null,null,null,null,null,null,null,null,null,null,null,null,null,null,null,null,null,null,null,null,null,null,null,null,null,null,null,null,null,null,null,null,null,null,null,null,null,"pepch",null,null,"pepch",null,null,"pepch",null,null,"pepch"]
[]
[null,null,null,null,null,null,null,null,null,null,null,null,null,null,null,null,null,null,null,null,null,null,null,null,null,null,null,null,null,null,null,null,null,null,null,null,null,null,null,null,null,null,null,null,null,null,null,null,null,"2 Phases"]
[]
[]
[]
[]
[]
[]
[]
[]
[]
[]
[null,null,null,null,null,null,null,null,null,null,null,null,null,null,"Note: This diagram does not reflect the actual lane configuration of the Intersection"]

{"sheet":"P DLT E-W","index":28,"n_rows":74,"n_cols":125,"rows_kept":74,"cut":false,"hidden":false,"merged":[[63,51,63,55],[33,11,33,15],[32,47,32,51],[57,46,59,54],[57,55,59,55],[60,46,62,49],[60,50,62,50],[60,51,62,54],[60,55,62,55],[30,6,32,9],[30,10,32,10],[30,11,32,14],[30,15,32,15],[26,42,28,50],[26,51,28,51],[29,42,31,45],[29,46,31,46],[29,47,31,50],[29,51,31,51],[45,87,48,89],[45,90,48,92],[45,93,48,95],[45,96,48,98],[43,87,43,89],[43,90,43,92],[43,93,43,95],[43,96,43,98],[44,87,44,89],[44,90,44,92],[44,93,44,95],[44,96,44,98],[39,118,41,118],[39,119,41,122],[42,87,42,89],[42,90,42,92],[42,93,42,95],[42,96,42,98],[42,107,44,110],[42,111,44,111],[42,112,44,112],[42,113,44,113],[39,67,41,67],[39,68,41,68],[39,69,41,69],[39,116,41,116],[39,117,41,117],[36,89,38,96],[36,106,38,113],[36,116,38,116],[36,117,38,117],[73,14,73,47],[29,93,29,95],[29,96,29,98],[30,63,32,66],[30,67,32,67],[30,68,32,68],[30,69,32,69],[27,71,29,71],[27,72,29,72],[27,73,29,73],[27,74,29,77],[27,87,27,89],[27,90,27,92],[29,87,29,89],[29,90,29,92],[33,63,35,66],[33,67,35,67],[33,68,35,68],[33,69,35,69],[33,72,35,79],[33,89,35,96],[39,63,41,66],[36,63,38,66],[36,67,38,67],[23,87,26,89],[23,90,26,92],[23,93,26,95],[23,96,26,98],[27,93,27,95],[27,96,27,98],[28,87,28,89],[28,90,28,92],[28,93,28,95],[28,96,28,98],[30,116,32,116],[30,117,32,117],[30,118,32,118],[30,119,32,122],[36,118,38,118],[7,2,8,9],[7,10,8,35],[9,2,10,9],[9,10,10,35],[11,2,12,9],[11,10,12,35],[9,36,12,47],[9,48,12,59],[36,119,38,122],[33,106,35,113],[33,116,35,116],[33,117,35,117],[33,118,35,118],[33,119,35,122],[36,68,38,68],[36,69,38,69],[36,72,38,79],[27,6,29,14],[27,15,29,15],[0,124,1,149],[0,1,1,60],[2,1,3,60],[5,2,6,9],[5,10,6,35],[5,36,6,59],[7,36,8,41],[7,42,8,47],[7,48,8,53],[7,54,8,59],[0,63,1,122],[2,63,3,122]]}
[null,"Partial Displaced Left Turn (E-W)",null,null,null,null,null,null,null,null,null,null,null,null,null,null,null,null,null,null,null,null,null,null,null,null,null,null,null,null,null,null,null,null,null,null,null,null,null,null,null,null,null,null,null,null,null,null,null,null,null,null,null,null,null,null,null,null,null,null,null,null,null,"Partial Displaced Left Turn (E-W)",null,null,null,null,null,null,null,null,null,null,null,null,null,null,null,null,null,null,null,null,null,null,null,null,null,null,null,null,null,null,null,null,null,null,null,null,null,null,null,null,null,null,null,null,null,null,null,null,null,null,null,null,null,null,null,null,null,null,null,null,"Assumptions"]
[]
[null,"Design and Results",null,null,null,null,null,null,null,null,null,null,null,null,null,null,null,null,null,null,null,null,null,null,null,null,null,null,null,null,null,null,null,null,null,null,null,null,null,null,null,null,null,null,null,null,null,null,null,null,null,null,null,null,null,null,null,null,null,null,null,null,null,"Data Input and Configuration"]
[]
[]
[null,null,"Project Name:",null,null,null,null,null,null,null,{"$f":"P_Name","v":"Cap-X Sample Street"},null,null,null,null,null,null,null,null,null,null,null,null,null,null,null,null,null,null,null,null,null,null,null,null,null,"Volume-to-Capacity Ratio"]
[]
[null,null,"Project Number:",null,null,null,null,null,null,null,{"$f":"P_Number","v":10000},null,null,null,null,null,null,null,null,null,null,null,null,null,null,null,null,null,null,null,null,null,null,null,null,null,"< 0.750",null,null,null,null,null,"0.750 - 0.875",null,null,null,null,null,"0.875 - 1.00",null,null,null,null,null,"≥ 1.00"]
[]
[null,null,"Location",null,null,null,null,null,null,null,{"$f":"Location","v":"Anywhere, USA"},null,null,null,null,null,null,null,null,null,null,null,null,null,null,null,null,null,null,null,null,null,null,null,null,null,"VOLUME / CAPACITY RATIO:",null,null,null,null,null,null,null,null,null,null,null,{"$f":"MAX(G31,AQ30,AU61)","v":0.28000000000000003}]
[]
[null,null,"Date",null,null,null,null,null,null,null,{"$f":"Date","v":"2017 AM"}]
[]
[]
[]
[]
[]
[]
[]
[]
[]
[]
[]
[]
[]
[]
[null,null,null,null,null,null,null,null,null,null,null,null,null,null,null,null,null,null,null,null,null,null,null,null,null,null,null,null,null,null,null,null,null,null,null,null,null,null,null,null,null,null,{"$f":"CL37","v":491.63157894736844},null,null,null,null,null,null,null,null,"CLV"]
[null,null,null,null,null,null,{"$f":"BU37","v":338.63157894736844},null,null,null,null,null,null,null,null,"CLV",null,null,null,null,null,null,null,null,null,null,null,null,null,null,null,null,null,null,null,null,null,null,null,null,null,null,null,null,null,null,null,null,null,null,null,null,null,null,null,null,null,null,null,null,null,null,null,null,null,null,null,null,null,null,null,{"$f":"'3 - Alt Num Lanes Input'!BC52","v":1},{"$f":"WBT_Master+NBL_Master","v":306},"pepch",null,null,null,null,null,null,null,null,null,null,null,null,null,"pepch",null,null,"pepch",null,null,"pepch",null,null,"pepch"]
[null,null,null,null,null,null,null,null,null,null,null,null,null,null,null,null,null,null,null,null,null,null,null,null,null,null,null,null,null,null,null,null,null,null,null,null,null,null,null,null,null,null,null,null,null,null,null,null,null,null,null,null,null,null,null,null,null,null,null,null,null,null,null,null,null,null,null,null,null,null,null,null,null,null,null,null,null,null,null,null,null,null,null,null,null,null,null,{"$f":"SBR_Master","v":51},null,null,{"$f":"SBT_Master","v":204},null,null,{"$f":"SBL_Master","v":31},null,null,{"$f":"SBU_Master","v":0}]
[null,null,null,null,null,null,null,null,null,null,null,null,null,null,null,null,null,null,null,null,null,null,null,null,null,null,null,null,null,null,null,null,null,null,null,null,null,null,null,null,null,null,{"$f":"ROUND(AQ27/CLV_Limit_3,2)","v":0.28000000000000003},null,null,null,"V/C",{"$f":"CLV_Limit_3","v":1750},null,null,null,"MAX",null,null,null,null,null,null,null,null,null,null,null,null,null,null,null,null,null,null,null,null,null,null,null,null,null,null,null,null,null,null,null,null,null,null,null,{"$f":"'3 - Alt Num Lanes Input'!AO52","v":1},null,null,{"$f":"'3 - Alt Num Lanes Input'!AM52","v":2},null,null,{"$f":"'3 - Alt Num Lanes Input'!AK52","v":1}]
[null,null,null,null,null,null,{"$f":"ROUND(G28/CLV_Limit_2,2)","v":0.19},null,null,null,"V/C",{"$f":"CLV_Limit_2","v":1800},null,null,null,"MAX",null,null,null,null,null,null,null,null,null,null,null,null,null,null,null,null,null,null,null,null,null,null,null,null,null,null,null,null,null,null,null,null,null,null,null,null,null,null,null,null,null,null,null,null,null,null,null,null,null,null,null,"pepch",{"$f":"EBU_Master","v":0},null,null,null,null,null,null,null,null,null,null,null,null,null,null,null,null,null,null,null,null,null,null,null,null,null,null,null,null,null,null,null,null,null,null,null,null,null,null,null,null,null,null,null,null,null,null,null,{"$f":"IF('3 - Alt Num Lanes Input'!BE52=0,1,'3 - Alt Num Lanes Input'!BE52)","v":1},{"$f":"IF('3 - Alt Num Lanes Input'!BE52>0,WBR_Master,0)","v":51},"pepch"]
[]
[null,null,null,null,null,null,null,null,null,null,null,null,null,null,null,null,null,null,null,null,null,null,null,null,null,null,null,null,null,null,null,null,null,null,null,null,null,null,null,null,null,null,null,null,null,null,null,"3 Phases"]
[null,null,null,null,null,null,null,null,null,null,null,"2 Phases",null,null,null,null,null,null,null,null,null,null,null,null,null,null,null,null,null,null,null,null,null,null,null,null,null,null,null,null,null,null,null,null,null,null,null,null,null,null,null,null,null,null,null,null,null,null,null,null,null,null,null,null,null,null,null,"pepch",{"$f":"EBL_Master","v":31},{"$f":"'3 - Alt Num Lanes Input'!AS52","v":1},null,null,null,null,null,null,null,null,null,null,null,null,null,null,null,null,null,null,null,null,null,null,null,null,null,null,null,null,null,null,null,null,null,null,null,null,null,null,null,null,null,null,null,null,null,null,{"$f":"'3 - Alt Num Lanes Input'!BC52","v":1},{"$f":"WBT_Master+IF('3 - Alt Num Lanes Input'!BE52=0,WBR_Master,0)","v":204},"pepch"]
[]
[]
[null,null,null,null,null,null,null,null,null,null,null,null,null,null,null,null,null,null,null,null,null,null,null,null,null,null,null,null,null,null,null,null,null,null,null,null,null,null,null,null,null,null,null,null,null,null,null,null,null,null,null,null,null,null,null,null,null,null,null,null,null,null,null,null,null,null,null,"pepch",{"$f":"EBT_Master+IF('3 - Alt Num Lanes Input'!AW52=0,EBR_Master,0)","v":204},{"$f":"'3 - Alt Num Lanes Input'!AU52","v":1},null,null,{"$f":"BQ34/LTAF/BR34 + BU28/BT28","v":338.63157894736844},null,null,null,null,null,null,null,null,null,null,null,null,null,null,null,null,{"$f":"MAX(BQ34/LTAF/BR34, BQ37/BR37, ROUND(MAX(0,BQ40/RTAF/BR40-CM44/LTAF/CM43),0), DN37/LTAF/DM37, DN34/DM34, ROUND(MAX(0,DN31/RTAF/DM31-CP29/LTAF/CP30),0))+MAX(CM44/LTAF/CM43 + MAX(CM29/CM30, ROUND(MAX(0,CJ29/RTAF/CJ30-BQ34/LTAF/BR34),0)), CP29/LTAF/CP30 +MAX(CP44/CP43, ROUND(MAX(0,CS44/RTAF/CS43-DN37/LTAF/DM37),0)))","v":491.63157894736844},null,null,null,null,null,null,null,null,null,null,null,null,null,null,null,null,{"$f":"DN37/LTAF/DM37+ DI43/DJ43","v":267.63157894736844},null,null,null,null,null,null,null,null,null,{"$f":"'3 - Alt Num Lanes Input'!BA52","v":1},{"$f":"WBL_Master","v":31},"pepch"]
[]
[]
[null,null,null,null,null,null,null,null,null,null,null,null,null,null,null,null,null,null,null,null,null,null,null,null,null,null,null,null,null,null,null,null,null,null,null,null,null,null,null,null,null,null,null,null,null,null,null,null,null,null,null,null,null,null,null,null,null,null,null,null,null,null,null,null,null,null,null,"pepch",{"$f":"IF('3 - Alt Num Lanes Input'!AW52>0,EBR_Master,0)","v":51},{"$f":"IF('3 - Alt Num Lanes Input'!AW52=0,1,'3 - Alt Num Lanes Input'!AW52)","v":1},null,null,null,null,null,null,null,null,null,null,null,null,null,null,null,null,null,null,null,null,null,null,null,null,null,null,null,null,null,null,null,null,null,null,null,null,null,null,null,null,null,null,null,null,null,null,null,{"$f":"WBU_Master","v":0},"pepch"]
[]
[]
[null,null,null,null,null,null,null,null,null,null,null,null,null,null,null,null,null,null,null,null,null,null,null,null,null,null,null,null,null,null,null,null,null,null,null,null,null,null,null,null,null,null,null,null,null,null,null,null,null,null,null,null,null,null,null,null,null,null,null,null,null,null,null,null,null,null,null,null,null,null,null,null,null,null,null,null,null,null,null,null,null,null,null,null,null,null,null,null,null,null,{"$f":"'3 - Alt Num Lanes Input'!AC52","v":1},null,null,{"$f":"'3 - Alt Num Lanes Input'!AE52","v":2},null,null,{"$f":"'3 - Alt Num Lanes Input'!AG52","v":1},null,null,null,null,null,null,null,null,null,null,null,null,null,null,"pepch",{"$f":"EBT_Master+SBL_Master","v":235},{"$f":"'3 - Alt Num Lanes Input'!AU52","v":1}]
[null,null,null,null,null,null,null,null,null,null,null,null,null,null,null,null,null,null,null,null,null,null,null,null,null,null,null,null,null,null,null,null,null,null,null,null,null,null,null,null,null,null,null,null,null,null,null,null,null,null,null,null,null,null,null,null,null,null,null,null,null,null,null,null,null,null,null,null,null,null,null,null,null,null,null,null,null,null,null,null,null,null,null,null,null,null,null,{"$f":"NBU_Master","v":0},null,null,{"$f":"NBL_Master","v":102},null,null,{"$f":"NBT_Master","v":510},null,null,{"$f":"NBR_Master","v":204}]
[null,null,null,null,null,null,null,null,null,null,null,null,null,null,null,null,null,null,null,null,null,null,null,null,null,null,null,null,null,null,null,null,null,null,null,null,null,null,null,null,null,null,null,null,null,null,null,null,null,null,null,null,null,null,null,null,null,null,null,null,null,null,null,null,null,null,null,null,null,null,null,null,null,null,null,null,null,null,null,null,null,null,null,null,null,null,null,"pepch",null,null,"pepch",null,null,"pepch",null,null,"pepch"]
[]
[]
[]
[]
[]
[]
[]
[]
[]
[]
[]
[]
[null,null,null,null,null,null,null,null,null,null,null,null,null,null,null,null,null,null,null,null,null,null,null,null,null,null,null,null,null,null,null,null,null,null,null,null,null,null,null,null,null,null,null,null,null,null,{"$f":"DC37","v":267.63157894736844},null,null,null,null,null,null,null,null,"CLV"]
[]
[]
[null,null,null,null,null,null,null,null,null,null,null,null,null,null,null,null,null,null,null,null,null,null,null,null,null,null,null,null,null,null,null,null,null,null,null,null,null,null,null,null,null,null,null,null,null,null,{"$f":"ROUND(AU58/CLV_Limit_2,2)","v":0.15},null,null,null,"V/C",{"$f":"CLV_Limit_2","v":1800},null,null,null,"MAX"]
[]
[]
[null,null,null,null,null,null,null,null,null,null,null,null,null,null,null,null,null,null,null,null,null,null,null,null,null,null,null,null,null,null,null,null,null,null,null,null,null,null,null,null,null,null,null,null,null,null,null,null,null,null,null,"2 Phases"]
[]
[]
[]
[]
[]
[]
[]
[]
[]
[null,null,null,null,null,null,null,null,null,null,null,null,null,null,"Note: This diagram does not reflect the actual lane configuration of the Intersection"]

{"sheet":"Full DLT","index":29,"n_rows":74,"n_cols":119,"rows_kept":74,"cut":false,"hidden":false,"merged":[[71,53,71,57],[71,9,71,13],[32,9,32,13],[22,9,22,13],[22,53,22,57],[65,48,67,56],[65,57,67,57],[68,48,70,51],[68,52,70,52],[68,53,70,56],[68,57,70,57],[65,4,67,12],[65,13,67,13],[68,4,70,7],[68,8,70,8],[68,9,70,12],[68,13,70,13],[19,8,21,8],[19,9,21,12],[19,13,21,13],[26,4,28,12],[26,13,28,13],[29,4,31,7],[29,8,31,8],[29,9,31,12],[29,13,31,13],[64,87,64,89],[64,90,64,92],[64,93,64,95],[64,96,64,98],[42,116,44,116],[42,117,44,117],[65,96,68,98],[62,87,62,89],[62,90,62,92],[62,93,62,95],[62,96,62,98],[63,87,63,89],[63,90,63,92],[63,93,63,95],[63,96,63,98],[52,84,55,86],[53,89,55,96],[56,84,56,86],[56,89,58,96],[57,84,57,86],[58,84,58,86],[42,118,44,118],[42,119,44,122],[45,107,47,110],[45,111,47,111],[45,112,47,112],[45,113,47,113],[39,118,41,118],[39,119,41,122],[36,106,38,113],[36,116,38,116],[36,117,38,117],[36,118,38,118],[36,119,38,122],[39,63,41,66],[39,67,41,67],[39,68,41,68],[39,69,41,69],[39,72,41,79],[39,89,41,96],[39,106,41,113],[39,116,41,116],[39,117,41,117],[33,116,35,116],[33,117,35,117],[33,118,35,118],[33,119,35,122],[36,63,38,66],[36,67,38,67],[36,68,38,68],[36,69,38,69],[36,72,38,79],[36,89,38,96],[73,14,73,47],[9,87,12,89],[9,90,12,92],[13,87,13,89],[13,90,13,92],[22,89,24,96],[14,87,14,89],[14,90,14,92],[14,93,14,95],[14,96,14,98],[15,87,15,89],[15,90,15,92],[15,93,15,95],[15,96,15,98],[30,72,32,72],[30,73,32,73],[30,74,32,74],[42,63,44,66],[42,67,44,67],[42,68,44,68],[42,69,44,69],[65,87,68,89],[65,90,68,92],[65,93,68,95],[0,63,1,122],[2,63,3,122],[9,93,12,95],[9,96,12,98],[13,93,13,95],[13,96,13,98],[19,99,19,101],[20,99,20,101],[21,99,21,101],[22,99,25,101],[30,75,32,78],[33,63,35,66],[33,67,35,67],[33,68,35,68],[33,69,35,69],[19,89,21,96],[7,2,8,9],[7,10,8,35],[9,2,10,9],[9,10,10,35],[11,2,12,9],[11,10,12,35],[9,36,12,47],[9,48,12,59],[16,48,18,56],[16,57,18,57],[19,48,21,51],[19,52,21,52],[19,53,21,56],[19,57,21,57],[16,4,18,12],[16,13,18,13],[19,4,21,7],[0,1,1,60],[2,1,3,60],[5,2,6,9],[5,10,6,35],[5,36,6,59],[7,36,8,41],[7,42,8,47],[7,48,8,53],[7,54,8,59]]}
[null,"Full Displaced Left Turn",null,null,null,null,null,null,null,null,null,null,null,null,null,null,null,null,null,null,null,null,null,null,null,null,null,null,null,null,null,null,null,null,null,null,null,null,null,null,null,null,null,null,null,null,null,null,null,null,null,null,null,null,null,null,null,null,null,null,null,null,null,"Full Displaced Left Turn"]
[]
[null,"Design and Results",null,null,null,null,null,null,null,null,null,null,null,null,null,null,null,null,null,null,null,null,null,null,null,null,null,null,null,null,null,null,null,null,null,null,null,null,null,null,null,null,null,null,null,null,null,null,null,null,null,null,null,null,null,null,null,null,null,null,null,null,null,"Data Input and Configuration"]
[]
[]
[null,null,"Project Name:",null,null,null,null,null,null,null,{"$f":"P_Name","v":"Cap-X Sample Street"},null,null,null,null,null,null,null,null,null,null,null,null,null,null,null,null,null,null,null,null,null,null,null,null,null,"Volume-to-Capacity Ratio"]
[]
[null,null,"Project Number:",null,null,null,null,null,null,null,{"$f":"P_Number","v":10000},null,null,null,null,null,null,null,null,null,null,null,null,null,null,null,null,null,null,null,null,null,null,null,null,null,"< 0.750",null,null,null,null,null,"0.750 - 0.875",null,null,null,null,null,"0.875 - 1.00",null,null,null,null,null,"≥ 1.00"]
[]
[null,null,"Location",null,null,null,null,null,null,null,{"$f":"Location","v":"Anywhere, USA"},null,null,null,null,null,null,null,null,null,null,null,null,null,null,null,null,null,null,null,null,null,null,null,null,null,"VOLUME / CAPACITY RATIO:",null,null,null,null,null,null,null,null,null,null,null,{"$f":"MAX(E20,E30,E69,AW69,AW20)","v":0.2}]
[]
[null,null,"Date",null,null,null,null,null,null,null,{"$f":"Date","v":"2017 AM"}]
[]
[null,null,null,null,null,null,null,null,null,null,null,null,null,null,null,null,null,null,null,null,null,null,null,null,null,null,null,null,null,null,null,null,null,null,null,null,null,null,null,null,null,null,null,null,null,null,null,null,null,null,null,null,null,null,null,null,null,null,null,null,null,null,null,null,null,null,null,null,null,null,null,null,null,null,null,null,null,null,null,null,null,null,null,null,null,null,null,"pepch",null,null,"pepch",null,null,"pepch",null,null,"pepch"]
[null,null,null,null,null,null,null,null,null,null,null,null,null,null,null,null,null,null,null,null,null,null,null,null,null,null,null,null,null,null,null,null,null,null,null,null,null,null,null,null,null,null,null,null,null,null,null,null,null,null,null,null,null,null,null,null,null,null,null,null,null,null,null,null,null,null,null,null,null,null,null,null,null,null,null,null,null,null,null,null,null,null,null,null,null,null,null,{"$f":"SBR_Master","v":51},null,null,{"$f":"SBT_Master","v":204},null,null,{"$f":"SBL_Master","v":31},null,null,{"$f":"SBU_Master","v":0}]
[null,null,null,null,null,null,null,null,null,null,null,null,null,null,null,null,null,null,null,null,null,null,null,null,null,null,null,null,null,null,null,null,null,null,null,null,null,null,null,null,null,null,null,null,null,null,null,null,null,null,null,null,null,null,null,null,null,null,null,null,null,null,null,null,null,null,null,null,null,null,null,null,null,null,null,null,null,null,null,null,null,null,null,null,null,null,null,{"$f":"'3 - Alt Num Lanes Input'!AO54","v":1},null,null,{"$f":"'3 - Alt Num Lanes Input'!AM54","v":2},null,null,{"$f":"'3 - Alt Num Lanes Input'!AK54","v":1}]
[null,null,null,null,{"$f":"CL23","v":303.13157894736844},null,null,null,null,null,null,null,null,"CLV",null,null,null,null,null,null,null,null,null,null,null,null,null,null,null,null,null,null,null,null,null,null,null,null,null,null,null,null,null,null,null,null,null,null,{"$f":"DC40","v":150.13157894736844},null,null,null,null,null,null,null,null,"CLV"]
[]
[]
[null,null,null,null,{"$f":"ROUND(E17/CLV_Limit_2,2)","v":0.17},null,null,null,"V/C",{"$f":"CLV_Limit_2","v":1800},null,null,null,"MAX",null,null,null,null,null,null,null,null,null,null,null,null,null,null,null,null,null,null,null,null,null,null,null,null,null,null,null,null,null,null,null,null,null,null,{"$f":"ROUND(AW17/CLV_Limit_2,2)","v":0.08},null,null,null,"V/C",{"$f":"CLV_Limit_2","v":1800},null,null,null,"MAX",null,null,null,null,null,null,null,null,null,null,null,null,null,null,null,null,null,null,null,null,null,null,null,null,null,null,null,null,null,null,null,null,null,null,null,null,null,null,null,null,null,{"$f":"'3 - Alt Num Lanes Input'!AE54","v":2}]
[null,null,null,null,null,null,null,null,null,null,null,null,null,null,null,null,null,null,null,null,null,null,null,null,null,null,null,null,null,null,null,null,null,null,null,null,null,null,null,null,null,null,null,null,null,null,null,null,null,null,null,null,null,null,null,null,null,null,null,null,null,null,null,null,null,null,null,null,null,null,null,null,null,null,null,null,null,null,null,null,null,null,null,null,null,null,null,null,null,null,null,null,null,null,null,null,null,null,null,{"$f":"CP64+BQ37","v":541}]
[null,null,null,null,null,null,null,null,null,null,null,null,null,null,null,null,null,null,null,null,null,null,null,null,null,null,null,null,null,null,null,null,null,null,null,null,null,null,null,null,null,null,null,null,null,null,null,null,null,null,null,null,null,null,null,null,null,null,null,null,null,null,null,null,null,null,null,null,null,null,null,null,null,null,null,null,null,null,null,null,null,null,null,null,null,null,null,null,null,null,null,null,null,null,null,null,null,null,null,"pepch"]
[null,null,null,null,null,null,null,null,null,"2 Phases",null,null,null,null,null,null,null,null,null,null,null,null,null,null,null,null,null,null,null,null,null,null,null,null,null,null,null,null,null,null,null,null,null,null,null,null,null,null,null,null,null,null,null,"2 Phases",null,null,null,null,null,null,null,null,null,null,null,null,null,null,null,null,null,null,null,null,null,null,null,null,null,null,null,null,null,null,null,null,null,null,null,{"$f":"CP15/LTAF/CP16 + CV21/CV20","v":303.13157894736844}]
[]
[]
[]
[null,null,null,null,{"$f":"CL40","v":357},null,null,null,null,null,null,null,null,"CLV"]
[]
[]
[null,null,null,null,{"$f":"ROUND(E27/CLV_Limit_2,2)","v":0.2},null,null,null,"V/C",{"$f":"CLV_Limit_2","v":1800},null,null,null,"MAX"]
[null,null,null,null,null,null,null,null,null,null,null,null,null,null,null,null,null,null,null,null,null,null,null,null,null,null,null,null,null,null,null,null,null,null,null,null,null,null,null,null,null,null,null,null,null,null,null,null,null,null,null,null,null,null,null,null,null,null,null,null,null,null,null,null,null,null,null,null,null,null,null,null,{"$f":"'3 - Alt Num Lanes Input'!BC54","v":2},{"$f":"WBT_Master+CM64+IF('3 - Alt Num Lanes Input'!AO54=0,SBR_Master,0)","v":306},"pepch"]
[]
[null,null,null,null,null,null,null,null,null,"2 Phases"]
[null,null,null,null,null,null,null,null,null,null,null,null,null,null,null,null,null,null,null,null,null,null,null,null,null,null,null,null,null,null,null,null,null,null,null,null,null,null,null,null,null,null,null,null,null,null,null,null,null,null,null,null,null,null,null,null,null,null,null,null,null,null,null,null,null,null,null,"pepch",{"$f":"EBU_Master","v":0},null,null,null,null,null,null,null,null,null,null,null,null,null,null,null,null,null,null,null,null,null,null,null,null,null,null,null,null,null,null,null,null,null,null,null,null,null,null,null,null,null,null,null,null,null,null,null,{"$f":"'3 - Alt Num Lanes Input'!BE54","v":1},{"$f":"WBR_Master","v":51},"pepch"]
[]
[]
[null,null,null,null,null,null,null,null,null,null,null,null,null,null,null,null,null,null,null,null,null,null,null,null,null,null,null,null,null,null,null,null,null,null,null,null,null,null,null,null,null,null,null,null,null,null,null,null,null,null,null,null,null,null,null,null,null,null,null,null,null,null,null,null,null,null,null,"pepch",{"$f":"EBL_Master","v":31},{"$f":"'3 - Alt Num Lanes Input'!AS54","v":1},null,null,null,null,null,null,null,null,null,null,null,null,null,null,null,null,null,null,null,null,null,null,null,null,null,null,null,null,null,null,null,null,null,null,null,null,null,null,null,null,null,null,null,null,null,null,{"$f":"'3 - Alt Num Lanes Input'!BC54","v":2},{"$f":"WBT_Master","v":204},"pepch"]
[]
[]
[null,null,null,null,null,null,null,null,null,null,null,null,null,null,null,null,null,null,null,null,null,null,null,null,null,null,null,null,null,null,null,null,null,null,null,null,null,null,null,null,null,null,null,null,null,null,null,null,null,null,null,null,null,null,null,null,null,null,null,null,null,null,null,null,null,null,null,"pepch",{"$f":"EBT_Master","v":204},{"$f":"'3 - Alt Num Lanes Input'!AU54","v":2},null,null,{"$f":"BQ37/LTAF/BR37 + BV31/BU31","v":185.63157894736844},null,null,null,null,null,null,null,null,null,null,null,null,null,null,null,null,{"$f":"MAX(BQ37/LTAF/BR37, BQ40/BR40, ROUND(MAX(0,BQ43/RTAF/BR43-CM64/LTAF/CM63),0), DN40/LTAF/DM40, DN37/DM37, ROUND(MAX(0,DN34/RTAF/DM34-CP15/LTAF/CP16),0))+MAX(CM64/LTAF/CM63, CP64/CP63, ROUND(MAX(0,CS64/RTAF/CS63-DN40/LTAF/DM40),0), CP15/LTAF/CP16, CM15/CM16, ROUND(MAX(0,CJ15/RTAF/CJ16-BQ37/LTAF/BR37),0))","v":357},null,null,null,null,null,null,null,null,null,null,null,null,null,null,null,null,{"$f":"DN40/LTAF/DM40+ DI46/DJ46","v":150.13157894736844},null,null,null,null,null,null,null,null,null,{"$f":"'3 - Alt Num Lanes Input'!BA54","v":1},{"$f":"WBL_Master","v":31},"pepch"]
[]
[]
[null,null,null,null,null,null,null,null,null,null,null,null,null,null,null,null,null,null,null,null,null,null,null,null,null,null,null,null,null,null,null,null,null,null,null,null,null,null,null,null,null,null,null,null,null,null,null,null,null,null,null,null,null,null,null,null,null,null,null,null,null,null,null,null,null,null,null,"pepch",{"$f":"EBR_Master","v":51},{"$f":"'3 - Alt Num Lanes Input'!AW54","v":1},null,null,null,null,null,null,null,null,null,null,null,null,null,null,null,null,null,null,null,null,null,null,null,null,null,null,null,null,null,null,null,null,null,null,null,null,null,null,null,null,null,null,null,null,null,null,null,{"$f":"WBU_Master","v":0},"pepch"]
[]
[]
[null,null,null,null,null,null,null,null,null,null,null,null,null,null,null,null,null,null,null,null,null,null,null,null,null,null,null,null,null,null,null,null,null,null,null,null,null,null,null,null,null,null,null,null,null,null,null,null,null,null,null,null,null,null,null,null,null,null,null,null,null,null,null,null,null,null,null,null,null,null,null,null,null,null,null,null,null,null,null,null,null,null,null,null,null,null,null,null,null,null,null,null,null,null,null,null,null,null,null,null,null,null,null,null,null,null,null,null,null,null,null,"pepch",{"$f":"EBT_Master+CP15+IF('3 - Alt Num Lanes Input'!AG54=0,NBR_Master,0)","v":235},{"$f":"'3 - Alt Num Lanes Input'!AU54","v":2}]
[]
[]
[]
[]
[]
[]
[]
[]
[]
[]
[null,null,null,null,null,null,null,null,null,null,null,null,null,null,null,null,null,null,null,null,null,null,null,null,null,null,null,null,null,null,null,null,null,null,null,null,null,null,null,null,null,null,null,null,null,null,null,null,null,null,null,null,null,null,null,null,null,null,null,null,null,null,null,null,null,null,null,null,null,null,null,null,null,null,null,null,null,null,null,null,null,null,null,null,"pepch",null,null,null,null,{"$f":"CM64/LTAF/CM63 + CG58/CG59","v":224.86842105263159}]
[null,null,null,null,null,null,null,null,null,null,null,null,null,null,null,null,null,null,null,null,null,null,null,null,null,null,null,null,null,null,null,null,null,null,null,null,null,null,null,null,null,null,null,null,null,null,null,null,null,null,null,null,null,null,null,null,null,null,null,null,null,null,null,null,null,null,null,null,null,null,null,null,null,null,null,null,null,null,null,null,null,null,null,null,{"$f":"CM15+DN40","v":235}]
[null,null,null,null,null,null,null,null,null,null,null,null,null,null,null,null,null,null,null,null,null,null,null,null,null,null,null,null,null,null,null,null,null,null,null,null,null,null,null,null,null,null,null,null,null,null,null,null,null,null,null,null,null,null,null,null,null,null,null,null,null,null,null,null,null,null,null,null,null,null,null,null,null,null,null,null,null,null,null,null,null,null,null,null,{"$f":"'3 - Alt Num Lanes Input'!AM54","v":2}]
[]
[]
[]
[null,null,null,null,null,null,null,null,null,null,null,null,null,null,null,null,null,null,null,null,null,null,null,null,null,null,null,null,null,null,null,null,null,null,null,null,null,null,null,null,null,null,null,null,null,null,null,null,null,null,null,null,null,null,null,null,null,null,null,null,null,null,null,null,null,null,null,null,null,null,null,null,null,null,null,null,null,null,null,null,null,null,null,null,null,null,null,null,null,null,{"$f":"'3 - Alt Num Lanes Input'!AC54","v":1},null,null,{"$f":"'3 - Alt Num Lanes Input'!AE54","v":2},null,null,{"$f":"'3 - Alt Num Lanes Input'!AG54","v":1}]
[null,null,null,null,null,null,null,null,null,null,null,null,null,null,null,null,null,null,null,null,null,null,null,null,null,null,null,null,null,null,null,null,null,null,null,null,null,null,null,null,null,null,null,null,null,null,null,null,null,null,null,null,null,null,null,null,null,null,null,null,null,null,null,null,null,null,null,null,null,null,null,null,null,null,null,null,null,null,null,null,null,null,null,null,null,null,null,{"$f":"NBU_Master","v":0},null,null,{"$f":"NBL_Master","v":102},null,null,{"$f":"NBT_Master","v":510},null,null,{"$f":"NBR_Master","v":204}]
[null,null,null,null,null,null,null,null,null,null,null,null,null,null,null,null,null,null,null,null,null,null,null,null,null,null,null,null,null,null,null,null,null,null,null,null,null,null,null,null,null,null,null,null,null,null,null,null,null,null,null,null,null,null,null,null,null,null,null,null,null,null,null,null,null,null,null,null,null,null,null,null,null,null,null,null,null,null,null,null,null,null,null,null,null,null,null,"pepch",null,null,"pepch",null,null,"pepch",null,null,"pepch"]
[null,null,null,null,{"$f":"BU40","v":185.63157894736844},null,null,null,null,null,null,null,null,"CLV",null,null,null,null,null,null,null,null,null,null,null,null,null,null,null,null,null,null,null,null,null,null,null,null,null,null,null,null,null,null,null,null,null,null,{"$f":"CL57","v":224.86842105263159},null,null,null,null,null,null,null,null,"CLV"]
[]
[]
[null,null,null,null,{"$f":"ROUND(E66/CLV_Limit_2,2)","v":0.1},null,null,null,"V/C",{"$f":"CLV_Limit_2","v":1800},null,null,null,"MAX",null,null,null,null,null,null,null,null,null,null,null,null,null,null,null,null,null,null,null,null,null,null,null,null,null,null,null,null,null,null,null,null,null,null,{"$f":"ROUND(AW66/CLV_Limit_2,2)","v":0.12},null,null,null,"V/C",{"$f":"CLV_Limit_2","v":1800},null,null,null,"MAX"]
[]
[]
[null,null,null,null,null,null,null,null,null,"2 Phases",null,null,null,null,null,null,null,null,null,null,null,null,null,null,null,null,null,null,null,null,null,null,null,null,null,null,null,null,null,null,null,null,null,null,null,null,null,null,null,null,null,null,null,"2 Phases"]
[]
[null,null,null,null,null,null,null,null,null,null,null,null,null,null,"Note: This diagram does not reflect the actual lane configuration of the Intersection"]

{"sheet":"RCUT N-S","index":30,"n_rows":74,"n_cols":112,"rows_kept":74,"cut":false,"hidden":false,"merged":[[33,52,33,56],[25,10,25,14],[62,10,62,14],[70,52,70,56],[64,47,66,55],[64,56,66,56],[67,47,69,50],[67,51,69,51],[67,52,69,55],[67,56,69,56],[56,5,58,13],[56,14,58,14],[59,5,61,8],[59,9,61,9],[59,10,61,13],[59,14,61,14],[66,97,66,99],[67,97,67,99],[68,97,68,99],[69,97,72,99],[56,88,59,90],[57,93,59,100],[60,88,60,90],[60,93,62,100],[61,88,61,90],[62,88,62,90],[50,91,53,93],[50,94,53,96],[50,97,53,99],[50,100,53,102],[47,91,47,93],[47,94,47,96],[47,97,47,99],[47,100,47,102],[48,91,48,93],[48,94,48,96],[48,97,48,99],[48,100,48,102],[41,112,43,115],[44,109,46,109],[44,110,46,110],[44,111,46,111],[44,112,46,115],[38,110,40,110],[38,111,40,111],[38,112,40,115],[49,91,49,93],[49,94,49,96],[49,97,49,99],[49,100,49,102],[41,74,43,74],[41,75,43,75],[41,76,43,76],[41,99,43,106],[41,109,43,109],[41,110,43,110],[35,110,37,110],[35,111,37,111],[41,111,43,111],[38,75,40,75],[38,76,40,76],[38,79,40,86],[38,99,40,106],[38,109,40,109],[35,74,37,74],[35,75,37,75],[35,76,37,76],[35,79,37,86],[35,109,37,109],[73,14,73,47],[19,85,21,92],[19,95,22,97],[25,83,28,85],[25,86,28,88],[25,89,28,91],[25,92,28,94],[31,83,31,85],[31,86,31,88],[31,89,31,91],[31,92,31,94],[32,70,34,73],[32,74,34,74],[32,75,34,75],[32,76,34,76],[29,83,29,85],[29,86,29,88],[29,89,29,91],[29,92,29,94],[30,83,30,85],[30,86,30,88],[30,89,30,91],[30,92,30,94],[41,70,43,73],[0,63,1,122],[2,63,3,122],[6,86,9,88],[10,86,10,88],[11,86,11,88],[12,86,12,88],[16,85,18,92],[16,95,16,97],[17,95,17,97],[18,95,18,97],[35,112,37,115],[38,70,40,73],[38,74,40,74],[7,2,8,9],[7,10,8,35],[9,2,10,9],[9,10,10,35],[11,2,12,9],[11,10,12,35],[9,36,12,47],[9,48,12,59],[35,70,37,73],[27,47,29,55],[27,56,29,56],[30,47,32,50],[30,51,32,51],[30,52,32,55],[30,56,32,56],[19,5,21,13],[19,14,21,14],[22,5,24,8],[22,9,24,9],[22,10,24,13],[22,14,24,14],[0,1,1,60],[2,1,3,60],[5,2,6,9],[5,10,6,35],[5,36,6,59],[7,36,8,41],[7,42,8,47],[7,48,8,53],[7,54,8,59]]}
[null,"Restricted Crossing U-Turn (N-S)",null,null,null,null,null,null,null,null,null,null,null,null,null,null,null,null,null,null,null,null,null,null,null,null,null,null,null,null,null,null,null,null,null,null,null,null,null,null,null,null,null,null,null,null,null,null,null,null,null,null,null,null,null,null,null,null,null,null,null,null,null,"Restricted Crossing U-Turn (N-S)"]
[]
[null,"Design and Results",null,null,null,null,null,null,null,null,null,null,null,null,null,null,null,null,null,null,null,null,null,null,null,null,null,null,null,null,null,null,null,null,null,null,null,null,null,null,null,null,null,null,null,null,null,null,null,null,null,null,null,null,null,null,null,null,null,null,null,null,null,"Data Input and Configuration"]
[]
[]
[null,null,"Project Name:",null,null,null,null,null,null,null,{"$f":"P_Name","v":"Cap-X Sample Street"},null,null,null,null,null,null,null,null,null,null,null,null,null,null,null,null,null,null,null,null,null,null,null,null,null,"Volume-to-Capacity Ratio"]
[]
[null,null,"Project Number:",null,null,null,null,null,null,null,{"$f":"P_Number","v":10000},null,null,null,null,null,null,null,null,null,null,null,null,null,null,null,null,null,null,null,null,null,null,null,null,null,"< 0.750",null,null,null,null,null,"0.750 - 0.875",null,null,null,null,null,"0.875 - 1.00",null,null,null,null,null,"≥ 1.00"]
[]
[null,null,"Location",null,null,null,null,null,null,null,{"$f":"Location","v":"Anywhere, USA"},null,null,null,null,null,null,null,null,null,null,null,null,null,null,null,null,null,null,null,null,null,null,null,null,null,"VOLUME / CAPACITY RATIO:",null,null,null,null,null,null,null,null,null,null,null,{"$f":"MAX(F23,AV31,F60,AV68)","v":0.45}]
[null,null,null,null,null,null,null,null,null,null,null,null,null,null,null,null,null,null,null,null,null,null,null,null,null,null,null,null,null,null,null,null,null,null,null,null,null,null,null,null,null,null,null,null,null,null,null,null,null,null,null,null,null,null,null,null,null,null,null,null,null,null,null,null,null,null,null,null,null,null,null,null,null,null,null,null,null,null,null,null,null,null,null,null,null,null,"pepch"]
[null,null,"Date",null,null,null,null,null,null,null,{"$f":"Date","v":"2017 AM"},null,null,null,null,null,null,null,null,null,null,null,null,null,null,null,null,null,null,null,null,null,null,null,null,null,null,null,null,null,null,null,null,null,null,null,null,null,null,null,null,null,null,null,null,null,null,null,null,null,null,null,null,null,null,null,null,null,null,null,null,null,null,null,null,null,null,null,null,null,null,null,null,null,null,null,{"$f":"CF31+CI31+CL31+CO31","v":286}]
[null,null,null,null,null,null,null,null,null,null,null,null,null,null,null,null,null,null,null,null,null,null,null,null,null,null,null,null,null,null,null,null,null,null,null,null,null,null,null,null,null,null,null,null,null,null,null,null,null,null,null,null,null,null,null,null,null,null,null,null,null,null,null,null,null,null,null,null,null,null,null,null,null,null,null,null,null,null,null,null,null,null,null,null,null,null,{"$f":"'3 - Alt Num Lanes Input'!AM56","v":2}]
[]
[]
[]
[null,null,null,null,null,null,null,null,null,null,null,null,null,null,null,null,null,null,null,null,null,null,null,null,null,null,null,null,null,null,null,null,null,null,null,null,null,null,null,null,null,null,null,null,null,null,null,null,null,null,null,null,null,null,null,null,null,null,null,null,null,null,null,null,null,null,null,null,null,null,null,null,null,null,null,null,null,null,null,null,null,null,null,null,null,null,null,null,null,null,null,null,null,null,null,{"$f":"IF('3 - Alt Num Lanes Input'!AA56=0,1,'3 - Alt Num Lanes Input'!AA56)","v":1}]
[null,null,null,null,null,null,null,null,null,null,null,null,null,null,null,null,null,null,null,null,null,null,null,null,null,null,null,null,null,null,null,null,null,null,null,null,null,null,null,null,null,null,null,null,null,null,null,null,null,null,null,null,null,null,null,null,null,null,null,null,null,null,null,null,null,null,null,null,null,null,null,null,null,null,null,null,null,null,null,null,null,null,null,null,null,null,null,null,null,null,null,null,null,null,null,{"$f":"DG39+DG42+DG45+CN49","v":235}]
[null,null,null,null,null,null,null,null,null,null,null,null,null,null,null,null,null,null,null,null,null,null,null,null,null,null,null,null,null,null,null,null,null,null,null,null,null,null,null,null,null,null,null,null,null,null,null,null,null,null,null,null,null,null,null,null,null,null,null,null,null,null,null,null,null,null,null,null,null,null,null,null,null,null,null,null,null,null,null,null,null,null,null,null,null,null,null,null,null,null,null,null,null,null,null,"pepch"]
[null,null,null,null,null,{"$f":"CH20","v":436.75},null,null,null,null,null,null,null,null,"CLV",null,null,null,null,null,null,null,null,null,null,null,null,null,null,null,null,null,null,null,null,null,null,null,null,null,null,null,null,null,null,null,null,null,null,null,null,null,null,null,null,null,null,null,null,null,null,null,null,null,null,null,null,null,null,null,null,null,null,null,null,null,null,null,null,null,null,null,null,null,null,{"$f":"+(CI12/CI13 + CR18/UTAF/CR17)","v":436.75}]
[]
[]
[null,null,null,null,null,{"$f":"ROUND(F20/CLV_Limit_2,2)","v":0.24},null,null,null,"V/C",{"$f":"CLV_Limit_2","v":1800},null,null,null,"MAX"]
[]
[]
[null,null,null,null,null,null,null,null,null,null,"2 Phases"]
[]
[null,null,null,null,null,null,null,null,null,null,null,null,null,null,null,null,null,null,null,null,null,null,null,null,null,null,null,null,null,null,null,null,null,null,null,null,null,null,null,null,null,null,null,null,null,null,null,{"$f":"CV42","v":816.47058823529414},null,null,null,null,null,null,null,null,"CLV"]
[]
[null,null,null,null,null,null,null,null,null,null,null,null,null,null,null,null,null,null,null,null,null,null,null,null,null,null,null,null,null,null,null,null,null,null,null,null,null,null,null,null,null,null,null,null,null,null,null,null,null,null,null,null,null,null,null,null,null,null,null,null,null,null,null,null,null,null,null,null,null,null,null,null,null,null,null,null,null,null,null,null,null,null,null,"pepch",null,null,"pepch",null,null,"pepch",null,null,"pepch"]
[null,null,null,null,null,null,null,null,null,null,null,null,null,null,null,null,null,null,null,null,null,null,null,null,null,null,null,null,null,null,null,null,null,null,null,null,null,null,null,null,null,null,null,null,null,null,null,{"$f":"ROUND(AV28/CLV_Limit_2,2)","v":0.45},null,null,null,"V/C",{"$f":"CLV_Limit_2","v":1800},null,null,null,"MAX",null,null,null,null,null,null,null,null,null,null,null,null,null,null,null,null,null,null,null,null,null,null,null,null,null,null,{"$f":"IF('3 - Alt Num Lanes Input'!AO56>0,SBR_Master,0)","v":51},null,null,{"$f":"SBT_Master+IF('3 - Alt Num Lanes Input'!AO56=0,SBR_Master)","v":204},null,null,{"$f":"SBL_Master","v":31},null,null,{"$f":"SBU_Master","v":0}]
[null,null,null,null,null,null,null,null,null,null,null,null,null,null,null,null,null,null,null,null,null,null,null,null,null,null,null,null,null,null,null,null,null,null,null,null,null,null,null,null,null,null,null,null,null,null,null,null,null,null,null,null,null,null,null,null,null,null,null,null,null,null,null,null,null,null,null,null,null,null,null,null,null,null,null,null,null,null,null,null,null,null,null,{"$f":"IF('3 - Alt Num Lanes Input'!AO56=0,1,'3 - Alt Num Lanes Input'!AO56)","v":1},null,null,{"$f":"'3 - Alt Num Lanes Input'!AM56","v":2},null,null,{"$f":"'3 - Alt Num Lanes Input'!AK56","v":1}]
[null,null,null,null,null,null,null,null,null,null,null,null,null,null,null,null,null,null,null,null,null,null,null,null,null,null,null,null,null,null,null,null,null,null,null,null,null,null,null,null,null,null,null,null,null,null,null,null,null,null,null,null,null,null,null,null,null,null,null,null,null,null,null,null,null,null,null,null,null,null,null,null,null,null,"pepch",{"$f":"EBU_Master","v":0}]
[null,null,null,null,null,null,null,null,null,null,null,null,null,null,null,null,null,null,null,null,null,null,null,null,null,null,null,null,null,null,null,null,null,null,null,null,null,null,null,null,null,null,null,null,null,null,null,null,null,null,null,null,"2 Phases"]
[]
[null,null,null,null,null,null,null,null,null,null,null,null,null,null,null,null,null,null,null,null,null,null,null,null,null,null,null,null,null,null,null,null,null,null,null,null,null,null,null,null,null,null,null,null,null,null,null,null,null,null,null,null,null,null,null,null,null,null,null,null,null,null,null,null,null,null,null,null,null,null,null,null,null,null,"pepch",{"$f":"EBL_Master","v":31},null,null,null,null,null,null,null,null,null,null,null,null,null,null,null,null,null,null,null,null,null,null,null,null,null,null,null,null,null,null,null,null,null,{"$f":"'3 - Alt Num Lanes Input'!BE56","v":1},{"$f":"WBR_Master","v":51},"pepch"]
[]
[]
[null,null,null,null,null,null,null,null,null,null,null,null,null,null,null,null,null,null,null,null,null,null,null,null,null,null,null,null,null,null,null,null,null,null,null,null,null,null,null,null,null,null,null,null,null,null,null,null,null,null,null,null,null,null,null,null,null,null,null,null,null,null,null,null,null,null,null,null,null,null,null,null,null,null,"pepch",{"$f":"EBT_Master","v":204},null,null,null,{"$f":"+(MAX((CI31+CO31+DG42+CN49)/CI32,(CF31+DG39)/RTAF/CF32) + MAX((BX42+BX39+BX36+BX33)/RTAF/BY42, (CQ49+BX33)/LTAF/CQ48))","v":636.47058823529414},null,null,null,null,null,null,null,null,null,null,null,null,null,null,null,null,null,null,null,null,null,null,null,null,null,null,null,null,null,null,{"$f":"WBT_Master","v":204},"pepch"]
[]
[]
[null,null,null,null,null,null,null,null,null,null,null,null,null,null,null,null,null,null,null,null,null,null,null,null,null,null,null,null,null,null,null,null,null,null,null,null,null,null,null,null,null,null,null,null,null,null,null,null,null,null,null,null,null,null,null,null,null,null,null,null,null,null,null,null,null,null,null,null,null,null,null,null,null,null,"pepch",{"$f":"EBR_Master","v":51},{"$f":"'3 - Alt Num Lanes Input'!AW56","v":1},null,null,null,null,null,null,null,null,null,null,null,null,null,null,null,null,null,null,null,null,null,null,{"$f":"+(MAX((CT49+CN49+BX36+CO31)/CT48,(CW49+BX39)/RTAF/CW48)+MAX((DG36+DG39+DG42+DG45)/RTAF/DF36,(CL31+DG45)/LTAF/CL32))","v":816.47058823529414},null,null,null,null,null,null,null,null,null,null,{"$f":"WBL_Master","v":31},"pepch"]
[]
[]
[null,null,null,null,null,null,null,null,null,null,null,null,null,null,null,null,null,null,null,null,null,null,null,null,null,null,null,null,null,null,null,null,null,null,null,null,null,null,null,null,null,null,null,null,null,null,null,null,null,null,null,null,null,null,null,null,null,null,null,null,null,null,null,null,null,null,null,null,null,null,null,null,null,null,null,null,null,null,null,null,null,null,null,null,null,null,null,null,null,null,null,null,null,null,null,null,null,null,null,null,null,null,null,null,null,null,null,null,null,null,{"$f":"WBU_Master","v":0},"pepch"]
[]
[]
[null,null,null,null,null,null,null,null,null,null,null,null,null,null,null,null,null,null,null,null,null,null,null,null,null,null,null,null,null,null,null,null,null,null,null,null,null,null,null,null,null,null,null,null,null,null,null,null,null,null,null,null,null,null,null,null,null,null,null,null,null,null,null,null,null,null,null,null,null,null,null,null,null,null,null,null,null,null,null,null,null,null,null,null,null,null,null,null,null,null,null,null,null,null,{"$f":"'3 - Alt Num Lanes Input'!AC56","v":1},null,null,{"$f":"'3 - Alt Num Lanes Input'!AE56","v":2},null,null,{"$f":"IF('3 - Alt Num Lanes Input'!AG56=0,1,'3 - Alt Num Lanes Input'!AG56)","v":1}]
[null,null,null,null,null,null,null,null,null,null,null,null,null,null,null,null,null,null,null,null,null,null,null,null,null,null,null,null,null,null,null,null,null,null,null,null,null,null,null,null,null,null,null,null,null,null,null,null,null,null,null,null,null,null,null,null,null,null,null,null,null,null,null,null,null,null,null,null,null,null,null,null,null,null,null,null,null,null,null,null,null,null,null,null,null,null,null,null,null,null,null,{"$f":"NBU_Master","v":0},null,null,{"$f":"NBL_Master","v":102},null,null,{"$f":"NBT_Master+IF('3 - Alt Num Lanes Input'!AG56=0,NBR_Master)","v":510},null,null,{"$f":"IF('3 - Alt Num Lanes Input'!AG56>0,NBR_Master,0)","v":204}]
[null,null,null,null,null,null,null,null,null,null,null,null,null,null,null,null,null,null,null,null,null,null,null,null,null,null,null,null,null,null,null,null,null,null,null,null,null,null,null,null,null,null,null,null,null,null,null,null,null,null,null,null,null,null,null,null,null,null,null,null,null,null,null,null,null,null,null,null,null,null,null,null,null,null,null,null,null,null,null,null,null,null,null,null,null,null,null,null,null,null,null,"pepch",null,null,"pepch",null,null,"pepch",null,null,"pepch"]
[]
[]
[]
[]
[]
[]
[null,null,null,null,null,{"$f":"CB39","v":636.47058823529414},null,null,null,null,null,null,null,null,"CLV"]
[]
[]
[null,null,null,null,null,{"$f":"ROUND(F57/CLV_Limit_2,2)","v":0.35},null,null,null,"V/C",{"$f":"CLV_Limit_2","v":1800},null,null,null,"MAX"]
[null,null,null,null,null,null,null,null,null,null,null,null,null,null,null,null,null,null,null,null,null,null,null,null,null,null,null,null,null,null,null,null,null,null,null,null,null,null,null,null,null,null,null,null,null,null,null,null,null,null,null,null,null,null,null,null,null,null,null,null,null,null,null,null,null,null,null,null,null,null,null,null,null,null,null,null,null,null,null,null,null,null,null,null,null,null,null,null,"pepch",null,null,null,null,{"$f":"+(CT68/CT67 +CK62/UTAF/CK63)","v":701.75}]
[null,null,null,null,null,null,null,null,null,null,null,null,null,null,null,null,null,null,null,null,null,null,null,null,null,null,null,null,null,null,null,null,null,null,null,null,null,null,null,null,null,null,null,null,null,null,null,null,null,null,null,null,null,null,null,null,null,null,null,null,null,null,null,null,null,null,null,null,null,null,null,null,null,null,null,null,null,null,null,null,null,null,null,null,null,null,null,null,{"$f":"CO31+BX36+BX39+BX33","v":235}]
[null,null,null,null,null,null,null,null,null,null,"2 Phases",null,null,null,null,null,null,null,null,null,null,null,null,null,null,null,null,null,null,null,null,null,null,null,null,null,null,null,null,null,null,null,null,null,null,null,null,null,null,null,null,null,null,null,null,null,null,null,null,null,null,null,null,null,null,null,null,null,null,null,null,null,null,null,null,null,null,null,null,null,null,null,null,null,null,null,null,null,{"$f":"IF('3 - Alt Num Lanes Input'!AI56=0,1,'3 - Alt Num Lanes Input'!AI56)","v":1}]
[]
[null,null,null,null,null,null,null,null,null,null,null,null,null,null,null,null,null,null,null,null,null,null,null,null,null,null,null,null,null,null,null,null,null,null,null,null,null,null,null,null,null,null,null,null,null,null,null,{"$f":"CP61","v":701.75},null,null,null,null,null,null,null,null,"CLV"]
[]
[null,null,null,null,null,null,null,null,null,null,null,null,null,null,null,null,null,null,null,null,null,null,null,null,null,null,null,null,null,null,null,null,null,null,null,null,null,null,null,null,null,null,null,null,null,null,null,null,null,null,null,null,null,null,null,null,null,null,null,null,null,null,null,null,null,null,null,null,null,null,null,null,null,null,null,null,null,null,null,null,null,null,null,null,null,null,null,null,null,null,null,null,null,null,null,null,null,{"$f":"'3 - Alt Num Lanes Input'!AE56","v":2}]
[null,null,null,null,null,null,null,null,null,null,null,null,null,null,null,null,null,null,null,null,null,null,null,null,null,null,null,null,null,null,null,null,null,null,null,null,null,null,null,null,null,null,null,null,null,null,null,{"$f":"ROUND(AV65/CLV_Limit_2,2)","v":0.39},null,null,null,"V/C",{"$f":"CLV_Limit_2","v":1800},null,null,null,"MAX",null,null,null,null,null,null,null,null,null,null,null,null,null,null,null,null,null,null,null,null,null,null,null,null,null,null,null,null,null,null,null,null,null,null,null,null,null,null,null,null,{"$f":"CN49+CQ49+CT49+CW49","v":816}]
[null,null,null,null,null,null,null,null,null,null,null,null,null,null,null,null,null,null,null,null,null,null,null,null,null,null,null,null,null,null,null,null,null,null,null,null,null,null,null,null,null,null,null,null,null,null,null,null,null,null,null,null,null,null,null,null,null,null,null,null,null,null,null,null,null,null,null,null,null,null,null,null,null,null,null,null,null,null,null,null,null,null,null,null,null,null,null,null,null,null,null,null,null,null,null,null,null,"pepch"]
[]
[null,null,null,null,null,null,null,null,null,null,null,null,null,null,null,null,null,null,null,null,null,null,null,null,null,null,null,null,null,null,null,null,null,null,null,null,null,null,null,null,null,null,null,null,null,null,null,null,null,null,null,null,"2 Phases"]
[]
[]
[null,null,null,null,null,null,null,null,null,null,null,null,null,null,"Note: This diagram does not reflect the actual lane configuration of the Intersection"]

{"sheet":"RCUT E-W","index":31,"n_rows":105,"n_cols":74,"rows_kept":105,"cut":false,"hidden":false,"merged":[[58,1,59,79],[63,38,66,40],[63,41,66,43],[63,44,66,46],[63,47,66,49],[48,58,50,66],[48,67,50,67],[51,58,53,61],[51,62,53,62],[51,63,53,66],[51,67,53,67],[76,40,78,47],[105,40,108,42],[103,31,103,33],[103,34,103,36],[103,37,103,39],[103,40,103,42],[104,31,104,33],[104,34,104,36],[104,37,104,39],[104,40,104,42],[90,5,92,8],[90,9,92,9],[90,10,92,10],[90,11,92,11],[90,14,92,21],[90,24,92,27],[105,31,108,33],[105,34,108,36],[105,37,108,39],[96,33,98,40],[102,31,102,33],[102,34,102,36],[102,37,102,39],[102,40,102,42],[90,28,92,28],[90,29,92,29],[90,30,92,30],[93,24,95,27],[93,28,95,28],[93,29,95,29],[93,30,95,30],[93,33,95,40],[79,69,81,69],[85,52,87,52],[85,53,87,56],[87,14,89,21],[87,24,89,27],[87,28,89,28],[87,29,89,29],[87,30,89,30],[82,51,84,51],[82,52,84,52],[82,53,84,56],[88,60,90,63],[88,64,90,64],[88,65,90,65],[88,66,90,66],[79,70,81,70],[79,71,81,71],[79,72,81,75],[81,14,83,14],[81,15,83,15],[81,16,83,16],[81,17,83,20],[82,50,84,50],[76,50,78,50],[76,51,78,51],[76,52,78,52],[76,53,78,56],[79,50,81,50],[79,51,81,51],[79,52,81,52],[79,53,81,56],[82,59,84,66],[84,24,86,27],[84,28,86,28],[84,29,86,29],[84,30,86,30],[85,50,87,50],[85,51,87,51],[79,59,81,66],[19,58,21,61],[19,62,21,62],[19,63,21,66],[19,67,21,67],[19,15,21,18],[19,19,21,19],[19,20,21,23],[19,24,21,24],[69,38,69,40],[69,41,69,43],[69,44,69,46],[69,47,69,49],[54,23,54,57],[48,13,50,21],[48,22,50,22],[51,13,53,16],[51,17,53,17],[51,18,53,21],[51,22,53,22],[54,63,54,67],[54,18,54,22],[22,20,22,24],[22,63,22,67],[56,1,57,79],[73,40,75,47],[67,38,67,40],[67,41,67,43],[67,44,67,46],[67,47,67,49],[68,38,68,40],[68,41,68,43],[68,44,68,46],[68,47,68,49],[0,1,1,79],[2,1,3,79],[5,2,6,9],[5,10,6,54],[5,55,6,78],[7,55,8,60],[7,61,8,66],[7,67,8,72],[7,73,8,78],[7,2,8,9],[7,10,8,54],[9,2,10,9],[9,10,10,54],[11,2,12,9],[11,10,12,54],[9,55,12,66],[9,67,12,78],[16,58,18,66],[16,67,18,67],[16,15,18,23],[16,24,18,24]]}
[null,"Restricted Crossing U-Turn (E-W)"]
[]
[null,"Design and Results"]
[]
[]
[null,null,"Project Name:",null,null,null,null,null,null,null,{"$f":"P_Name","v":"Cap-X Sample Street"},null,null,null,null,null,null,null,null,null,null,null,null,null,null,null,null,null,null,null,null,null,null,null,null,null,null,null,null,null,null,null,null,null,null,null,null,null,null,null,null,null,null,null,null,"Volume-to-Capacity Ratio"]
[]
[null,null,"Project Number:",null,null,null,null,null,null,null,{"$f":"P_Number","v":10000},null,null,null,null,null,null,null,null,null,null,null,null,null,null,null,null,null,null,null,null,null,null,null,null,null,null,null,null,null,null,null,null,null,null,null,null,null,null,null,null,null,null,null,null,"< 0.750",null,null,null,null,null,"0.750 - 0.875",null,null,null,null,null,"0.875 - 1.00",null,null,null,null,null,"≥ 1.00"]
[]
[null,null,"Location",null,null,null,null,null,null,null,{"$f":"Location","v":"Anywhere, USA"},null,null,null,null,null,null,null,null,null,null,null,null,null,null,null,null,null,null,null,null,null,null,null,null,null,null,null,null,null,null,null,null,null,null,null,null,null,null,null,null,null,null,null,null,"VOLUME / CAPACITY RATIO:",null,null,null,null,null,null,null,null,null,null,null,{"$f":"MAX(P20,BG20,BG52,N52)","v":0.7}]
[]
[null,null,"Date",null,null,null,null,null,null,null,{"$f":"Date","v":"2017 AM"}]
[]
[]
[]
[]
[null,null,null,null,null,null,null,null,null,null,null,null,null,null,null,{"$f":"AO77","v":636.47058823529414},null,null,null,null,null,null,null,null,"CLV",null,null,null,null,null,null,null,null,null,null,null,null,null,null,null,null,null,null,null,null,null,null,null,null,null,null,null,null,null,null,null,null,null,{"$f":"BH83","v":908},null,null,null,null,null,null,null,null,"CLV"]
[]
[]
[null,null,null,null,null,null,null,null,null,null,null,null,null,null,null,{"$f":"ROUND(P17/CLV_Limit_2,2)","v":0.35},null,null,null,"V/C",{"$f":"CLV_Limit_2","v":1800},null,null,null,"MAX",null,null,null,null,null,null,null,null,null,null,null,null,null,null,null,null,null,null,null,null,null,null,null,null,null,null,null,null,null,null,null,null,null,{"$f":"ROUND(BG17/CLV_Limit_2,2)","v":0.5},null,null,null,"V/C",{"$f":"CLV_Limit_2","v":1800},null,null,null,"MAX"]
[]
[]
[null,null,null,null,null,null,null,null,null,null,null,null,null,null,null,null,null,null,null,null,"2 Phases",null,null,null,null,null,null,null,null,null,null,null,null,null,null,null,null,null,null,null,null,null,null,null,null,null,null,null,null,null,null,null,null,null,null,null,null,null,null,null,null,null,null,"2 Phases"]
[]
[]
[]
[]
[]
[]
[]
[]
[]
[]
[]
[]
[]
[]
[]
[]
[]
[]
[]
[]
[]
[]
[]
[]
[]
[null,null,null,null,null,null,null,null,null,null,null,null,null,{"$f":"O91","v":436.75},null,null,null,null,null,null,null,null,"CLV",null,null,null,null,null,null,null,null,null,null,null,null,null,null,null,null,null,null,null,null,null,null,null,null,null,null,null,null,null,null,null,null,null,null,null,{"$f":"AH97","v":1260},null,null,null,null,null,null,null,null,"CLV"]
[]
[]
[null,null,null,null,null,null,null,null,null,null,null,null,null,{"$f":"ROUND(N49/CLV_Limit_2,2)","v":0.24},null,null,null,"V/C",{"$f":"CLV_Limit_2","v":1800},null,null,null,"MAX",null,null,null,null,null,null,null,null,null,null,null,null,null,null,null,null,null,null,null,null,null,null,null,null,null,null,null,null,null,null,null,null,null,null,null,{"$f":"ROUND(BG49/CLV_Limit_2,2)","v":0.7},null,null,null,"V/C",{"$f":"CLV_Limit_2","v":1800},null,null,null,"MAX"]
[]
[]
[null,null,null,null,null,null,null,null,null,null,null,null,null,null,null,null,null,null,"2 Phases",null,null,null,null,"Note: This diagram does not reflect the actual lane configuration of the Intersection",null,null,null,null,null,null,null,null,null,null,null,null,null,null,null,null,null,null,null,null,null,null,null,null,null,null,null,null,null,null,null,null,null,null,null,null,null,null,null,"2 Phases"]
[]
[null,"Restricted Crossing U-Turn (E-W)"]
[]
[null,"Data Input and Configuration"]
[]
[]
[]
[]
[]
[]
[]
[]
[null,null,null,null,null,null,null,null,null,null,null,null,null,null,null,null,null,null,null,null,null,null,null,null,null,null,null,null,null,null,null,null,null,null,null,null,null,null,"pepch",null,null,"pepch",null,null,"pepch",null,null,"pepch"]
[null,null,null,null,null,null,null,null,null,null,null,null,null,null,null,null,null,null,null,null,null,null,null,null,null,null,null,null,null,null,null,null,null,null,null,null,null,null,{"$f":"SBR_Master","v":51},null,null,{"$f":"SBT_Master","v":204},null,null,{"$f":"SBL_Master","v":31},null,null,{"$f":"SBU_Master","v":0}]
[null,null,null,null,null,null,null,null,null,null,null,null,null,null,null,null,null,null,null,null,null,null,null,null,null,null,null,null,null,null,null,null,null,null,null,null,null,null,{"$f":"'3 - Alt Num Lanes Input'!AO58","v":1}]
[]
[]
[]
[]
[]
[]
[null,null,null,null,null,null,null,null,null,null,null,null,null,null,null,null,null,null,null,null,null,null,null,null,null,null,null,null,null,null,null,null,null,null,null,null,null,null,null,null,{"$f":"+(MAX((AZ80+AI104+AD85+AZ86)/AY80,(AD94+AP69)/RTAF/AE94) + MAX((AM69+AP69+AS69+AV69)/RTAF/AM70, (AD88+AV69)/LTAF/AE88))","v":636.47058823529414},null,null,null,null,null,null,null,null,null,{"$f":"IF('3 - Alt Num Lanes Input'!BE58=0,1,'3 - Alt Num Lanes Input'!BE58)","v":1},{"$f":"IF('3 - Alt Num Lanes Input'!BE58>0,WBR_Master,0)","v":51},"pepch"]
[]
[]
[null,null,null,null,null,null,null,null,null,null,null,null,null,null,null,null,null,null,null,null,null,null,null,null,null,null,null,null,null,null,null,null,null,null,null,null,null,null,null,null,null,null,null,null,null,null,null,null,null,null,{"$f":"'3 - Alt Num Lanes Input'!BC58","v":2},{"$f":"WBT_Master+IF('3 - Alt Num Lanes Input'!BE58=0,WBR_Master,0)","v":204},"pepch",null,null,null,null,null,null,null,null,null,null,null,null,null,null,null,null,{"$f":"'3 - Alt Num Lanes Input'!BC58","v":2},{"$f":"AZ86+AZ83+AZ80+AZ77","v":286},"pepch"]
[]
[null,null,null,null,null,null,null,null,null,null,null,null,null,null,{"$f":"IF('3 - Alt Num Lanes Input'!AY58=0,1,'3 - Alt Num Lanes Input'!AY58)","v":1},{"$f":"AP69+AS69+AV69+AZ86","v":235},"pepch"]
[null,null,null,null,null,null,null,null,null,null,null,null,null,null,null,null,null,null,null,null,null,null,null,null,null,null,null,null,null,null,null,null,null,null,null,null,null,null,null,null,null,null,null,null,null,null,null,null,null,null,{"$f":"'3 - Alt Num Lanes Input'!BA58","v":1},{"$f":"WBL_Master","v":31},"pepch",null,null,null,null,null,null,{"$f":"+(BS80/BR80 + BN89/UTAF/BO89)","v":908}]
[]
[null,null,null,null,null,null,null,null,null,null,null,null,null,null,null,null,null,null,null,null,null,null,null,null,null,null,null,null,"pepch",{"$f":"EBU_Master","v":0}]
[null,null,null,null,null,null,null,null,null,null,null,null,null,null,null,null,null,null,null,null,null,null,null,null,null,null,null,null,null,null,null,null,null,null,null,null,null,null,null,null,null,null,null,null,null,null,null,null,null,null,null,{"$f":"WBU_Master","v":0},"pepch"]
[]
[null,null,null,null,null,null,null,null,null,null,null,null,null,null,null,null,null,null,null,null,null,null,null,null,null,null,null,null,"pepch",{"$f":"EBL_Master","v":31},{"$f":"'3 - Alt Num Lanes Input'!AS58","v":1}]
[null,null,null,null,null,null,null,null,null,null,null,null,null,null,null,null,null,null,null,null,null,null,null,null,null,null,null,null,null,null,null,null,null,null,null,null,null,null,null,null,null,null,null,null,null,null,null,null,null,null,null,null,null,null,null,null,null,null,null,null,null,null,null,null,"pepch",{"$f":"AL104+AI104+AF104+AD85","v":612},{"$f":"IF('3 - Alt Num Lanes Input'!AQ58=0,1,'3 - Alt Num Lanes Input'!AQ58)","v":1}]
[]
[null,null,null,null,null,null,null,null,null,"pepch",{"$f":"AD94+AD91+AD88+AD85","v":286},{"$f":"'3 - Alt Num Lanes Input'!AU58","v":2},null,null,{"$f":"+(K91/L91 +P82/UTAF/O82)","v":436.75},null,null,null,null,null,null,null,null,null,null,null,null,null,"pepch",{"$f":"EBT_Master+IF('3 - Alt Num Lanes Input'!AW58=0,EBR_Master,0)","v":204},{"$f":"'3 - Alt Num Lanes Input'!AU58","v":2}]
[]
[]
[null,null,null,null,null,null,null,null,null,null,null,null,null,null,null,null,null,null,null,null,null,null,null,null,null,null,null,null,"pepch",{"$f":"IF('3 - Alt Num Lanes Input'!AW58>0,EBR_Master,0)","v":51},{"$f":"IF('3 - Alt Num Lanes Input'!AW58=0,1,'3 - Alt Num Lanes Input'!AW58)","v":1}]
[]
[]
[null,null,null,null,null,null,null,null,null,null,null,null,null,null,null,null,null,null,null,null,null,null,null,null,null,null,null,null,null,null,null,null,null,{"$f":"+(MAX((AD91+AS69+AZ86+AV69)/AE91,(AD94+AP69)/RTAF/AE94)+MAX((AO104+AF104+AI104+AL104)/RTAF/AO103,(AZ83+AF104)/LTAF/AY83))","v":1260}]
[]
[]
[]
[]
[]
[null,null,null,null,null,null,null,null,null,null,null,null,null,null,null,null,null,null,null,null,null,null,null,null,null,null,null,null,null,null,null,null,null,null,null,null,null,null,null,null,{"$f":"'3 - Alt Num Lanes Input'!AG58","v":1}]
[null,null,null,null,null,null,null,null,null,null,null,null,null,null,null,null,null,null,null,null,null,null,null,null,null,null,null,null,null,null,null,{"$f":"NBU_Master","v":0},null,null,{"$f":"NBL_Master","v":102},null,null,{"$f":"NBT_Master","v":510},null,null,{"$f":"NBR_Master","v":204}]
[null,null,null,null,null,null,null,null,null,null,null,null,null,null,null,null,null,null,null,null,null,null,null,null,null,null,null,null,null,null,null,"pepch",null,null,"pepch",null,null,"pepch",null,null,"pepch"]

{"sheet":"Unsig RCUT N-S","index":32,"n_rows":74,"n_cols":126,"rows_kept":74,"cut":false,"hidden":false,"merged":[[0,125,1,150],[32,119,34,119],[63,82,63,84],[17,110,17,112],[18,110,18,112],[29,108,29,110],[30,108,30,110],[23,116,25,116],[23,117,25,117],[20,117,22,117],[29,120,31,120],[26,117,28,117],[26,118,28,118],[26,119,28,119],[29,117,31,117],[29,118,31,118],[29,119,31,119],[32,118,34,118],[16,104,16,106],[41,112,43,115],[44,109,46,109],[44,110,46,110],[44,111,46,111],[44,112,46,115],[17,113,17,115],[18,113,18,115],[29,111,29,113],[30,111,30,113],[20,116,22,116],[48,73,48,75],[47,100,47,102],[48,91,48,93],[48,94,48,96],[48,97,48,99],[48,100,48,102],[33,102,33,104],[21,104,21,106],[26,116,28,116],[29,116,31,116],[29,115,31,115],[17,104,17,106],[18,104,18,106],[19,104,19,106],[20,104,20,106],[17,107,17,109],[18,107,18,109],[19,107,19,109],[20,107,20,109],[49,100,49,102],[50,100,53,102],[29,96,29,98],[30,96,30,98],[29,89,29,91],[50,66,52,66],[50,67,52,67],[50,68,52,68],[50,69,52,69],[49,73,49,75],[29,102,29,104],[30,102,30,104],[31,102,31,104],[32,102,32,104],[48,82,48,84],[49,82,49,84],[29,92,29,94],[47,82,47,84],[47,91,47,93],[47,94,47,96],[47,97,47,99],[53,68,55,68],[53,69,55,69],[48,76,48,78],[29,105,29,107],[30,105,30,107],[31,105,31,107],[32,105,32,107],[48,79,48,81],[20,101,20,103],[28,99,28,101],[47,85,47,87],[32,99,32,101],[28,102,28,104],[38,109,40,109],[38,110,40,110],[38,111,40,111],[38,112,40,115],[32,116,34,116],[32,117,34,117],[47,66,49,66],[47,67,49,67],[47,68,49,68],[47,69,49,69],[35,112,37,115],[38,70,40,73],[38,74,40,74],[38,75,40,75],[38,76,40,76],[38,79,40,86],[38,99,40,106],[41,99,43,106],[41,109,43,109],[35,109,37,109],[35,110,37,110],[35,111,37,111],[41,110,43,110],[41,111,43,111],[17,98,17,100],[18,98,18,100],[61,85,61,87],[16,98,16,100],[35,118,37,118],[41,67,43,67],[22,89,22,91],[56,94,56,96],[60,85,60,87],[17,101,17,103],[19,101,19,103],[18,101,18,103],[60,82,60,84],[61,82,61,84],[29,99,29,101],[30,99,30,101],[31,99,31,101],[35,116,37,116],[35,117,37,117],[41,68,43,68],[41,69,43,69],[54,94,54,96],[55,94,55,96],[16,95,16,97],[0,1,1,60],[0,63,1,122],[2,1,3,60],[2,63,3,122],[5,2,6,9],[5,10,6,35],[5,36,6,59],[6,86,9,88],[7,2,8,9],[7,10,8,35],[10,86,10,88],[11,2,12,9],[11,10,12,35],[11,86,11,88],[12,86,12,88],[16,85,18,92],[7,36,8,41],[7,42,8,47],[7,48,8,53],[7,54,8,59],[9,2,10,9],[9,10,10,35],[9,36,12,47],[9,48,12,59],[17,95,17,97],[18,95,18,97],[19,5,21,13],[19,14,21,14],[19,85,21,92],[19,95,22,97],[22,5,24,8],[22,9,24,9],[22,10,24,13],[23,89,23,91],[24,89,24,91],[30,47,32,50],[30,51,32,51],[30,52,32,55],[30,56,32,56],[30,83,30,85],[30,86,30,88],[30,89,30,91],[30,92,30,94],[22,14,24,14],[25,10,25,14],[25,83,28,85],[25,86,28,88],[25,89,28,91],[25,92,28,94],[27,47,29,55],[27,56,29,56],[29,83,29,85],[29,86,29,88],[31,83,31,85],[31,86,31,88],[31,89,31,91],[31,92,31,94],[32,70,34,73],[32,74,34,74],[33,52,33,56],[35,70,37,73],[35,74,37,74],[35,75,37,75],[35,76,37,76],[35,79,37,86],[41,70,43,73],[41,74,43,74],[41,75,43,75],[41,76,43,76],[32,75,34,75],[32,76,34,76],[63,79,63,81],[64,79,64,81],[60,76,60,78],[49,94,49,96],[49,97,49,99],[50,91,53,93],[50,94,53,96],[50,97,53,99],[50,82,50,84],[51,82,51,84],[52,82,52,84],[61,76,61,78],[62,76,62,78],[63,76,63,78],[49,88,49,90],[49,85,49,87],[50,85,50,87],[49,91,49,93],[60,79,60,81],[61,79,61,81],[62,79,62,81],[59,79,59,81],[49,79,49,81],[50,79,50,81],[60,73,60,75],[61,73,61,75],[61,88,61,90],[62,10,62,14],[62,88,62,90],[44,69,46,69],[44,68,46,68],[44,67,46,67],[44,66,46,66],[48,88,48,90],[48,85,48,87],[47,65,49,65],[56,69,58,69],[56,68,58,68],[60,70,60,72],[61,70,61,72],[51,79,51,81],[51,85,51,87],[49,76,49,78],[64,47,66,55],[64,56,66,56],[66,97,66,99],[56,5,58,13],[56,14,58,14],[56,88,59,90],[57,93,59,100],[59,5,61,8],[73,14,73,47],[67,47,69,50],[67,51,69,51],[67,52,69,55],[67,56,69,56],[67,97,67,99],[68,97,68,99],[69,97,72,99],[70,52,70,56],[59,9,61,9],[59,10,61,13],[59,14,61,14],[60,88,60,90],[60,93,62,100],[62,85,62,87],[62,82,62,84]]}
[null,"Unsignalized Restricted Crossing U-Turn (N-S)",null,null,null,null,null,null,null,null,null,null,null,null,null,null,null,null,null,null,null,null,null,null,null,null,null,null,null,null,null,null,null,null,null,null,null,null,null,null,null,null,null,null,null,null,null,null,null,null,null,null,null,null,null,null,null,null,null,null,null,null,null,"Unsignalized Restricted Crossing U-Turn (N-S)",null,null,null,null,null,null,null,null,null,null,null,null,null,null,null,null,null,null,null,null,null,null,null,null,null,null,null,null,null,null,null,null,null,null,null,null,null,null,null,null,null,null,null,null,null,null,null,null,null,null,null,null,null,null,null,null,null,null,null,null,null,"Assumptions"]
[]
[null,"Design and Results",null,null,null,null,null,null,null,null,null,null,null,null,null,null,null,null,null,null,null,null,null,null,null,null,null,null,null,null,null,null,null,null,null,null,null,null,null,null,null,null,null,null,null,null,null,null,null,null,null,null,null,null,null,null,null,null,null,null,null,null,null,"Data Input and Configuration"]
[]
[]
[null,null,"Project Name:",null,null,null,null,null,null,null,{"$f":"P_Name","v":"Cap-X Sample Street"},null,null,null,null,null,null,null,null,null,null,null,null,null,null,null,null,null,null,null,null,null,null,null,null,null,"Volume-to-Capacity Ratio"]
[]
[null,null,"Project Number:",null,null,null,null,null,null,null,{"$f":"P_Number","v":10000},null,null,null,null,null,null,null,null,null,null,null,null,null,null,null,null,null,null,null,null,null,null,null,null,null,"< 0.750",null,null,null,null,null,"0.750 - 0.875",null,null,null,null,null,"0.875 - 1.00",null,null,null,null,null,"≥ 1.00"]
[]
[null,null,"Location",null,null,null,null,null,null,null,{"$f":"Location","v":"Anywhere, USA"},null,null,null,null,null,null,null,null,null,null,null,null,null,null,null,null,null,null,null,null,null,null,null,null,null,"VOLUME / CAPACITY RATIO:",null,null,null,null,null,null,null,null,null,null,null,{"$f":"MAX(F23,AV31,F60,AV68)","v":0.58924366590961619}]
[null,null,null,null,null,null,null,null,null,null,null,null,null,null,null,null,null,null,null,null,null,null,null,null,null,null,null,null,null,null,null,null,null,null,null,null,null,null,null,null,null,null,null,null,null,null,null,null,null,null,null,null,null,null,null,null,null,null,null,null,null,null,null,null,null,null,null,null,null,null,null,null,null,null,null,null,null,null,null,null,null,null,null,null,null,null,"pepch"]
[null,null,"Date",null,null,null,null,null,null,null,{"$f":"Date","v":"2017 AM"},null,null,null,null,null,null,null,null,null,null,null,null,null,null,null,null,null,null,null,null,null,null,null,null,null,null,null,null,null,null,null,null,null,null,null,null,null,null,null,null,null,null,null,null,null,null,null,null,null,null,null,null,null,null,null,null,null,null,null,null,null,null,null,null,null,null,null,null,null,null,null,null,null,null,null,{"$f":"CF31+CI31+CL31+CO31","v":286}]
[null,null,null,null,null,null,null,null,null,null,null,null,null,null,null,null,null,null,null,null,null,null,null,null,null,null,null,null,null,null,null,null,null,null,null,null,null,null,null,null,null,null,null,null,null,null,null,null,null,null,null,null,null,null,null,null,null,null,null,null,null,null,null,null,null,null,null,null,null,null,null,null,null,null,null,null,null,null,null,null,null,null,null,null,null,null,{"$f":"'3 - Alt Num Lanes Input'!AM60","v":2}]
[]
[]
[]
[null,null,null,null,null,null,null,null,null,null,null,null,null,null,null,null,null,null,null,null,null,null,null,null,null,null,null,null,null,null,null,null,null,null,null,null,null,null,null,null,null,null,null,null,null,null,null,null,null,null,null,null,null,null,null,null,null,null,null,null,null,null,null,null,null,null,null,null,null,null,null,null,null,null,null,null,null,null,null,null,null,null,null,null,null,null,null,null,null,null,null,null,null,null,null,{"$f":"'3 - Alt Num Lanes Input'!AA60","v":1},null,null,{"$f":"CI32","v":2}]
[null,null,null,null,null,null,null,null,null,null,null,null,null,null,null,null,null,null,null,null,null,null,null,null,null,null,null,null,null,null,null,null,null,null,null,null,null,null,null,null,null,null,null,null,null,null,null,null,null,null,null,null,null,null,null,null,null,null,null,null,null,null,null,null,null,null,null,null,null,null,null,null,null,null,null,null,null,null,null,null,null,null,null,null,null,null,null,null,null,null,null,null,null,null,null,{"$f":"DG39+DG42+DG45+CN49","v":235},null,null,{"$f":"CL25","v":286},null,null,"tc,base",null,null,"tc,HV",null,null,"tc",null,null,"Cp=Cm",null,null,"v/c"]
[null,null,null,null,null,null,null,null,null,null,null,null,null,null,null,null,null,null,null,null,null,null,null,null,null,null,null,null,null,null,null,null,null,null,null,null,null,null,null,null,null,null,null,null,null,null,null,null,null,null,null,null,null,null,null,null,null,null,null,null,null,null,null,null,null,null,null,null,null,null,null,null,null,null,null,null,null,null,null,null,null,null,null,null,null,null,null,null,null,null,null,null,null,null,null,"pepch",null,null,"Vc",null,null,4.4000000000000004,null,null,{"$f":"IF(CU17=1, 1,2)","v":2},null,null,{"$f":"CX19+(DA19*DA22)","v":4.4400000000000004},null,null,{"$f":"CU18*(EXP((-CU18*DD19/3600))/(1-EXP(-CU18*DD21/3600)))","v":1069.6097866852504},null,null,{"$f":"CR18/DG19","v":0.21970629188825147}]
[null,null,null,null,null,{"$f":"CH20","v":286},null,null,null,null,null,null,null,null,"CLV",null,null,null,null,null,null,null,null,null,null,null,null,null,null,null,null,null,null,null,null,null,null,null,null,null,null,null,null,null,null,null,null,null,null,null,null,null,null,null,null,null,null,null,null,null,null,null,null,null,null,null,null,null,null,null,null,null,null,null,null,null,null,null,null,null,null,null,null,null,null,{"$f":"CU18","v":286},null,null,null,null,null,null,null,null,null,null,null,null,null,null,null,"tf,base",null,null,"tf,HV",null,null,"tf"]
[null,null,null,null,null,null,null,null,null,null,null,null,null,null,null,null,null,null,null,null,null,null,null,null,null,null,null,null,null,null,null,null,null,null,null,null,null,null,null,null,null,null,null,null,null,null,null,null,null,null,null,null,null,null,null,null,null,null,null,null,null,null,null,null,null,null,null,null,null,null,null,null,null,null,null,null,null,null,null,null,null,null,null,null,null,null,null,null,null,null,null,null,null,null,null,null,null,null,null,null,null,2.6,null,null,{"$f":"IF(CU17=1,0.9,1)","v":1},null,null,{"$f":"CX21+(DA21*DA22)","v":2.62},null,null,null,null,null,null,null,null,"v/c",{"$f":"(DG36+DG39+DG42+DG45)/DN24","v":0.58924366590961619}]
[null,null,null,null,null,null,null,null,null,null,null,null,null,null,null,null,null,null,null,null,null,null,null,null,null,null,null,null,null,null,null,null,null,null,null,null,null,null,null,null,null,null,null,null,null,null,null,null,null,null,null,null,null,null,null,null,null,null,null,null,null,null,null,null,null,null,null,null,null,null,null,null,null,null,null,null,null,null,null,null,null,null,null,null,null,null,null,null,null,null,null,null,null,null,null,null,null,null,null,null,null,null,null,null,{"$f":"'1 - Volume Input'!AQ38","v":0.02}]
[null,null,null,null,null,{"$f":"DJ19","v":0.21970629188825147},null,null,null,"V/C",{"$f":"DG19","v":1069.6097866852504},null,null,null,"MAX",null,null,null,null,null,null,null,null,null,null,null,null,null,null,null,null,null,null,null,null,null,null,null,null,null,null,null,null,null,null,null,null,null,null,null,null,null,null,null,null,null,null,null,null,null,null,null,null,null,null,null,null,null,null,null,null,null,null,null,null,null,null,null,null,null,null,null,null,null,null,null,null,null,null,{"$f":"CT48","v":2}]
[null,null,null,null,null,null,null,null,null,null,null,null,null,null,null,null,null,null,null,null,null,null,null,null,null,null,null,null,null,null,null,null,null,null,null,null,null,null,null,null,null,null,null,null,null,null,null,null,null,null,null,null,null,null,null,null,null,null,null,null,null,null,null,null,null,null,null,null,null,null,null,null,null,null,null,null,null,null,null,null,null,null,null,null,null,null,null,null,null,"Vc",null,null,null,null,null,null,null,null,null,null,null,null,null,null,null,null,null,null,null,null,null,null,null,null,null,null,"Cp=Cm",{"$f":"DM36*(EXP((-DM36*DN27/3600))/(1-EXP(-DM36*DP27/3600)))","v":485.36796667725133}]
[null,null,null,null,null,null,null,null,null,null,null,null,null,null,null,null,null,null,null,null,null,null,null,null,null,null,null,null,null,null,null,null,null,null,null,null,null,null,null,null,null,null,null,null,null,null,null,null,null,null,null,null,null,null,null,null,null,null,null,null,null,null,null,null,null,null,null,null,null,null,null,null,null,null,null,null,null,null,null,null,null,null,null,null,null,null,null,null,null,{"$f":"SBL_Master+SBT_Master+SBR_Master+SBU_Master","v":286}]
[]
[null,null,null,null,null,null,null,null,null,null,null,null,null,null,null,null,null,null,null,null,null,null,null,null,null,null,null,null,null,null,null,null,null,null,null,null,null,null,null,null,null,null,null,null,null,null,null,null,null,null,null,null,null,null,null,null,null,null,null,null,null,null,null,null,null,null,null,null,null,null,null,null,null,null,null,null,null,null,null,null,null,null,null,null,null,null,null,null,null,null,null,null,null,null,null,null,null,null,null,null,null,null,null,null,null,null,null,null,null,null,null,null,null,null,null,null,"tc",{"$f":"DN33+(DN30*DQ30)","v":6.94},"tf",{"$f":"DP33+(DP30*DQ30)","v":3.32}]
[null,null,null,null,null,null,null,null,null,null,null,null,null,null,null,null,null,null,null,null,null,null,null,null,null,null,null,null,null,null,null,null,null,null,null,null,null,null,null,null,null,null,null,null,null,null,null,{"$f":"CV42","v":541},null,null,null,null,null,null,null,null,"CLV"]
[null,null,null,null,null,null,null,null,null,null,null,null,null,null,null,null,null,null,null,null,null,null,null,null,null,null,null,null,null,null,null,null,null,null,null,null,null,null,null,null,null,null,null,null,null,null,null,null,null,null,null,null,null,null,null,null,null,null,null,null,null,null,null,null,null,null,null,null,null,null,null,null,null,null,null,null,null,null,null,null,null,null,null,null,null,null,null,null,null,null,null,null,null,null,null,null,null,null,null,"SBLT"]
[null,null,null,null,null,null,null,null,null,null,null,null,null,null,null,null,null,null,null,null,null,null,null,null,null,null,null,null,null,null,null,null,null,null,null,null,null,null,null,null,null,null,null,null,null,null,null,null,null,null,null,null,null,null,null,null,null,null,null,null,null,null,null,null,null,null,null,null,null,null,null,null,null,null,null,null,null,null,null,null,null,null,null,"pepch",null,null,"pepch",null,null,"pepch",null,null,"pepch",null,null,null,"Vc",null,null,"tc,base",null,null,"tc,HV",null,null,"tc",null,null,"Cp=Cm",null,null,"v/c",null,null,null,null,"tc,HV",{"$f":"IF(DO36=1, 1,2)","v":2},"tf,HV",{"$f":"IF(DO36=1,0.9,1)","v":1},{"$f":"'1 - Volume Input'!AQ34","v":0.02}]
[null,null,null,null,null,null,null,null,null,null,null,null,null,null,null,null,null,null,null,null,null,null,null,null,null,null,null,null,null,null,null,null,null,null,null,null,null,null,null,null,null,null,null,null,null,null,null,{"$f":"MAX(DH31,DN21)","v":0.58924366590961619},null,null,null,"V/C",{"$f":"IF(Result_URCUT_NS_VC_Z3=DN21,DN24,DE31)","v":485.36796667725133},null,null,null,"MAX",null,null,null,null,null,null,null,null,null,null,null,null,null,null,null,null,null,null,null,null,null,null,null,null,null,null,{"$f":"SBR_Master","v":51},null,null,{"$f":"SBT_Master","v":204},null,null,{"$f":"SBL_Master","v":31},null,null,{"$f":"SBU_Master","v":0},null,null,null,{"$f":"NBT_Master+NBR_Master+NBU_Master+SBU_Master+EBT_Master+EBL_Master","v":949},null,null,{"$f":"IF(CL23=3, 5.3,4.1)","v":4.0999999999999996},null,null,{"$f":"IF(CL23=1, 1,2)","v":2},null,null,{"$f":"CV31+(CY31*CY34)","v":4.1399999999999997},null,null,{"$f":"CS31*(EXP((-CS31*DB31/3600))/(1-EXP(-CS31*DB33/3600)))","v":719.25131353681434},null,null,{"$f":"(CL31+DG45)/DE31","v":4.3100373147129868E-2}]
[null,null,null,null,null,null,null,null,null,null,null,null,null,null,null,null,null,null,null,null,null,null,null,null,null,null,null,null,null,null,null,null,null,null,null,null,null,null,null,null,null,null,null,null,null,null,null,null,null,null,null,null,null,null,null,null,null,null,null,null,null,null,null,null,null,null,null,null,null,null,null,null,null,null,null,null,null,null,null,null,null,null,null,{"$f":"'3 - Alt Num Lanes Input'!AO60","v":1},null,null,{"$f":"'3 - Alt Num Lanes Input'!AM60","v":2},null,null,{"$f":"'3 - Alt Num Lanes Input'!AK60","v":1},null,null,null,null,null,null,null,null,null,"tf,base",null,null,"tf,HV",null,null,"tf"]
[null,null,null,null,null,null,null,null,null,null,null,null,null,null,null,null,null,null,null,null,null,null,null,null,null,null,null,null,null,null,null,null,null,null,null,null,null,null,null,null,null,null,null,null,null,null,null,null,null,null,null,null,null,null,null,null,null,null,null,null,null,null,null,null,null,null,null,null,null,null,null,null,null,null,"pepch",{"$f":"EBU_Master","v":0},null,null,null,null,null,null,null,null,null,null,null,null,null,null,null,null,null,null,null,null,null,null,null,{"$f":"IF(CL23=3,3.1,2.2)","v":2.2000000000000002},null,null,{"$f":"IF(CL23=1,0.9,1)","v":1},null,null,{"$f":"CV33+(CY33*CY34)","v":2.2200000000000002},null,null,null,null,null,null,null,null,null,null,"tc,base",{"$f":"IF(DO36=1,6.2,IF(DO36=2,6.9,7.1))","v":6.9},"tf,base",{"$f":"IF(DO36=3,3.9,3.3)","v":3.3}]
[null,null,null,null,null,null,null,null,null,null,null,null,null,null,null,null,null,null,null,null,null,null,null,null,null,null,null,null,null,null,null,null,null,null,null,null,null,null,null,null,null,null,null,null,null,null,null,null,null,null,null,null,null,null,null,null,null,null,null,null,null,null,null,null,null,null,null,null,null,null,null,null,null,null,null,null,null,null,null,null,null,null,null,null,null,null,null,null,null,null,null,null,null,null,null,null,null,null,null,null,null,null,{"$f":"'1 - Volume Input'!AQ36","v":0.02}]
[]
[null,null,null,null,null,null,null,null,null,null,null,null,null,null,null,null,null,null,null,null,null,null,null,null,null,null,null,null,null,null,null,null,null,null,null,null,null,null,null,null,null,null,null,null,null,null,null,null,null,null,null,null,null,null,null,null,null,null,null,null,null,null,null,null,null,null,null,null,null,null,null,null,null,null,"pepch",{"$f":"EBL_Master","v":31},null,null,null,null,null,null,null,null,null,null,null,null,null,null,null,null,null,null,null,null,null,null,null,null,null,null,null,null,null,null,null,null,null,{"$f":"'3 - Alt Num Lanes Input'!BE60","v":1},{"$f":"WBR_Master","v":51},"pepch",null,null,null,null,{"$f":"NBT_Master+NBU_Master+SBU_Master+EBL_Master+0.5*IF(CW48=0,NBR_Master+EBT_Master,0)","v":541},"Vc",{"$f":"CT48","v":2}]
[]
[]
[null,null,null,null,null,null,null,null,null,null,null,null,null,null,null,null,null,null,null,null,null,null,null,null,null,null,null,null,null,null,null,null,null,null,null,null,null,null,null,null,null,null,null,null,null,null,null,null,null,null,null,null,null,null,null,null,null,null,null,null,null,null,null,null,null,null,null,null,null,null,null,null,null,null,"pepch",{"$f":"EBT_Master","v":204},null,null,null,{"$f":"IF(Result_URCUT_NS_VC_Z4=BQ57,BR42,CK50)","v":235},null,null,null,null,null,null,null,null,null,null,null,null,null,null,null,null,null,null,null,null,null,null,null,null,null,null,null,null,null,null,{"$f":"WBT_Master","v":204},"pepch"]
[]
[]
[null,null,null,null,null,null,null,null,null,null,null,null,null,null,null,null,null,null,null,null,null,null,null,null,null,null,null,null,null,null,null,null,null,null,null,null,null,null,null,null,null,null,null,null,null,null,null,null,null,null,null,null,null,null,null,null,null,null,null,null,null,null,null,null,null,null,null,{"$f":"CI32","v":2},"Vc",{"$f":"SBT_Master+SBU_Master+NBU_Master+WBL_Master+0.5*IF(CF32=0,SBR_Master+WBT_Master,0)","v":235},null,null,null,null,"pepch",{"$f":"EBR_Master","v":51},{"$f":"'3 - Alt Num Lanes Input'!AW60","v":1},null,null,null,null,null,null,null,null,null,null,null,null,null,null,null,null,null,null,null,null,null,null,{"$f":"IF(Result_URCUT_NS_VC_Z3=DN21,DM36,CS31)","v":541},null,null,null,null,null,null,null,null,null,null,{"$f":"WBL_Master","v":31},"pepch"]
[]
[]
[null,null,null,null,null,null,null,null,null,null,null,null,null,null,null,null,null,null,null,null,null,null,null,null,null,null,null,null,null,null,null,null,null,null,null,null,null,null,null,null,null,null,null,null,null,null,null,null,null,null,null,null,null,null,null,null,null,null,null,null,null,null,null,null,null,null,{"$f":"IF(BP42=3,3.9,3.3)","v":3.3},"tf,base",{"$f":"IF(BP42=1,6.2,IF(BP42=2,6.9,7.1))","v":6.9},"tc,base",null,null,null,null,null,null,null,null,null,null,null,null,null,null,null,null,null,null,null,null,null,null,null,null,null,null,null,null,null,null,null,null,null,null,null,null,null,null,null,null,{"$f":"WBU_Master","v":0},"pepch"]
[]
[]
[null,null,null,null,null,null,null,null,null,null,null,null,null,null,null,null,null,null,null,null,null,null,null,null,null,null,null,null,null,null,null,null,null,null,null,null,null,null,null,null,null,null,null,null,null,null,null,null,null,null,null,null,null,null,null,null,null,null,null,null,null,null,null,null,null,{"$f":"'1 - Volume Input'!AQ32","v":0.02},{"$f":"IF(BP42=1,0.9,1)","v":1},"tf,HV",{"$f":"IF(BP42=1, 1,2)","v":2},"tc,HV",null,null,null,null,null,null,null,null,null,null,null,null,null,null,null,"NBLT",null,null,null,null,null,null,null,null,{"$f":"'3 - Alt Num Lanes Input'!AC60","v":1},null,null,{"$f":"'3 - Alt Num Lanes Input'!AE60","v":2},null,null,{"$f":"'3 - Alt Num Lanes Input'!AG60","v":1}]
[null,null,null,null,null,null,null,null,null,null,null,null,null,null,null,null,null,null,null,null,null,null,null,null,null,null,null,null,null,null,null,null,null,null,null,null,null,null,null,null,null,null,null,null,null,null,null,null,null,null,null,null,null,null,null,null,null,null,null,null,null,null,null,null,null,null,null,null,null,null,null,null,null,"v/c",null,null,"Cp=Cm",null,null,"tc",null,null,"tc,HV",null,null,"tc,base",null,null,"Vc",null,null,{"$f":"NBU_Master","v":0},null,null,{"$f":"NBL_Master","v":102},null,null,{"$f":"NBT_Master","v":510},null,null,{"$f":"NBR_Master","v":204}]
[null,null,null,null,null,null,null,null,null,null,null,null,null,null,null,null,null,null,null,null,null,null,null,null,null,null,null,null,null,null,null,null,null,null,null,null,null,null,null,null,null,null,null,null,null,null,null,null,null,null,null,null,null,null,null,null,null,null,null,null,null,null,null,null,null,null,null,null,null,null,null,null,null,{"$f":"(CQ49+BX33)/BY50","v":9.5370022755692424E-2},null,null,{"$f":"CK50*(EXP((-CK50*CB50/3600))/(1-EXP(-CK50*CB52/3600)))","v":1069.5184613858326},null,null,{"$f":"CH50+(CE50*CE53)","v":4.1399999999999997},null,null,{"$f":"IF(CQ57=1, 1,2)","v":2},null,null,{"$f":"IF(CQ57=3, 5.3,4.1)","v":4.0999999999999996},null,null,{"$f":"SBT_Master+SBR_Master+SBU_Master+NBU_Master+WBT_Master+WBL_Master","v":490},null,null,"pepch",null,null,"pepch",null,null,"pepch",null,null,"pepch"]
[null,null,null,null,null,null,null,null,null,null,null,null,null,null,null,null,null,null,null,null,null,null,null,null,null,null,null,null,null,null,null,null,null,null,null,null,null,null,null,null,null,null,null,null,null,null,null,null,null,null,null,null,null,null,null,null,null,null,null,null,null,null,null,null,null,null,{"$f":"BO45+(BO48*BN48)","v":3.32},"tf",{"$f":"BQ45+(BQ48*BN48)","v":6.94},"tc",null,null,null,null,null,null,null,null,null,"tf",null,null,"tf,HV",null,null,"tf,base"]
[null,null,null,null,null,null,null,null,null,null,null,null,null,null,null,null,null,null,null,null,null,null,null,null,null,null,null,null,null,null,null,null,null,null,null,null,null,null,null,null,null,null,null,null,null,null,null,null,null,null,null,null,null,null,null,null,null,null,null,null,null,null,null,null,null,null,null,null,null,null,null,null,null,null,null,null,null,null,null,{"$f":"CH52+(CE52*CE53)","v":2.2200000000000002},null,null,{"$f":"IF(CQ57=1,0.9,1)","v":1},null,null,{"$f":"IF(CQ57=3,3.1,2.2)","v":2.2000000000000002}]
[null,null,null,null,null,null,null,null,null,null,null,null,null,null,null,null,null,null,null,null,null,null,null,null,null,null,null,null,null,null,null,null,null,null,null,null,null,null,null,null,null,null,null,null,null,null,null,null,null,null,null,null,null,null,null,null,null,null,null,null,null,null,null,null,null,null,null,null,null,null,null,null,null,null,null,null,null,null,null,null,null,null,{"$f":"'1 - Volume Input'!AQ38","v":0.02}]
[null,null,null,null,null,null,null,null,null,null,null,null,null,null,null,null,null,null,null,null,null,null,null,null,null,null,null,null,null,null,null,null,null,null,null,null,null,null,null,null,null,null,null,null,null,null,null,null,null,null,null,null,null,null,null,null,null,null,null,null,null,null,null,null,null,null,null,null,{"$f":"BR42*(EXP((-BR42*BQ51/3600))/(1-EXP(-BR42*BO51/3600)))","v":766.70446831531774},"Cp=Cm"]
[null,null,null,null,null,null,null,null,null,null,null,null,null,null,null,null,null,null,null,null,null,null,null,null,null,null,null,null,null,null,null,null,null,null,null,null,null,null,null,null,null,null,null,null,null,null,null,null,null,null,null,null,null,null,null,null,null,null,null,null,null,null,null,null,null,null,null,null,null,null,null,null,null,null,null,null,null,null,null,null,null,null,null,null,null,null,null,null,null,null,null,null,null,null,{"$f":"NBL_Master+NBT_Master+NBR_Master+NBU_Master","v":816}]
[null,null,null,null,null,null,null,null,null,null,null,null,null,null,null,null,null,null,null,null,null,null,null,null,null,null,null,null,null,null,null,null,null,null,null,null,null,null,null,null,null,null,null,null,null,null,null,null,null,null,null,null,null,null,null,null,null,null,null,null,null,null,null,null,null,null,null,null,null,null,null,null,null,null,null,null,null,null,null,null,null,null,null,null,null,null,null,null,null,null,null,null,null,null,"Vc"]
[null,null,null,null,null,{"$f":"CB39","v":235},null,null,null,null,null,null,null,null,"CLV",null,null,null,null,null,null,null,null,null,null,null,null,null,null,null,null,null,null,null,null,null,null,null,null,null,null,null,null,null,null,null,null,null,null,null,null,null,null,null,null,null,null,null,null,null,null,null,null,null,null,null,null,null,{"$f":"(BX42+BX39+BX36+BX33)/BQ54","v":0.37302508570013782},"v/c",null,null,null,null,null,null,null,null,null,null,null,null,null,null,null,null,null,null,null,null,null,null,null,null,{"$f":"CI32","v":2}]
[]
[]
[null,null,null,null,null,{"$f":"MAX(BV50,BQ57)","v":0.37302508570013782},null,null,null,"V/C",{"$f":"IF(Result_URCUT_NS_VC_Z4=BQ57,BQ54,BW49)","v":766.70446831531774},null,null,null,"MAX"]
[null,null,null,null,null,null,null,null,null,null,null,null,null,null,null,null,null,null,null,null,null,null,null,null,null,null,null,null,null,null,null,null,null,null,null,null,null,null,null,null,null,null,null,null,null,null,null,null,null,null,null,null,null,null,null,null,null,null,null,null,null,null,null,null,null,null,null,null,null,null,"v/c",null,null,"Cp=Cm",null,null,"tc",null,null,"tc,HV",null,null,"tc,base",null,null,"Vc",null,null,"pepch",null,null,null,null,{"$f":"CH62","v":816}]
[null,null,null,null,null,null,null,null,null,null,null,null,null,null,null,null,null,null,null,null,null,null,null,null,null,null,null,null,null,null,null,null,null,null,null,null,null,null,null,null,null,null,null,null,null,null,null,null,null,null,null,null,null,null,null,null,null,null,null,null,null,null,null,null,null,null,null,null,null,null,{"$f":"CK62/BV62","v":0.35281527018121533},null,null,{"$f":"CH62*(EXP((-CH62*BY62/3600))/(1-EXP(-CH62*BY64/3600)))","v":666.07094380948342},null,null,{"$f":"CE62+(CB62*CB65)","v":4.4400000000000004},null,null,{"$f":"IF(CH63=1, 1,2)","v":2},null,null,4.4000000000000004,null,null,{"$f":"CQ55","v":816},null,null,{"$f":"CO31+BX36+BX39+BX33","v":235}]
[null,null,null,null,null,null,null,null,null,null,null,null,null,null,null,null,null,null,null,null,null,null,null,null,null,null,null,null,null,null,null,null,null,null,null,null,null,null,null,null,null,null,null,null,null,null,null,null,null,null,null,null,null,null,null,null,null,null,null,null,null,null,null,null,null,null,null,null,null,null,null,null,null,null,null,null,"tf",null,null,"tf,HV",null,null,"tf,base",null,null,{"$f":"CT48","v":2},null,null,{"$f":"'3 - Alt Num Lanes Input'!AI60","v":1}]
[null,null,null,null,null,null,null,null,null,null,null,null,null,null,null,null,null,null,null,null,null,null,null,null,null,null,null,null,null,null,null,null,null,null,null,null,null,null,null,null,null,null,null,null,null,null,null,null,null,null,null,null,null,null,null,null,null,null,null,null,null,null,null,null,null,null,null,null,null,null,null,null,null,null,null,null,{"$f":"CE64+(CB64*CB65)","v":2.62},null,null,{"$f":"IF(CH63=1,0.9,1)","v":1},null,null,2.6]
[null,null,null,null,null,null,null,null,null,null,null,null,null,null,null,null,null,null,null,null,null,null,null,null,null,null,null,null,null,null,null,null,null,null,null,null,null,null,null,null,null,null,null,null,null,null,null,{"$f":"CP61","v":816},null,null,null,null,null,null,null,null,"CLV",null,null,null,null,null,null,null,null,null,null,null,null,null,null,null,null,null,null,null,null,null,null,{"$f":"'1 - Volume Input'!AQ36","v":0.02}]
[]
[null,null,null,null,null,null,null,null,null,null,null,null,null,null,null,null,null,null,null,null,null,null,null,null,null,null,null,null,null,null,null,null,null,null,null,null,null,null,null,null,null,null,null,null,null,null,null,null,null,null,null,null,null,null,null,null,null,null,null,null,null,null,null,null,null,null,null,null,null,null,null,null,null,null,null,null,null,null,null,null,null,null,null,null,null,null,null,null,null,null,null,null,null,null,null,null,null,{"$f":"'3 - Alt Num Lanes Input'!AE60","v":2}]
[null,null,null,null,null,null,null,null,null,null,null,null,null,null,null,null,null,null,null,null,null,null,null,null,null,null,null,null,null,null,null,null,null,null,null,null,null,null,null,null,null,null,null,null,null,null,null,{"$f":"BS62","v":0.35281527018121533},null,null,null,"V/C",{"$f":"BV62","v":666.07094380948342},null,null,null,"MAX",null,null,null,null,null,null,null,null,null,null,null,null,null,null,null,null,null,null,null,null,null,null,null,null,null,null,null,null,null,null,null,null,null,null,null,null,null,null,null,null,{"$f":"CN49+CQ49+CT49+CW49","v":816}]
[null,null,null,null,null,null,null,null,null,null,null,null,null,null,null,null,null,null,null,null,null,null,null,null,null,null,null,null,null,null,null,null,null,null,null,null,null,null,null,null,null,null,null,null,null,null,null,null,null,null,null,null,null,null,null,null,null,null,null,null,null,null,null,null,null,null,null,null,null,null,null,null,null,null,null,null,null,null,null,null,null,null,null,null,null,null,null,null,null,null,null,null,null,null,null,null,null,"pepch"]
[]
[]
[]
[]
[null,null,null,null,null,null,null,null,null,null,null,null,null,null,"Note: This diagram does not reflect the actual lane configuration of the Intersection"]

{"sheet":"Unsig RCUT E-W","index":33,"n_rows":107,"n_cols":83,"rows_kept":107,"cut":false,"hidden":false,"merged":[[0,82,1,107],[7,73,8,78],[9,2,10,9],[9,10,10,54],[9,55,12,66],[9,67,12,78],[11,2,12,9],[11,10,12,54],[0,1,1,79],[2,1,3,79],[5,2,6,9],[5,10,6,54],[5,55,6,78],[7,2,8,9],[7,10,8,54],[7,55,8,60],[7,61,8,66],[7,67,8,72],[19,63,21,66],[19,67,21,67],[22,20,22,24],[22,63,22,67],[48,13,50,21],[48,22,50,22],[48,58,50,66],[48,67,50,67],[16,15,18,23],[16,24,18,24],[16,58,18,66],[16,67,18,67],[19,15,21,18],[19,19,21,19],[19,20,21,23],[19,24,21,24],[19,58,21,61],[19,62,21,62],[51,63,53,66],[51,67,53,67],[54,18,54,22],[54,23,54,57],[54,63,54,67],[56,1,57,79],[51,13,53,16],[51,17,53,17],[51,18,53,21],[51,22,53,22],[51,58,53,61],[51,62,53,62],[58,1,59,79],[63,38,66,40],[63,41,66,43],[63,44,66,46],[63,47,66,49],[67,38,67,40],[67,41,67,43],[67,44,67,46],[67,47,67,49],[63,14,65,14],[63,15,65,15],[66,14,68,14],[68,68,68,70],[68,71,68,73],[68,62,68,64],[68,65,68,67],[68,56,68,58],[67,59,67,61],[68,59,68,61],[79,70,81,70],[79,71,81,71],[79,72,81,75],[81,14,83,14],[81,15,83,15],[81,16,83,16],[81,17,83,20],[82,50,84,50],[82,51,84,51],[82,52,84,52],[79,50,81,50],[79,51,81,51],[79,52,81,52],[79,53,81,56],[79,59,81,66],[79,69,81,69],[82,53,84,56],[82,59,84,66],[84,24,86,27],[84,28,86,28],[84,29,86,29],[84,30,86,30],[85,50,87,50],[85,51,87,51],[90,5,92,8],[90,9,92,9],[90,10,92,10],[90,11,92,11],[90,14,92,21],[90,24,92,27],[90,28,92,28],[87,14,89,21],[87,24,89,27],[87,28,89,28],[73,40,75,47],[76,40,78,47],[76,50,78,50],[76,51,78,51],[76,52,78,52],[76,53,78,56],[68,38,68,40],[68,41,68,43],[68,44,68,46],[68,47,68,49],[69,38,69,40],[69,41,69,43],[69,44,69,46],[69,47,69,49],[102,6,102,8],[102,9,102,11],[102,12,102,14],[102,15,102,17],[102,18,102,20],[102,31,102,33],[102,34,102,36],[102,37,102,39],[102,40,102,42],[93,28,95,28],[93,29,95,29],[93,30,95,30],[93,33,95,40],[96,33,98,40],[88,64,90,64],[88,65,90,65],[88,66,90,66],[87,29,89,29],[94,66,96,66],[97,66,99,66],[85,52,87,52],[85,53,87,56],[91,66,93,66],[91,65,93,65],[91,64,93,64],[100,66,102,66],[103,66,105,66],[75,14,77,14],[72,14,74,14],[102,43,102,45],[102,46,102,48],[102,49,102,51],[102,52,102,54],[102,55,102,57],[104,31,104,33],[104,34,104,36],[104,37,104,39],[104,40,104,42],[105,31,108,33],[105,34,108,36],[105,37,108,39],[105,40,108,42],[103,31,103,33],[103,34,103,36],[103,37,103,39],[103,40,103,42],[87,30,89,30],[106,66,108,66],[88,60,90,63],[78,14,80,14],[78,15,80,15],[78,16,80,16],[66,15,68,15],[69,17,71,17],[72,15,74,15],[72,16,74,16],[72,17,74,17],[72,18,74,18],[75,15,77,15],[75,16,77,16],[75,17,77,17],[69,15,71,15],[69,16,71,16],[69,14,71,14],[106,15,106,17],[104,21,104,23],[103,21,103,23],[94,63,96,63],[94,64,96,64],[94,65,96,65],[97,62,99,62],[97,63,99,63],[97,64,99,64],[97,65,99,65],[100,63,102,63],[100,64,102,64],[100,65,102,65],[101,18,101,20],[103,65,105,65],[106,65,108,65],[103,55,103,57],[103,58,103,60],[104,43,104,45],[104,46,104,48],[104,49,104,51],[102,21,102,23],[102,58,102,60],[103,52,103,54],[69,71,69,73],[70,59,70,61],[70,62,70,64],[70,65,70,67],[71,59,71,61],[71,62,71,64],[71,65,71,67],[72,62,72,64],[70,56,70,58],[69,56,69,58],[69,20,69,22],[69,59,69,61],[69,62,69,64],[69,65,69,67],[69,68,69,70],[69,35,69,37],[69,32,69,34],[69,29,69,31],[69,26,69,28],[69,23,69,25],[103,6,103,8],[103,9,103,11],[103,12,103,14],[103,15,103,17],[103,18,103,20],[104,12,104,14],[104,15,104,17],[104,18,104,20],[105,46,105,48],[105,12,105,14],[105,15,105,17],[105,18,105,20],[104,52,104,54],[105,49,105,51],[105,52,105,54],[90,29,92,29],[90,30,92,30],[106,49,106,51],[70,20,70,22],[70,23,70,25],[70,26,70,28],[70,29,70,31],[70,32,70,34],[70,35,70,37],[71,26,71,28],[71,29,71,31],[71,32,71,34],[71,35,71,37],[72,26,72,28],[72,29,72,31],[72,32,72,34],[73,29,73,31],[103,43,103,45],[103,46,103,48],[103,49,103,51],[93,24,95,27]]}
[null,"Unsignalized Restricted Crossing U-Turn (E-W)",null,null,null,null,null,null,null,null,null,null,null,null,null,null,null,null,null,null,null,null,null,null,null,null,null,null,null,null,null,null,null,null,null,null,null,null,null,null,null,null,null,null,null,null,null,null,null,null,null,null,null,null,null,null,null,null,null,null,null,null,null,null,null,null,null,null,null,null,null,null,null,null,null,null,null,null,null,null,null,null,"Assumptions"]
[]
[null,"Design and Results"]
[]
[]
[null,null,"Project Name:",null,null,null,null,null,null,null,{"$f":"P_Name","v":"Cap-X Sample Street"},null,null,null,null,null,null,null,null,null,null,null,null,null,null,null,null,null,null,null,null,null,null,null,null,null,null,null,null,null,null,null,null,null,null,null,null,null,null,null,null,null,null,null,null,"Volume-to-Capacity Ratio"]
[]
[null,null,"Project Number:",null,null,null,null,null,null,null,{"$f":"P_Number","v":10000},null,null,null,null,null,null,null,null,null,null,null,null,null,null,null,null,null,null,null,null,null,null,null,null,null,null,null,null,null,null,null,null,null,null,null,null,null,null,null,null,null,null,null,null,"< 0.750",null,null,null,null,null,"0.750 - 0.875",null,null,null,null,null,"0.875 - 1.00",null,null,null,null,null,"≥ 1.00"]
[]
[null,null,"Location",null,null,null,null,null,null,null,{"$f":"Location","v":"Anywhere, USA"},null,null,null,null,null,null,null,null,null,null,null,null,null,null,null,null,null,null,null,null,null,null,null,null,null,null,null,null,null,null,null,null,null,null,null,null,null,null,null,null,null,null,null,null,"VOLUME / CAPACITY RATIO:",null,null,null,null,null,null,null,null,null,null,null,{"$f":"MAX(P20,BG20,BG52,N52)","v":1.0642953494101834}]
[]
[null,null,"Date",null,null,null,null,null,null,null,{"$f":"Date","v":"2017 AM"}]
[]
[]
[]
[]
[null,null,null,null,null,null,null,null,null,null,null,null,null,null,null,{"$f":"AO77","v":306},null,null,null,null,null,null,null,null,"CLV",null,null,null,null,null,null,null,null,null,null,null,null,null,null,null,null,null,null,null,null,null,null,null,null,null,null,null,null,null,null,null,null,null,{"$f":"BH83","v":286},null,null,null,null,null,null,null,null,"CLV"]
[]
[]
[null,null,null,null,null,null,null,null,null,null,null,null,null,null,null,{"$f":"MAX(U71,G104)","v":0.41452726507542276},null,null,null,"V/C",{"$f":"IF(Result_URCUT_EW_VC_Z1=U71,X71,J104)","v":689.94255407533353},null,null,null,"MAX",null,null,null,null,null,null,null,null,null,null,null,null,null,null,null,null,null,null,null,null,null,null,null,null,null,null,null,null,null,null,null,null,null,{"$f":"BN107","v":0.57217127930046763},null,null,null,"V/C",{"$f":"BN104","v":1069.6097866852504},null,null,null,"MAX"]
[]
[]
[]
[]
[]
[]
[]
[]
[]
[]
[]
[]
[]
[]
[]
[]
[]
[]
[]
[]
[]
[]
[]
[]
[]
[]
[]
[]
[null,null,null,null,null,null,null,null,null,null,null,null,null,{"$f":"O91","v":286},null,null,null,null,null,null,null,null,"CLV",null,null,null,null,null,null,null,null,null,null,null,null,null,null,null,null,null,null,null,null,null,null,null,null,null,null,null,null,null,null,null,null,null,null,null,{"$f":"AH97","v":235},null,null,null,null,null,null,null,null,"CLV"]
[]
[]
[null,null,null,null,null,null,null,null,null,null,null,null,null,{"$f":"P64","v":0.21970629188825147},null,null,null,"V/C",{"$f":"P67","v":1069.6097866852504},null,null,null,"MAX",null,null,null,null,null,null,null,null,null,null,null,null,null,null,null,null,null,null,null,null,null,null,null,null,null,null,null,null,null,null,null,null,null,null,null,{"$f":"MAX(BG104,BT70)","v":1.0642953494101834},null,null,null,"V/C",{"$f":"IF(Result_URCUT_EW_VC_Z2=BG104,BD104,BQ70)","v":766.70446831531774},null,null,null,"MAX"]
[]
[]
[null,null,null,null,null,null,null,null,null,null,null,null,null,null,null,null,null,null,null,null,null,null,null,"Note: This diagram does not reflect the actual lane configuration of the Intersection"]
[]
[null,"Unsignalized Restricted Crossing U-Turn (E-W)"]
[]
[null,"Data Input and Configuration"]
[]
[]
[]
[]
[null,null,null,null,null,null,null,null,null,null,null,null,null,null,"v/c",{"$f":"P82/P67","v":0.21970629188825147}]
[]
[]
[null,null,null,null,null,null,null,null,null,null,null,null,null,null,"Cp=Cm",{"$f":"O79*(EXP((-O79*P70/3600))/(1-EXP(-O79*R70/3600)))","v":1069.6097866852504},null,null,null,null,null,null,null,null,null,null,null,null,null,null,null,null,null,null,null,null,null,null,null,null,null,null,null,null,null,null,null,null,null,null,null,null,null,null,null,null,null,null,null,null,"Zone 2"]
[null,null,null,null,null,null,null,null,null,null,null,null,null,null,null,null,null,null,null,null,null,null,null,null,null,null,null,null,null,null,null,null,null,null,null,null,null,null,"pepch",null,null,"pepch",null,null,"pepch",null,null,"pepch",null,null,null,null,null,null,null,null,null,null,null,"WBLT"]
[null,null,null,null,null,null,null,null,null,null,null,null,null,null,null,null,null,null,null,null,null,null,null,null,null,null,null,null,null,null,null,null,null,null,null,null,null,null,{"$f":"SBR_Master","v":51},null,null,{"$f":"SBT_Master","v":204},null,null,{"$f":"SBL_Master","v":31},null,null,{"$f":"SBU_Master","v":0},null,null,null,null,null,null,null,null,{"$f":"EBT_Master+EBR_Master+EBU_Master+WBU_Master+SBT_Master+SBL_Master","v":490},null,null,"tc,base",null,null,"tc,HV",null,null,"tc",null,null,"Cp=Cm",null,null,"v/c"]
[null,null,null,null,null,null,null,null,null,null,null,null,null,null,"tc",{"$f":"P76+(P73*S73)","v":4.4400000000000004},"tf",{"$f":"R76+(R73*S73)","v":2.62},null,null,"v/c",null,null,"Cp=Cm",null,null,"tc",null,null,"tc,HV",null,null,"tc,base",null,null,{"$f":"WBT_Master+WBU_Master+EBU_Master+NBL_Master+0.5*IF(AY77=0,WBR_Master+NBT_Master,0)","v":306},null,null,{"$f":"'3 - Alt Num Lanes Input'!AO62","v":1},null,null,null,null,null,null,null,null,null,null,null,null,null,null,null,null,null,"Vc",null,null,{"$f":"IF(BE71=3, 5.3,4.1)","v":4.0999999999999996},null,null,{"$f":"IF(BE71=1, 1,2)","v":2},null,null,{"$f":"BH70+(BK70*BK73)","v":4.1399999999999997},null,null,{"$f":"BE69*(EXP((-BE69*BN70/3600))/(1-EXP(-BE69*BN72/3600)))","v":1069.5184613858326},null,null,{"$f":"(AZ83+AF104)/BQ70","v":2.8985006915945737E-2}]
[null,null,null,null,null,null,null,null,null,null,null,null,null,null,null,null,null,null,null,null,{"$f":"(AM69+AP69+AS69+AV69)/X71","v":0.41452726507542276},null,null,{"$f":"AJ70*(EXP((-AJ70*AA71/3600))/(1-EXP(-AJ70*AA73/3600)))","v":689.94255407533353},null,null,{"$f":"AG71+(AD71*AD74)","v":6.94},null,null,{"$f":"IF(AJ72=1, 1,2)","v":2},null,null,{"$f":"IF(AJ72=1,6.2,IF(AJ72=2,6.9,7.1))","v":6.9},null,null,"Vc",null,null,null,null,null,null,null,null,null,null,null,null,null,null,null,null,null,null,null,null,{"$f":"AE91","v":2},null,null,"tf,base",null,null,"tf,HV",null,null,"tf"]
[null,null,null,null,null,null,null,null,null,null,null,null,null,null,null,null,null,null,null,null,null,null,null,null,null,null,"tf",null,null,"tf,HV",null,null,"tf,base",null,null,{"$f":"AY80","v":2},null,null,null,null,null,null,null,null,null,null,null,null,null,null,null,null,null,null,null,null,null,null,null,{"$f":"IF(BE71=3,3.1,2.2)","v":2.2000000000000002},null,null,{"$f":"IF(BE71=1,0.9,1)","v":1},null,null,{"$f":"BH72+(BK72*BK73)","v":2.2200000000000002}]
[null,null,null,null,null,null,null,null,null,null,null,null,null,null,"tc,HV",{"$f":"IF(Q79=1, 1,2)","v":2},"tf,HV",{"$f":"IF(Q79=1,0.9,1)","v":1},{"$f":"'1 - Volume Input'!AQ34","v":0.02},null,null,null,null,null,null,null,{"$f":"AG73+(AD73*AD74)","v":3.32},null,null,{"$f":"IF(AJ72=1,0.9,1)","v":1},null,null,{"$f":"IF(AJ72=3,3.9,3.3)","v":3.3},null,null,null,null,null,null,null,null,null,null,null,null,null,null,null,null,null,null,null,null,null,null,null,null,null,null,null,null,null,{"$f":"'1 - Volume Input'!AQ34","v":0.02}]
[null,null,null,null,null,null,null,null,null,null,null,null,null,null,null,null,null,null,null,null,null,null,null,null,null,null,null,null,null,{"$f":"'1 - Volume Input'!AQ36","v":0.02}]
[]
[null,null,null,null,null,null,null,null,null,null,null,null,null,null,"tc,base",4.4000000000000004,"tf,base",2.6]
[null,null,null,null,null,null,null,null,null,null,null,null,null,null,null,null,null,null,null,null,null,null,null,null,null,null,null,null,null,null,null,null,null,null,null,null,null,null,null,null,{"$f":"IF(Result_URCUT_EW_VC_Z1=U71,AJ70,V103)","v":306},null,null,null,null,null,null,null,null,null,{"$f":"'3 - Alt Num Lanes Input'!BE62","v":1},{"$f":"WBR_Master","v":51},"pepch"]
[]
[null,null,null,null,null,null,null,null,null,null,null,null,null,null,{"$f":"EBL_Master+EBT_Master+EBR_Master+EBU_Master","v":286},"Vc",{"$f":"AE91","v":2}]
[null,null,null,null,null,null,null,null,null,null,null,null,null,null,null,null,null,null,null,null,null,null,null,null,null,null,null,null,null,null,null,null,null,null,null,null,null,null,null,null,null,null,null,null,null,null,null,null,null,null,{"$f":"'3 - Alt Num Lanes Input'!BC62","v":2},{"$f":"WBT_Master","v":204},"pepch",null,null,null,null,null,null,null,null,null,null,null,null,null,null,null,null,{"$f":"'3 - Alt Num Lanes Input'!BC62","v":2},{"$f":"AZ86+AZ83+AZ80+AZ77","v":286},"pepch"]
[]
[null,null,null,null,null,null,null,null,null,null,null,null,null,null,{"$f":"'3 - Alt Num Lanes Input'!AY62","v":1},{"$f":"AP69+AS69+AV69+AZ86","v":235},"pepch"]
[null,null,null,null,null,null,null,null,null,null,null,null,null,null,null,null,null,null,null,null,null,null,null,null,null,null,null,null,null,null,null,null,null,null,null,null,null,null,null,null,null,null,null,null,null,null,null,null,null,null,{"$f":"'3 - Alt Num Lanes Input'!BA62","v":1},{"$f":"WBL_Master","v":31},"pepch",null,null,null,null,null,null,{"$f":"BO92","v":286}]
[]
[null,null,null,null,null,null,null,null,null,null,null,null,null,null,null,null,null,null,null,null,null,null,null,null,null,null,null,null,"pepch",{"$f":"EBU_Master","v":0}]
[null,null,null,null,null,null,null,null,null,null,null,null,null,null,null,null,null,null,null,null,null,null,null,null,null,null,null,null,null,null,null,null,null,null,null,null,null,null,null,null,null,null,null,null,null,null,null,null,null,null,null,{"$f":"WBU_Master","v":0},"pepch"]
[]
[null,null,null,null,null,null,null,null,null,null,null,null,null,null,null,null,null,null,null,null,null,null,null,null,null,null,null,null,"pepch",{"$f":"EBL_Master","v":31},{"$f":"'3 - Alt Num Lanes Input'!AS62","v":1}]
[null,null,null,null,null,null,null,null,null,null,null,null,null,null,null,null,null,null,null,null,null,null,null,null,null,null,null,null,null,null,null,null,null,null,null,null,null,null,null,null,null,null,null,null,null,null,null,null,null,null,null,null,null,null,null,null,null,null,null,null,null,null,null,null,"pepch",{"$f":"AL104+AI104+AF104+AD85","v":612},{"$f":"'3 - Alt Num Lanes Input'!AQ62","v":1}]
[]
[null,null,null,null,null,null,null,null,null,"pepch",{"$f":"AD94+AD91+AD88+AD85","v":286},{"$f":"'3 - Alt Num Lanes Input'!AU62","v":2},null,null,{"$f":"O79","v":286},null,null,null,null,null,null,null,null,null,null,null,null,null,"pepch",{"$f":"EBT_Master","v":204},{"$f":"'3 - Alt Num Lanes Input'!AU62","v":2}]
[null,null,null,null,null,null,null,null,null,null,null,null,null,null,null,null,null,null,null,null,null,null,null,null,null,null,null,null,null,null,null,null,null,null,null,null,null,null,null,null,null,null,null,null,null,null,null,null,null,null,null,null,null,null,null,null,null,null,null,null,null,null,null,null,{"$f":"AY80","v":2},"Vc",{"$f":"WBL_Master+WBT_Master+WBR_Master+WBU_Master","v":286}]
[]
[null,null,null,null,null,null,null,null,null,null,null,null,null,null,null,null,null,null,null,null,null,null,null,null,null,null,null,null,"pepch",{"$f":"EBR_Master","v":51},{"$f":"'3 - Alt Num Lanes Input'!AW62","v":1}]
[null,null,null,null,null,null,null,null,null,null,null,null,null,null,null,null,null,null,null,null,null,null,null,null,null,null,null,null,null,null,null,null,null,null,null,null,null,null,null,null,null,null,null,null,null,null,null,null,null,null,null,null,null,null,null,null,null,null,null,null,null,null,null,2.6,"tf,base",4.4000000000000004,"tc,base"]
[]
[null,null,null,null,null,null,null,null,null,null,null,null,null,null,null,null,null,null,null,null,null,null,null,null,null,null,null,null,null,null,null,null,null,{"$f":"IF(Result_URCUT_EW_VC_Z2=BG104,AR103,BE69)","v":235}]
[null,null,null,null,null,null,null,null,null,null,null,null,null,null,null,null,null,null,null,null,null,null,null,null,null,null,null,null,null,null,null,null,null,null,null,null,null,null,null,null,null,null,null,null,null,null,null,null,null,null,null,null,null,null,null,null,null,null,null,null,null,null,{"$f":"'1 - Volume Input'!AQ32","v":0.02},{"$f":"IF(BM92=1,0.9,1)","v":1},"tf,HV",{"$f":"IF(BM92=1, 1,2)","v":2},"tc,HV"]
[]
[]
[null,null,null,null,null,null,null,null,null,null,null,null,null,null,null,null,null,null,null,"Zone 1",null,null,null,null,null,null,null,null,null,null,null,null,null,null,null,null,null,null,null,null,null,null,null,null,null,null,null,null,null,null,null,null,null,null,null,null,null,null,null,null,null,null,null,{"$f":"BL95+(BL98*BK98)","v":2.62},"tf",{"$f":"BN95+(BN98*BK98)","v":4.4400000000000004},"tc"]
[null,null,null,null,null,null,null,null,null,null,null,null,null,null,null,null,null,null,"EBLT"]
[null,null,null,null,null,null,"v/c",null,null,"Cp=Cm",null,null,"tc",null,null,"tc,HV",null,null,"tc,base",null,null,{"$f":"WBT_Master+WBR_Master+WBU_Master+EBU_Master+NBT_Master+NBL_Master","v":867},null,null,null,null,null,null,null,null,null,null,null,null,null,null,null,null,null,null,{"$f":"'3 - Alt Num Lanes Input'!AG62","v":1},null,null,{"$f":"EBT_Master+EBU_Master+WBU_Master+SBL_Master+0.5*IF(AE94=0,EBR_Master+SBT_Master,0)","v":235},null,null,"tc,base",null,null,"tc,HV",null,null,"tc",null,null,"Cp=Cm",null,null,"v/c"]
[null,null,null,null,null,null,{"$f":"(AD88+AV69)/J104","v":4.0131748484106458E-2},null,null,{"$f":"V103*(EXP((-V103*M104/3600))/(1-EXP(-V103*M106/3600)))","v":772.45575313712186},null,null,{"$f":"S104+(P104*P107)","v":4.1399999999999997},null,null,{"$f":"IF(V105=1, 1,2)","v":2},null,null,{"$f":"IF(V105=3, 5.3,4.1)","v":4.0999999999999996},null,null,"Vc",null,null,null,null,null,null,null,null,null,{"$f":"NBU_Master","v":0},null,null,{"$f":"NBL_Master","v":102},null,null,{"$f":"NBT_Master","v":510},null,null,{"$f":"NBR_Master","v":204},null,null,"Vc",null,null,{"$f":"IF(AR105=1,6.2,IF(AR105=2,6.9,7.1))","v":6.9},null,null,{"$f":"IF(AR105=1, 1,2)","v":2},null,null,{"$f":"AU104+(AX104*AX107)","v":6.94},null,null,{"$f":"AR103*(EXP((-AR103*BA104/3600))/(1-EXP(-AR103*BA106/3600)))","v":766.70446831531774},null,null,{"$f":"(AO104+AL104+AI104+AF104)/BD104","v":1.0642953494101834},null,null,null,null,null,null,{"$f":"BO92*(EXP((-BO92*BN101/3600))/(1-EXP(-BO92*BL101/3600)))","v":1069.6097866852504},"Cp=Cm"]
[null,null,null,null,null,null,null,null,null,null,null,null,"tf",null,null,"tf,HV",null,null,"tf,base",null,null,{"$f":"AY80","v":2},null,null,null,null,null,null,null,null,null,"pepch",null,null,"pepch",null,null,"pepch",null,null,"pepch",null,null,{"$f":"AE91","v":2},null,null,"tf,base",null,null,"tf,HV",null,null,"tf"]
[null,null,null,null,null,null,null,null,null,null,null,null,{"$f":"S106+(P106*P107)","v":2.2200000000000002},null,null,{"$f":"IF(V105=1,0.9,1)","v":1},null,null,{"$f":"IF(V105=3,3.1,2.2)","v":2.2000000000000002},null,null,null,null,null,null,null,null,null,null,null,null,null,null,null,null,null,null,null,null,null,null,null,null,null,null,null,{"$f":"IF(AR105=3,3.9,3.3)","v":3.3},null,null,{"$f":"IF(AR105=1,0.9,1)","v":1},null,null,{"$f":"AU106+(AX106*AX107)","v":3.32}]
[null,null,null,null,null,null,null,null,null,null,null,null,null,null,null,{"$f":"'1 - Volume Input'!AQ32","v":0.02},null,null,null,null,null,null,null,null,null,null,null,null,null,null,null,null,null,null,null,null,null,null,null,null,null,null,null,null,null,null,null,null,null,{"$f":"'1 - Volume Input'!AQ38","v":0.02},null,null,null,null,null,null,null,null,null,null,null,null,null,null,null,{"$f":"BN89/BN104","v":0.57217127930046763},"v/c"]

{"sheet":"MUT N-S ","index":34,"n_rows":74,"n_cols":100,"rows_kept":74,"cut":false,"hidden":false,"merged":[[46,50,46,54],[64,43,64,47],[67,91,67,93],[68,91,71,93],[59,82,59,84],[59,87,61,94],[60,82,60,84],[61,82,61,84],[65,91,65,93],[66,91,66,93],[48,85,51,87],[48,88,51,90],[48,91,51,93],[48,94,51,96],[55,82,58,84],[56,87,58,94],[46,85,46,87],[46,88,46,90],[46,91,46,93],[46,94,46,96],[47,85,47,87],[47,88,47,90],[47,91,47,93],[47,94,47,96],[42,99,44,99],[42,100,44,103],[45,85,45,87],[45,88,45,90],[45,91,45,93],[45,94,45,96],[42,78,44,81],[42,82,44,82],[42,83,44,83],[42,84,44,84],[42,97,44,97],[42,98,44,98],[39,78,41,81],[39,82,41,82],[39,83,41,83],[39,84,41,84],[39,87,41,94],[39,97,41,97],[39,98,41,98],[39,99,41,99],[39,100,41,103],[33,99,35,99],[33,100,35,103],[36,78,38,81],[36,82,38,82],[36,83,38,83],[36,84,38,84],[36,87,38,94],[36,97,38,97],[36,98,38,98],[36,99,38,99],[33,78,35,81],[33,82,35,82],[33,83,35,83],[33,84,35,84],[33,97,35,97],[33,98,35,98],[36,100,38,103],[31,85,31,87],[31,88,31,90],[31,91,31,93],[31,94,31,96],[32,85,32,87],[32,88,32,90],[32,91,32,93],[32,94,32,96],[26,85,29,87],[26,88,29,90],[26,91,29,93],[26,94,29,96],[30,85,30,87],[30,88,30,90],[30,91,30,93],[30,94,30,96],[16,87,18,94],[16,97,16,99],[17,97,17,99],[18,97,18,99],[19,87,21,94],[19,97,22,99],[0,63,1,122],[2,63,3,122],[6,88,9,90],[10,88,10,90],[11,88,11,90],[12,88,12,90],[43,49,45,49],[0,1,1,60],[2,1,3,60],[5,2,6,9],[5,10,6,35],[7,2,8,9],[7,10,8,35],[9,2,10,9],[9,10,10,35],[11,2,12,9],[11,10,12,35],[5,36,6,59],[29,43,29,47],[73,14,73,48],[7,36,8,41],[7,42,8,47],[7,48,8,53],[7,54,8,59],[9,36,12,47],[9,48,12,59],[43,50,45,53],[43,54,45,54],[58,38,60,46],[58,47,60,47],[61,38,63,41],[61,42,63,42],[61,43,63,46],[61,47,63,47],[23,38,25,46],[23,47,25,47],[26,38,28,41],[26,42,28,42],[26,43,28,46],[26,47,28,47],[40,45,42,53],[40,54,42,54],[43,45,45,48]]}
[null,"Median U-Turn Intersection (N-S)",null,null,null,null,null,null,null,null,null,null,null,null,null,null,null,null,null,null,null,null,null,null,null,null,null,null,null,null,null,null,null,null,null,null,null,null,null,null,null,null,null,null,null,null,null,null,null,null,null,null,null,null,null,null,null,null,null,null,null,null,null,"Median U-Turn Intersection (N-S)"]
[]
[null,"Design and Results",null,null,null,null,null,null,null,null,null,null,null,null,null,null,null,null,null,null,null,null,null,null,null,null,null,null,null,null,null,null,null,null,null,null,null,null,null,null,null,null,null,null,null,null,null,null,null,null,null,null,null,null,null,null,null,null,null,null,null,null,null,"Data Input and Configuration"]
[]
[]
[null,null,"Project Name:",null,null,null,null,null,null,null,{"$f":"P_Name","v":"Cap-X Sample Street"},null,null,null,null,null,null,null,null,null,null,null,null,null,null,null,null,null,null,null,null,null,null,null,null,null,"Volume-to-Capacity Ratio"]
[]
[null,null,"Project Number:",null,null,null,null,null,null,null,{"$f":"P_Number","v":10000},null,null,null,null,null,null,null,null,null,null,null,null,null,null,null,null,null,null,null,null,null,null,null,null,null,"< 0.750",null,null,null,null,null,"0.750 - 0.875",null,null,null,null,null,"0.875 - 1.00",null,null,null,null,null,"≥ 1.00"]
[]
[null,null,"Location",null,null,null,null,null,null,null,{"$f":"Location","v":"Anywhere, USA"},null,null,null,null,null,null,null,null,null,null,null,null,null,null,null,null,null,null,null,null,null,null,null,null,null,"VOLUME / CAPACITY RATIO:",null,null,null,null,null,null,null,null,null,null,null,{"$f":"MAX(AM27,AT44,AM62)","v":0.27}]
[null,null,null,null,null,null,null,null,null,null,null,null,null,null,null,null,null,null,null,null,null,null,null,null,null,null,null,null,null,null,null,null,null,null,null,null,null,null,null,null,null,null,null,null,null,null,null,null,null,null,null,null,null,null,null,null,null,null,null,null,null,null,null,null,null,null,null,null,null,null,null,null,null,null,null,null,null,null,null,null,null,null,null,null,null,null,null,null,"pepch"]
[null,null,"Date",null,null,null,null,null,null,null,{"$f":"Date","v":"2017 AM"},null,null,null,null,null,null,null,null,null,null,null,null,null,null,null,null,null,null,null,null,null,null,null,null,null,null,null,null,null,null,null,null,null,null,null,null,null,null,null,null,null,null,null,null,null,null,null,null,null,null,null,null,null,null,null,null,null,null,null,null,null,null,null,null,null,null,null,null,null,null,null,null,null,null,null,null,null,{"$f":"CH32+CK32+CN32+CQ32","v":286}]
[null,null,null,null,null,null,null,null,null,null,null,null,null,null,null,null,null,null,null,null,null,null,null,null,null,null,null,null,null,null,null,null,null,null,null,null,null,null,null,null,null,null,null,null,null,null,null,null,null,null,null,null,null,null,null,null,null,null,null,null,null,null,null,null,null,null,null,null,null,null,null,null,null,null,null,null,null,null,null,null,null,null,null,null,null,null,null,null,{"$f":"'3 - Alt Num Lanes Input'!AM64","v":2}]
[]
[]
[]
[null,null,null,null,null,null,null,null,null,null,null,null,null,null,null,null,null,null,null,null,null,null,null,null,null,null,null,null,null,null,null,null,null,null,null,null,null,null,null,null,null,null,null,null,null,null,null,null,null,null,null,null,null,null,null,null,null,null,null,null,null,null,null,null,null,null,null,null,null,null,null,null,null,null,null,null,null,null,null,null,null,null,null,null,null,null,null,null,null,null,null,null,null,null,null,null,null,{"$f":"'3 - Alt Num Lanes Input'!AA64","v":1}]
[null,null,null,null,null,null,null,null,null,null,null,null,null,null,null,null,null,null,null,null,null,null,null,null,null,null,null,null,null,null,null,null,null,null,null,null,null,null,null,null,null,null,null,null,null,null,null,null,null,null,null,null,null,null,null,null,null,null,null,null,null,null,null,null,null,null,null,null,null,null,null,null,null,null,null,null,null,null,null,null,null,null,null,null,null,null,null,null,null,null,null,null,null,null,null,null,null,{"$f":"CU40+CF34+CU43+CK47+CH47","v":133}]
[null,null,null,null,null,null,null,null,null,null,null,null,null,null,null,null,null,null,null,null,null,null,null,null,null,null,null,null,null,null,null,null,null,null,null,null,null,null,null,null,null,null,null,null,null,null,null,null,null,null,null,null,null,null,null,null,null,null,null,null,null,null,null,null,null,null,null,null,null,null,null,null,null,null,null,null,null,null,null,null,null,null,null,null,null,null,null,null,null,null,null,null,null,null,null,null,null,"pepch"]
[null,null,null,null,null,null,null,null,null,null,null,null,null,null,null,null,null,null,null,null,null,null,null,null,null,null,null,null,null,null,null,null,null,null,null,null,null,null,null,null,null,null,null,null,null,null,null,null,null,null,null,null,null,null,null,null,null,null,null,null,null,null,null,null,null,null,null,null,null,null,null,null,null,null,null,null,null,null,null,null,null,null,null,null,null,null,null,{"$f":"+(CK12/CK13 + CT18/UTAF/CT17)","v":309.25}]
[]
[]
[]
[null,null,null,null,null,null,null,null,null,null,null,null,null,null,null,null,null,null,null,null,null,null,null,null,null,null,null,null,null,null,null,null,null,null,null,null,null,null,{"$f":"CJ20","v":309.25},null,null,null,null,null,null,null,null,"CLV"]
[]
[]
[null,null,null,null,null,null,null,null,null,null,null,null,null,null,null,null,null,null,null,null,null,null,null,null,null,null,null,null,null,null,null,null,null,null,null,null,null,null,{"$f":"ROUND(AM24/CLV_Limit_2,2)","v":0.17},null,null,null,"V/C",{"$f":"CLV_Limit_2","v":1800},null,null,null,"MAX"]
[]
[]
[null,null,null,null,null,null,null,null,null,null,null,null,null,null,null,null,null,null,null,null,null,null,null,null,null,null,null,null,null,null,null,null,null,null,null,null,null,null,null,null,null,null,null,"2 Phases"]
[null,null,null,null,null,null,null,null,null,null,null,null,null,null,null,null,null,null,null,null,null,null,null,null,null,null,null,null,null,null,null,null,null,null,null,null,null,null,null,null,null,null,null,null,null,null,null,null,null,null,null,null,null,null,null,null,null,null,null,null,null,null,null,null,null,null,null,null,null,null,null,null,null,null,null,null,null,null,null,null,null,null,null,null,null,"pepch",null,null,"pepch",null,null,"pepch",null,null,"pepch"]
[null,null,null,null,null,null,null,null,null,null,null,null,null,null,null,null,null,null,null,null,null,null,null,null,null,null,null,null,null,null,null,null,null,null,null,null,null,null,null,null,null,null,null,null,null,null,null,null,null,null,null,null,null,null,null,null,null,null,null,null,null,null,null,null,null,null,null,null,null,null,null,null,null,null,null,null,null,null,null,null,null,null,null,null,null,{"$f":"IF('3 - Alt Num Lanes Input'!AO64>0,SBR_Master,0)","v":51},null,null,{"$f":"SBT_Master+IF('3 - Alt Num Lanes Input'!AO64=0,SBR_Master,0)","v":204},null,null,{"$f":"SBL_Master","v":31},null,null,{"$f":"SBU_Master","v":0}]
[null,null,null,null,null,null,null,null,null,null,null,null,null,null,null,null,null,null,null,null,null,null,null,null,null,null,null,null,null,null,null,null,null,null,null,null,null,null,null,null,null,null,null,null,null,null,null,null,null,null,null,null,null,null,null,null,null,null,null,null,null,null,null,null,null,null,null,null,null,null,null,null,null,null,null,null,null,null,null,null,null,null,null,null,null,{"$f":"IF('3 - Alt Num Lanes Input'!AO64=0,1,'3 - Alt Num Lanes Input'!AO64)","v":1},null,null,{"$f":"'3 - Alt Num Lanes Input'!AM64","v":2}]
[null,null,null,null,null,null,null,null,null,null,null,null,null,null,null,null,null,null,null,null,null,null,null,null,null,null,null,null,null,null,null,null,null,null,null,null,null,null,null,null,null,null,null,null,null,null,null,null,null,null,null,null,null,null,null,null,null,null,null,null,null,null,null,null,null,null,null,null,null,null,null,null,null,null,null,null,null,null,null,null,null,null,"pepch",{"$f":"EBU_Master","v":0},null,null,null,null,null,null,null,null,null,null,null,null,null,{"$f":"IF('3 - Alt Num Lanes Input'!BE64=0,1,'3 - Alt Num Lanes Input'!BE64)","v":1},{"$f":"IF('3 - Alt Num Lanes Input'!BE64>0,WBR_Master,0)","v":51},"pepch"]
[]
[]
[null,null,null,null,null,null,null,null,null,null,null,null,null,null,null,null,null,null,null,null,null,null,null,null,null,null,null,null,null,null,null,null,null,null,null,null,null,null,null,null,null,null,null,null,null,null,null,null,null,null,null,null,null,null,null,null,null,null,null,null,null,null,null,null,null,null,null,null,null,null,null,null,null,null,null,null,null,null,null,null,null,null,"pepch",{"$f":"EBL_Master","v":31},null,null,null,null,null,null,null,null,null,null,null,null,null,{"$f":"MAX('3 - Alt Num Lanes Input'!BC64,1)","v":2},{"$f":"WBT_Master+IF('3 - Alt Num Lanes Input'!BE64=0,WBR_Master,0)","v":204},"pepch"]
[]
[]
[null,null,null,null,null,null,null,null,null,null,null,null,null,null,null,null,null,null,null,null,null,null,null,null,null,null,null,null,null,null,null,null,null,null,null,null,null,null,null,null,null,null,null,null,null,null,null,null,null,null,null,null,null,null,null,null,null,null,null,null,null,null,null,null,null,null,null,null,null,null,null,null,null,null,null,null,null,null,null,null,null,null,"pepch",{"$f":"EBT_Master+IF('3 - Alt Num Lanes Input'!AW64=0,EBR_Master,0)","v":204},{"$f":"MAX('3 - Alt Num Lanes Input'!AU64,1)","v":2},null,null,{"$f":"MAX((CN47+CK47+CH47)/CN46, (CQ47+CN32+CU43)/RTAF/CQ46, (CK32+CN32+CQ32)/CK33, (CH32+CK47+CF34)/RTAF/CH33) +MAX(CU37/CT37, (CU34+CU40+CU43)/RTAF/CT34, CF40/CG40, (CF43+CF37+CF34)/RTAF/CG43)","v":408},null,null,null,null,null,null,null,null,null,null,{"$f":"WBL_Master","v":31},"pepch"]
[null,null,null,null,null,null,null,null,null,null,null,null,null,null,null,null,null,null,null,null,null,null,null,null,null,null,null,null,null,null,null,null,null,null,null,null,null,null,null,null,null,null,null,null,null,{"$f":"CJ40","v":408},null,null,null,null,null,null,null,null,"CLV"]
[]
[null,null,null,null,null,null,null,null,null,null,null,null,null,null,null,null,null,null,null,null,null,null,null,null,null,null,null,null,null,null,null,null,null,null,null,null,null,null,null,null,null,null,null,null,null,null,null,null,null,null,null,null,null,null,null,null,null,null,null,null,null,null,null,null,null,null,null,null,null,null,null,null,null,null,null,null,null,null,null,null,null,null,"pepch",{"$f":"IF('3 - Alt Num Lanes Input'!AW64>0,EBR_Master,0)","v":51},{"$f":"IF('3 - Alt Num Lanes Input'!AW64=0,1,'3 - Alt Num Lanes Input'!AW64)","v":1},null,null,null,null,null,null,null,null,null,null,null,null,null,{"$f":"WBU_Master","v":0},"pepch"]
[null,null,null,null,null,null,null,null,null,null,null,null,null,null,null,null,null,null,null,null,null,null,null,null,null,null,null,null,null,null,null,null,null,null,null,null,null,null,null,null,null,null,null,null,null,{"$f":"ROUND(AT41/CLV_Limit_2,2)","v":0.23},null,null,null,"V/C",{"$f":"CLV_Limit_2","v":1800},null,null,null,"MAX"]
[]
[null,null,null,null,null,null,null,null,null,null,null,null,null,null,null,null,null,null,null,null,null,null,null,null,null,null,null,null,null,null,null,null,null,null,null,null,null,null,null,null,null,null,null,null,null,null,null,null,null,null,null,null,null,null,null,null,null,null,null,null,null,null,null,null,null,null,null,null,null,null,null,null,null,null,null,null,null,null,null,null,null,null,null,null,null,null,null,null,null,null,null,{"$f":"'3 - Alt Num Lanes Input'!AE64","v":2},null,null,{"$f":"IF('3 - Alt Num Lanes Input'!AG64=0,1,'3 - Alt Num Lanes Input'!AG64)","v":1}]
[null,null,null,null,null,null,null,null,null,null,null,null,null,null,null,null,null,null,null,null,null,null,null,null,null,null,null,null,null,null,null,null,null,null,null,null,null,null,null,null,null,null,null,null,null,null,null,null,null,null,"3 Phases",null,null,null,null,null,null,null,null,null,null,null,null,null,null,null,null,null,null,null,null,null,null,null,null,null,null,null,null,null,null,null,null,null,null,{"$f":"NBU_Master","v":0},null,null,{"$f":"NBL_Master","v":102},null,null,{"$f":"NBT_Master+IF('3 - Alt Num Lanes Input'!AG64=0,NBR_Master,0)","v":510},null,null,{"$f":"IF('3 - Alt Num Lanes Input'!AG64>0,NBR_Master,0)","v":204}]
[null,null,null,null,null,null,null,null,null,null,null,null,null,null,null,null,null,null,null,null,null,null,null,null,null,null,null,null,null,null,null,null,null,null,null,null,null,null,null,null,null,null,null,null,null,null,null,null,null,null,null,null,null,null,null,null,null,null,null,null,null,null,null,null,null,null,null,null,null,null,null,null,null,null,null,null,null,null,null,null,null,null,null,null,null,"pepch",null,null,"pepch",null,null,"pepch",null,null,"pepch"]
[]
[]
[]
[]
[]
[]
[]
[]
[]
[]
[null,null,null,null,null,null,null,null,null,null,null,null,null,null,null,null,null,null,null,null,null,null,null,null,null,null,null,null,null,null,null,null,null,null,null,null,null,null,{"$f":"CJ60","v":485.5},null,null,null,null,null,null,null,null,"CLV"]
[null,null,null,null,null,null,null,null,null,null,null,null,null,null,null,null,null,null,null,null,null,null,null,null,null,null,null,null,null,null,null,null,null,null,null,null,null,null,null,null,null,null,null,null,null,null,null,null,null,null,null,null,null,null,null,null,null,null,null,null,null,null,null,null,null,null,null,null,null,null,null,null,null,null,null,null,null,null,null,null,null,null,"pepch",null,null,null,null,{"$f":"+(CN67/CN66 +CE61/UTAF/CE62)","v":485.5}]
[null,null,null,null,null,null,null,null,null,null,null,null,null,null,null,null,null,null,null,null,null,null,null,null,null,null,null,null,null,null,null,null,null,null,null,null,null,null,null,null,null,null,null,null,null,null,null,null,null,null,null,null,null,null,null,null,null,null,null,null,null,null,null,null,null,null,null,null,null,null,null,null,null,null,null,null,null,null,null,null,null,null,{"$f":"CF34+CF37+CN32+CQ32+CU43","v":62}]
[null,null,null,null,null,null,null,null,null,null,null,null,null,null,null,null,null,null,null,null,null,null,null,null,null,null,null,null,null,null,null,null,null,null,null,null,null,null,{"$f":"ROUND(AM59/CLV_Limit_2,2)","v":0.27},null,null,null,"V/C",{"$f":"CLV_Limit_2","v":1800},null,null,null,"MAX",null,null,null,null,null,null,null,null,null,null,null,null,null,null,null,null,null,null,null,null,null,null,null,null,null,null,null,null,null,null,null,null,null,null,{"$f":"'3 - Alt Num Lanes Input'!AI64","v":1}]
[]
[]
[null,null,null,null,null,null,null,null,null,null,null,null,null,null,null,null,null,null,null,null,null,null,null,null,null,null,null,null,null,null,null,null,null,null,null,null,null,null,null,null,null,null,null,"2 Phases"]
[null,null,null,null,null,null,null,null,null,null,null,null,null,null,null,null,null,null,null,null,null,null,null,null,null,null,null,null,null,null,null,null,null,null,null,null,null,null,null,null,null,null,null,null,null,null,null,null,null,null,null,null,null,null,null,null,null,null,null,null,null,null,null,null,null,null,null,null,null,null,null,null,null,null,null,null,null,null,null,null,null,null,null,null,null,null,null,null,null,null,null,{"$f":"'3 - Alt Num Lanes Input'!AE64","v":2}]
[null,null,null,null,null,null,null,null,null,null,null,null,null,null,null,null,null,null,null,null,null,null,null,null,null,null,null,null,null,null,null,null,null,null,null,null,null,null,null,null,null,null,null,null,null,null,null,null,null,null,null,null,null,null,null,null,null,null,null,null,null,null,null,null,null,null,null,null,null,null,null,null,null,null,null,null,null,null,null,null,null,null,null,null,null,null,null,null,null,null,null,{"$f":"CH47+CK47+CN47+CQ47","v":816}]
[null,null,null,null,null,null,null,null,null,null,null,null,null,null,null,null,null,null,null,null,null,null,null,null,null,null,null,null,null,null,null,null,null,null,null,null,null,null,null,null,null,null,null,null,null,null,null,null,null,null,null,null,null,null,null,null,null,null,null,null,null,null,null,null,null,null,null,null,null,null,null,null,null,null,null,null,null,null,null,null,null,null,null,null,null,null,null,null,null,null,null,"pepch"]
[]
[]
[]
[]
[]
[null,null,null,null,null,null,null,null,null,null,null,null,null,null,"Note: This diagram does not reflect the actual lane configuration of the Intersection"]

{"sheet":"MUT E-W","index":35,"n_rows":95,"n_cols":77,"rows_kept":95,"cut":false,"hidden":false,"merged":[[27,72,27,76],[27,41,27,45],[27,10,27,14],[24,76,26,76],[95,35,98,37],[95,38,98,40],[95,41,98,43],[95,44,98,46],[92,63,94,63],[92,64,94,64],[93,35,93,37],[93,38,93,40],[93,41,93,43],[93,44,93,46],[94,35,94,37],[94,38,94,40],[94,41,94,43],[94,44,94,46],[92,35,92,37],[92,38,92,40],[92,41,92,43],[92,44,92,46],[92,58,94,61],[92,62,94,62],[83,68,85,68],[83,69,85,69],[83,70,85,73],[89,28,91,31],[89,32,91,32],[89,33,91,33],[89,34,91,34],[89,47,91,47],[89,48,91,48],[89,49,91,49],[89,50,91,53],[86,33,88,33],[86,34,88,34],[86,37,88,44],[86,47,88,47],[86,48,88,48],[86,49,88,49],[83,49,85,49],[83,50,85,53],[83,57,85,64],[83,67,85,67],[86,50,88,53],[86,57,88,64],[86,8,88,11],[86,12,88,12],[86,13,88,13],[86,14,88,14],[86,17,88,24],[86,28,88,31],[86,32,88,32],[83,47,85,47],[83,48,85,48],[83,17,85,24],[83,28,85,31],[83,32,85,32],[83,33,85,33],[83,34,85,34],[83,37,85,44],[80,47,82,47],[80,48,82,48],[80,49,82,49],[80,50,82,53],[80,28,82,31],[80,32,82,32],[80,33,82,33],[80,34,82,34],[78,44,78,46],[77,17,79,17],[77,18,79,18],[77,19,79,19],[77,20,79,23],[77,35,77,37],[77,38,77,40],[79,35,79,37],[79,38,79,40],[54,22,54,57],[73,35,76,37],[73,38,76,40],[73,41,76,43],[73,44,76,46],[79,41,79,43],[79,44,79,46],[58,1,59,79],[77,41,77,43],[77,44,77,46],[78,35,78,37],[78,38,78,40],[78,41,78,43],[21,36,23,44],[21,45,23,45],[24,36,26,39],[24,40,26,40],[24,41,26,44],[24,45,26,45],[21,67,23,75],[21,76,23,76],[24,67,26,70],[24,71,26,71],[24,72,26,75],[0,1,1,79],[2,1,3,79],[5,2,6,9],[5,10,6,54],[56,1,57,79],[7,2,8,9],[7,10,8,54],[9,2,10,9],[9,10,10,54],[5,55,6,78],[7,55,8,60],[7,61,8,66],[7,67,8,72],[7,73,8,78],[9,55,12,66],[9,67,12,78],[11,2,12,9],[11,10,12,54],[21,5,23,13],[21,14,23,14],[24,5,26,8],[24,9,26,9],[24,10,26,13],[24,14,26,14]]}
[null,"Median U-Turn Intersection (E-W)"]
[]
[null,"Design and Results"]
[]
[]
[null,null,"Project Name:",null,null,null,null,null,null,null,{"$f":"P_Name","v":"Cap-X Sample Street"},null,null,null,null,null,null,null,null,null,null,null,null,null,null,null,null,null,null,null,null,null,null,null,null,null,null,null,null,null,null,null,null,null,null,null,null,null,null,null,null,null,null,null,null,"Volume-to-Capacity Ratio"]
[]
[null,null,"Project Number:",null,null,null,null,null,null,null,{"$f":"P_Number","v":10000},null,null,null,null,null,null,null,null,null,null,null,null,null,null,null,null,null,null,null,null,null,null,null,null,null,null,null,null,null,null,null,null,null,null,null,null,null,null,null,null,null,null,null,null,"< 0.750",null,null,null,null,null,"0.750 - 0.875",null,null,null,null,null,"0.875 - 1.00",null,null,null,null,null,"≥ 1.00"]
[]
[null,null,"Location",null,null,null,null,null,null,null,{"$f":"Location","v":"Anywhere, USA"},null,null,null,null,null,null,null,null,null,null,null,null,null,null,null,null,null,null,null,null,null,null,null,null,null,null,null,null,null,null,null,null,null,null,null,null,null,null,null,null,null,null,null,null,"VOLUME / CAPACITY RATIO:",null,null,null,null,null,null,null,null,null,null,null,{"$f":"MAX(F25,AK25,BP25)","v":0.27}]
[]
[null,null,"Date",null,null,null,null,null,null,null,{"$f":"Date","v":"2017 AM"}]
[]
[]
[]
[]
[]
[]
[]
[]
[]
[null,null,null,null,null,{"$f":"R87","v":220.5},null,null,null,null,null,null,null,null,"CLV",null,null,null,null,null,null,null,null,null,null,null,null,null,null,null,null,null,null,null,null,null,{"$f":"AL87","v":477.5},null,null,null,null,null,null,null,null,"CLV",null,null,null,null,null,null,null,null,null,null,null,null,null,null,null,null,null,null,null,null,null,{"$f":"BF87","v":309.25},null,null,null,null,null,null,null,null,"CLV"]
[]
[]
[null,null,null,null,null,{"$f":"ROUND(F22/CLV_Limit_2,2)","v":0.12},null,null,null,"V/C",{"$f":"CLV_Limit_2","v":1800},null,null,null,"MAX",null,null,null,null,null,null,null,null,null,null,null,null,null,null,null,null,null,null,null,null,null,{"$f":"ROUND(AK22/CLV_Limit_2,2)","v":0.27},null,null,null,"V/C",{"$f":"CLV_Limit_2","v":1800},null,null,null,"MAX",null,null,null,null,null,null,null,null,null,null,null,null,null,null,null,null,null,null,null,null,null,{"$f":"ROUND(BP22/CLV_Limit_2,2)","v":0.17},null,null,null,"V/C",{"$f":"CLV_Limit_2","v":1800},null,null,null,"MAX"]
[]
[]
[null,null,null,null,null,null,null,null,null,null,"2 Phases",null,null,null,null,null,null,null,null,null,null,null,null,null,null,null,null,null,null,null,null,null,null,null,null,null,null,null,null,null,null,"3 Phases",null,null,null,null,null,null,null,null,null,null,null,null,null,null,null,null,null,null,null,null,null,null,null,null,null,null,null,null,null,null,"2 Phases"]
[]
[]
[]
[]
[]
[]
[]
[]
[]
[]
[]
[]
[]
[]
[]
[]
[]
[]
[]
[]
[]
[]
[]
[]
[]
[]
[null,null,null,null,null,null,null,null,null,null,null,null,null,null,null,null,null,null,null,null,null,null,"Note: This diagram does not reflect the actual lane configuration of the Intersection"]
[]
[null,"Median U-Turn Intersection (E-W)"]
[]
[null,"Data Input and Configuration"]
[]
[]
[]
[]
[]
[]
[]
[]
[]
[]
[]
[]
[]
[]
[]
[]
[]
[]
[null,null,null,null,null,null,null,null,null,null,null,null,null,null,null,null,null,{"$f":"'3 - Alt Num Lanes Input'!AY66","v":1},{"$f":"AW90+AW87+AJ94+AS79+AP79","v":62},"pepch",null,null,null,null,null,null,null,null,null,null,null,null,null,null,null,"pepch",null,null,"pepch",null,null,"pepch",null,null,"pepch"]
[null,null,null,null,null,null,null,null,null,null,null,null,null,null,null,null,null,null,null,null,null,null,null,null,null,null,null,null,null,null,null,null,null,null,null,{"$f":"IF('3 - Alt Num Lanes Input'!AO66>0,SBR_Master,0)","v":51},null,null,{"$f":"SBT_Master+IF('3 - Alt Num Lanes Input'!AO66=0,SBR_Master,0)","v":204},null,null,{"$f":"SBL_Master","v":31},null,null,{"$f":"SBU_Master","v":0}]
[null,null,null,null,null,null,null,null,null,null,null,null,null,null,null,null,null,null,null,null,null,null,null,null,null,null,null,null,null,null,null,null,null,null,null,{"$f":"IF('3 - Alt Num Lanes Input'!AO66=0,1,'3 - Alt Num Lanes Input'!AO66)","v":1},null,null,{"$f":"MAX('3 - Alt Num Lanes Input'!AM66,1)","v":2}]
[null,null,null,null,null,null,null,null,null,null,null,null,null,null,null,null,null,null,null,null,null,null,null,null,null,null,null,null,null,null,null,null,"pepch",{"$f":"EBU_Master","v":0},null,null,null,null,null,null,null,null,null,null,null,null,null,{"$f":"IF('3 - Alt Num Lanes Input'!BE66=0,1,'3 - Alt Num Lanes Input'!BE66)","v":1},{"$f":"IF('3 - Alt Num Lanes Input'!BE66>0,WBR_Master,0)","v":51},"pepch"]
[]
[]
[null,null,null,null,null,null,null,null,null,null,null,null,null,null,null,null,null,null,null,null,null,null,null,null,null,null,null,null,null,null,null,null,"pepch",{"$f":"EBL_Master","v":31},null,null,null,null,null,null,null,null,null,null,null,null,null,{"$f":"'3 - Alt Num Lanes Input'!BC66","v":2},{"$f":"WBT_Master+IF('3 - Alt Num Lanes Input'!BE66=0,WBR_Master,0)","v":204},"pepch",null,null,null,null,null,null,null,null,null,null,null,null,null,null,null,null,null,{"$f":"'3 - Alt Num Lanes Input'!BC66","v":2},{"$f":"AW90+AW87+AW84+AW81","v":286},"pepch"]
[]
[]
[null,null,null,null,null,null,null,null,null,null,null,null,"pepch",{"$f":"AH90+AH87+AH84+AH81","v":286},{"$f":"'3 - Alt Num Lanes Input'!AU66","v":2},null,null,{"$f":"+(N87/O87 +S78/UTAF/R78)","v":220.5},null,null,null,null,null,null,null,null,null,null,null,null,null,null,"pepch",{"$f":"EBT_Master+IF('3 - Alt Num Lanes Input'!AW66=0,EBR_Master,0)","v":204},{"$f":"'3 - Alt Num Lanes Input'!AU66","v":2},null,null,{"$f":"MAX(AP94/AP93, (AS94+AM94+AJ94)/RTAF/AS93, AM79/AM80, (AJ79+AP79+AS79)/RTAF/AJ80) +MAX((AH84+AH81+AH87)/AI87, (AJ94+AW87+AH90)/RTAF/AI90, (AW84+AW87+AW90)/AV84, (AW81+AH84+AS79)/RTAF/AV81)","v":477.5},null,null,null,null,null,null,null,null,null,null,{"$f":"WBL_Master","v":31},"pepch",null,null,null,null,null,null,null,{"$f":"+(BQ84/BP84 + BL93/UTAF/BM93)","v":309.25}]
[]
[]
[null,null,null,null,null,null,null,null,null,null,null,null,null,null,null,null,null,null,null,null,null,null,null,null,null,null,null,null,null,null,null,null,"pepch",{"$f":"IF('3 - Alt Num Lanes Input'!AW66>0,EBR_Master,0)","v":51},{"$f":"IF('3 - Alt Num Lanes Input'!AW66=0,1,'3 - Alt Num Lanes Input'!AW66)","v":1},null,null,null,null,null,null,null,null,null,null,null,null,null,{"$f":"WBU_Master","v":0},"pepch"]
[]
[]
[null,null,null,null,null,null,null,null,null,null,null,null,null,null,null,null,null,null,null,null,null,null,null,null,null,null,null,null,null,null,null,null,null,null,null,null,null,null,null,null,null,{"$f":"MAX('3 - Alt Num Lanes Input'!AE66,1)","v":2},null,null,{"$f":"IF('3 - Alt Num Lanes Input'!AG66=0,1,'3 - Alt Num Lanes Input'!AG66)","v":1},null,null,null,null,null,null,null,null,null,null,null,null,null,null,null,null,null,"pepch",{"$f":"AJ94+AM94+AH84+AH81+AS79","v":133},{"$f":"'3 - Alt Num Lanes Input'!AQ66","v":1}]
[null,null,null,null,null,null,null,null,null,null,null,null,null,null,null,null,null,null,null,null,null,null,null,null,null,null,null,null,null,null,null,null,null,null,null,{"$f":"NBU_Master","v":0},null,null,{"$f":"NBL_Master","v":102},null,null,{"$f":"NBT_Master+IF('3 - Alt Num Lanes Input'!AG66=0,NBR_Master,0)","v":510},null,null,{"$f":"IF('3 - Alt Num Lanes Input'!AG66>0,NBR_Master,0)","v":204}]
[null,null,null,null,null,null,null,null,null,null,null,null,null,null,null,null,null,null,null,null,null,null,null,null,null,null,null,null,null,null,null,null,null,null,null,"pepch",null,null,"pepch",null,null,"pepch",null,null,"pepch"]

{"sheet":"PMUT N-S","index":36,"n_rows":74,"n_cols":101,"rows_kept":74,"cut":false,"hidden":false,"merged":[[64,43,64,47],[29,43,29,47],[46,50,46,54],[67,92,67,94],[68,92,71,94],[59,83,59,85],[59,88,61,95],[60,83,60,85],[61,83,61,85],[65,92,65,94],[66,92,66,94],[48,86,51,88],[48,89,51,91],[48,92,51,94],[48,95,51,97],[55,83,58,85],[56,88,58,95],[46,86,46,88],[46,89,46,91],[46,92,46,94],[46,95,46,97],[47,86,47,88],[47,89,47,91],[47,92,47,94],[47,95,47,97],[42,100,44,100],[42,101,44,104],[45,86,45,88],[45,89,45,91],[45,92,45,94],[45,95,45,97],[42,79,44,82],[42,83,44,83],[42,84,44,84],[42,85,44,85],[42,98,44,98],[42,99,44,99],[39,79,41,82],[39,83,41,83],[39,84,41,84],[39,85,41,85],[39,88,41,95],[39,98,41,98],[39,99,41,99],[39,100,41,100],[39,101,41,104],[26,95,29,97],[30,86,30,88],[30,89,30,91],[30,92,30,94],[30,95,30,97],[33,100,35,100],[33,101,35,104],[36,79,38,82],[36,83,38,83],[36,84,38,84],[36,85,38,85],[36,88,38,95],[36,98,38,98],[36,99,38,99],[36,100,38,100],[33,79,35,82],[33,83,35,83],[33,84,35,84],[33,85,35,85],[33,98,35,98],[33,99,35,99],[36,101,38,104],[40,54,42,54],[16,88,18,95],[16,98,16,100],[17,98,17,100],[18,98,18,100],[19,88,21,95],[19,98,22,100],[0,63,1,122],[2,63,3,122],[6,89,9,91],[10,89,10,91],[11,89,11,91],[12,89,12,91],[31,86,31,88],[31,89,31,91],[31,92,31,94],[31,95,31,97],[32,86,32,88],[32,89,32,91],[32,92,32,94],[32,95,32,97],[26,86,29,88],[26,89,29,91],[26,92,29,94],[0,1,1,60],[2,1,3,60],[5,2,6,9],[5,10,6,35],[7,2,8,9],[7,10,8,35],[9,2,10,9],[9,10,10,35],[11,2,12,9],[11,10,12,35],[5,36,6,59],[73,13,73,48],[7,36,8,41],[7,42,8,47],[7,48,8,53],[7,54,8,59],[9,36,12,47],[9,48,12,59],[61,38,63,41],[61,42,63,42],[61,43,63,46],[61,47,63,47],[43,45,45,48],[43,49,45,49],[43,50,45,53],[43,54,45,54],[23,38,25,46],[23,47,25,47],[26,38,28,41],[26,42,28,42],[26,43,28,46],[26,47,28,47],[58,38,60,46],[58,47,60,47],[40,45,42,53]]}
[null,"Partial Median U-Turn Intersection (N-S)",null,null,null,null,null,null,null,null,null,null,null,null,null,null,null,null,null,null,null,null,null,null,null,null,null,null,null,null,null,null,null,null,null,null,null,null,null,null,null,null,null,null,null,null,null,null,null,null,null,null,null,null,null,null,null,null,null,null,null,null,null," Partial Median U-Turn Intersection (N-S)"]
[]
[null,"Design and Results",null,null,null,null,null,null,null,null,null,null,null,null,null,null,null,null,null,null,null,null,null,null,null,null,null,null,null,null,null,null,null,null,null,null,null,null,null,null,null,null,null,null,null,null,null,null,null,null,null,null,null,null,null,null,null,null,null,null,null,null,null,"Data Input and Configuration"]
[]
[]
[null,null,"Project Name:",null,null,null,null,null,null,null,{"$f":"P_Name","v":"Cap-X Sample Street"},null,null,null,null,null,null,null,null,null,null,null,null,null,null,null,null,null,null,null,null,null,null,null,null,null,"Volume-to-Capacity Ratio"]
[]
[null,null,"Project Number:",null,null,null,null,null,null,null,{"$f":"P_Number","v":10000},null,null,null,null,null,null,null,null,null,null,null,null,null,null,null,null,null,null,null,null,null,null,null,null,null,"< 0.750",null,null,null,null,null,"0.750 - 0.875",null,null,null,null,null,"0.875 - 1.00",null,null,null,null,null,"≥ 1.00"]
[]
[null,null,"Location",null,null,null,null,null,null,null,{"$f":"Location","v":"Anywhere, USA"},null,null,null,null,null,null,null,null,null,null,null,null,null,null,null,null,null,null,null,null,null,null,null,null,null,"VOLUME / CAPACITY RATIO:",null,null,null,null,null,null,null,null,null,null,null,{"$f":"MAX(AM27,AT44,AM62)","v":0.25}]
[null,null,null,null,null,null,null,null,null,null,null,null,null,null,null,null,null,null,null,null,null,null,null,null,null,null,null,null,null,null,null,null,null,null,null,null,null,null,null,null,null,null,null,null,null,null,null,null,null,null,null,null,null,null,null,null,null,null,null,null,null,null,null,null,null,null,null,null,null,null,null,null,null,null,null,null,null,null,null,null,null,null,null,null,null,null,null,null,null,"pepch"]
[null,null,"Date",null,null,null,null,null,null,null,{"$f":"Date","v":"2017 AM"},null,null,null,null,null,null,null,null,null,null,null,null,null,null,null,null,null,null,null,null,null,null,null,null,null,null,null,null,null,null,null,null,null,null,null,null,null,null,null,null,null,null,null,null,null,null,null,null,null,null,null,null,null,null,null,null,null,null,null,null,null,null,null,null,null,null,null,null,null,null,null,null,null,null,null,null,null,null,{"$f":"CI32+CL32+CO32+CR32","v":286}]
[null,null,null,null,null,null,null,null,null,null,null,null,null,null,null,null,null,null,null,null,null,null,null,null,null,null,null,null,null,null,null,null,null,null,null,null,null,null,null,null,null,null,null,null,null,null,null,null,null,null,null,null,null,null,null,null,null,null,null,null,null,null,null,null,null,null,null,null,null,null,null,null,null,null,null,null,null,null,null,null,null,null,null,null,null,null,null,null,null,{"$f":"'3 - Alt Num Lanes Input'!AM68","v":2}]
[]
[]
[]
[null,null,null,null,null,null,null,null,null,null,null,null,null,null,null,null,null,null,null,null,null,null,null,null,null,null,null,null,null,null,null,null,null,null,null,null,null,null,null,null,null,null,null,null,null,null,null,null,null,null,null,null,null,null,null,null,null,null,null,null,null,null,null,null,null,null,null,null,null,null,null,null,null,null,null,null,null,null,null,null,null,null,null,null,null,null,null,null,null,null,null,null,null,null,null,null,null,null,{"$f":"'3 - Alt Num Lanes Input'!AA68","v":1}]
[null,null,null,null,null,null,null,null,null,null,null,null,null,null,null,null,null,null,null,null,null,null,null,null,null,null,null,null,null,null,null,null,null,null,null,null,null,null,null,null,null,null,null,null,null,null,null,null,null,null,null,null,null,null,null,null,null,null,null,null,null,null,null,null,null,null,null,null,null,null,null,null,null,null,null,null,null,null,null,null,null,null,null,null,null,null,null,null,null,null,null,null,null,null,null,null,null,null,{"$f":"CG34+CL47+CI47","v":102}]
[null,null,null,null,null,null,null,null,null,null,null,null,null,null,null,null,null,null,null,null,null,null,null,null,null,null,null,null,null,null,null,null,null,null,null,null,null,null,null,null,null,null,null,null,null,null,null,null,null,null,null,null,null,null,null,null,null,null,null,null,null,null,null,null,null,null,null,null,null,null,null,null,null,null,null,null,null,null,null,null,null,null,null,null,null,null,null,null,null,null,null,null,null,null,null,null,null,null,"pepch"]
[null,null,null,null,null,null,null,null,null,null,null,null,null,null,null,null,null,null,null,null,null,null,null,null,null,null,null,null,null,null,null,null,null,null,null,null,null,null,null,null,null,null,null,null,null,null,null,null,null,null,null,null,null,null,null,null,null,null,null,null,null,null,null,null,null,null,null,null,null,null,null,null,null,null,null,null,null,null,null,null,null,null,null,null,null,null,null,null,{"$f":"+(CL12/CL13 + CU18/UTAF/CU17)","v":270.5}]
[]
[]
[]
[null,null,null,null,null,null,null,null,null,null,null,null,null,null,null,null,null,null,null,null,null,null,null,null,null,null,null,null,null,null,null,null,null,null,null,null,null,null,{"$f":"CK20","v":270.5},null,null,null,null,null,null,null,null,"CLV"]
[]
[]
[null,null,null,null,null,null,null,null,null,null,null,null,null,null,null,null,null,null,null,null,null,null,null,null,null,null,null,null,null,null,null,null,null,null,null,null,null,null,{"$f":"ROUND(AM24/CLV_Limit_2,2)","v":0.15},null,null,null,"V/C",{"$f":"CLV_Limit_2","v":1800},null,null,null,"MAX"]
[]
[]
[null,null,null,null,null,null,null,null,null,null,null,null,null,null,null,null,null,null,null,null,null,null,null,null,null,null,null,null,null,null,null,null,null,null,null,null,null,null,null,null,null,null,null,"2 Phases"]
[null,null,null,null,null,null,null,null,null,null,null,null,null,null,null,null,null,null,null,null,null,null,null,null,null,null,null,null,null,null,null,null,null,null,null,null,null,null,null,null,null,null,null,null,null,null,null,null,null,null,null,null,null,null,null,null,null,null,null,null,null,null,null,null,null,null,null,null,null,null,null,null,null,null,null,null,null,null,null,null,null,null,null,null,null,null,"pepch",null,null,"pepch",null,null,"pepch",null,null,"pepch"]
[null,null,null,null,null,null,null,null,null,null,null,null,null,null,null,null,null,null,null,null,null,null,null,null,null,null,null,null,null,null,null,null,null,null,null,null,null,null,null,null,null,null,null,null,null,null,null,null,null,null,null,null,null,null,null,null,null,null,null,null,null,null,null,null,null,null,null,null,null,null,null,null,null,null,null,null,null,null,null,null,null,null,null,null,null,null,{"$f":"IF('3 - Alt Num Lanes Input'!AO68>0,SBR_Master,0)","v":51},null,null,{"$f":"SBT_Master+IF('3 - Alt Num Lanes Input'!AO68=0,SBR_Master,0)","v":204},null,null,{"$f":"SBL_Master","v":31},null,null,{"$f":"SBU_Master","v":0}]
[null,null,null,null,null,null,null,null,null,null,null,null,null,null,null,null,null,null,null,null,null,null,null,null,null,null,null,null,null,null,null,null,null,null,null,null,null,null,null,null,null,null,null,null,null,null,null,null,null,null,null,null,null,null,null,null,null,null,null,null,null,null,null,null,null,null,null,null,null,null,null,null,null,null,null,null,null,null,null,null,null,null,null,null,null,null,{"$f":"IF('3 - Alt Num Lanes Input'!AO68=0,1,'3 - Alt Num Lanes Input'!AO68)","v":1},null,null,{"$f":"'3 - Alt Num Lanes Input'!AM68","v":2}]
[null,null,null,null,null,null,null,null,null,null,null,null,null,null,null,null,null,null,null,null,null,null,null,null,null,null,null,null,null,null,null,null,null,null,null,null,null,null,null,null,null,null,null,null,null,null,null,null,null,null,null,null,null,null,null,null,null,null,null,null,null,null,null,null,null,null,null,null,null,null,null,null,null,null,null,null,null,null,null,null,null,null,null,"pepch",{"$f":"EBU_Master","v":0},null,null,null,null,null,null,null,null,null,null,null,null,null,{"$f":"IF('3 - Alt Num Lanes Input'!BE68=0,1,'3 - Alt Num Lanes Input'!BE68)","v":1},{"$f":"IF(AND('3 - Alt Num Lanes Input'!BA68=0,'3 - Alt Num Lanes Input'!BC68=1,'3 - Alt Num Lanes Input'!BE68=0),0,IF(AND('3 - Alt Num Lanes Input'!BA68=0,'3 - Alt Num Lanes Input'!BC68=2,'3 - Alt Num Lanes Input'!BE68=0),0,IF(AND('3 - Alt Num Lanes Input'!BA68=1,'3 - Alt Num Lanes Input'!BC68=1,'3 - Alt Num Lanes Input'!BE68=0),0,WBR_Master)))","v":51},"pepch"]
[]
[]
[null,null,null,null,null,null,null,null,null,null,null,null,null,null,null,null,null,null,null,null,null,null,null,null,null,null,null,null,null,null,null,null,null,null,null,null,null,null,null,null,null,null,null,null,null,null,null,null,null,null,null,null,null,null,null,null,null,null,null,null,null,null,null,null,null,null,null,null,null,null,null,null,null,null,null,null,null,null,null,null,null,null,null,"pepch",{"$f":"IF(AND('3 - Alt Num Lanes Input'!AS68=0,'3 - Alt Num Lanes Input'!AU68=1,'3 - Alt Num Lanes Input'!AW68=0),0,IF(AND('3 - Alt Num Lanes Input'!AS68=0,'3 - Alt Num Lanes Input'!AU68=2,'3 - Alt Num Lanes Input'!AW68=0),0,IF(AND('3 - Alt Num Lanes Input'!AS68=0,'3 - Alt Num Lanes Input'!AU68=1,'3 - Alt Num Lanes Input'!AW68=1),0,EBL_Master)))","v":31},{"$f":"IF('3 - Alt Num Lanes Input'!AS68=0,1,'3 - Alt Num Lanes Input'!AS68)","v":1},null,null,null,null,null,null,null,null,null,null,null,null,{"$f":"MAX('3 - Alt Num Lanes Input'!BC68,1)","v":2},{"$f":"WBT_Master + IF('3 - Alt Num Lanes Input'!BA68=0,WBL_Master,0) + IF('3 - Alt Num Lanes Input'!BE68=0,WBR_Master,0)","v":204},"pepch"]
[]
[]
[null,null,null,null,null,null,null,null,null,null,null,null,null,null,null,null,null,null,null,null,null,null,null,null,null,null,null,null,null,null,null,null,null,null,null,null,null,null,null,null,null,null,null,null,null,null,null,null,null,null,null,null,null,null,null,null,null,null,null,null,null,null,null,null,null,null,null,null,null,null,null,null,null,null,null,null,null,null,null,null,null,null,null,"pepch",{"$f":"EBT_Master + IF('3 - Alt Num Lanes Input'!AS68=0,EBL_Master,0) + IF('3 - Alt Num Lanes Input'!AW68=0,EBR_Master,0)","v":204},{"$f":"MAX('3 - Alt Num Lanes Input'!AU68,1)","v":2},null,null,{"$f":"MAX((CO47+CL47+CI47+CR32)/CO46, ROUND(MAX(0,(CR47+CO32+CV43)/RTAF/CR46-CV40/LTAF/CU40),0), (CL32+CO32+CR32+CI47)/CL33, ROUND(MAX(0,(CI32+CL47+CG34)/RTAF/CH37-(CG37)/LTAF/CH37),0)) +MAX(((CG37/LTAF+CG34/UTAF)/CH37 + MAX(CV37/CU37, CV34/RTAF/CU34)), ((CV40/LTAF+CV43/UTAF)/CU40 +MAX(CG40/CH40, CG43/RTAF/CH43)))","v":440.63157894736844},null,null,null,null,null,null,null,null,null,{"$f":"IF('3 - Alt Num Lanes Input'!BA68=0,1,'3 - Alt Num Lanes Input'!BA68)","v":1},{"$f":"IF(AND('3 - Alt Num Lanes Input'!BA68=0,'3 - Alt Num Lanes Input'!BC68=1,'3 - Alt Num Lanes Input'!BE68=0),0,IF(AND('3 - Alt Num Lanes Input'!BA68=0,'3 - Alt Num Lanes Input'!BC68=2,'3 - Alt Num Lanes Input'!BE68=0),0,IF(AND('3 - Alt Num Lanes Input'!BA68=0,'3 - Alt Num Lanes Input'!BC68=1,'3 - Alt Num Lanes Input'!BE68=1),0,WBL_Master)))","v":31},"pepch"]
[null,null,null,null,null,null,null,null,null,null,null,null,null,null,null,null,null,null,null,null,null,null,null,null,null,null,null,null,null,null,null,null,null,null,null,null,null,null,null,null,null,null,null,null,null,{"$f":"CK40","v":440.63157894736844},null,null,null,null,null,null,null,null,"CLV"]
[]
[null,null,null,null,null,null,null,null,null,null,null,null,null,null,null,null,null,null,null,null,null,null,null,null,null,null,null,null,null,null,null,null,null,null,null,null,null,null,null,null,null,null,null,null,null,null,null,null,null,null,null,null,null,null,null,null,null,null,null,null,null,null,null,null,null,null,null,null,null,null,null,null,null,null,null,null,null,null,null,null,null,null,null,"pepch",{"$f":"IF(AND('3 - Alt Num Lanes Input'!AS68=0,'3 - Alt Num Lanes Input'!AU68=1,'3 - Alt Num Lanes Input'!AW68=0),0,IF(AND('3 - Alt Num Lanes Input'!AS68=0,'3 - Alt Num Lanes Input'!AU68=2,'3 - Alt Num Lanes Input'!AW68=0),0,IF(AND('3 - Alt Num Lanes Input'!AS68=1,'3 - Alt Num Lanes Input'!AU68=1,'3 - Alt Num Lanes Input'!AW68=0),0,EBR_Master)))","v":51},{"$f":"IF('3 - Alt Num Lanes Input'!AW68=0,1,'3 - Alt Num Lanes Input'!AW68)","v":1},null,null,null,null,null,null,null,null,null,null,null,null,null,{"$f":"WBU_Master","v":0},"pepch"]
[null,null,null,null,null,null,null,null,null,null,null,null,null,null,null,null,null,null,null,null,null,null,null,null,null,null,null,null,null,null,null,null,null,null,null,null,null,null,null,null,null,null,null,null,null,{"$f":"ROUND(AT41/CLV_Limit_3,2)","v":0.25},null,null,null,"V/C",{"$f":"CLV_Limit_3","v":1750},null,null,null,"MAX"]
[]
[null,null,null,null,null,null,null,null,null,null,null,null,null,null,null,null,null,null,null,null,null,null,null,null,null,null,null,null,null,null,null,null,null,null,null,null,null,null,null,null,null,null,null,null,null,null,null,null,null,null,null,null,null,null,null,null,null,null,null,null,null,null,null,null,null,null,null,null,null,null,null,null,null,null,null,null,null,null,null,null,null,null,null,null,null,null,null,null,null,null,null,null,{"$f":"'3 - Alt Num Lanes Input'!AE68","v":2},null,null,{"$f":"IF('3 - Alt Num Lanes Input'!AG68=0,1,'3 - Alt Num Lanes Input'!AG68)","v":1}]
[null,null,null,null,null,null,null,null,null,null,null,null,null,null,null,null,null,null,null,null,null,null,null,null,null,null,null,null,null,null,null,null,null,null,null,null,null,null,null,null,null,null,null,null,null,null,null,null,null,null,"3 Phases",null,null,null,null,null,null,null,null,null,null,null,null,null,null,null,null,null,null,null,null,null,null,null,null,null,null,null,null,null,null,null,null,null,null,null,{"$f":"NBU_Master","v":0},null,null,{"$f":"NBL_Master","v":102},null,null,{"$f":"NBT_Master+IF('3 - Alt Num Lanes Input'!AG68=0,NBR_Master,0)","v":510},null,null,{"$f":"IF('3 - Alt Num Lanes Input'!AG68>0,NBR_Master,0)","v":204}]
[null,null,null,null,null,null,null,null,null,null,null,null,null,null,null,null,null,null,null,null,null,null,null,null,null,null,null,null,null,null,null,null,null,null,null,null,null,null,null,null,null,null,null,null,null,null,null,null,null,null,null,null,null,null,null,null,null,null,null,null,null,null,null,null,null,null,null,null,null,null,null,null,null,null,null,null,null,null,null,null,null,null,null,null,null,null,"pepch",null,null,"pepch",null,null,"pepch",null,null,"pepch"]
[]
[]
[]
[]
[]
[]
[]
[]
[]
[]
[null,null,null,null,null,null,null,null,null,null,null,null,null,null,null,null,null,null,null,null,null,null,null,null,null,null,null,null,null,null,null,null,null,null,null,null,null,null,{"$f":"CK60","v":446.75},null,null,null,null,null,null,null,null,"CLV"]
[null,null,null,null,null,null,null,null,null,null,null,null,null,null,null,null,null,null,null,null,null,null,null,null,null,null,null,null,null,null,null,null,null,null,null,null,null,null,null,null,null,null,null,null,null,null,null,null,null,null,null,null,null,null,null,null,null,null,null,null,null,null,null,null,null,null,null,null,null,null,null,null,null,null,null,null,null,null,null,null,null,null,null,"pepch",null,null,null,null,{"$f":"+(CO67/CO66 +CF61/UTAF/CF62)","v":446.75}]
[null,null,null,null,null,null,null,null,null,null,null,null,null,null,null,null,null,null,null,null,null,null,null,null,null,null,null,null,null,null,null,null,null,null,null,null,null,null,null,null,null,null,null,null,null,null,null,null,null,null,null,null,null,null,null,null,null,null,null,null,null,null,null,null,null,null,null,null,null,null,null,null,null,null,null,null,null,null,null,null,null,null,null,{"$f":"CO32+CR32+CV43","v":31}]
[null,null,null,null,null,null,null,null,null,null,null,null,null,null,null,null,null,null,null,null,null,null,null,null,null,null,null,null,null,null,null,null,null,null,null,null,null,null,{"$f":"ROUND(AM59/CLV_Limit_2,2)","v":0.25},null,null,null,"V/C",{"$f":"CLV_Limit_2","v":1800},null,null,null,"MAX",null,null,null,null,null,null,null,null,null,null,null,null,null,null,null,null,null,null,null,null,null,null,null,null,null,null,null,null,null,null,null,null,null,null,null,{"$f":"'3 - Alt Num Lanes Input'!AI68","v":1}]
[]
[]
[null,null,null,null,null,null,null,null,null,null,null,null,null,null,null,null,null,null,null,null,null,null,null,null,null,null,null,null,null,null,null,null,null,null,null,null,null,null,null,null,null,null,null,"2 Phases"]
[null,null,null,null,null,null,null,null,null,null,null,null,null,null,null,null,null,null,null,null,null,null,null,null,null,null,null,null,null,null,null,null,null,null,null,null,null,null,null,null,null,null,null,null,null,null,null,null,null,null,null,null,null,null,null,null,null,null,null,null,null,null,null,null,null,null,null,null,null,null,null,null,null,null,null,null,null,null,null,null,null,null,null,null,null,null,null,null,null,null,null,null,{"$f":"'3 - Alt Num Lanes Input'!AE68","v":2}]
[null,null,null,null,null,null,null,null,null,null,null,null,null,null,null,null,null,null,null,null,null,null,null,null,null,null,null,null,null,null,null,null,null,null,null,null,null,null,null,null,null,null,null,null,null,null,null,null,null,null,null,null,null,null,null,null,null,null,null,null,null,null,null,null,null,null,null,null,null,null,null,null,null,null,null,null,null,null,null,null,null,null,null,null,null,null,null,null,null,null,null,null,{"$f":"CI47+CL47+CO47+CR47","v":816}]
[null,null,null,null,null,null,null,null,null,null,null,null,null,null,null,null,null,null,null,null,null,null,null,null,null,null,null,null,null,null,null,null,null,null,null,null,null,null,null,null,null,null,null,null,null,null,null,null,null,null,null,null,null,null,null,null,null,null,null,null,null,null,null,null,null,null,null,null,null,null,null,null,null,null,null,null,null,null,null,null,null,null,null,null,null,null,null,null,null,null,null,null,"pepch"]
[]
[]
[]
[]
[]
[null,null,null,null,null,null,null,null,null,null,null,null,null,"Note: This diagram does not reflect the actual lane configuration of the Intersection"]

{"sheet":"PMUT E-W","index":37,"n_rows":95,"n_cols":77,"rows_kept":95,"cut":false,"hidden":false,"merged":[[27,72,27,76],[27,10,27,14],[26,41,26,45],[24,67,26,70],[24,71,26,71],[24,72,26,75],[24,76,26,76],[9,10,10,54],[11,2,12,9],[11,10,12,54],[5,55,6,78],[7,55,8,60],[7,61,8,66],[7,67,8,72],[7,73,8,78],[9,55,12,66],[9,67,12,78],[21,67,23,75],[21,76,23,76],[95,35,98,37],[95,38,98,40],[95,41,98,43],[95,44,98,46],[0,1,1,79],[2,1,3,79],[5,2,6,9],[5,10,6,54],[92,63,94,63],[93,35,93,37],[93,38,93,40],[93,41,93,43],[93,44,93,46],[94,35,94,37],[94,38,94,40],[94,41,94,43],[94,44,94,46],[92,35,92,37],[92,38,92,40],[92,41,92,43],[92,44,92,46],[7,2,8,9],[7,10,8,54],[9,2,10,9],[92,58,94,61],[92,62,94,62],[86,50,88,53],[86,57,88,64],[89,28,91,31],[89,32,91,32],[89,33,91,33],[89,34,91,34],[89,47,91,47],[89,48,91,48],[89,49,91,49],[89,50,91,53],[86,33,88,33],[86,34,88,34],[86,37,88,44],[86,47,88,47],[86,48,88,48],[86,49,88,49],[92,64,94,64],[83,68,85,68],[83,69,85,69],[83,70,85,73],[85,8,87,11],[85,12,87,12],[85,13,87,13],[85,14,87,14],[86,17,88,24],[86,28,88,31],[86,32,88,32],[83,47,85,47],[83,48,85,48],[83,49,85,49],[83,50,85,53],[83,57,85,64],[83,67,85,67],[80,47,82,47],[80,48,82,48],[80,49,82,49],[80,50,82,53],[83,17,85,24],[83,28,85,31],[83,32,85,32],[83,33,85,33],[83,34,85,34],[83,37,85,44],[80,28,82,31],[80,32,82,32],[80,33,82,33],[80,34,82,34],[56,1,57,79],[58,1,59,79],[73,35,76,37],[73,38,76,40],[73,41,76,43],[73,44,76,46],[79,41,79,43],[79,44,79,46],[77,41,77,43],[77,44,77,46],[78,35,78,37],[78,38,78,40],[78,41,78,43],[78,44,78,46],[77,17,79,17],[77,18,79,18],[77,19,79,19],[77,20,79,23],[77,35,77,37],[77,38,77,40],[79,35,79,37],[79,38,79,40],[54,22,54,57],[20,36,22,44],[20,45,22,45],[23,36,25,39],[23,40,25,40],[23,41,25,44],[23,45,25,45],[21,5,23,13],[21,14,23,14],[24,5,26,8],[24,9,26,9],[24,10,26,13],[24,14,26,14]]}
[null,"Partial Median U-Turn Intersection (E-W)"]
[]
[null,"Design and Results"]
[]
[]
[null,null,"Project Name:",null,null,null,null,null,null,null,{"$f":"P_Name","v":"Cap-X Sample Street"},null,null,null,null,null,null,null,null,null,null,null,null,null,null,null,null,null,null,null,null,null,null,null,null,null,null,null,null,null,null,null,null,null,null,null,null,null,null,null,null,null,null,null,null,"Volume-to-Capacity Ratio"]
[]
[null,null,"Project Number:",null,null,null,null,null,null,null,{"$f":"P_Number","v":10000},null,null,null,null,null,null,null,null,null,null,null,null,null,null,null,null,null,null,null,null,null,null,null,null,null,null,null,null,null,null,null,null,null,null,null,null,null,null,null,null,null,null,null,null,"< 0.750",null,null,null,null,null,"0.750 - 0.875",null,null,null,null,null,"0.875 - 1.00",null,null,null,null,null,"≥ 1.00"]
[]
[null,null,"Location",null,null,null,null,null,null,null,{"$f":"Location","v":"Anywhere, USA"},null,null,null,null,null,null,null,null,null,null,null,null,null,null,null,null,null,null,null,null,null,null,null,null,null,null,null,null,null,null,null,null,null,null,null,null,null,null,null,null,null,null,null,null,"VOLUME / CAPACITY RATIO:",null,null,null,null,null,null,null,null,null,null,null,{"$f":"MAX(F25,AK24,BP25)","v":0.23}]
[]
[null,null,"Date",null,null,null,null,null,null,null,{"$f":"Date","v":"2017 AM"}]
[]
[]
[]
[]
[]
[]
[]
[]
[null,null,null,null,null,null,null,null,null,null,null,null,null,null,null,null,null,null,null,null,null,null,null,null,null,null,null,null,null,null,null,null,null,null,null,null,{"$f":"AL87","v":405.13157894736844},null,null,null,null,null,null,null,null,"CLV"]
[null,null,null,null,null,{"$f":"R87","v":181.75},null,null,null,null,null,null,null,null,"CLV",null,null,null,null,null,null,null,null,null,null,null,null,null,null,null,null,null,null,null,null,null,null,null,null,null,null,null,null,null,null,null,null,null,null,null,null,null,null,null,null,null,null,null,null,null,null,null,null,null,null,null,null,{"$f":"BF87","v":181.75},null,null,null,null,null,null,null,null,"CLV"]
[]
[null,null,null,null,null,null,null,null,null,null,null,null,null,null,null,null,null,null,null,null,null,null,null,null,null,null,null,null,null,null,null,null,null,null,null,null,{"$f":"ROUND(AK21/CLV_Limit_3,2)","v":0.23},null,null,null,"V/C",{"$f":"CLV_Limit_3","v":1750},null,null,null,"MAX"]
[null,null,null,null,null,{"$f":"ROUND(F22/CLV_Limit_2,2)","v":0.1},null,null,null,"V/C",{"$f":"CLV_Limit_2","v":1800},null,null,null,"MAX",null,null,null,null,null,null,null,null,null,null,null,null,null,null,null,null,null,null,null,null,null,null,null,null,null,null,null,null,null,null,null,null,null,null,null,null,null,null,null,null,null,null,null,null,null,null,null,null,null,null,null,null,{"$f":"ROUND(BP22/CLV_Limit_2,2)","v":0.1},null,null,null,"V/C",{"$f":"CLV_Limit_2","v":1800},null,null,null,"MAX"]
[]
[null,null,null,null,null,null,null,null,null,null,null,null,null,null,null,null,null,null,null,null,null,null,null,null,null,null,null,null,null,null,null,null,null,null,null,null,null,null,null,null,null,"3 Phases"]
[null,null,null,null,null,null,null,null,null,null,"2 Phases",null,null,null,null,null,null,null,null,null,null,null,null,null,null,null,null,null,null,null,null,null,null,null,null,null,null,null,null,null,null,null,null,null,null,null,null,null,null,null,null,null,null,null,null,null,null,null,null,null,null,null,null,null,null,null,null,null,null,null,null,null,"2 Phases"]
[]
[]
[]
[]
[]
[]
[]
[]
[]
[]
[]
[]
[]
[]
[]
[]
[]
[]
[]
[]
[]
[]
[]
[]
[]
[]
[null,null,null,null,null,null,null,null,null,null,null,null,null,null,null,null,null,null,null,null,null,null,"Note: This diagram does not reflect the actual lane configuration of the Intersection"]
[]
[null,"Partial Median U-Turn Intersection (E-W)"]
[]
[null,"Data Input and Configuration"]
[]
[]
[]
[]
[null,null,null,null,null,null,null,null,null,null,null,null,null,null,null,null,null,null,null,null,null,null,"``"]
[]
[]
[]
[]
[]
[]
[]
[]
[]
[]
[]
[]
[]
[null,null,null,null,null,null,null,null,null,null,null,null,null,null,null,null,null,{"$f":"'3 - Alt Num Lanes Input'!AY70","v":1},{"$f":"AW90+AW87+AJ94","v":31},"pepch",null,null,null,null,null,null,null,null,null,null,null,null,null,null,null,"pepch",null,null,"pepch",null,null,"pepch",null,null,"pepch"]
[null,null,null,null,null,null,null,null,null,null,null,null,null,null,null,null,null,null,null,null,null,null,null,null,null,null,null,null,null,null,null,null,null,null,null,{"$f":"IF(AND('3 - Alt Num Lanes Input'!AK70=0,'3 - Alt Num Lanes Input'!AM70=1,'3 - Alt Num Lanes Input'!AO70=0),0,IF(AND('3 - Alt Num Lanes Input'!AK70=0,'3 - Alt Num Lanes Input'!AM70=2,'3 - Alt Num Lanes Input'!AO70=0),0,IF(AND('3 - Alt Num Lanes Input'!AK70=1,'3 - Alt Num Lanes Input'!AM70=1,'3 - Alt Num Lanes Input'!AO70=0),0,SBR_Master)))","v":51},null,null,{"$f":"SBT_Master + IF('3 - Alt Num Lanes Input'!AK70=0,SBL_Master,0) + IF('3 - Alt Num Lanes Input'!AO70=0,SBR_Master,0)","v":204},null,null,{"$f":"IF(AND('3 - Alt Num Lanes Input'!AK70=0,'3 - Alt Num Lanes Input'!AM70=1,'3 - Alt Num Lanes Input'!AO70=0),0,IF(AND('3 - Alt Num Lanes Input'!AK70=0,'3 - Alt Num Lanes Input'!AM70=2,'3 - Alt Num Lanes Input'!AO70=0),0,IF(AND('3 - Alt Num Lanes Input'!AK70=0,'3 - Alt Num Lanes Input'!AM70=1,'3 - Alt Num Lanes Input'!AO70=1),0,SBL_Master)))","v":31},null,null,{"$f":"SBU_Master","v":0}]
[null,null,null,null,null,null,null,null,null,null,null,null,null,null,null,null,null,null,null,null,null,null,null,null,null,null,null,null,null,null,null,null,null,null,null,{"$f":"IF('3 - Alt Num Lanes Input'!AO70=0,1,'3 - Alt Num Lanes Input'!AO70)","v":1},null,null,{"$f":"MAX('3 - Alt Num Lanes Input'!AM70,1)","v":2},null,null,{"$f":"IF('3 - Alt Num Lanes Input'!AK70=0,1,'3 - Alt Num Lanes Input'!AK70)","v":1}]
[null,null,null,null,null,null,null,null,null,null,null,null,null,null,null,null,null,null,null,null,null,null,null,null,null,null,null,null,null,null,null,null,"pepch",{"$f":"EBU_Master","v":0},null,null,null,null,null,null,null,null,null,null,null,null,null,{"$f":"IF('3 - Alt Num Lanes Input'!BE70=0,1,'3 - Alt Num Lanes Input'!BE70)","v":1},{"$f":"IF('3 - Alt Num Lanes Input'!BE70>0,WBR_Master,0)","v":51},"pepch"]
[]
[]
[null,null,null,null,null,null,null,null,null,null,null,null,null,null,null,null,null,null,null,null,null,null,null,null,null,null,null,null,null,null,null,null,"pepch",{"$f":"EBL_Master","v":31},null,null,null,null,null,null,null,null,null,null,null,null,null,{"$f":"'3 - Alt Num Lanes Input'!BC70","v":2},{"$f":"WBT_Master+IF('3 - Alt Num Lanes Input'!BE70=0,WBR_Master,0)","v":204},"pepch",null,null,null,null,null,null,null,null,null,null,null,null,null,null,null,null,null,{"$f":"'3 - Alt Num Lanes Input'!BC70","v":2},{"$f":"AW90+AW87+AW84+AW81","v":286},"pepch"]
[]
[null,null,null,null,null,null,null,null,null,null,null,null,"pepch",{"$f":"AH90+AH87+AH84+AH81","v":286},{"$f":"'3 - Alt Num Lanes Input'!AU70","v":2}]
[null,null,null,null,null,null,null,null,null,null,null,null,null,null,null,null,null,{"$f":"+(N86/O86 +S78/UTAF/R78)","v":181.75},null,null,null,null,null,null,null,null,null,null,null,null,null,null,"pepch",{"$f":"EBT_Master+IF('3 - Alt Num Lanes Input'!AW70=0,EBR_Master,0)","v":204},{"$f":"'3 - Alt Num Lanes Input'!AU70","v":2},null,null,{"$f":"MAX((AH87+AH84+AH81+AW90)/AI87, ROUND(MAX(0,(AH90+AW87+AJ94)/RTAF/AI90-AM94/LTAF/AM93),0), (AW84+AW87+AW90+AH81)/AV84, ROUND(MAX(0,(AW81+AH84+AS79)/RTAF/AV81-AP79/LTAF/AP80),0)) +MAX((AM94/LTAF+AJ94/UTAF)/AM93 + MAX(AM79/AM80, AJ79/RTAF/AJ80), (AP79/LTAF+AS79/UTAF)/AP80 +MAX(AP94/AP93, AS94/RTAF/AS93))","v":405.13157894736844},null,null,null,null,null,null,null,null,null,null,{"$f":"WBL_Master","v":31},"pepch",null,null,null,null,null,null,null,{"$f":"+(BQ84/BP84 + BL93/UTAF/BM93)","v":181.75}]
[]
[]
[null,null,null,null,null,null,null,null,null,null,null,null,null,null,null,null,null,null,null,null,null,null,null,null,null,null,null,null,null,null,null,null,"pepch",{"$f":"IF('3 - Alt Num Lanes Input'!AW70>0,EBR_Master,0)","v":51},{"$f":"IF('3 - Alt Num Lanes Input'!AW70=0,1,'3 - Alt Num Lanes Input'!AW70)","v":1},null,null,null,null,null,null,null,null,null,null,null,null,null,{"$f":"WBU_Master","v":0},"pepch"]
[]
[]
[null,null,null,null,null,null,null,null,null,null,null,null,null,null,null,null,null,null,null,null,null,null,null,null,null,null,null,null,null,null,null,null,null,null,null,null,null,null,{"$f":"IF('3 - Alt Num Lanes Input'!AC70=0,1,'3 - Alt Num Lanes Input'!AC70)","v":1},null,null,{"$f":"MAX('3 - Alt Num Lanes Input'!AE70,1)","v":2},null,null,{"$f":"IF('3 - Alt Num Lanes Input'!AG70=0,1,'3 - Alt Num Lanes Input'!AG70)","v":1},null,null,null,null,null,null,null,null,null,null,null,null,null,null,null,null,null,"pepch",{"$f":"AH84+AH81+AS79","v":31},{"$f":"'3 - Alt Num Lanes Input'!AQ70","v":1}]
[null,null,null,null,null,null,null,null,null,null,null,null,null,null,null,null,null,null,null,null,null,null,null,null,null,null,null,null,null,null,null,null,null,null,null,{"$f":"NBU_Master","v":0},null,null,{"$f":"IF(AND('3 - Alt Num Lanes Input'!AC70=0,'3 - Alt Num Lanes Input'!AE70=1,'3 - Alt Num Lanes Input'!AG70=0),0,IF(AND('3 - Alt Num Lanes Input'!AC70=0,'3 - Alt Num Lanes Input'!AE70=2,'3 - Alt Num Lanes Input'!AG70=0),0,IF(AND('3 - Alt Num Lanes Input'!AC70=0,'3 - Alt Num Lanes Input'!AE70=1,'3 - Alt Num Lanes Input'!AG70=1),0,NBL_Master)))","v":102},null,null,{"$f":"NBT_Master + IF('3 - Alt Num Lanes Input'!AC70=0,NBL_Master,0) + IF('3 - Alt Num Lanes Input'!AG70=0,NBR_Master,0)","v":510},null,null,{"$f":"IF(AND('3 - Alt Num Lanes Input'!AC70=0,'3 - Alt Num Lanes Input'!AE70=1,'3 - Alt Num Lanes Input'!AG70=0),0,IF(AND('3 - Alt Num Lanes Input'!AC70=0,'3 - Alt Num Lanes Input'!AE70=2,'3 - Alt Num Lanes Input'!AG70=0),0,IF(AND('3 - Alt Num Lanes Input'!AC70=1,'3 - Alt Num Lanes Input'!AE70=1,'3 - Alt Num Lanes Input'!AG70=0),0,NBR_Master)))","v":204}]
[null,null,null,null,null,null,null,null,null,null,null,null,null,null,null,null,null,null,null,null,null,null,null,null,null,null,null,null,null,null,null,null,null,null,null,"pepch",null,null,"pepch",null,null,"pepch",null,null,"pepch"]

{"sheet":"Bowtie N-S","index":38,"n_rows":74,"n_cols":144,"rows_kept":74,"cut":false,"hidden":false,"merged":[[0,143,1,168],[60,55,62,55],[57,46,59,54],[57,55,59,55],[63,51,64,55],[33,11,34,15],[14,69,22,69],[14,70,18,71],[14,72,18,73],[19,70,22,71],[19,72,22,73],[41,66,44,67],[32,47,32,51],[26,42,28,50],[26,51,28,51],[29,42,31,45],[29,46,31,46],[29,47,31,50],[29,51,31,51],[60,51,62,54],[27,72,29,72],[24,67,26,70],[24,71,26,71],[24,72,26,72],[27,67,29,70],[73,14,73,47],[27,6,29,14],[27,15,29,15],[30,6,32,9],[30,10,32,10],[30,11,32,14],[30,15,32,15],[60,46,62,49],[60,50,62,50],[49,64,51,73],[31,66,40,67],[0,1,1,60],[2,1,3,60],[5,2,6,9],[5,10,6,35],[5,36,6,59],[9,2,10,9],[9,10,10,35],[9,36,12,47],[9,48,12,59],[11,2,12,9],[11,10,12,35],[7,2,8,9],[7,10,8,35],[7,36,8,41],[7,42,8,47],[7,48,8,53],[7,54,8,59],[0,63,1,141],[2,63,3,141],[55,88,56,116],[57,88,59,94],[57,95,59,104],[57,105,59,108],[57,109,59,111],[57,112,59,116],[60,88,61,94],[60,95,61,104],[60,105,61,108],[60,109,61,111],[60,112,61,116],[49,76,51,85],[22,123,24,124],[14,96,15,98],[24,131,26,132],[16,96,16,98],[25,121,27,122],[25,123,27,126],[25,136,34,137],[24,109,26,109],[24,110,26,110],[24,111,26,114],[62,88,63,94],[62,95,63,104],[62,105,63,108],[62,109,63,111],[62,112,63,116],[64,88,65,94],[64,95,65,104],[64,105,65,108],[64,109,65,111],[64,112,65,116],[66,88,67,94],[66,95,67,104],[66,105,67,108],[66,109,67,111],[66,112,67,116],[68,88,69,94],[68,95,69,104],[68,105,69,108],[68,109,69,111],[68,112,69,116],[36,132,38,132],[70,88,71,94],[70,95,71,104],[70,105,71,108],[30,108,30,115],[37,99,37,101],[70,109,71,111],[70,112,71,116],[16,99,16,105],[14,130,16,139],[17,130,19,139],[15,99,15,105],[21,136,24,137],[22,96,22,98],[22,99,22,101],[22,102,22,104],[23,96,23,98],[23,99,23,101],[23,102,23,104],[32,123,34,124],[24,108,26,108],[27,109,29,109],[27,110,29,110],[27,111,29,114],[36,133,38,136],[27,98,29,105],[27,108,29,108],[43,132,46,133],[43,134,51,134],[39,124,41,125],[39,126,41,130],[39,131,41,131],[39,132,41,132],[39,133,41,136],[47,130,51,131],[47,132,51,133],[43,126,46,127],[43,128,51,128],[43,124,46,125],[43,130,46,131],[30,131,32,132],[36,131,38,131],[30,98,32,105],[27,129,29,130],[27,131,29,134],[29,121,31,122],[29,123,31,126],[31,108,31,115],[10,96,10,100],[10,101,10,104],[33,71,35,72],[36,99,36,101],[36,102,36,104],[36,105,36,107],[11,96,11,100],[11,101,11,104],[34,77,36,80],[34,81,36,82],[29,89,29,95],[33,86,34,88],[33,89,35,92],[33,93,35,93],[33,94,35,94],[33,95,35,95],[31,79,33,80],[35,86,35,88],[14,75,22,75],[14,76,18,77],[14,78,18,79],[27,71,29,71],[27,73,29,77],[19,76,22,77],[38,99,38,101],[38,102,38,104],[38,105,38,107],[47,124,51,125],[47,126,51,127],[36,69,38,72],[36,73,38,74],[39,99,42,101],[39,102,42,104],[39,105,42,107],[38,77,40,80],[38,81,40,82],[39,71,41,72],[43,105,43,107],[41,79,43,80],[44,105,45,107],[43,97,43,104],[39,122,41,123],[36,122,38,123],[36,124,38,125],[36,126,38,130],[46,76,48,85],[44,97,44,104],[19,78,22,79],[17,96,20,98],[17,99,20,101],[17,102,20,104],[14,118,16,127],[17,118,19,127],[46,64,48,73],[24,73,26,77],[24,78,26,79],[24,80,26,81],[21,96,21,98],[21,99,21,101],[21,102,21,104],[24,115,25,117],[26,115,26,117],[27,78,29,79],[27,80,29,81],[30,89,32,92],[30,93,32,93],[30,94,32,94],[30,95,32,95],[28,89,28,95],[37,102,37,104],[37,105,37,107]]}
[null,"Bowtie (N-S)",null,null,null,null,null,null,null,null,null,null,null,null,null,null,null,null,null,null,null,null,null,null,null,null,null,null,null,null,null,null,null,null,null,null,null,null,null,null,null,null,null,null,null,null,null,null,null,null,null,null,null,null,null,null,null,null,null,null,null,null,null,"Bowtie (N-S)",null,null,null,null,null,null,null,null,null,null,null,null,null,null,null,null,null,null,null,null,null,null,null,null,null,null,null,null,null,null,null,null,null,null,null,null,null,null,null,null,null,null,null,null,null,null,null,null,null,null,null,null,null,null,null,null,null,null,null,null,null,null,null,null,null,null,null,null,null,null,null,null,null,null,null,null,null,null,null,"Assumptions"]
[]
[null,"Design and Results",null,null,null,null,null,null,null,null,null,null,null,null,null,null,null,null,null,null,null,null,null,null,null,null,null,null,null,null,null,null,null,null,null,null,null,null,null,null,null,null,null,null,null,null,null,null,null,null,null,null,null,null,null,null,null,null,null,null,null,null,null,"Data Input and Configuration"]
[]
[]
[null,null,"Project Name:",null,null,null,null,null,null,null,{"$f":"P_Name","v":"Cap-X Sample Street"},null,null,null,null,null,null,null,null,null,null,null,null,null,null,null,null,null,null,null,null,null,null,null,null,null,"Volume-to-Capacity Ratio"]
[]
[null,null,"Project Number:",null,null,null,null,null,null,null,{"$f":"P_Number","v":10000},null,null,null,null,null,null,null,null,null,null,null,null,null,null,null,null,null,null,null,null,null,null,null,null,null,"< 0.750",null,null,null,null,null,"0.750 - 0.875",null,null,null,null,null,"0.875 - 1.00",null,null,null,null,null,"≥ 1.00"]
[]
[null,null,"Location",null,null,null,null,null,null,null,{"$f":"Location","v":"Anywhere, USA"},null,null,null,null,null,null,null,null,null,null,null,null,null,null,null,null,null,null,null,null,null,null,null,null,null,"VOLUME / CAPACITY RATIO:",null,null,null,null,null,null,null,null,null,null,null,{"$f":"MAX(G31,AQ30,AU61)","v":0.48}]
[null,null,null,null,null,null,null,null,null,null,null,null,null,null,null,null,null,null,null,null,null,null,null,null,null,null,null,null,null,null,null,null,null,null,null,null,null,null,null,null,null,null,null,null,null,null,null,null,null,null,null,null,null,null,null,null,null,null,null,null,null,null,null,null,null,null,null,null,null,null,null,null,null,null,null,null,null,null,null,null,null,null,null,null,null,null,null,null,null,null,null,null,null,null,null,null,"EW Split?",null,null,null,null,false]
[null,null,"Date",null,null,null,null,null,null,null,{"$f":"Date","v":"2017 AM"},null,null,null,null,null,null,null,null,null,null,null,null,null,null,null,null,null,null,null,null,null,null,null,null,null,null,null,null,null,null,null,null,null,null,null,null,null,null,null,null,null,null,null,null,null,null,null,null,null,null,null,null,null,null,null,null,null,null,null,null,null,null,null,null,null,null,null,null,null,null,null,null,null,null,null,null,null,null,null,null,null,null,null,null,null,"NS Split?",null,null,null,null,false]
[]
[]
[null,null,null,null,null,null,null,null,null,null,null,null,null,null,null,null,null,null,null,null,null,null,null,null,null,null,null,null,null,null,null,null,null,null,null,null,null,null,null,null,null,null,null,null,null,null,null,null,null,null,null,null,null,null,null,null,null,null,null,null,null,null,null,null,null,null,null,null,null,"Lane Capacity",{"$f":"IF($BM$50=1,1,2)","v":1},null,{"$f":"IF($BM$50=1,\"\",1)","v":""},null,null,"Conflicting flow",{"$f":"IF($BY$50=1,SBL_Master+WBL_Master,WBL_Master)","v":62},null,{"$f":"IF($BY$50=1,\"\",SBL_Master)","v":""},null,null,null,null,null,null,null,null,null,null,null,null,null,null,null,null,null,"Shared\n?",null,null,null,null,null,null,null,null,null,null,null,null,null,null,null,null,null,null,null,null,null,"Number of Circulating Lanes",null,null,null,null,null,null,null,null,null,null,null,"Number of Entry Lanes"]
[null,null,null,null,null,null,null,null,null,null,null,null,null,null,null,null,null,null,null,null,null,null,null,null,null,null,null,null,null,null,null,null,null,null,null,null,null,null,null,null,null,null,null,null,null,null,null,null,null,null,null,null,null,null,null,null,null,null,null,null,null,null,null,null,null,null,null,null,null,null,null,null,null,null,null,null,null,null,null,null,null,null,null,null,null,null,null,null,null,null,null,null,null,null,null,null,null,null,null,{"$f":"\"SB\"&\" Critical Vol\"","v":"SB Critical Vol"}]
[null,null,null,null,null,null,null,null,null,null,null,null,null,null,null,null,null,null,null,null,null,null,null,null,null,null,null,null,null,null,null,null,null,null,null,null,null,null,null,null,null,null,null,null,null,null,null,null,null,null,null,null,null,null,null,null,null,null,null,null,null,null,null,null,null,null,null,null,null,null,null,null,null,null,null,null,null,null,null,null,null,null,null,null,null,null,null,null,null,null,null,null,null,null,null,null,{"$f":"IF(Z5SBRlanes=0,\"Yes\",\"No\")","v":"No"},null,null,{"$f":"ROUND(IF(Z5NSSplit,MAX(IFERROR(Z5SBT/Z5SBTlanes,0),IFERROR((Z5SBR+Z5SBL)/RTAF/Z5SBRlanes,0)),MAX(IFERROR(Z5NBT/Z5NBTlanes,0), MAX(0,IFERROR((Z5NBR+Z5NBL)/RTAF/Z5NBRlanes,0)))),0)","v":510}]
[null,null,null,null,null,null,null,null,null,null,null,null,null,null,null,null,null,null,null,null,null,null,null,null,null,null,null,null,null,null,null,null,null,null,null,null,null,null,null,null,null,null,null,null,null,null,null,null,null,null,null,null,null,null,null,null,null,null,null,null,null,null,null,null,null,null,null,null,null,null,null,null,null,null,null,null,null,null,null,null,null,null,null,null,null,null,null,null,null,null,null,null,null,null,null,null,null,null,null,null,null,null,null,null,null,null,null,null,null,null,null,null,null,null,null,null,null,null,1,null,null,null,null,null,null,null,null,null,null,null,1]
[]
[null,null,null,null,null,null,null,null,null,null,null,null,null,null,null,null,null,null,null,null,null,null,null,null,null,null,null,null,null,null,null,null,null,null,null,null,null,null,null,null,null,null,null,null,null,null,null,null,null,null,null,null,null,null,null,null,null,null,null,null,null,null,null,null,null,null,null,null,null,null,{"$f":"IF(BM50=1,IF(BY50=1,$DF$61*EXP(-$DI$61*BY15),$DF$63*EXP(-$DI$63*(BY15+CA15))),IF(BY50=1,$DF$67*EXP(-$DI$67*BY15),$DF$71*EXP(-$DI$71*(BY15+CA15))))","v":1295.4310529269023},null,{"$f":"IF(BM50=1,\"\",IF(BY50=1,$DF$65*EXP(-$DI$65*BY15),$DF$69*EXP(-$DI$69*(CA15+BY15))))","v":""}]
[]
[null,null,null,null,null,null,null,null,null,null,null,null,null,null,null,null,null,null,null,null,null,null,null,null,null,null,null,null,null,null,null,null,null,null,null,null,null,null,null,null,null,null,null,null,null,null,null,null,null,null,null,null,null,null,null,null,null,null,null,null,null,null,null,null,null,null,null,null,null,null,null,null,null,null,null,null,null,null,null,null,null,null,null,null,null,null,null,null,null,null,null,null,null,null,null,null,"pcph",null,null,"pcph",null,null,"pcph",null,null,null,null,null,null,null,null,null,null,null,null,null,null,null,null,null,null,null,null,null,null,null,null,null,null,null,null,null,null,null,null,null,0.5]
[null,null,null,null,null,null,null,null,null,null,null,null,null,null,null,null,null,null,null,null,null,null,null,null,null,null,null,null,null,null,null,null,null,null,null,null,null,null,null,null,null,null,null,null,null,null,null,null,null,null,null,null,null,null,null,null,null,null,null,null,null,null,null,null,null,null,null,null,null,null,null,null,null,null,null,null,null,null,null,null,null,null,null,null,null,null,null,null,null,null,null,null,null,null,null,null,{"$f":"IF(Z5SBRShared=\"Yes\",ROUND(SBR_Master*(Z5SBRlanes/(Z5SBRlanes+1)),0),SBR_Master)","v":51},null,null,{"$f":"SBT_Master+ROUND((SBR_Master+SBL_Master-Z5SBR-Z5SBL)/RTAF,0)","v":204},null,null,{"$f":"IF(Z5SBRShared=\"Yes\",0,SBL_Master)","v":31},null,null,null,null,null,null,null,null,null,null,null,null,null,null,null,null,null,null,null,null,{"$f":"IF($EA$18=2,WBR_Master,\"\")","v":""}]
[null,null,null,null,null,null,null,null,null,null,null,null,null,null,null,null,null,null,null,null,null,null,null,null,null,null,null,null,null,null,null,null,null,null,null,null,null,null,null,null,null,null,null,null,null,null,null,null,null,null,null,null,null,null,null,null,null,null,null,null,null,null,null,null,null,null,null,null,null,null,null,null,null,null,null,null,null,null,null,null,null,null,null,null,null,null,null,null,null,null,null,null,null,null,null,null,{"$f":"'3 - Alt Num Lanes Input'!AO72","v":1},null,null,{"$f":"'3 - Alt Num Lanes Input'!AM72","v":1}]
[null,null,null,null,null,null,null,null,null,null,null,null,null,null,null,null,null,null,null,null,null,null,null,null,null,null,null,null,null,null,null,null,null,null,null,null,null,null,null,null,null,null,null,null,null,null,null,null,null,null,null,null,null,null,null,null,null,null,null,null,null,null,null,null,null,null,null,null,null,null,null,"pcph",{"$f":"IF(BM50=1,\"\",CB32+CD35)","v":""},"V/C RATIO",null,null,null,null,{"$f":"IFERROR(BU25/BU20,\"\")","v":""},null,{"$f":"IF($BM$50=1,\"\",1)","v":""},null,null,null,null,null,null,null,null,null,null,null,null,null,null,null,null,null,null,null,null,null,null,null,null,null,null,null,{"$f":"'3 - Alt Num Lanes Input'!BE72","v":1},{"$f":"IF(Z5WBRShared=\"Yes\",ROUND((WBR_Master+EBL_Master)*(Z5WBRlanes/(Z5WBRlanes+1)),0),WBR_Master+EBL_Master)","v":82},"pcph",null,null,null,null,"Shared\n?",null,null,null,null,null,null,null,null,null,null,null,null,null,null,null,{"$f":"IF($EA$18=1,WBR_Master,\"\")","v":51}]
[null,null,null,null,null,null,null,null,null,null,null,null,null,null,null,null,null,null,null,null,null,null,null,null,null,null,null,null,null,null,null,null,null,null,null,null,null,null,null,null,null,null,null,null,null,null,null,null,null,null,null,null,null,null,null,null,null,null,null,null,null,null,null,null,null,null,null,null,null,null,null,null,null,null,null,null,null,null,null,null,null,null,null,null,null,null,null,null,null,null,null,null,null,null,null,null,null,null,null,null,null,null,null,null,null,null,null,null,null,null,null,null,null,null,null,null,null,null,null,null,null,{"$f":"IF($EA$18=2,WBT_Master*(1-EG22),\"\")","v":""},null,null,null,null,null,null,null,null,null,null,null,null,null,null,"Through lane utilization factor"]
[null,null,null,null,null,null,null,null,null,null,null,null,null,null,null,null,null,null,null,null,null,null,null,null,null,null,null,null,null,null,null,null,null,null,null,null,null,null,null,null,null,null,{"$f":"CU31","v":847},null,null,null,null,null,null,null,null,"CLV",null,null,null,null,null,null,null,null,null,null,null,null,null,null,null,null,null,null,null,null,null,null,null,null,null,null,null,null,null,null,null,null,null,null,null,null,null,null,null,null,null,null,null,null,null,null,null,null,null,null,null,null,null,null,null,null,null,null,null,null,null,null,null,{"$f":"IF(Z5WBRlanes=0,\"Yes\",\"No\")","v":"No"}]
[null,null,null,null,null,null,{"$f":"BU28","v":286},null,null,null,null,null,null,null,null,"pepch",null,null,null,null,null,null,null,null,null,null,null,null,null,null,null,null,null,null,null,null,null,null,null,null,null,null,null,null,null,null,null,null,null,null,null,null,null,null,null,null,null,null,null,null,null,null,null,null,null,null,null,null,null,null,null,"pcph",{"$f":"IF(BM50=1,BT40+BV37+BT34,CD39+CB42)","v":286},"V/C RATIO",null,null,null,null,{"$f":"BU28/BS20","v":0.22077593350399499},null,{"$f":"IF($BM$50=1,1,2)","v":1},null,null,null,null,null,null,null,null,null,null,null,null,null,null,null,null,null,null,null,null,null,null,null,null,null,null,null,{"$f":"'3 - Alt Num Lanes Input'!BC72","v":1},{"$f":"WBT_Master+NBL_Master+WBL_Master+ROUND((WBR_Master+EBL_Master-Z5WBR)/RTAF,0)","v":337},"pcph",null,null,null,null,null,null,null,null,null,null,null,null,null,null,null,null,null,null,{"$f":"IF($EA$18=1,WBT_Master,\"\")","v":204}]
[null,null,null,null,null,null,null,null,null,null,null,null,null,null,null,null,null,null,null,null,null,null,null,null,null,null,null,null,null,null,null,null,null,null,null,null,null,null,null,null,null,null,null,null,null,null,null,null,null,null,null,null,null,null,null,null,null,null,null,null,null,null,null,null,null,null,null,null,null,null,null,null,null,null,null,null,null,null,null,null,null,null,null,null,null,null,null,null,null,{"$f":"\"EB\" &\" Critical Vol\"","v":"EB Critical Vol"}]
[null,null,null,null,null,null,null,null,null,null,null,null,null,null,null,null,null,null,null,null,null,null,null,null,null,null,null,null,null,null,null,null,null,null,null,null,null,null,null,null,null,null,{"$f":"ROUND(AQ27/CLV_Limit_3,2)","v":0.48},null,null,null,"V/C",{"$f":"CLV_Limit_2","v":1800},null,null,null,"MAX",null,null,null,null,null,null,null,null,null,null,null,null,null,null,null,null,null,null,null,null,null,null,null,null,null,null,null,null,null,null,null,null,null,null,null,null,null,{"$f":"ROUND(IF(Z5EWSplit,MAX(IFERROR(Z5EBT/Z5EBTlanes,0),IFERROR(Z5EBR/RTAF/Z5EBRlanes,0)),MAX(IFERROR(Z5WBT/Z5WBTlanes,0), MAX(0,IFERROR(Z5WBR/RTAF/Z5WBRlanes,0)))),0)","v":337},null,null,null,null,null,null,null,null,null,null,null,null,null,null,null,null,null,null,null,null,null,null,null,null,null,null,null,null,null,null,null,{"$f":"IF($EA$18=2,WBT_Master*EG22,\"\")","v":""}]
[null,null,null,null,null,null,{"$f":"CA28","v":0.22077593350399499},null,null,null,"V/C",{"$f":"BS20","v":1295.4310529269023},null,null,null,"MAX",null,null,null,null,null,null,null,null,null,null,null,null,null,null,null,null,null,null,null,null,null,null,null,null,null,null,null,null,null,null,null,null,null,null,null,null,null,null,null,null,null,null,null,null,null,null,null,null,null,null,null,null,null,null,null,null,null,null,null,null,null,null,null,null,null,null,null,null,null,null,null,null,null,null,null,null,null,"pcph",{"$f":"EBT_Master+SBL_Master+EBL_Master+ROUND((EBR_Master+WBL_Master-Z5EBR)/RTAF,0)","v":266},{"$f":"'3 - Alt Num Lanes Input'!AU72","v":1},null,null,{"$f":"IF(Z5EWSplit,Z5EB+Z5WB,MAX(Z5EB,Z5WB))+IF(Z5NSSplit,Z5NB+Z5SB,MAX(Z5NB,Z5SB))","v":847},null,null,null,null,null,null,null,null,null,{"$f":"\"WB\"&\" Critical Vol\"","v":"WB Critical Vol"},null,null,null,null,null,null,null,null,null,null,null,null,null,null,null,null,null,null,null,null,null,null,{"$f":"IF($EA$18=1,WBL_Master,\"\")","v":31}]
[null,null,null,null,null,null,null,null,null,null,null,null,null,null,null,null,null,null,null,null,null,null,null,null,null,null,null,null,null,null,null,null,null,null,null,null,null,null,null,null,null,null,null,null,null,null,null,null,null,null,null,null,null,null,null,null,null,null,null,null,null,null,null,null,null,null,"Through lane utilization factor",null,null,null,null,null,null,null,null,null,null,null,null,{"$f":"IF($BM$50=2,EBL_Master,\"\")","v":""},null,null,null,null,null,null,null,null,null,null,null,null,null,null,null,null,null,null,null,null,null,null,null,null,null,null,null,null,{"$f":"ROUND(IF(Z5EWSplit,MAX(IFERROR(Z5WBT/Z5WBTlanes,0),IFERROR(Z5WBR/RTAF/Z5WBRlanes,0)),MAX(IFERROR(Z5EBT/Z5EBTlanes,0), MAX(0,IFERROR(Z5EBR/RTAF/Z5EBRlanes,0)))),0)","v":266}]
[null,null,null,null,null,null,null,null,null,null,null,null,null,null,null,null,null,null,null,null,null,null,null,null,null,null,null,null,null,null,null,null,null,null,null,null,null,null,null,null,null,null,null,null,null,null,null,"2 Phases",null,null,null,null,null,null,null,null,null,null,null,null,null,null,null,null,null,null,null,null,null,null,null,null,null,null,null,null,null,null,null,null,null,null,null,null,null,null,null,null,null,null,null,null,null,null,null,null,null,null,null,null,null,null,null,null,null,null,null,null,null,null,null,null,null,null,null,null,null,null,null,null,null,null,null,{"$f":"IF($EA$18=2,WBL_Master,\"\")","v":""}]
[null,null,null,null,null,null,null,null,null,null,null,"Lane Capacity",null,null,null,null,null,null,null,null,null,null,null,null,null,null,null,null,null,null,null,null,null,null,null,null,null,null,null,null,null,null,null,null,null,null,null,null,null,null,null,null,null,null,null,null,null,null,null,null,null,null,null,null,null,null,null,null,null,null,null,{"$f":"IF($BM$50=1,EBL_Master,\"\")","v":31},null,null,null,null,null,null,null,null,null,null,null,null,null,null,"Shared\n?",null,null,null,null,null,null,"pcph",{"$f":"IF(Z5EBRShared=\"Yes\",ROUND((EBR_Master+WBL_Master)*(Z5EBRlanes/(Z5EBRlanes+1)),0),EBR_Master+WBL_Master)","v":82},{"$f":"'3 - Alt Num Lanes Input'!AW72","v":1}]
[null,null,null,null,null,null,null,null,null,null,null,null,null,null,null,null,null,null,null,null,null,null,null,null,null,null,null,null,null,null,null,null,null,null,null,null,null,null,null,null,null,null,null,null,null,null,null,null,null,null,null,null,null,null,null,null,null,null,null,null,null,null,null,null,null,null,null,null,null,null,null,null,null,null,null,null,null,null,null,null,null,{"$f":"IF($BM$50=2,EBT_Master*BO42,\"\")","v":""}]
[null,null,null,null,null,null,null,null,null,null,null,null,null,null,null,null,null,null,null,null,null,null,null,null,null,null,null,null,null,null,null,null,null,null,null,null,null,null,null,null,null,null,null,null,null,null,null,null,null,null,null,null,null,null,null,null,null,null,null,null,null,null,null,null,null,null,null,null,null,null,null,null,null,null,null,null,null,null,null,null,null,null,null,null,null,null,{"$f":"IF(Z5EBRlanes=0,\"Yes\",\"No\")","v":"No"}]
[null,null,null,null,null,null,null,null,null,null,null,null,null,null,null,null,null,null,null,null,null,null,null,null,null,null,null,null,null,null,null,null,null,null,null,null,null,null,null,null,null,null,null,null,null,null,null,null,null,null,null,null,null,null,null,null,null,null,null,null,null,null,null,null,null,null,null,null,null,null,null,null,null,{"$f":"IF($BM$50=1,EBT_Master,\"\")","v":204},null,null,null,null,null,null,null,null,null,null,null,null,null,null,null,null,null,null,null,null,null,null,null,null,null,null,null,null,{"$f":"'3 - Alt Num Lanes Input'!AE72","v":1},null,null,{"$f":"'3 - Alt Num Lanes Input'!AG72","v":1},null,null,null,null,null,null,null,null,null,null,null,null,null,null,null,null,{"$f":"IF($EA$18=1,1,2)","v":1},null,{"$f":"EB37/EC44","v":0.23735770608528212},null,"V/C RATIO",null,null,null,null,{"$f":"IF(EA18=1,EB25+DZ28+EB31,DT23+DR26)","v":286},"pcph"]
[null,null,null,null,null,null,null,null,null,null,null,null,null,null,null,null,null,null,null,null,null,null,null,null,null,null,null,null,null,null,null,null,null,null,null,null,null,null,null,null,null,null,null,null,null,null,null,null,null,null,null,null,null,null,null,null,null,null,null,null,null,null,null,null,null,null,null,null,null,null,null,null,null,null,null,null,null,null,null,null,null,null,null,null,null,null,null,null,null,null,null,null,null,null,null,null,null,null,null,{"$f":"IF(Z5NBRShared=\"Yes\",0,NBL_Master)","v":102},null,null,{"$f":"NBT_Master+ROUND((NBR_Master+NBL_Master-Z5NBR-Z5NBL)/RTAF,0)","v":510},null,null,{"$f":"IF(Z5NBRShared=\"Yes\",ROUND(NBR_Master*(Z5NBRlanes/(Z5NBRlanes+1)),0),NBR_Master)","v":204}]
[null,null,null,null,null,null,null,null,null,null,null,null,null,null,null,null,null,null,null,null,null,null,null,null,null,null,null,null,null,null,null,null,null,null,null,null,null,null,null,null,null,null,null,null,null,null,null,null,null,null,null,null,null,null,null,null,null,null,null,null,null,null,null,null,null,null,null,null,null,null,null,null,null,null,null,null,null,null,null,null,null,{"$f":"IF($BM$50=2,EBT_Master*(1-BO42),\"\")","v":""},null,null,null,null,null,null,null,null,null,null,null,null,null,null,null,null,null,"pcph",null,null,"pcph",null,null,"pcph"]
[null,null,null,null,null,null,null,null,null,null,null,null,null,null,null,null,null,null,null,null,null,null,null,null,null,null,null,null,null,null,null,null,null,null,null,null,null,null,null,null,null,null,null,null,null,null,null,null,null,null,null,null,null,null,null,null,null,null,null,null,null,null,null,null,null,null,null,null,null,null,null,{"$f":"IF($BM$50=1,EBR_Master,\"\")","v":51},null,null,null,null,null,null,null,null,null,null,null,null,null,null,null,null,null,null,null,null,null,null,null,null,null,null,null,null,null,null,null,null,null,null,null,null,null,null,null,null,null,null,null,null,null,null,null,null,null,null,{"$f":"IF($EA$18=1,\"\",1)","v":""},null,{"$f":"IFERROR(EB40/EA44,\"\")","v":""},null,"V/C RATIO",null,null,null,null,{"$f":"IF(EA18=1,\"\",DR30+DT33)","v":""},"pcph"]
[]
[null,null,null,null,null,null,null,null,null,null,null,null,null,null,null,null,null,null,null,null,null,null,null,null,null,null,null,null,null,null,null,null,null,null,null,null,null,null,null,null,null,null,null,null,null,null,null,null,null,null,null,null,null,null,null,null,null,null,null,null,null,null,null,null,null,null,0.5,null,null,null,null,null,null,null,null,null,null,null,null,{"$f":"IF($BM$50=2,EBR_Master,\"\")","v":""}]
[]
[null,null,null,null,null,null,null,null,null,null,null,null,null,null,null,null,null,null,null,null,null,null,null,null,null,null,null,null,null,null,null,null,null,null,null,null,null,null,null,null,null,null,null,null,null,null,null,null,null,null,null,null,null,null,null,null,null,null,null,null,null,null,null,null,null,null,null,null,null,null,null,null,null,null,null,null,null,null,null,null,null,null,null,null,null,null,null,null,null,null,null,null,null,null,null,null,null,{"$f":"\"NB\"&\" Critical Vol\"","v":"NB Critical Vol"},null,null,null,null,null,null,null,{"$f":"IF(Z5NBRlanes=0,\"Yes\",\"No\")","v":"No"},null,null,null,null,null,null,null,null,null,null,null,null,null,null,null,null,null,null,null,null,null,null,"Conflicting flow",null,{"$f":"IF(EA18=1,\"\",IF(DO18=1,$DF$65*EXP(-$DI$65*DW48),$DF$69*EXP(-$DI$69*(DU48+DW48))))","v":""},null,{"$f":"IF(EA18=1,IF(DO18=1,$DF$61*EXP(-$DI$61*DW48),$DF$63*EXP(-$DI$63*(DW48+DU48))),IF(DO18=1,$DF$67*EXP(-$DI$67*DW48),$DF$71*EXP(-$DI$71*(DW48+DU48))))","v":1204.9324402269071},null,"Lane Capacity"]
[null,null,null,null,null,null,null,null,null,null,null,null,null,null,null,null,null,null,null,null,null,null,null,null,null,null,null,null,null,null,null,null,null,null,null,null,null,null,null,null,null,null,null,null,null,null,null,null,null,null,null,null,null,null,null,null,null,null,null,null,null,null,null,null,null,null,null,null,null,null,null,null,null,null,null,null,null,null,null,null,null,null,null,null,null,null,null,null,null,null,null,null,null,null,null,null,null,{"$f":"ROUND(IF(Z5NSSplit,MAX(IFERROR(Z5NBT/Z5NBTlanes,0),IFERROR((Z5NBR+Z5NBL)/RTAF/Z5NBRlanes,0)),MAX(IFERROR(Z5SBT/Z5SBTlanes,0), MAX(0,IFERROR((Z5SBR+Z5SBL)/RTAF/Z5SBRlanes,0)))),0)","v":204},null,null,null,null,null,null,null,"Shared\n?"]
[]
[null,null,null,null,null,null,null,null,null,null,null,null,null,null,null,null,null,null,null,null,null,null,null,null,null,null,null,null,null,null,null,null,null,null,null,null,null,null,null,null,null,null,null,null,null,null,null,null,null,null,null,null,null,null,null,null,null,null,null,null,null,null,null,null,"Number of Entry Lanes",null,null,null,null,null,null,null,null,null,null,null,"Number of Circulating Lanes"]
[null,null,null,null,null,null,null,null,null,null,null,null,null,null,null,null,null,null,null,null,null,null,null,null,null,null,null,null,null,null,null,null,null,null,null,null,null,null,null,null,null,null,null,null,null,null,null,null,null,null,null,null,null,null,null,null,null,null,null,null,null,null,null,null,null,null,null,null,null,null,null,null,null,null,null,null,null,null,null,null,null,null,null,null,null,null,null,null,null,null,null,null,null,null,null,null,null,null,null,null,null,null,null,null,null,null,null,null,null,null,null,null,null,null,null,null,null,null,null,null,null,null,null,null,{"$f":"IF($DO$18=1,\"\",NBL_Master)","v":""},null,{"$f":"IF($DO$18=1,NBL_Master+EBL_Master,EBL_Master)","v":133},null,null,null,{"$f":"IF(EA18=1,\"\",1)","v":""},null,{"$f":"IF($EA$18=1,1,2)","v":1}]
[]
[null,null,null,null,null,null,null,null,null,null,null,null,null,null,null,null,null,null,null,null,null,null,null,null,null,null,null,null,null,null,null,null,null,null,null,null,null,null,null,null,null,null,null,null,null,null,null,null,null,null,null,null,null,null,null,null,null,null,null,null,null,null,null,null,1,null,null,null,null,null,null,null,null,null,null,null,1]
[]
[]
[]
[]
[]
[null,null,null,null,null,null,null,null,null,null,null,null,null,null,null,null,null,null,null,null,null,null,null,null,null,null,null,null,null,null,null,null,null,null,null,null,null,null,null,null,null,null,null,null,null,null,null,null,null,null,null,null,null,null,null,null,null,null,null,null,null,null,null,null,null,null,null,null,null,null,null,null,null,null,null,null,null,null,null,null,null,null,null,null,null,null,null,null,"EQUATION: A x exp(-B x Q)"]
[]
[null,null,null,null,null,null,null,null,null,null,null,null,null,null,null,null,null,null,null,null,null,null,null,null,null,null,null,null,null,null,null,null,null,null,null,null,null,null,null,null,null,null,null,null,null,null,{"$f":"EB37","v":286},null,null,null,null,null,null,null,null,"pepch",null,null,null,null,null,null,null,null,null,null,null,null,null,null,null,null,null,null,null,null,null,null,null,null,null,null,null,null,null,null,null,null,"Number of Entry Lanes",null,null,null,null,null,null,"Number of Circulating Lanes",null,null,null,null,null,null,null,null,null,"Lane",null,null,null,"A",null,null,"B"]
[]
[]
[null,null,null,null,null,null,null,null,null,null,null,null,null,null,null,null,null,null,null,null,null,null,null,null,null,null,null,null,null,null,null,null,null,null,null,null,null,null,null,null,null,null,null,null,null,null,{"$f":"DU37","v":0.23735770608528212},null,null,null,"V/C",{"$f":"EC44","v":1204.9324402269071},null,null,null,"MAX",null,null,null,null,null,null,null,null,null,null,null,null,null,null,null,null,null,null,null,null,null,null,null,null,null,null,null,null,null,null,null,null,1,null,null,null,null,null,null,1,null,null,null,null,null,null,null,null,null,"-",null,null,null,1380,null,null,1.0200000000000001E-3]
[]
[null,null,null,null,null,null,null,null,null,null,null,null,null,null,null,null,null,null,null,null,null,null,null,null,null,null,null,null,null,null,null,null,null,null,null,null,null,null,null,null,null,null,null,null,null,null,null,null,null,null,null,null,null,null,null,null,null,null,null,null,null,null,null,null,null,null,null,null,null,null,null,null,null,null,null,null,null,null,null,null,null,null,null,null,null,null,null,null,1,null,null,null,null,null,null,2,null,null,null,null,null,null,null,null,null,"-",null,null,null,1420,null,null,8.4999999999999995E-4]
[null,null,null,null,null,null,null,null,null,null,null,null,null,null,null,null,null,null,null,null,null,null,null,null,null,null,null,null,null,null,null,null,null,null,null,null,null,null,null,null,null,null,null,null,null,null,null,null,null,null,null,"Lane Capacity"]
[null,null,null,null,null,null,null,null,null,null,null,null,null,null,null,null,null,null,null,null,null,null,null,null,null,null,null,null,null,null,null,null,null,null,null,null,null,null,null,null,null,null,null,null,null,null,null,null,null,null,null,null,null,null,null,null,null,null,null,null,null,null,null,null,null,null,null,null,null,null,null,null,null,null,null,null,null,null,null,null,null,null,null,null,null,null,null,null,2,null,null,null,null,null,null,1,null,null,null,null,null,null,null,null,null,"Left",null,null,null,1420,null,null,9.1E-4]
[]
[null,null,null,null,null,null,null,null,null,null,null,null,null,null,null,null,null,null,null,null,null,null,null,null,null,null,null,null,null,null,null,null,null,null,null,null,null,null,null,null,null,null,null,null,null,null,null,null,null,null,null,null,null,null,null,null,null,null,null,null,null,null,null,null,null,null,null,null,null,null,null,null,null,null,null,null,null,null,null,null,null,null,null,null,null,null,null,null,2,null,null,null,null,null,null,1,null,null,null,null,null,null,null,null,null,"Right",null,null,null,1420,null,null,9.1E-4]
[]
[null,null,null,null,null,null,null,null,null,null,null,null,null,null,null,null,null,null,null,null,null,null,null,null,null,null,null,null,null,null,null,null,null,null,null,null,null,null,null,null,null,null,null,null,null,null,null,null,null,null,null,null,null,null,null,null,null,null,null,null,null,null,null,null,null,null,null,null,null,null,null,null,null,null,null,null,null,null,null,null,null,null,null,null,null,null,null,null,2,null,null,null,null,null,null,2,null,null,null,null,null,null,null,null,null,"Left",null,null,null,1350,null,null,9.2000000000000003E-4]
[]
[null,null,null,null,null,null,null,null,null,null,null,null,null,null,null,null,null,null,null,null,null,null,null,null,null,null,null,null,null,null,null,null,null,null,null,null,null,null,null,null,null,null,null,null,null,null,null,null,null,null,null,null,null,null,null,null,null,null,null,null,null,null,null,null,null,null,null,null,null,null,null,null,null,null,null,null,null,null,null,null,null,null,null,null,null,null,null,null,2,null,null,null,null,null,null,2,null,null,null,null,null,null,null,null,null,"Right",null,null,null,1420,null,null,8.4999999999999995E-4]
[]
[]
[null,null,null,null,null,null,null,null,null,null,null,null,null,null,"Note: This diagram does not reflect the actual lane configuration of the Intersection"]

{"sheet":"Bowtie E-W","index":39,"n_rows":74,"n_cols":130,"rows_kept":74,"cut":false,"hidden":false,"merged":[[17,73,19,82],[14,73,16,82],[8,95,10,99],[8,100,10,104],[64,84,64,91],[62,88,63,91],[60,88,61,91],[62,84,63,87],[60,84,61,87],[11,100,11,104],[12,95,12,99],[14,85,15,88],[14,89,15,92],[16,85,17,88],[16,89,17,92],[18,85,18,92],[13,95,15,99],[13,100,15,104],[16,95,16,99],[11,95,11,99],[12,100,12,104],[33,86,35,86],[26,87,26,91],[16,100,16,104],[66,84,67,87],[66,88,67,91],[68,84,69,87],[0,129,1,154],[0,63,1,127],[2,63,3,127],[23,74,24,76],[25,74,25,76],[7,107,8,110],[7,111,8,121],[7,73,9,82],[10,73,12,82],[10,113,13,115],[12,116,13,118],[12,110,13,112],[14,113,15,115],[18,111,21,113],[18,115,21,117],[20,108,21,110],[65,112,68,114],[65,109,66,111],[63,112,64,114],[60,94,62,98],[56,114,59,116],[56,44,58,52],[56,53,58,53],[73,14,73,47],[59,44,61,47],[59,48,61,48],[59,49,61,52],[59,53,61,53],[62,49,63,53],[66,72,68,81],[69,72,71,81],[59,72,61,81],[62,72,64,81],[70,110,71,120],[70,106,71,109],[56,107,57,109],[65,115,66,117],[64,94,64,98],[56,110,59,112],[56,117,57,119],[54,110,55,112],[69,99,69,103],[68,99,68,103],[65,99,67,103],[65,94,67,98],[63,99,63,103],[64,99,64,103],[60,99,62,103],[69,94,69,98],[63,94,63,98],[54,114,55,116],[70,84,70,91],[68,94,68,98],[18,8,20,16],[18,17,20,17],[21,8,23,11],[21,12,23,12],[21,13,23,16],[21,17,23,17],[30,49,30,53],[24,44,26,52],[24,53,26,53],[27,44,29,47],[27,48,29,48],[27,49,29,52],[27,53,29,53],[24,13,25,17],[23,78,23,84],[33,64,33,71],[34,64,34,71],[48,71,48,78],[49,71,49,78],[32,77,32,79],[42,64,43,66],[44,64,44,66],[0,1,1,60],[2,1,3,60],[5,2,6,9],[5,10,6,35],[5,36,6,59],[9,2,10,9],[9,10,10,35],[9,36,12,47],[9,48,12,59],[11,2,12,9],[11,10,12,35],[7,2,8,9],[7,10,8,35],[7,36,8,41],[7,42,8,47],[7,48,8,53],[7,54,8,59],[36,105,37,114],[36,115,37,118],[36,119,37,121],[36,122,37,126],[33,89,35,92],[38,98,39,104],[38,105,39,114],[20,118,21,120],[22,111,23,113],[22,115,23,117],[38,115,39,118],[38,119,39,121],[38,122,39,126],[36,98,37,104],[8,85,9,88],[8,89,9,92],[10,85,11,88],[10,89,11,92],[31,98,32,126],[33,98,35,104],[33,105,35,114],[33,115,35,118],[33,119,35,121],[33,122,35,126],[17,95,17,99],[17,100,17,104],[12,85,12,92],[44,105,45,114],[44,115,45,118],[44,119,45,121],[44,122,45,126],[46,98,47,104],[46,105,47,114],[46,115,47,118],[46,119,47,121],[46,122,47,126],[40,105,41,114],[40,115,41,118],[40,119,41,121],[40,122,41,126],[42,98,43,104],[42,105,43,114],[42,115,43,118],[42,119,43,121],[42,122,43,126],[36,73,38,73],[39,73,41,73],[42,73,44,73],[39,67,41,70],[39,71,41,71],[39,72,41,72],[42,67,44,70],[42,71,44,71],[42,72,44,72],[36,67,38,70],[36,71,38,71],[36,72,38,72],[68,88,69,91],[44,98,45,104],[40,98,41,104],[46,83,46,85],[33,88,35,88],[36,89,38,92],[36,76,38,83],[48,80,51,82],[48,83,51,85],[35,93,35,95],[33,93,34,95],[43,88,43,95],[44,88,44,95],[52,83,53,85],[54,83,54,85],[46,80,46,82],[47,83,47,85],[45,83,45,85],[45,80,45,82],[39,76,41,83],[36,86,38,86],[36,87,38,87],[36,88,38,88],[39,86,41,86],[47,80,47,82],[27,92,27,95],[27,87,27,91],[26,92,26,95],[39,89,41,92],[26,74,29,76],[30,74,30,76],[33,87,35,87],[24,78,24,84],[30,77,30,79],[26,77,29,79],[31,74,31,76],[31,77,31,79],[32,74,32,76],[39,87,41,87],[39,88,41,88]]}
[null,"Bowtie (E-W)",null,null,null,null,null,null,null,null,null,null,null,null,null,null,null,null,null,null,null,null,null,null,null,null,null,null,null,null,null,null,null,null,null,null,null,null,null,null,null,null,null,null,null,null,null,null,null,null,null,null,null,null,null,null,null,null,null,null,null,null,null,"Bowtie (E-W)",null,null,null,null,null,null,null,null,null,null,null,null,null,null,null,null,null,null,null,null,null,null,null,null,null,null,null,null,null,null,null,null,null,null,null,null,null,null,null,null,null,null,null,null,null,null,null,null,null,null,null,null,null,null,null,null,null,null,null,null,null,null,null,null,null,"Assumptions"]
[]
[null,"Design and Results",null,null,null,null,null,null,null,null,null,null,null,null,null,null,null,null,null,null,null,null,null,null,null,null,null,null,null,null,null,null,null,null,null,null,null,null,null,null,null,null,null,null,null,null,null,null,null,null,null,null,null,null,null,null,null,null,null,null,null,null,null,"Data Input and Configuration"]
[]
[]
[null,null,"Project Name:",null,null,null,null,null,null,null,{"$f":"P_Name","v":"Cap-X Sample Street"},null,null,null,null,null,null,null,null,null,null,null,null,null,null,null,null,null,null,null,null,null,null,null,null,null,"Volume-to-Capacity Ratio"]
[]
[null,null,"Project Number:",null,null,null,null,null,null,null,{"$f":"P_Number","v":10000},null,null,null,null,null,null,null,null,null,null,null,null,null,null,null,null,null,null,null,null,null,null,null,null,null,"< 0.750",null,null,null,null,null,"0.750 - 0.875",null,null,null,null,null,"0.875 - 1.00",null,null,null,null,null,"≥ 1.00",null,null,null,null,null,null,null,null,null,null,null,null,null,null,null,null,null,null,"Number of Entry Lanes",null,null,null,null,null,null,null,null,null,null,null,null,null,null,null,null,null,null,null,null,null,null,null,null,null,null,null,null,null,null,null,null,null,0.5,null,null,null,"Through lane utilization factor"]
[null,null,null,null,null,null,null,null,null,null,null,null,null,null,null,null,null,null,null,null,null,null,null,null,null,null,null,null,null,null,null,null,null,null,null,null,null,null,null,null,null,null,null,null,null,null,null,null,null,null,null,null,null,null,null,null,null,null,null,null,null,null,null,null,null,null,null,null,null,null,null,null,null,null,null,null,null,null,null,null,null,null,null,null,null,{"$f":"IF(BV11=1,\"\",1)","v":""},null,null,null,{"$f":"IF(BV11=1,\"\",IF(BV18=1,$DP$41*EXP(-$DS$41*CH17),$DP$45*EXP(-$DS$45*(CH15+CH17))))","v":""}]
[null,null,"Location",null,null,null,null,null,null,null,{"$f":"Location","v":"Anywhere, USA"},null,null,null,null,null,null,null,null,null,null,null,null,null,null,null,null,null,null,null,null,null,null,null,null,null,"VOLUME / CAPACITY RATIO:",null,null,null,null,null,null,null,null,null,null,null,{"$f":"MAX(I22,AS28,AS60)","v":0.62990615992748222}]
[null,null,null,null,null,null,null,null,null,null,null,null,null,null,null,null,null,null,null,null,null,null,null,null,null,null,null,null,null,null,null,null,null,null,null,null,null,null,null,null,null,null,null,null,null,null,null,null,null,null,null,null,null,null,null,null,null,null,null,null,null,null,null,null,null,null,null,null,null,null,null,null,null,1,null,null,null,null,null,null,null,null,null,null,null,{"$f":"IF($BV$11=1,1,2)","v":1},null,null,null,{"$f":"IF(BV11=1,IF(BV18=1,$DP$37*EXP(-$DS$37*CH17),$DP$39*EXP(-$DS$39*(CH17+CH15))),IF(BV18=1,$DP$43*EXP(-$DS$43*CH17),$DP$47*EXP(-$DS$47*(CH17+CH15))))","v":1204.9324402269071}]
[null,null,"Date",null,null,null,null,null,null,null,{"$f":"Date","v":"2017 AM"},null,null,null,null,null,null,null,null,null,null,null,null,null,null,null,null,null,null,null,null,null,null,null,null,null,null,null,null,null,null,null,null,null,null,null,null,null,null,null,null,null,null,null,null,null,null,null,null,null,null,null,null,null,null,null,null,null,null,null,null,null,null,null,null,null,null,null,null,null,null,null,null,null,null,null,null,null,null,null,null,null,null,null,null,"pcph",null,null,null,null,"pcph"]
[null,null,null,null,null,null,null,null,null,null,null,null,null,null,null,null,null,null,null,null,null,null,null,null,null,null,null,null,null,null,null,null,null,null,null,null,null,null,null,null,null,null,null,null,null,null,null,null,null,null,null,null,null,null,null,null,null,null,null,null,null,null,null,null,null,null,null,null,null,null,null,null,null,null,null,null,null,null,null,null,null,null,null,null,null,"Lane Capacity",null,null,null,null,null,null,null,null,null,{"$f":"IF(BV11=1,DM13+DJ15+DG13,DE21+DL23)","v":286},null,null,null,null,{"$f":"IF(BV11=1,\"\",DH23+DO21)","v":""},null,null,null,null,null,null,null,null,null,{"$f":"IF($BV$11=1,INDIRECT(\"SB\"&\"R_Master\"),\"\")","v":51},null,null,null,null,null,{"$f":"IF($BV$11=1,INDIRECT(\"SB\"&\"L_Master\"),\"\")","v":31}]
[null,null,null,null,null,null,null,null,null,null,null,null,null,null,null,null,null,null,null,null,null,null,null,null,null,null,null,null,null,null,null,null,null,null,null,null,null,null,null,null,null,null,null,null,null,null,null,null,null,null,null,null,null,null,null,null,null,null,null,null,null,null,null,null,null,null,null,null,null,null,null,null,null,null,null,null,null,null,null,null,null,null,null,null,null,null,null,null,null,null,null,null,null,null,null,"V/C RATIO",null,null,null,null,"V/C RATIO"]
[null,null,null,null,null,null,null,null,null,null,null,null,null,null,null,null,null,null,null,null,null,null,null,null,null,null,null,null,null,null,null,null,null,null,null,null,null,null,null,null,null,null,null,null,null,null,null,null,null,null,null,null,null,null,null,null,null,null,null,null,null,null,null,null,null,null,null,null,null,null,null,null,null,"Number of Circulating Lanes",null,null,null,null,null,null,null,null,null,null,null,{"$f":"IF($BV$18=1,\"\",INDIRECT(\"WB\"&\"L_Master\"))","v":""},null,null,null,null,null,null,null,null,null,null,null,null,null,null,null,null,null,null,null,null,null,null,null,null,null,null,null,{"$f":"IF($BV$11=1,INDIRECT(\"SB\"&\"T_Master\"),\"\")","v":204}]
[]
[null,null,null,null,null,null,null,null,null,null,null,null,null,null,null,null,null,null,null,null,null,null,null,null,null,null,null,null,null,null,null,null,null,null,null,null,null,null,null,null,null,null,null,null,null,null,null,null,null,null,null,null,null,null,null,null,null,null,null,null,null,null,null,null,null,null,null,null,null,null,null,null,null,null,null,null,null,null,null,null,null,null,null,null,null,{"$f":"IF($BV$18=1,INDIRECT(\"WB\"&\"L_Master\")+INDIRECT(\"NB\"&\"L_Master\"),INDIRECT(\"NB\"&\"L_Master\"))","v":133},null,null,null,null,null,null,null,null,null,{"$f":"CR13/CL11","v":0.23735770608528212},null,null,null,null,{"$f":"IFERROR(CW13/CL9,\"\")","v":""}]
[null,null,null,null,null,null,null,null,null,null,null,null,null,null,null,null,null,null,null,null,null,null,null,null,null,null,null,null,null,null,null,null,null,null,null,null,null,null,null,null,null,null,null,null,null,null,null,null,null,null,null,null,null,null,null,null,null,null,null,null,null,null,null,null,null,null,null,null,null,null,null,null,null,1,null,null,null,null,null,null,null,null,null,null,null,null,null,null,null,null,null,null,null,null,null,{"$f":"IF($BV$11=1,1,2)","v":1},null,null,null,null,{"$f":"IF($BV$11=1,\"\",1)","v":""}]
[null,null,null,null,null,null,null,null,{"$f":"CR13","v":286},null,null,null,null,null,null,null,null,"pceph",null,null,null,null,null,null,null,null,null,null,null,null,null,null,null,null,null,null,null,null,null,null,null,null,null,null,null,null,null,null,null,null,null,null,null,null,null,null,null,null,null,null,null,null,null,null,null,null,null,null,null,null,null,null,null,null,null,null,null,null,null,null,null,null,null,null,null,"Conflicting flow"]
[]
[null,null,null,null,null,null,null,null,null,null,null,null,null,null,null,null,null,null,null,null,null,null,null,null,null,null,null,null,null,null,null,null,null,null,null,null,null,null,null,null,null,null,null,null,null,null,null,null,null,null,null,null,null,null,null,null,null,null,null,null,null,null,null,null,null,null,null,null,null,null,null,null,null,null,null,null,null,null,null,null,null,null,null,null,null,null,null,null,null,null,null,null,null,null,null,null,null,null,null,null,null,null,null,null,null,null,null,null,{"$f":"IF($BV$11=2,INDIRECT(\"SB\"&\"R_Master\"),\"\")","v":""},null,null,null,null,null,null,null,null,null,{"$f":"IF($BV$11=2,INDIRECT(\"SB\"&\"L_Master\"),\"\")","v":""}]
[null,null,null,null,null,null,null,null,{"$f":"Result_Bowtie_EW_CLV_Z1/N22","v":0.23735770608528212},null,null,null,"V/C",{"$f":"CL11","v":1204.9324402269071},null,null,null,"MAX"]
[null,null,null,null,null,null,null,null,null,null,null,null,null,null,null,null,null,null,null,null,null,null,null,null,null,null,null,null,null,null,null,null,null,null,null,null,null,null,null,null,null,null,null,null,null,null,null,null,null,null,null,null,null,null,null,null,null,null,null,null,null,null,null,null,null,null,null,null,null,null,null,null,null,null,null,null,null,null,null,null,null,null,null,null,null,null,null,null,null,null,null,null,null,null,null,null,null,null,null,null,null,null,null,null,null,null,null,null,null,null,null,{"$f":"IF($BV$11=2,INDIRECT(\"SB\"&\"T_Master\")*DD8,\"\")","v":""},null,null,null,{"$f":"IF($BV$11=2,INDIRECT(\"SB\"&\"T_Master\")*(1-DD8),\"\")","v":""}]
[null,null,null,null,null,null,null,null,null,null,null,null,null,null,null,null,null,null,null,null,null,null,null,null,null,null,null,null,null,null,null,null,null,null,null,null,null,null,null,null,null,null,null,null,null,null,null,null,null,null,null,null,null,null,null,null,null,null,null,null,null,null,null,null,null,null,null,null,null,null,null,null,null,null,"Shared\n?",null,null,null,{"$f":"\"SB Critical Vol\"","v":"SB Critical Vol"}]
[null,null,null,null,null,null,null,null,null,null,null,null,null,"Lane Capacity",null,null,null,null,null,null,null,null,null,null,null,null,null,null,null,null,null,null,null,null,null,null,null,null,null,null,null,null,null,null,{"$f":"BY40","v":847},null,null,null,null,null,null,null,null,"CLV",null,null,null,null,null,null,null,null,null,null,null,null,null,null,null,null,null,null,null,null,null,null,null,null,{"$f":"ROUND(IF(Z5EWSplit,MAX(IFERROR(Z5SBT/Z5SBTlanes,0),IFERROR(Z5SBR/RTAF/Z5SBRlanes,0)),MAX(IFERROR(Z5NBT/Z5NBTlanes,0), MAX(0,IFERROR(Z5NBR/RTAF/Z5NBRlanes,0)))),0)","v":643}]
[null,null,null,null,null,null,null,null,null,null,null,null,null,null,null,null,null,null,null,null,null,null,null,null,null,null,null,null,null,null,null,null,null,null,null,null,null,null,null,null,null,null,null,null,null,null,null,null,null,null,null,null,null,null,null,null,null,null,null,null,null,null,null,null,null,null,null,null,null,null,null,null,null,null,{"$f":"IF(Z5SBRlanes=0,\"Yes\",\"No\")","v":"No"}]
[null,null,null,null,null,null,null,null,null,null,null,null,null,null,null,null,null,null,null,null,null,null,null,null,null,null,null,null,null,null,null,null,null,null,null,null,null,null,null,null,null,null,null,null,null,null,null,null,null,null,null,null,null,null,null,null,null,null,null,null,null,null,null,null,null,null,null,null,null,null,null,null,null,null,null,null,null,null,null,null,null,null,null,null,null,null,null,"EW Split?",null,null,null,null,false]
[null,null,null,null,null,null,null,null,null,null,null,null,null,null,null,null,null,null,null,null,null,null,null,null,null,null,null,null,null,null,null,null,null,null,null,null,null,null,null,null,null,null,null,null,{"$f":"ROUND(AS25/CLV_Limit_3,2)","v":0.48},null,null,null,"V/C",{"$f":"CLV_Limit_2","v":1800},null,null,null,"MAX",null,null,null,null,null,null,null,null,null,null,null,null,null,null,null,null,null,null,null,null,null,null,null,null,null,null,null,null,null,null,null,null,null,"NS Split?",null,null,null,null,false]
[]
[]
[null,null,null,null,null,null,null,null,null,null,null,null,null,null,null,null,null,null,null,null,null,null,null,null,null,null,null,null,null,null,null,null,null,null,null,null,null,null,null,null,null,null,null,null,null,null,null,null,null,"2 Phases",null,null,null,null,null,null,null,null,null,null,null,null,null,null,null,null,null,null,null,null,null,null,null,null,"pcph",null,null,"pcph"]
[null,null,null,null,null,null,null,null,null,null,null,null,null,null,null,null,null,null,null,null,null,null,null,null,null,null,null,null,null,null,null,null,null,null,null,null,null,null,null,null,null,null,null,null,null,null,null,null,null,null,null,null,null,null,null,null,null,null,null,null,null,null,null,null,null,null,null,null,null,null,null,null,null,null,{"$f":"IF(Z5SBRShared=\"Yes\",ROUND((INDIRECT(\"SB\"&\"R_Master\")+INDIRECT(\"NB\"&\"L_Master\"))*(Z5SBRlanes/(Z5SBRlanes+1)),0),INDIRECT(\"SB\"&\"R_Master\")+INDIRECT(\"NB\"&\"L_Master\"))","v":153},null,null,{"$f":"INDIRECT(\"SB\"&\"T_Master\")+INDIRECT(\"WB\"&\"L_Master\")+INDIRECT(\"SB\"&\"L_Master\")+ROUND((INDIRECT(\"SB\"&\"R_Master\")+INDIRECT(\"NB\"&\"L_Master\")-Z5SBR)/RTAF,0)","v":266},null,null,null,null,null,null,null,null,null,null,null,null,null,null,null,null,null,null,null,null,"EQUATION: A x exp(-B x Q)"]
[null,null,null,null,null,null,null,null,null,null,null,null,null,null,null,null,null,null,null,null,null,null,null,null,null,null,null,null,null,null,null,null,null,null,null,null,null,null,null,null,null,null,null,null,null,null,null,null,null,null,null,null,null,null,null,null,null,null,null,null,null,null,null,null,null,null,null,null,null,null,null,null,null,null,{"$f":"'3 - Alt Num Lanes Input'!AO74","v":1},null,null,{"$f":"'3 - Alt Num Lanes Input'!AM74","v":1}]
[null,null,null,null,null,null,null,null,null,null,null,null,null,null,null,null,null,null,null,null,null,null,null,null,null,null,null,null,null,null,null,null,null,null,null,null,null,null,null,null,null,null,null,null,null,null,null,null,null,null,null,null,null,null,null,null,null,null,null,null,null,null,null,null,{"$f":"\"EB Critical Vol\"","v":"EB Critical Vol"},null,null,null,null,null,null,null,null,null,null,null,null,null,null,null,null,null,null,null,null,null,{"$f":"'3 - Alt Num Lanes Input'!BE74","v":1},{"$f":"IF(Z5WBRShared=\"Yes\",ROUND(INDIRECT(\"WB\"&\"R_Master\")*(Z5WBRlanes/(Z5WBRlanes+1)),0),INDIRECT(\"WB\"&\"R_Master\"))","v":51},"pcph",null,null,null,null,"Shared\n?",null,null,null,null,"Number of Entry Lanes",null,null,null,null,null,null,"Number of Circulating Lanes",null,null,null,null,null,null,null,null,null,"Lane",null,null,null,"A",null,null,"B"]
[null,null,null,null,null,null,null,null,null,null,null,null,null,null,null,null,null,null,null,null,null,null,null,null,null,null,null,null,null,null,null,null,null,null,null,null,null,null,null,null,null,null,null,null,null,null,null,null,null,null,null,null,null,null,null,null,null,null,null,null,null,null,null,null,{"$f":"ROUND(IF(Z5NSSplit,MAX(IFERROR(Z5EBT/Z5EBTlanes,0),IFERROR((Z5EBR+Z5EBL)/RTAF/Z5EBRlanes,0)),MAX(IFERROR(Z5WBT/Z5WBTlanes,0), MAX(0,IFERROR((Z5WBR+Z5WBL)/RTAF/Z5WBRlanes,0)))),0)","v":204}]
[null,null,null,null,null,null,null,null,null,null,null,null,null,null,null,null,null,null,null,null,null,null,null,null,null,null,null,null,null,null,null,null,null,null,null,null,null,null,null,null,null,null,null,null,null,null,null,null,null,null,null,null,null,null,null,null,null,null,null,null,null,null,null,null,null,null,null,null,null,null,null,null,null,null,null,null,null,null,null,null,null,null,null,null,null,null,null,null,null,null,null,null,null,{"$f":"IF(Z5WBRlanes=0,\"Yes\",\"No\")","v":"No"}]
[null,null,null,null,null,null,null,null,null,null,null,null,null,null,null,null,null,null,null,null,null,null,null,null,null,null,null,null,null,null,null,null,null,null,null,null,null,null,null,null,null,null,null,null,null,null,null,null,null,null,null,null,null,null,null,null,null,null,null,null,null,null,null,null,null,null,null,null,null,null,null,"pcph",{"$f":"IF(Z5EBRShared=\"Yes\",0,INDIRECT(\"EB\"&\"L_Master\"))","v":31},null,null,null,null,null,null,null,null,null,null,null,null,null,{"$f":"'3 - Alt Num Lanes Input'!BC74","v":1},{"$f":"INDIRECT(\"WB\"&\"T_Master\")+ROUND((INDIRECT(\"WB\"&\"R_Master\")+INDIRECT(\"WB\"&\"L_Master\")-Z5WBR-Z5WBL)/RTAF,0)","v":204},"pcph",null,null,null,null,null,null,null,null,null,1,null,null,null,null,null,null,1,null,null,null,null,null,null,null,null,null,"-",null,null,null,1380,null,null,1.0200000000000001E-3]
[]
[null,null,null,null,null,null,null,null,null,null,null,null,null,null,null,null,null,null,null,null,null,null,null,null,null,null,null,null,null,null,null,null,null,null,null,null,null,null,null,null,null,null,null,null,null,null,null,null,null,null,null,null,null,null,null,null,null,null,null,null,null,null,null,null,null,null,null,null,null,null,null,null,null,null,null,null,null,null,null,null,null,null,null,null,null,null,null,null,null,null,null,null,null,null,null,null,null,null,1,null,null,null,null,null,null,2,null,null,null,null,null,null,null,null,null,"-",null,null,null,1420,null,null,8.4999999999999995E-4]
[null,null,null,null,null,null,null,null,null,null,null,null,null,null,null,null,null,null,null,null,null,null,null,null,null,null,null,null,null,null,null,null,null,null,null,null,null,null,null,null,null,null,null,null,null,null,null,null,null,null,null,null,null,null,null,null,null,null,null,null,null,null,null,null,null,null,null,null,null,null,null,"pcph",{"$f":"INDIRECT(\"EB\"&\"T_Master\")+ROUND((INDIRECT(\"EB\"&\"R_Master\")+INDIRECT(\"EB\"&\"L_Master\")-Z5EBR-Z5EBL)/RTAF,0)","v":204},{"$f":"'3 - Alt Num Lanes Input'!AU74","v":1},null,null,{"$f":"IF(Z5EWSplit,Z5NB+Z5SB,MAX(Z5NB,Z5SB))+IF(Z5NSSplit,Z5WB+Z5EB,MAX(Z5WB,Z5EB))","v":847},null,null,null,null,null,null,null,null,null,null,{"$f":"IF(Z5WBRShared=\"Yes\",0,INDIRECT(\"WB\"&\"L_Master\"))","v":31},"pcph"]
[null,null,null,null,null,null,null,null,null,null,null,null,null,null,null,null,null,null,null,null,null,null,null,null,null,null,null,null,null,null,null,null,null,null,null,null,null,null,null,null,null,null,null,null,null,null,null,null,null,null,null,null,null,null,null,null,null,null,null,null,null,null,null,null,null,null,null,null,null,null,null,null,null,null,null,null,null,null,null,null,null,null,null,null,null,null,null,null,null,null,null,null,null,null,null,null,null,null,2,null,null,null,null,null,null,1,null,null,null,null,null,null,null,null,null,"Left",null,null,null,1420,null,null,9.1E-4]
[]
[null,null,null,null,null,null,null,null,null,null,null,null,null,null,null,null,null,null,null,null,null,null,null,null,null,null,null,null,null,null,null,null,null,null,null,null,null,null,null,null,null,null,null,null,null,null,null,null,null,null,null,null,null,null,null,null,null,null,null,null,null,null,null,null,"Shared\n?",null,null,null,null,null,null,"pcph",{"$f":"IF(Z5EBRShared=\"Yes\",ROUND(INDIRECT(\"EB\"&\"R_Master\")*(Z5EBRlanes/(Z5EBRlanes+1)),0),INDIRECT(\"EB\"&\"R_Master\"))","v":51},{"$f":"'3 - Alt Num Lanes Input'!AW74","v":1},null,null,null,null,null,null,null,null,null,null,null,null,null,null,null,null,null,null,null,null,null,null,null,null,2,null,null,null,null,null,null,1,null,null,null,null,null,null,null,null,null,"Right",null,null,null,1420,null,null,9.1E-4]
[null,null,null,null,null,null,null,null,null,null,null,null,null,null,null,null,null,null,null,null,null,null,null,null,null,null,null,null,null,null,null,null,null,null,null,null,null,null,null,null,null,null,null,null,null,null,null,null,null,null,null,null,null,null,null,null,null,null,null,null,null,null,null,null,null,null,null,null,null,null,null,null,null,null,null,null,null,null,null,null,null,null,null,null,null,null,null,null,{"$f":"\"WB Critical Vol\"","v":"WB Critical Vol"}]
[null,null,null,null,null,null,null,null,null,null,null,null,null,null,null,null,null,null,null,null,null,null,null,null,null,null,null,null,null,null,null,null,null,null,null,null,null,null,null,null,null,null,null,null,null,null,null,null,null,null,null,null,null,null,null,null,null,null,null,null,null,null,null,null,{"$f":"IF(Z5EBRlanes=0,\"Yes\",\"No\")","v":"No"},null,null,null,null,null,null,null,null,null,null,null,null,null,null,null,null,null,null,null,null,null,null,null,{"$f":"ROUND(IF(Z5NSSplit,MAX(IFERROR(Z5WBT/Z5WBTlanes,0),IFERROR((Z5WBR+Z5WBL)/RTAF/Z5WBRlanes,0)),MAX(IFERROR(Z5EBT/Z5EBTlanes,0), MAX(0,IFERROR((Z5EBR+Z5EBL)/RTAF/Z5EBRlanes,0)))),0)","v":204},null,null,null,null,null,null,null,null,null,2,null,null,null,null,null,null,2,null,null,null,null,null,null,null,null,null,"Left",null,null,null,1350,null,null,9.2000000000000003E-4]
[null,null,null,null,null,null,null,null,null,null,null,null,null,null,null,null,null,null,null,null,null,null,null,null,null,null,null,null,null,null,null,null,null,null,null,null,null,null,null,null,null,null,null,null,null,null,null,null,null,null,null,null,null,null,null,null,null,null,null,null,null,null,null,null,null,null,null,null,null,null,null,null,null,null,null,null,null,null,null,null,{"$f":"'3 - Alt Num Lanes Input'!AE74","v":1},null,null,{"$f":"'3 - Alt Num Lanes Input'!AG74","v":1}]
[null,null,null,null,null,null,null,null,null,null,null,null,null,null,null,null,null,null,null,null,null,null,null,null,null,null,null,null,null,null,null,null,null,null,null,null,null,null,null,null,null,null,null,null,null,null,null,null,null,null,null,null,null,null,null,null,null,null,null,null,null,null,null,null,null,null,null,null,null,null,null,null,null,null,null,null,null,null,null,null,{"$f":"INDIRECT(\"NB\"&\"T_Master\")+INDIRECT(\"EB\"&\"L_Master\")+INDIRECT(\"NB\"&\"L_Master\")+ROUND((INDIRECT(\"NB\"&\"R_Master\")+INDIRECT(\"SB\"&\"L_Master\")-Z5NBR)/RTAF,0)","v":643},null,null,{"$f":"IF(Z5NBRShared=\"Yes\",ROUND((INDIRECT(\"NB\"&\"R_Master\")+INDIRECT(\"SB\"&\"L_Master\"))*(Z5NBRlanes/(Z5NBRlanes+1)),0),INDIRECT(\"NB\"&\"R_Master\")+INDIRECT(\"SB\"&\"L_Master\"))","v":235},null,null,null,null,null,null,null,null,null,null,null,null,null,null,2,null,null,null,null,null,null,2,null,null,null,null,null,null,null,null,null,"Right",null,null,null,1420,null,null,8.4999999999999995E-4]
[null,null,null,null,null,null,null,null,null,null,null,null,null,null,null,null,null,null,null,null,null,null,null,null,null,null,null,null,null,null,null,null,null,null,null,null,null,null,null,null,null,null,null,null,null,null,null,null,null,null,null,null,null,null,null,null,null,null,null,null,null,null,null,null,null,null,null,null,null,null,null,null,null,null,null,null,null,null,null,null,"pcph",null,null,"pcph"]
[null,null,null,null,null,null,null,null,null,null,null,null,null,null,null,null,null,null,null,null,null,null,null,null,null,null,null,null,null,null,null,null,null,null,null,null,null,null,null,null,null,null,null,null,null,null,null,null,null,null,null,null,null,null,null,null,null,null,null,null,null,null,null,null,null,null,null,null,null,null,null,{"$f":"\"NB Critical Vol\"","v":"NB Critical Vol"}]
[null,null,null,null,null,null,null,null,null,null,null,null,null,null,null,null,null,null,null,null,null,null,null,null,null,null,null,null,null,null,null,null,null,null,null,null,null,null,null,null,null,null,null,null,null,null,null,null,null,null,null,null,null,null,null,null,null,null,null,null,null,null,null,null,null,null,null,null,null,null,null,{"$f":"ROUND(IF(Z5EWSplit,MAX(IFERROR(Z5NBT/Z5NBTlanes,0),IFERROR(Z5NBR/RTAF/Z5NBRlanes,0)),MAX(IFERROR(Z5SBT/Z5SBTlanes,0), MAX(0,IFERROR(Z5SBR/RTAF/Z5SBRlanes,0)))),0)","v":266}]
[]
[]
[null,null,null,null,null,null,null,null,null,null,null,null,null,null,null,null,null,null,null,null,null,null,null,null,null,null,null,null,null,null,null,null,null,null,null,null,null,null,null,null,null,null,null,null,null,null,null,null,null,null,null,null,null,null,null,null,null,null,null,null,null,null,null,null,null,null,null,null,null,null,null,null,null,null,null,null,null,null,null,null,null,null,null,"Shared\n?"]
[]
[null,null,null,null,null,null,null,null,null,null,null,null,null,null,null,null,null,null,null,null,null,null,null,null,null,null,null,null,null,null,null,null,null,null,null,null,null,null,null,null,null,null,null,null,null,null,null,null,null,null,null,null,null,null,null,null,null,null,null,null,null,null,null,null,null,null,null,null,null,null,null,null,null,null,null,null,null,null,null,null,null,null,null,{"$f":"IF(Z5NBRlanes=0,\"Yes\",\"No\")","v":"No"},null,null,null,null,null,null,null,null,null,null,null,null,null,null,null,null,null,null,null,null,null,null,null,null,null,null,{"$f":"IF($BU$63=2,INDIRECT(\"NB\"&\"T_Master\")*(1-DC71),\"\")","v":""},null,null,null,{"$f":"IF($BU$63=2,INDIRECT(\"NB\"&\"T_Master\")*DC71,\"\")","v":""}]
[]
[null,null,null,null,null,null,null,null,null,null,null,null,null,null,null,null,null,null,null,null,null,null,null,null,null,null,null,null,null,null,null,null,null,null,null,null,null,null,null,null,null,null,null,null,{"$f":"CQ70","v":816},null,null,null,null,null,null,null,null,"pceph",null,null,null,null,null,null,null,null,null,null,null,null,null,null,null,null,null,null,null,null,null,null,null,null,null,null,null,null,null,null,null,null,null,null,null,null,null,null,null,null,null,null,null,null,null,null,null,null,null,null,null,null,null,{"$f":"IF($BU$63=2,INDIRECT(\"NB\"&\"L_Master\"),\"\")","v":""},null,null,null,null,null,null,null,null,null,{"$f":"IF($BU$63=2,INDIRECT(\"NB\"&\"R_Master\"),\"\")","v":""}]
[]
[]
[null,null,null,null,null,null,null,null,null,null,null,null,null,null,null,null,null,null,null,null,null,null,null,null,null,null,null,null,null,null,null,null,null,null,null,null,null,null,null,null,null,null,null,null,{"$f":"Result_Bowtie_EW_CLV_Z2/AX60","v":0.62990615992748222},null,null,null,"V/C",{"$f":"CK63","v":1295.4310529269023},null,null,null,"MAX",null,null,null,null,null,null,null,null,null,null,null,null,null,null,null,null,null,null,"Number of Entry Lanes"]
[null,null,null,null,null,null,null,null,null,null,null,null,null,null,null,null,null,null,null,null,null,null,null,null,null,null,null,null,null,null,null,null,null,null,null,null,null,null,null,null,null,null,null,null,null,null,null,null,null,null,null,null,null,null,null,null,null,null,null,null,null,null,null,null,null,null,null,null,null,null,null,null,null,null,null,null,null,null,null,null,null,null,null,null,{"$f":"IF($BU$63=1,\"\",1)","v":""},null,null,null,{"$f":"IF(BU63=1,\"\",IF(BU70=1,$DP$41*EXP(-$DS$41*#REF!),$DP$45*EXP(-$DS$45*(#REF!+#REF!))))","v":""},null,null,null,null,null,"V/C RATIO",null,null,null,null,"V/C RATIO"]
[]
[null,null,null,null,null,null,null,null,null,null,null,null,null,null,null,null,null,null,null,null,null,null,null,null,null,null,null,null,null,null,null,null,null,null,null,null,null,null,null,null,null,null,null,null,null,null,null,null,null,"Lane Capacity",null,null,null,null,null,null,null,null,null,null,null,null,null,null,null,null,null,null,null,null,null,null,1,null,null,null,null,null,null,null,null,null,null,null,{"$f":"IF($BU$63=1,1,2)","v":1},null,null,null,{"$f":"IF(BU63=1,IF(BU70=1,$DP$37*EXP(-$DS$37*CG69),$DP$39*EXP(-$DS$39*(CG69+CG67))),IF(BU70=1,$DP$43*EXP(-$DS$43*CG69),$DP$47*EXP(-$DS$47*(CG69+CG67))))","v":1295.4310529269023}]
[null,null,null,null,null,null,null,null,null,null,null,null,null,null,null,null,null,null,null,null,null,null,null,null,null,null,null,null,null,null,null,null,null,null,null,null,null,null,null,null,null,null,null,null,null,null,null,null,null,null,null,null,null,null,null,null,null,null,null,null,null,null,null,null,null,null,null,null,null,null,null,null,null,null,null,null,null,null,null,null,null,null,null,null,null,null,null,null,null,null,null,null,null,null,{"$f":"CQ70/CK63","v":0.62990615992748222},null,null,null,null,{"$f":"IFERROR(CV70/CK61,\"\")","v":""},null,null,null,null,null,null,null,null,null,null,null,null,{"$f":"IF($BU$63=1,INDIRECT(\"NB\"&\"T_Master\"),\"\")","v":510}]
[null,null,null,null,null,null,null,null,null,null,null,null,null,null,null,null,null,null,null,null,null,null,null,null,null,null,null,null,null,null,null,null,null,null,null,null,null,null,null,null,null,null,null,null,null,null,null,null,null,null,null,null,null,null,null,null,null,null,null,null,null,null,null,null,null,null,null,null,null,null,null,null,null,null,null,null,null,null,null,null,null,null,null,null,"Lane Capacity",null,null,null,null,null,null,null,null,null,{"$f":"IF($BU$63=1,1,2)","v":1},null,null,null,null,{"$f":"IF($BU$63=1,\"\",1)","v":""}]
[null,null,null,null,null,null,null,null,null,null,null,null,null,null,null,null,null,null,null,null,null,null,null,null,null,null,null,null,null,null,null,null,null,null,null,null,null,null,null,null,null,null,null,null,null,null,null,null,null,null,null,null,null,null,null,null,null,null,null,null,null,null,null,null,null,null,null,null,null,null,null,null,null,null,null,null,null,null,null,null,null,null,null,null,null,null,null,null,null,null,null,null,null,null,null,null,null,null,null,null,null,null,null,null,null,null,null,null,null,{"$f":"IF($BU$63=1,INDIRECT(\"NB\"&\"L_Master\"),\"\")","v":102},null,null,null,null,null,{"$f":"IF($BU$63=1,INDIRECT(\"NB\"&\"R_Master\"),\"\")","v":204}]
[null,null,null,null,null,null,null,null,null,null,null,null,null,null,null,null,null,null,null,null,null,null,null,null,null,null,null,null,null,null,null,null,null,null,null,null,null,null,null,null,null,null,null,null,null,null,null,null,null,null,null,null,null,null,null,null,null,null,null,null,null,null,null,null,null,null,null,null,null,null,null,null,"Number of Circulating Lanes",null,null,null,null,null,null,null,null,null,null,null,{"$f":"IF($BU$70=1,\"\",INDIRECT(\"EB\"&\"L_Master\"))","v":""}]
[]
[null,null,null,null,null,null,null,null,null,null,null,null,null,null,null,null,null,null,null,null,null,null,null,null,null,null,null,null,null,null,null,null,null,null,null,null,null,null,null,null,null,null,null,null,null,null,null,null,null,null,null,null,null,null,null,null,null,null,null,null,null,null,null,null,null,null,null,null,null,null,null,null,null,null,null,null,null,null,null,null,null,null,null,null,{"$f":"IF($BU$70=1,INDIRECT(\"EB\"&\"L_Master\")+INDIRECT(\"SB\"&\"L_Master\"),INDIRECT(\"SB\"&\"L_Master\"))","v":62},null,null,null,null,null,null,null,null,null,"pcph",null,null,null,null,"pcph"]
[null,null,null,null,null,null,null,null,null,null,null,null,null,null,null,null,null,null,null,null,null,null,null,null,null,null,null,null,null,null,null,null,null,null,null,null,null,null,null,null,null,null,null,null,null,null,null,null,null,null,null,null,null,null,null,null,null,null,null,null,null,null,null,null,null,null,null,null,null,null,null,null,1,null,null,null,null,null,null,null,null,null,null,null,null,null,null,null,null,null,null,null,null,null,{"$f":"IF(BU63=1,DF66+DI64+DL66,DG55+DN57)","v":816},null,null,null,null,{"$f":"IF(BU63=1,\"\",DD57+DK55)","v":""}]
[null,null,null,null,null,null,null,null,null,null,null,null,null,null,null,null,null,null,null,null,null,null,null,null,null,null,null,null,null,null,null,null,null,null,null,null,null,null,null,null,null,null,null,null,null,null,null,null,null,null,null,null,null,null,null,null,null,null,null,null,null,null,null,null,null,null,null,null,null,null,null,null,null,null,null,null,null,null,null,null,null,null,null,null,"Conflicting flow",null,null,null,null,null,null,null,null,null,null,null,null,null,null,null,null,null,null,null,null,null,0.5,null,null,null,"Through lane utilization factor"]
[]
[]
[null,null,null,null,null,null,null,null,null,null,null,null,null,null,"Note: This diagram does not reflect the actual lane configuration of the Intersection"]

{"sheet":"Split Intersection N-S","index":40,"n_rows":74,"n_cols":119,"rows_kept":74,"cut":false,"hidden":false,"merged":[[0,63,1,122],[2,63,3,122],[30,11,32,11],[30,12,32,15],[30,16,32,16],[27,7,29,15],[27,16,29,16],[73,13,73,46],[15,44,17,57],[15,58,16,59],[33,12,33,16],[50,105,51,107],[52,105,52,107],[41,103,42,112],[43,108,43,110],[0,1,1,60],[2,1,3,60],[5,36,5,38],[5,42,5,44],[6,2,7,9],[6,10,7,35],[10,2,11,9],[10,10,11,35],[10,36,13,47],[10,48,13,59],[12,2,13,9],[12,10,13,35],[6,36,7,59],[8,2,9,9],[8,10,9,35],[8,36,9,41],[8,42,9,47],[8,48,9,53],[8,54,9,59],[28,118,29,120],[55,114,55,121],[30,118,30,120],[37,116,39,116],[37,117,39,120],[30,7,32,10],[27,41,29,49],[27,50,29,50],[30,41,32,44],[30,45,32,45],[30,46,32,49],[30,50,32,50],[33,46,33,50],[37,104,39,111],[45,65,45,67],[43,65,44,67],[24,72,27,74],[24,75,27,77],[24,78,27,80],[28,72,28,74],[28,75,28,77],[40,100,42,100],[40,101,42,101],[31,85,33,85],[60,113,60,117],[60,118,60,121],[55,104,55,111],[31,114,33,114],[31,115,33,115],[31,116,33,116],[31,117,33,120],[50,111,51,113],[52,111,52,113],[34,115,36,115],[34,116,36,116],[34,117,36,120],[59,113,59,117],[59,118,59,121],[54,114,54,121],[44,105,44,107],[45,105,45,107],[37,115,39,115],[54,104,54,111],[19,64,19,71],[18,64,18,71],[28,78,28,80],[29,72,29,74],[34,95,35,97],[55,94,55,101],[34,104,36,111],[14,64,14,68],[14,69,14,72],[37,65,39,68],[37,69,39,69],[37,70,39,70],[37,74,39,81],[30,72,30,74],[30,75,30,77],[21,78,22,80],[34,74,36,81],[23,78,23,80],[19,74,19,81],[37,88,38,90],[39,88,39,90],[19,84,19,91],[30,78,30,80],[54,94,54,101],[21,72,22,74],[41,73,42,82],[23,72,23,74],[46,105,49,107],[43,105,43,107],[34,114,39,114],[15,64,15,68],[15,69,15,72],[43,111,43,113],[44,108,44,110],[44,111,44,113],[45,108,45,110],[45,111,45,113],[46,108,49,110],[46,111,49,113],[36,95,36,97],[18,74,18,81],[18,84,18,91],[37,95,39,98],[37,99,39,99],[37,100,39,100],[37,101,39,101],[40,95,42,98],[40,99,42,99],[29,75,29,77],[29,78,29,80],[34,65,36,68],[34,69,36,69],[34,70,36,70],[40,65,42,68],[34,71,39,71],[31,86,33,86],[31,87,33,90],[34,85,36,85],[34,86,36,86],[34,87,36,90],[31,84,33,84],[34,84,36,84],[40,69,42,69],[40,70,42,70],[40,71,42,71]]}
[null,"Split Intersection (N-S)",null,null,null,null,null,null,null,null,null,null,null,null,null,null,null,null,null,null,null,null,null,null,null,null,null,null,null,null,null,null,null,null,null,null,null,null,null,null,null,null,null,null,null,null,null,null,null,null,null,null,null,null,null,null,null,null,null,null,null,null,null,"Split Intersection (N-S)"]
[]
[null,"Design and results",null,null,null,null,null,null,null,null,null,null,null,null,null,null,null,null,null,null,null,null,null,null,null,null,null,null,null,null,null,null,null,null,null,null,null,null,null,null,null,null,null,null,null,null,null,null,null,null,null,null,null,null,null,null,null,null,null,null,null,null,null,"Data Input and Configuration"]
[]
[]
[]
[null,null,"Project Name:",null,null,null,null,null,null,null,{"$f":"P_Name","v":"Cap-X Sample Street"},null,null,null,null,null,null,null,null,null,null,null,null,null,null,null,null,null,null,null,null,null,null,null,null,null,"Volume-to-Capacity Ratio"]
[]
[null,null,"Project Number:",null,null,null,null,null,null,null,{"$f":"P_Number","v":10000},null,null,null,null,null,null,null,null,null,null,null,null,null,null,null,null,null,null,null,null,null,null,null,null,null,"< 0.750",null,null,null,null,null,"0.750 - 0.875",null,null,null,null,null,"0.875 - 1.00",null,null,null,null,null,"≥ 1.00"]
[]
[null,null,"Location",null,null,null,null,null,null,null,{"$f":"Location","v":"Anywhere, USA"},null,null,null,null,null,null,null,null,null,null,null,null,null,null,null,null,null,null,null,null,null,null,null,null,null,"VOLUME / CAPACITY RATIO:",null,null,null,null,null,null,null,null,null,null,null,{"$f":"H31","v":0.28999999999999998}]
[]
[null,null,"Date",null,null,null,null,null,null,null,{"$f":"Date","v":"2017 AM"}]
[null,null,null,null,null,null,null,null,null,null,null,null,null,null,null,null,null,null,null,null,null,null,null,null,null,null,null,null,null,null,null,null,null,null,null,null,null,null,null,null,null,null,null,null,null,null,null,null,null,null,null,null,null,null,null,null,null,null,null,null,null,null,null,null,"Zone 4"]
[null,null,null,null,null,null,null,null,null,null,null,null,null,null,null,null,null,null,null,null,null,null,null,null,null,null,null,null,null,null,null,null,null,null,null,null,null,null,null,null,null,null,null,null,null,null,null,null,null,null,null,null,null,null,null,null,null,null,null,null,null,null,null,null,"NS Split?",null,null,null,null,true]
[null,null,null,null,null,null,null,null,null,null,null,null,null,null,null,null,null,null,null,null,null,null,null,null,null,null,null,null,null,null,null,null,null,null,null,null,null,null,null,null,null,null,null,null,"Multimodal Capacity Adjustment Factor",null,null,null,null,null,null,null,null,null,null,null,null,null,{"$f":"IF(Multimodal=1,1,IF(MAX(Z4EBTlanes,Z3WBTlanes,Z3NBTlanes,Z4SBTlanes)<3,1,IF(MAX(Z4EBTlanes,Z3WBTlanes,Z3NBTlanes,Z4SBTlanes)<4,0.9,0.8)))","v":1},null,null,null,null,null,"EW Split?",null,null,null,null,{"$f":"IF(AND(Z4WBLShared=\"Yes\",Z4WBLlanes>0),TRUE,FALSE)","v":false}]
[]
[]
[null,null,null,null,null,null,null,null,null,null,null,null,null,null,null,null,null,null,null,null,null,null,null,null,null,null,null,null,null,null,null,null,null,null,null,null,null,null,null,null,null,null,null,null,null,null,null,null,null,null,null,null,null,null,null,null,null,null,null,null,null,null,null,null,{"$f":"\"EB\"&\" Critical Vol\"","v":"EB Critical Vol"},null,null,null,null,null,null,null,null,null,{"$f":"\"SB\"&\" Critical Vol\"","v":"SB Critical Vol"},null,null,null,null,null,null,null,null,null,{"$f":"\"WB\"&\" Critical Vol\"","v":"WB Critical Vol"}]
[null,null,null,null,null,null,null,null,null,null,null,null,null,null,null,null,null,null,null,null,null,null,null,null,null,null,null,null,null,null,null,null,null,null,null,null,null,null,null,null,null,null,null,null,null,null,null,null,null,null,null,null,null,null,null,null,null,null,null,null,null,null,null,null,{"$f":"ROUND(IF(Z4NSSplit,MAX(IFERROR((Z4EBT+Z4EBL)/Z4EBTlanes,0),IFERROR(Z4EBR/RTAF/Z4EBRlanes,0)),IFERROR(Z4WBT/Z4WBTlanes,0)),0)","v":306},null,null,null,null,null,null,null,null,null,{"$f":"ROUND(IF(Z4EWSplit,MAX(IFERROR(Z4SBL/LTAF/Z4SBLlanes,0),IFERROR(Z4SBT/Z4SBTlanes,0),IFERROR(Z4SBR/RTAF/Z4SBRlanes,0)),IFERROR(Z4SBL/LTAF/Z4SBLlanes,0) +MAX(IFERROR(Z2WBT/Z2WBTlanes,0), MAX(0,IFERROR(Z2WBR/RTAF/Z2WBRlanes-IFERROR(Z4WBL/LTAF/Z4WBLlanes,0),0)))),0)","v":204},null,null,null,null,null,null,null,null,null,{"$f":"ROUND(IF(Z4NSSplit,MAX(IFERROR(Z4WBL/LTAF/Z4WBLlanes,0),IFERROR(Z4WBT/Z4WBTlanes,0)),IFERROR(Z4WBL/LTAF/Z4WBLlanes,0) +MAX(IFERROR((Z4EBT+Z4EBL)/Z4EBTlanes,0), MAX(0,IFERROR(Z4EBR/RTAF/Z4EBRlanes,0)))),0)","v":268}]
[]
[null,null,null,null,null,null,null,null,null,null,null,null,null,null,null,null,null,null,null,null,null,null,null,null,null,null,null,null,null,null,null,null,null,null,null,null,null,null,null,null,null,null,null,null,null,null,null,null,null,null,null,null,null,null,null,null,null,null,null,null,null,null,null,null,null,null,null,null,null,null,null,null,"Shared\n?",null,null,null,null,null,"Shared\n?"]
[]
[null,null,null,null,null,null,null,null,null,null,null,null,null,null,null,null,null,null,null,null,null,null,null,null,null,null,null,null,null,null,null,null,null,null,null,null,null,null,null,null,null,null,null,null,null,null,null,null,null,null,null,null,null,null,null,null,null,null,null,null,null,null,null,null,null,null,null,null,null,null,null,null,{"$f":"IF(Z4SBRlanes=0,\"Yes\",\"No\")","v":"No"},null,null,null,null,null,{"$f":"IF(Z4SBLlanes=0,\"Yes\",\"No\")","v":"No"}]
[]
[]
[]
[null,null,null,null,null,null,null,{"$f":"BW38","v":510},null,null,null,null,null,null,null,null,"CLV",null,null,null,null,null,null,null,null,null,null,null,null,null,null,null,null,null,null,null,null,null,null,null,null,{"$f":"DA38","v":778},null,null,null,null,null,null,null,null,"CLV"]
[null,null,null,null,null,null,null,null,null,null,null,null,null,null,null,null,null,null,null,null,null,null,null,null,null,null,null,null,null,null,null,null,null,null,null,null,null,null,null,null,null,null,null,null,null,null,null,null,null,null,null,null,null,null,null,null,null,null,null,null,null,null,null,null,null,null,null,null,null,null,null,null,"pcph",null,null,"pcph",null,null,"pcph",null,null,null,null,null,null,null,null,null,null,null,null,null,null,null,null,null,null,null,null,null,null,null,null,null,null,null,null,null,null,null,null,null,null,null,null,null,null,null,"Shared\n?"]
[null,null,null,null,null,null,null,null,null,null,null,null,null,null,null,null,null,null,null,null,null,null,null,null,null,null,null,null,null,null,null,null,null,null,null,null,null,null,null,null,null,null,null,null,null,null,null,null,null,null,null,null,null,null,null,null,null,null,null,null,null,null,null,null,null,null,null,null,null,null,null,null,{"$f":"IF(Z4SBRShared=\"Yes\",ROUND(INDIRECT(\"SB\"&\"R_Master\")*(Z4SBRlanes/(Z4SBRlanes+1)),0),INDIRECT(\"SB\"&\"R_Master\"))","v":51},null,null,{"$f":"ROUND((INDIRECT(\"SB\"&\"T_Master\")+ROUND((INDIRECT(\"SB\"&\"R_Master\")-Z4SBR)/RTAF,0))+(INDIRECT(\"SB\"&\"L_Master\")-Z4SBL)*IF(AND(Z4SBLShared=\"Yes\",Z4SBLlanes<2),1/LTAF,1),0)","v":204},null,null,{"$f":"IF(AND(Z4SBLShared=\"Yes\",Z4SBLlanes<2),ROUND(INDIRECT(\"SB\"&\"L_Master\")*(Z4SBLlanes/(Z4SBLlanes+1)),0),INDIRECT(\"SB\"&\"L_Master\"))","v":31}]
[null,null,null,null,null,null,null,{"$f":"ROUND(H28/M31,2)","v":0.28999999999999998},null,null,null,"V/C",{"$f":"BG16*CLV_Limit_3","v":1750},null,null,null,"MAX",null,null,null,null,null,null,null,null,null,null,null,null,null,null,null,null,null,null,null,null,null,null,null,null,{"$f":"ROUND(AP28/AU31,2)","v":0.44},null,null,null,"V/C",{"$f":"BG16*CLV_Limit_3","v":1750},null,null,null,"MAX",null,null,null,null,null,null,null,null,null,null,null,null,null,null,null,null,null,null,null,null,null,1,null,null,1,null,null,1,null,null,null,null,null,null,null,null,null,null,null,null,null,null,null,null,null,null,null,null,null,null,null,null,null,null,null,null,null,null,null,null,null,null,null,null,null,null,null,{"$f":"IF(Z3WBRlanes=0,\"Yes\",\"No\")","v":"No"}]
[null,null,null,null,null,null,null,null,null,null,null,null,null,null,null,null,null,null,null,null,null,null,null,null,null,null,null,null,null,null,null,null,null,null,null,null,null,null,null,null,null,null,null,null,null,null,null,null,null,null,null,null,null,null,null,null,null,null,null,null,null,null,null,null,null,null,null,null,null,null,null,null,null,null,null,null,null,null,null,null,null,null,null,null,1,{"$f":"(INDIRECT(\"WB\"&\"T_Master\")+INDIRECT(\"NB\"&\"L_Master\"))+(INDIRECT(\"WB\"&\"L_Master\")-Z4WBL)*IF(AND(Z4WBLShared=\"Yes\",Z4WBLlanes<1),LeftTurnFactor(INDIRECT(\"EB\"&\"T_Master\")+INDIRECT(\"EB\"&\"L_Master\")+INDIRECT(\"EB\"&\"R_Master\")/RTAF),1/LTAF)","v":306},"pcph",null,null,null,null,null,null,null,null,null,null,null,null,null,null,null,null,null,null,null,null,null,null,null,null,null,null,null,1,{"$f":"IF(Z3WBRShared=\"Yes\",ROUND(INDIRECT(\"WB\"&\"R_Master\")*(Z3WBRlanes/(Z3WBRlanes+1)),0),INDIRECT(\"WB\"&\"R_Master\"))","v":51},"pcph"]
[]
[null,null,null,null,null,null,null,null,null,null,null,null,"3 Phases",null,null,null,null,null,null,null,null,null,null,null,null,null,null,null,null,null,null,null,null,null,null,null,null,null,null,null,null,null,null,null,null,null,"3 Phases"]
[null,null,null,null,null,null,null,null,null,null,null,null,null,null,null,null,null,null,null,null,null,null,null,null,null,null,null,null,null,null,null,null,null,null,null,null,null,null,null,null,null,null,null,null,null,null,null,null,null,null,null,null,null,null,null,null,null,null,null,null,null,null,null,null,null,null,null,null,null,"pcph",{"$f":"INDIRECT(\"EB\"&\"L_Master\")","v":31},1,null,null,null,null,null,null,null,null,null,null,null,null,1,{"$f":"IF(AND(Z4WBLShared=\"Yes\",Z4WBLlanes<2),ROUND(INDIRECT(\"WB\"&\"L_Master\")*(Z4WBLlanes/(Z4WBLlanes+1)),0),INDIRECT(\"WB\"&\"L_Master\"))","v":31},"pcph",null,null,null,null,null,null,null,null,"Shared\n?",null,null,null,null,null,null,null,null,null,null,null,null,null,null,null,null,null,null,1,{"$f":"INDIRECT(\"WB\"&\"T_Master\")+ROUND((INDIRECT(\"WB\"&\"R_Master\")-Z3WBR)/RTAF,0)","v":204},"pcph"]
[]
[null,null,null,null,null,null,null,null,null,null,null,null,null,null,null,null,null,null,null,null,null,null,null,null,null,null,null,null,null,null,null,null,null,null,null,null,null,null,null,null,null,null,null,null,null,null,null,null,null,null,null,null,null,null,null,null,null,null,null,null,null,null,null,null,null,null,null,null,null,null,null,null,null,null,null,null,null,null,null,null,null,null,null,null,null,null,null,null,null,null,null,null,null,null,null,"No"]
[null,null,null,null,null,null,null,null,null,null,null,null,null,null,null,null,null,null,null,null,null,null,null,null,null,null,null,null,null,null,null,null,null,null,null,null,null,null,null,null,null,null,null,null,null,null,null,null,null,null,null,null,null,null,null,null,null,null,null,null,null,null,null,null,null,null,null,null,null,"pcph",{"$f":"INDIRECT(\"EB\"&\"T_Master\")+ROUND((INDIRECT(\"EB\"&\"R_Master\")-Z4EBR)/RTAF,0)","v":204},null,null,null,{"$f":"Z4SB+IF(Z4NSSplit,Z4EB+Z4WB,MAX(Z4EB,Z4WB))","v":510},null,null,null,null,null,null,null,null,null,null,null,null,null,"Shared\n?",null,null,null,null,null,null,null,null,null,null,"pcph",{"$f":"IF(AND(Z3EBLShared=\"Yes\",Z3EBLlanes<2),ROUND(INDIRECT(\"EB\"&\"L_Master\")*(Z3EBLlanes/(Z3EBLlanes+1)),0),INDIRECT(\"EB\"&\"L_Master\"))","v":31},1,null,null,{"$f":"Z3NB+IF(Z3NSSplit,Z3EB+Z3WB,MAX(Z3EB,Z3WB))","v":778},null,null,null,null,null,null,null,null,null,null,{"$f":"INDIRECT(\"WB\"&\"L_Master\")","v":31},"pcph"]
[]
[null,null,null,null,null,null,null,null,null,null,null,null,null,null,null,null,null,null,null,null,null,null,null,null,null,null,null,null,null,null,null,null,null,null,null,null,null,null,null,null,null,null,null,null,null,null,null,null,null,null,null,null,null,null,null,null,null,null,null,null,null,null,null,null,null,null,null,null,null,null,null,null,null,null,null,null,null,null,null,null,null,null,null,null,null,null,null,null,"No"]
[null,null,null,null,null,null,null,null,null,null,null,null,null,null,null,null,null,null,null,null,null,null,null,null,null,null,null,null,null,null,null,null,null,null,null,null,null,null,null,null,null,null,null,null,null,null,null,null,null,null,null,null,null,null,null,null,null,null,null,null,null,null,null,null,null,null,null,null,null,"pcph",{"$f":"IF(Z4EBRShared=\"Yes\",ROUND(INDIRECT(\"EB\"&\"R_Master\")*(Z4EBRlanes/(Z4EBRlanes+1)),0),INDIRECT(\"EB\"&\"R_Master\"))","v":51},1,null,null,null,null,null,null,null,null,null,null,null,null,null,null,null,null,null,null,null,null,null,null,null,null,null,null,null,"pcph",{"$f":"(INDIRECT(\"EB\"&\"T_Master\")+INDIRECT(\"SB\"&\"L_Master\"))+(INDIRECT(\"EB\"&\"L_Master\")-Z3EBL)*IF(AND(Z3EBLShared=\"Yes\",Z3EBLlanes<1),LeftTurnFactor(INDIRECT(\"WB\"&\"T_Master\")+INDIRECT(\"WB\"&\"L_Master\")+INDIRECT(\"WB\"&\"R_Master\")/RTAF),1/LTAF)","v":235},1]
[]
[]
[null,null,null,null,null,null,null,null,null,null,null,null,null,null,null,null,null,null,null,null,null,null,null,null,null,null,null,null,null,null,null,null,null,null,null,null,null,null,null,null,null,null,null,null,null,null,null,null,null,null,null,null,null,null,null,null,null,null,null,null,null,null,null,null,null,"Shared\n?",null,null,null,null,null,null,null,null,null,null,null,null,null,null,null,null,null,null,null,null,null,null,null,null,null,null,null,null,null,null,null,null,null,null,null,null,null,null,null,1,null,null,1,null,null,1]
[null,null,null,null,null,null,null,null,null,null,null,null,null,null,null,null,null,null,null,null,null,null,null,null,null,null,null,null,null,null,null,null,null,null,null,null,null,null,null,null,null,null,null,null,null,null,null,null,null,null,null,null,null,null,null,null,null,null,null,null,null,null,null,null,null,null,null,null,null,null,null,null,null,null,null,null,null,null,null,null,null,null,null,null,null,null,null,null,null,null,null,null,null,null,null,null,null,null,null,null,null,null,null,null,null,{"$f":"IF(AND(Z3NBLShared=\"Yes\",Z3NBLlanes<2),ROUND(INDIRECT(\"NB\"&\"L_Master\")*(Z3NBLlanes/(Z3NBLlanes+1)),0),INDIRECT(\"NB\"&\"L_Master\"))","v":102},null,null,{"$f":"ROUND((INDIRECT(\"NB\"&\"T_Master\")+ROUND((INDIRECT(\"NB\"&\"R_Master\")-Z3NBR)/RTAF,0))+(INDIRECT(\"NB\"&\"L_Master\")-Z3NBL)*IF(AND(Z3NBLShared=\"Yes\",Z3NBLlanes<2),1/LTAF,1),0)","v":510},null,null,{"$f":"IF(Z3NBRShared=\"Yes\",ROUND(INDIRECT(\"NB\"&\"R_Master\")*(Z3NBRlanes/(Z3NBRlanes+1)),0),INDIRECT(\"NB\"&\"R_Master\"))","v":204}]
[null,null,null,null,null,null,null,null,null,null,null,null,null,null,null,null,null,null,null,null,null,null,null,null,null,null,null,null,null,null,null,null,null,null,null,null,null,null,null,null,null,null,null,null,null,null,null,null,null,null,null,null,null,null,null,null,null,null,null,null,null,null,null,null,null,{"$f":"IF(Z4EBRlanes=0,\"Yes\",\"No\")","v":"No"},null,null,null,null,null,null,null,null,null,null,null,null,null,null,null,null,null,null,null,null,null,null,null,null,null,null,null,null,null,null,null,null,null,null,null,null,null,null,null,"pcph",null,null,"pcph",null,null,"pcph"]
[]
[]
[]
[]
[null,null,null,null,null,null,null,null,null,null,null,null,null,null,null,null,null,null,null,null,null,null,null,null,null,null,null,null,null,null,null,null,null,null,null,null,null,null,null,null,null,null,null,null,null,null,null,null,null,null,null,null,null,null,null,null,null,null,null,null,null,null,null,null,null,null,null,null,null,null,null,null,null,null,null,null,null,null,null,null,null,null,null,null,null,null,null,null,null,null,null,null,null,null,null,null,null,null,null,null,null,null,null,null,null,"Shared\n?",null,null,null,null,null,"Shared\n?"]
[]
[null,null,null,null,null,null,null,null,null,null,null,null,null,null,null,null,null,null,null,null,null,null,null,null,null,null,null,null,null,null,null,null,null,null,null,null,null,null,null,null,null,null,null,null,null,null,null,null,null,null,null,null,null,null,null,null,null,null,null,null,null,null,null,null,null,null,null,null,null,null,null,null,null,null,null,null,null,null,null,null,null,null,null,null,null,null,null,null,null,null,null,null,null,null,null,null,null,null,null,null,null,null,null,null,null,{"$f":"IF(Z3NBLlanes=0,\"Yes\",\"No\")","v":"No"},null,null,null,null,null,{"$f":"IF(Z3NBRlanes=0,\"Yes\",\"No\")","v":"No"}]
[]
[null,null,null,null,null,null,null,null,null,null,null,null,null,null,null,null,null,null,null,null,null,null,null,null,null,null,null,null,null,null,null,null,null,null,null,null,null,null,null,null,null,null,null,null,null,null,null,null,null,null,null,null,null,null,null,null,null,null,null,null,null,null,null,null,null,null,null,null,null,null,null,null,null,null,null,null,null,null,null,null,null,null,null,null,null,null,null,null,null,null,null,null,null,null,{"$f":"\"EB Critical Vol\"","v":"EB Critical Vol"},null,null,null,null,null,null,null,null,null,{"$f":"\"NB Critical Vol\"","v":"NB Critical Vol"},null,null,null,null,null,null,null,null,null,{"$f":"\"WB Critical Vol\"","v":"WB Critical Vol"}]
[null,null,null,null,null,null,null,null,null,null,null,null,null,null,null,null,null,null,null,null,null,null,null,null,null,null,null,null,null,null,null,null,null,null,null,null,null,null,null,null,null,null,null,null,null,null,null,null,null,null,null,null,null,null,null,null,null,null,null,null,null,null,null,null,null,null,null,null,null,null,null,null,null,null,null,null,null,null,null,null,null,null,null,null,null,null,null,null,null,null,null,null,null,null,{"$f":"ROUND(IF(Z3NSSplit,MAX(IFERROR(Z3EBL/LTAF/Z3EBLlanes,0),IFERROR(Z3EBT/Z3EBTlanes,0)),IFERROR(Z3EBL/LTAF/Z3EBLlanes,0) +MAX(IFERROR((Z3WBT+Z3WBL)/Z3WBTlanes,0), MAX(0,IFERROR(Z3WBR/RTAF/Z3WBRlanes,0)))),0)","v":268},null,null,null,null,null,null,null,null,null,{"$f":"ROUND(IF(Z3EWSplit,MAX(IFERROR(Z3NBL/LTAF/Z3NBLlanes,0),IFERROR(Z3NBT/Z3NBTlanes,0),IFERROR(Z3NBR/RTAF/Z3NBRlanes,0)),IFERROR(Z3NBL/LTAF/Z3NBLlanes,0) +MAX(IFERROR(Z1EBT/Z1EBTlanes,0), MAX(0,IFERROR(Z1EBR/RTAF/Z1EBRlanes-IFERROR(Z3EBL/LTAF/Z3EBLlanes,0),0)))),0)","v":510},null,null,null,null,null,null,null,null,null,{"$f":"ROUND(IF(Z3NSSplit,MAX(IFERROR((Z3WBT+Z3WBL)/Z3WBTlanes,0),IFERROR(Z3WBR/RTAF/Z3WBRlanes,0)),IFERROR(Z3EBT/Z3EBTlanes,0)),0)","v":235}]
[]
[]
[null,null,null,null,null,null,null,null,null,null,null,null,null,null,null,null,null,null,null,null,null,null,null,null,null,null,null,null,null,null,null,null,null,null,null,null,null,null,null,null,null,null,null,null,null,null,null,null,null,null,null,null,null,null,null,null,null,null,null,null,null,null,null,null,null,null,null,null,null,null,null,null,null,null,null,null,null,null,null,null,null,null,null,null,null,null,null,null,null,null,null,null,null,null,null,null,null,null,null,null,null,null,null,null,null,null,null,null,null,null,null,null,null,"Zone 3"]
[null,null,null,null,null,null,null,null,null,null,null,null,null,null,null,null,null,null,null,null,null,null,null,null,null,null,null,null,null,null,null,null,null,null,null,null,null,null,null,null,null,null,null,null,null,null,null,null,null,null,null,null,null,null,null,null,null,null,null,null,null,null,null,null,null,null,null,null,null,null,null,null,null,null,null,null,null,null,null,null,null,null,null,null,null,null,null,null,null,null,null,null,null,null,null,null,null,null,null,null,null,null,null,null,null,null,null,null,null,null,null,null,null,"NS Split?",null,null,null,null,true]
[null,null,null,null,null,null,null,null,null,null,null,null,null,null,null,null,null,null,null,null,null,null,null,null,null,null,null,null,null,null,null,null,null,null,null,null,null,null,null,null,null,null,null,null,null,null,null,null,null,null,null,null,null,null,null,null,null,null,null,null,null,null,null,null,null,null,null,null,null,null,null,null,null,null,null,null,null,null,null,null,null,null,null,null,null,null,null,null,null,null,null,null,null,null,null,null,null,null,null,null,null,null,null,null,null,null,null,null,null,null,null,null,null,"EW Split?",null,null,null,null,{"$f":"IF((AND(Z3EBLShared=\"Yes\",Z3EBLlanes>0)),TRUE,FALSE)","v":false}]
[]
[]
[]
[]
[]
[]
[]
[]
[]
[]
[]
[]
[null,null,null,null,null,null,null,null,null,null,null,null,null,"Note: This diagram does not reflect the actual lane configuration of the Intersection"]

{"sheet":"Split Intersection E-W","index":41,"n_rows":79,"n_cols":112,"rows_kept":79,"cut":false,"hidden":false,"merged":[[23,111,23,118],[24,111,24,118],[39,98,39,105],[40,98,40,105],[78,13,78,46],[33,12,33,16],[30,7,32,10],[30,11,32,11],[30,12,32,15],[30,16,32,16],[27,7,29,15],[27,16,29,16],[45,88,48,90],[45,91,48,93],[55,78,56,80],[61,78,62,80],[27,41,29,49],[27,50,29,50],[30,41,32,44],[30,45,32,45],[30,46,32,49],[33,46,33,50],[55,81,57,84],[55,85,57,85],[0,1,1,60],[0,63,1,122],[2,1,3,60],[2,63,3,122],[5,36,5,38],[5,42,5,44],[15,44,17,57],[15,58,16,59],[6,2,7,9],[6,10,7,35],[10,2,11,9],[10,10,11,35],[10,36,13,47],[10,48,13,59],[12,2,13,9],[12,10,13,35],[6,36,7,59],[8,2,9,9],[8,10,9,35],[10,92,10,99],[8,36,9,41],[8,42,9,47],[8,48,9,53],[8,54,9,59],[12,88,15,90],[25,90,27,97],[31,94,31,96],[31,97,31,99],[32,94,32,96],[32,97,32,99],[30,50,32,50],[9,92,9,99],[12,91,15,93],[9,88,10,90],[23,77,23,81],[23,82,23,85],[11,88,11,90],[24,77,24,81],[24,82,24,85],[12,94,15,96],[16,88,16,90],[16,91,16,93],[16,94,16,96],[17,88,17,90],[17,91,17,93],[17,94,17,96],[18,88,18,90],[18,91,18,96],[19,100,21,100],[19,101,21,101],[19,102,21,102],[19,103,21,106],[19,107,20,109],[21,107,21,109],[22,90,24,97],[22,100,24,100],[22,101,24,101],[22,102,24,102],[22,103,24,106],[25,100,27,100],[25,101,27,101],[25,102,27,102],[25,103,27,106],[25,107,26,109],[27,107,27,109],[29,89,30,98],[38,94,38,96],[39,94,40,96],[33,94,33,96],[33,97,33,99],[34,94,37,96],[34,97,37,99],[42,91,43,93],[44,91,44,93],[48,96,48,103],[57,102,57,106],[57,107,57,110],[58,102,58,106],[58,107,58,110],[49,88,49,90],[49,91,49,93],[50,88,50,90],[50,91,50,93],[51,88,51,90],[51,91,51,93],[49,96,49,103],[55,87,57,87],[55,90,57,97],[57,78,57,80],[58,81,60,84],[58,85,60,85],[58,86,60,86],[58,87,60,87],[58,90,60,97],[59,68,59,75],[60,68,60,75],[55,86,57,86],[61,81,63,84],[61,85,63,85],[61,86,63,86],[61,87,63,87],[62,89,63,98],[63,78,63,80],[64,91,64,96],[64,97,64,99],[71,97,71,99],[72,97,73,99],[65,91,65,93],[65,94,65,96],[65,97,65,99],[66,91,66,93],[66,94,66,96],[66,97,66,99],[67,91,70,93],[67,94,70,96],[67,97,70,99],[72,88,72,95],[73,88,73,95]]}
[null,"Split Intersection (E-W)",null,null,null,null,null,null,null,null,null,null,null,null,null,null,null,null,null,null,null,null,null,null,null,null,null,null,null,null,null,null,null,null,null,null,null,null,null,null,null,null,null,null,null,null,null,null,null,null,null,null,null,null,null,null,null,null,null,null,null,null,null,"Split Intersection (E-W)"]
[]
[null,"Design and results",null,null,null,null,null,null,null,null,null,null,null,null,null,null,null,null,null,null,null,null,null,null,null,null,null,null,null,null,null,null,null,null,null,null,null,null,null,null,null,null,null,null,null,null,null,null,null,null,null,null,null,null,null,null,null,null,null,null,null,null,null,"Data Input and Configuration (Enter the lane configurations in the yellow cells)"]
[]
[]
[]
[null,null,"Project Name:",null,null,null,null,null,null,null,{"$f":"P_Name","v":"Cap-X Sample Street"},null,null,null,null,null,null,null,null,null,null,null,null,null,null,null,null,null,null,null,null,null,null,null,null,null,"Volume-to-Capacity Ratio"]
[]
[null,null,"Project Number:",null,null,null,null,null,null,null,{"$f":"P_Number","v":10000},null,null,null,null,null,null,null,null,null,null,null,null,null,null,null,null,null,null,null,null,null,null,null,null,null,"< 0.750",null,null,null,null,null,"0.750 - 0.875",null,null,null,null,null,"0.875 - 1.00",null,null,null,null,null,"≥ 1.00"]
[null,null,null,null,null,null,null,null,null,null,null,null,null,null,null,null,null,null,null,null,null,null,null,null,null,null,null,null,null,null,null,null,null,null,null,null,null,null,null,null,null,null,null,null,null,null,null,null,null,null,null,null,null,null,null,null,null,null,null,null,null,null,null,null,null,null,null,null,null,null,null,null,null,null,null,null,null,null,null,null,null,null,null,null,null,null,null,null,"Shared\n?",null,null,null,{"$f":"\"SB Critical Vol\"","v":"SB Critical Vol"}]
[null,null,"Location",null,null,null,null,null,null,null,{"$f":"Location","v":"Anywhere, USA"},null,null,null,null,null,null,null,null,null,null,null,null,null,null,null,null,null,null,null,null,null,null,null,null,null,"VOLUME / CAPACITY RATIO:",null,null,null,null,null,null,null,null,null,null,null,{"$f":"H31","v":0.43},null,null,null,null,null,null,null,null,null,null,null,null,null,null,null,null,null,null,null,null,null,null,null,null,null,null,null,null,null,null,null,null,null,null,null,null,null,null,null,null,null,null,null,{"$f":"ROUND(IF(Z1NSSplit,MAX(IFERROR((Z1SBT+Z1SBL)/Z1SBTlanes,0),IFERROR(Z1SBR/RTAF/Z1SBRlanes,0)),IFERROR(Z1NBT/Z1NBTlanes,0)),0)","v":541}]
[null,null,null,null,null,null,null,null,null,null,null,null,null,null,null,null,null,null,null,null,null,null,null,null,null,null,null,null,null,null,null,null,null,null,null,null,null,null,null,null,null,null,null,null,null,null,null,null,null,null,null,null,null,null,null,null,null,null,null,null,null,null,null,null,null,null,null,null,null,null,null,null,null,null,null,null,null,null,null,null,null,null,null,null,null,null,null,null,{"$f":"IF(Z1SBRlanes=0,\"Yes\",\"No\")","v":"No"}]
[null,null,"Date",null,null,null,null,null,null,null,{"$f":"Date","v":"2017 AM"}]
[]
[]
[null,null,null,null,null,null,null,null,null,null,null,null,null,null,null,null,null,null,null,null,null,null,null,null,null,null,null,null,null,null,null,null,null,null,null,null,null,null,null,null,null,null,null,null,"Multimodal Capacity Adjustment Factor",null,null,null,null,null,null,null,null,null,null,null,null,null,{"$f":"IF(Multimodal=1,1,IF(MAX(Z1SBTlanes,Z1WBTlanes,Z2EBTlanes,Z2NBTlanes)<3,1,IF(MAX(Z1SBTlanes,Z1WBTlanes,Z2EBTlanes,Z2NBTlanes)<4,0.9,0.8)))","v":1}]
[null,null,null,null,null,null,null,null,null,null,null,null,null,null,null,null,null,null,null,null,null,null,null,null,null,null,null,null,null,null,null,null,null,null,null,null,null,null,null,null,null,null,null,null,null,null,null,null,null,null,null,null,null,null,null,null,null,null,null,null,null,null,null,null,null,null,null,null,null,null,null,null,null,null,null,null,null,null,null,null,null,null,null,null,null,null,null,null,"pcph",null,null,"pcph",null,null,"pcph"]
[null,null,null,null,null,null,null,null,null,null,null,null,null,null,null,null,null,null,null,null,null,null,null,null,null,null,null,null,null,null,null,null,null,null,null,null,null,null,null,null,null,null,null,null,null,null,null,null,null,null,null,null,null,null,null,null,null,null,null,null,null,null,null,null,null,null,null,null,null,null,null,null,null,null,null,null,null,null,null,null,null,null,null,null,null,null,null,null,{"$f":"IF(Z1SBRShared=\"Yes\",ROUND(INDIRECT(\"SB\"&\"R_Master\")*(Z1SBRlanes/(Z1SBRlanes+1)),0),INDIRECT(\"SB\"&\"R_Master\"))","v":51},null,null,{"$f":"INDIRECT(\"SB\"&\"T_Master\")+ROUND((INDIRECT(\"SB\"&\"R_Master\")-Z1SBR)/RTAF,0)","v":204},null,null,{"$f":"INDIRECT(\"SB\"&\"L_Master\")","v":31}]
[null,null,null,null,null,null,null,null,null,null,null,null,null,null,null,null,null,null,null,null,null,null,null,null,null,null,null,null,null,null,null,null,null,null,null,null,null,null,null,null,null,null,null,null,null,null,null,null,null,null,null,null,null,null,null,null,null,null,null,null,null,null,null,null,null,null,null,null,null,null,null,null,null,null,null,null,null,null,null,null,null,null,null,null,null,null,null,null,1,null,null,1]
[null,null,null,null,null,null,null,null,null,null,null,null,null,null,null,null,null,null,null,null,null,null,null,null,null,null,null,null,null,null,null,null,null,null,null,null,null,null,null,null,null,null,null,null,null,null,null,null,null,null,null,null,null,null,null,null,null,null,null,null,null,null,null,null,null,null,null,null,null,null,null,null,null,null,null,null,null,null,null,null,null,null,null,null,null,null,null,null,null,null,null,null,null,null,null,null,null,null,null,null,1,{"$f":"IF(Z1WBRShared=\"Yes\",ROUND(INDIRECT(\"WB\"&\"R_Master\")*(Z1WBRlanes/(Z1WBRlanes+1)),0),INDIRECT(\"WB\"&\"R_Master\"))","v":51},"pcph",null,null,null,null,"Shared\n?"]
[]
[null,null,null,null,null,null,null,null,null,null,null,null,null,null,null,null,null,null,null,null,null,null,null,null,null,null,null,null,null,null,null,null,null,null,null,null,null,null,null,null,null,null,null,null,null,null,null,null,null,null,null,null,null,null,null,null,null,null,null,null,null,null,null,null,null,null,null,null,null,null,null,null,null,null,null,null,null,null,null,null,null,null,null,null,null,null,null,null,null,null,null,null,null,null,null,null,null,null,null,null,null,null,null,null,null,null,null,{"$f":"IF(Z1WBRlanes=0,\"Yes\",\"No\")","v":"No"}]
[null,null,null,null,null,null,null,null,null,null,null,null,null,null,null,null,null,null,null,null,null,null,null,null,null,null,null,null,null,null,null,null,null,null,null,null,null,null,null,null,null,null,null,null,null,null,null,null,null,null,null,null,null,null,null,null,null,null,null,null,null,null,null,null,null,null,null,null,null,null,null,null,null,null,null,null,null,null,null,null,null,null,null,null,null,null,null,null,null,null,null,null,null,null,null,null,null,null,null,null,1,{"$f":"ROUND((INDIRECT(\"WB\"&\"T_Master\")+ROUND((INDIRECT(\"WB\"&\"R_Master\")-Z1WBR)/RTAF,0))+(INDIRECT(\"WB\"&\"L_Master\")-Z1WBL)*IF(AND(Z1WBLShared=\"Yes\",Z1WBLlanes<2),1/LTAF,1),0)","v":204},"pcph"]
[null,null,null,null,null,null,null,null,null,null,null,null,null,null,null,null,null,null,null,null,null,null,null,null,null,null,null,null,null,null,null,null,null,null,null,null,null,null,null,null,null,null,null,null,null,null,null,null,null,null,null,null,null,null,null,null,null,null,null,null,null,null,null,null,null,null,null,null,null,null,null,null,null,null,null,null,null,"EW Split?",null,null,null,null,true,null,null,null,null,null,null,null,null,null,null,null,null,null,null,null,null,null,null,null,null,null,null,null,null,null,null,null,null,{"$f":"\"WB Critical Vol\"","v":"WB Critical Vol"}]
[null,null,null,null,null,null,null,null,null,null,null,null,null,null,null,null,null,null,null,null,null,null,null,null,null,null,null,null,null,null,null,null,null,null,null,null,null,null,null,null,null,null,null,null,null,null,null,null,null,null,null,null,null,null,null,null,null,null,null,null,null,null,null,null,null,null,null,null,null,null,null,null,null,null,null,null,null,"NS Split?",null,null,null,null,{"$f":"IF((AND(Z1NBLShared=\"Yes\",Z1NBLlanes>0)),TRUE,FALSE)","v":false},null,null,null,null,null,null,null,null,null,null,null,null,null,null,null,null,null,null,null,null,null,null,null,null,null,null,null,null,{"$f":"ROUND(IF(Z1EWSplit,MAX(IFERROR(Z1WBL/LTAF/Z1WBLlanes,0),IFERROR(Z1WBT/Z1WBTlanes,0),IFERROR(Z1WBR/RTAF/Z1WBRlanes,0)),IFERROR(Z1WBL/LTAF/Z1WBLlanes,0) +MAX(IFERROR(Z1EBT/Z1EBTlanes,0), MAX(0,IFERROR(Z1EBR/RTAF/Z1EBRlanes-IFERROR(Z1NBL/LTAF/Z1NBLlanes,0),0)))),0)","v":204}]
[null,null,null,null,null,null,null,null,null,null,null,null,null,null,null,null,null,null,null,null,null,null,null,null,null,null,null,null,null,null,null,null,null,null,null,null,null,null,null,null,null,null,null,null,null,null,null,null,null,null,null,null,null,null,null,null,null,null,null,null,null,null,null,null,null,null,null,null,null,null,null,null,null,null,null,null,null,null,null,null,null,null,null,null,null,null,null,null,null,null,{"$f":"Z1WB+IF(Z1NSSplit,Z1NB+Z1SB,MAX(Z1NB,Z1SB))","v":745},null,null,null,null,null,null,null,null,null,1,{"$f":"IF(AND(Z1WBLShared=\"Yes\",Z1WBLlanes<2),ROUND(INDIRECT(\"WB\"&\"L_Master\")*(Z1WBLlanes/(Z1WBLlanes+1)),0),INDIRECT(\"WB\"&\"L_Master\"))","v":31},"pcph",null,null,null,null,"Shared\n?"]
[]
[null,null,null,null,null,null,null,{"$f":"CM26","v":745},null,null,null,null,null,null,null,null,"CLV",null,null,null,null,null,null,null,null,null,null,null,null,null,null,null,null,null,null,null,null,null,null,null,null,{"$f":"CM59","v":849},null,null,null,null,null,null,null,null,"CLV",null,null,null,null,null,null,null,null,null,null,null,null,null,null,null,null,null,null,null,null,null,null,null,null,null,null,null,null,null,null,null,null,null,null,null,null,null,null,null,null,null,null,null,null,null,null,null,null,null,null,null,null,null,null,null,null,{"$f":"IF(Z1WBLlanes=0,\"Yes\",\"No\")","v":"No"}]
[]
[]
[null,null,null,null,null,null,null,{"$f":"ROUND(H28/M31,2)","v":0.43},null,null,null,"V/C",{"$f":"BG16*CLV_Limit_3","v":1750},null,null,null,"MAX",null,null,null,null,null,null,null,null,null,null,null,null,null,null,null,null,null,null,null,null,null,null,null,null,{"$f":"ROUND(AP28/AU31,2)","v":0.49},null,null,null,"V/C",{"$f":"BG16*CLV_Limit_3","v":1750},null,null,null,"MAX"]
[null,null,null,null,null,null,null,null,null,null,null,null,null,null,null,null,null,null,null,null,null,null,null,null,null,null,null,null,null,null,null,null,null,null,null,null,null,null,null,null,null,null,null,null,null,null,null,null,null,null,null,null,null,null,null,null,null,null,null,null,null,null,null,null,null,null,null,null,null,null,null,null,null,null,null,null,null,null,null,null,null,null,null,null,null,null,null,null,null,null,null,null,null,null,1,null,null,1]
[null,null,null,null,null,null,null,null,null,null,null,null,null,null,null,null,null,null,null,null,null,null,null,null,null,null,null,null,null,null,null,null,null,null,null,null,null,null,null,null,null,null,null,null,null,null,null,null,null,null,null,null,null,null,null,null,null,null,null,null,null,null,null,null,null,null,null,null,null,null,null,null,null,null,null,null,null,null,null,null,null,null,null,null,null,null,null,null,null,null,null,null,null,null,{"$f":"IF(AND(Z1NBLShared=\"Yes\",Z1NBLlanes<2),ROUND(INDIRECT(\"NB\"&\"L_Master\")*(Z1NBLlanes/(Z1NBLlanes+1)),0),INDIRECT(\"NB\"&\"L_Master\"))","v":102},null,null,{"$f":"(INDIRECT(\"NB\"&\"T_Master\")+INDIRECT(\"EB\"&\"L_Master\"))+(INDIRECT(\"NB\"&\"L_Master\")-Z1NBL)*IF(AND(Z1NBLShared=\"Yes\",Z1NBLlanes<1),LeftTurnFactor(INDIRECT(\"SB\"&\"T_Master\")+INDIRECT(\"SB\"&\"L_Master\")+INDIRECT(\"SB\"&\"R_Master\")/RTAF),1/LTAF)","v":541}]
[null,null,null,null,null,null,null,null,null,null,null,null,"3 Phases",null,null,null,null,null,null,null,null,null,null,null,null,null,null,null,null,null,null,null,null,null,null,null,null,null,null,null,null,null,null,null,null,null,"3 Phases",null,null,null,null,null,null,null,null,null,null,null,null,null,null,null,null,null,null,null,null,null,null,null,null,null,null,null,null,null,null,null,null,null,null,null,null,null,null,null,null,null,null,null,null,null,null,null,"pcph",null,null,"pcph"]
[]
[]
[]
[]
[null,null,null,null,null,null,null,null,null,null,null,null,null,null,null,null,null,null,null,null,null,null,null,null,null,null,null,null,null,null,null,null,null,null,null,null,null,null,null,null,null,null,null,null,null,null,null,null,null,null,null,null,null,null,null,null,null,null,null,null,null,null,null,null,null,null,null,null,null,null,null,null,null,null,null,null,null,null,null,null,null,null,null,null,null,null,null,null,null,null,null,null,null,null,"No"]
[null,null,null,null,null,null,null,null,null,null,null,null,null,null,null,null,null,null,null,null,null,null,null,null,null,null,null,null,null,null,null,null,null,null,null,null,null,null,null,null,null,null,null,null,null,null,null,null,null,null,null,null,null,null,null,null,null,null,null,null,null,null,null,null,null,null,null,null,null,null,null,null,null,null,null,null,null,null,null,null,null,null,null,null,null,null,null,null,null,null,null,null,null,null,"Shared\n?",null,null,null,{"$f":"\"NB Critical Vol\"","v":"NB Critical Vol"}]
[null,null,null,null,null,null,null,null,null,null,null,null,null,null,null,null,null,null,null,null,null,null,null,null,null,null,null,null,null,null,null,null,null,null,null,null,null,null,null,null,null,null,null,null,null,null,null,null,null,null,null,null,null,null,null,null,null,null,null,null,null,null,null,null,null,null,null,null,null,null,null,null,null,null,null,null,null,null,null,null,null,null,null,null,null,null,null,null,null,null,null,null,null,null,null,null,null,null,{"$f":"ROUND(IF(Z1NSSplit,MAX(IFERROR(Z1NBL/LTAF/Z1NBLlanes,0),IFERROR(Z1NBT/Z1NBTlanes,0)),IFERROR(Z1NBL/LTAF/Z1NBLlanes,0) +MAX(IFERROR((Z1SBT+Z1SBL)/Z1SBTlanes,0), MAX(0,IFERROR(Z1SBR/RTAF/Z1SBRlanes,0)))),0)","v":342}]
[]
[null,null,null,null,null,null,null,null,null,null,null,null,null,null,null,null,null,null,null,null,null,null,null,null,null,null,null,null,null,null,null,null,null,null,null,null,null,null,null,null,null,null,null,null,null,null,null,null,null,null,null,null,null,null,null,null,null,null,null,null,null,null,null,null,null,null,null,null,null,null,null,null,null,null,null,null,null,null,null,null,null,null,null,null,null,null,null,null,null,null,null,"Shared\n?"]
[]
[null,null,null,null,null,null,null,null,null,null,null,null,null,null,null,null,null,null,null,null,null,null,null,null,null,null,null,null,null,null,null,null,null,null,null,null,null,null,null,null,null,null,null,null,null,null,null,null,null,null,null,null,null,null,null,null,null,null,null,null,null,null,null,null,null,null,null,null,null,null,null,null,null,null,null,null,null,null,null,null,null,null,null,null,null,null,null,null,null,null,null,"No"]
[]
[]
[]
[null,null,null,null,null,null,null,null,null,null,null,null,null,null,null,null,null,null,null,null,null,null,null,null,null,null,null,null,null,null,null,null,null,null,null,null,null,null,null,null,null,null,null,null,null,null,null,null,null,null,null,null,null,null,null,null,null,null,null,null,null,null,null,null,null,null,null,null,null,null,null,null,null,null,null,null,null,null,null,null,null,null,null,null,null,null,null,null,null,null,null,null,null,null,null,null,{"$f":"\"SB\"&\" Critical Vol\"","v":"SB Critical Vol"}]
[null,null,null,null,null,null,null,null,null,null,null,null,null,null,null,null,null,null,null,null,null,null,null,null,null,null,null,null,null,null,null,null,null,null,null,null,null,null,null,null,null,null,null,null,null,null,null,null,null,null,null,null,null,null,null,null,null,null,null,null,null,null,null,null,null,null,null,null,null,null,null,null,null,null,null,null,null,null,null,null,null,null,null,null,null,null,null,null,"pcph",null,null,"pcph",null,null,null,null,{"$f":"ROUND(IF(Z2NSSplit,MAX(IFERROR(Z2SBL/LTAF/Z2SBLlanes,0),IFERROR(Z2SBT/Z2SBTlanes,0)),IFERROR(Z2SBL/LTAF/Z2SBLlanes,0) +MAX(IFERROR((Z2NBT+Z2NBL)/Z2NBTlanes,0), MAX(0,IFERROR(Z2NBR/RTAF/Z2NBRlanes,0)))),0)","v":645}]
[null,null,null,null,null,null,null,null,null,null,null,null,null,null,null,null,null,null,null,null,null,null,null,null,null,null,null,null,null,null,null,null,null,null,null,null,null,null,null,null,null,null,null,null,null,null,null,null,null,null,null,null,null,null,null,null,null,null,null,null,null,null,null,null,null,null,null,null,null,null,null,null,null,null,null,null,null,null,null,null,null,null,null,null,null,null,null,null,{"$f":"(INDIRECT(\"SB\"&\"T_Master\")+INDIRECT(\"WB\"&\"L_Master\"))+(INDIRECT(\"SB\"&\"L_Master\")-Z2SBL)*IF(AND(Z2SBLShared=\"Yes\",Z2SBLlanes<1),LeftTurnFactor(INDIRECT(\"NB\"&\"T_Master\")+INDIRECT(\"NB\"&\"L_Master\")+INDIRECT(\"NB\"&\"R_Master\")/RTAF),1/LTAF)","v":235},null,null,{"$f":"IF(AND(Z2SBLShared=\"Yes\",Z2SBLlanes<2),ROUND(INDIRECT(\"SB\"&\"L_Master\")*(Z2SBLlanes/(Z2SBLlanes+1)),0),INDIRECT(\"SB\"&\"L_Master\"))","v":31}]
[null,null,null,null,null,null,null,null,null,null,null,null,null,null,null,null,null,null,null,null,null,null,null,null,null,null,null,null,null,null,null,null,null,null,null,null,null,null,null,null,null,null,null,null,null,null,null,null,null,null,null,null,null,null,null,null,null,null,null,null,null,null,null,null,null,null,null,null,null,null,null,null,null,null,null,null,null,null,null,null,null,null,null,null,null,null,null,null,1,null,null,1]
[]
[]
[]
[null,null,null,null,null,null,null,null,null,null,null,null,null,null,null,null,null,null,null,null,null,null,null,null,null,null,null,null,null,null,null,null,null,null,null,null,null,null,null,null,null,null,null,null,null,null,null,null,null,null,null,null,null,null,null,null,null,null,null,null,null,null,null,null,null,null,null,null,null,null,null,null,null,null,null,null,null,null,"Shared\n?",null,null,null,null,null,null,"pcph",{"$f":"IF(AND(Z2EBLShared=\"Yes\",Z2EBLlanes<2),ROUND(INDIRECT(\"EB\"&\"L_Master\")*(Z2EBLlanes/(Z2EBLlanes+1)),0),INDIRECT(\"EB\"&\"L_Master\"))","v":31},1]
[]
[null,null,null,null,null,null,null,null,null,null,null,null,null,null,null,null,null,null,null,null,null,null,null,null,null,null,null,null,null,null,null,null,null,null,null,null,null,null,null,null,null,null,null,null,null,null,null,null,null,null,null,null,null,null,null,null,null,null,null,null,null,null,null,null,null,null,null,null,null,null,null,null,null,null,null,null,null,null,{"$f":"IF(Z2EBLlanes=0,\"Yes\",\"No\")","v":"No"},null,null,null,null,null,null,null,null,null,null,null,null,null,null,null,null,null,null,null,null,null,null,null,"EW Split?",null,null,null,null,true]
[null,null,null,null,null,null,null,null,null,null,null,null,null,null,null,null,null,null,null,null,null,null,null,null,null,null,null,null,null,null,null,null,null,null,null,null,null,null,null,null,null,null,null,null,null,null,null,null,null,null,null,null,null,null,null,null,null,null,null,null,null,null,null,null,null,null,null,null,null,null,null,null,null,null,null,null,null,null,null,null,null,null,null,null,null,"pcph",{"$f":"ROUND((INDIRECT(\"EB\"&\"T_Master\")+ROUND((INDIRECT(\"EB\"&\"R_Master\")-Z2EBR)/RTAF,0))+(INDIRECT(\"EB\"&\"L_Master\")-Z2EBL)*IF(AND(Z2EBLShared=\"Yes\",Z2EBLlanes<2),1/LTAF,1),0)","v":204},1,null,null,{"$f":"Z2EB+IF(Z2NSSplit,Z2NB+Z2SB,MAX(Z2NB,Z2SB))","v":849},null,null,null,null,null,null,null,null,null,null,null,"NS Split?",null,null,null,null,{"$f":"IF(AND(Z2SBLShared=\"Yes\",Z2SBLlanes>0),TRUE,FALSE)","v":false}]
[null,null,null,null,null,null,null,null,null,null,null,null,null,null,null,null,null,null,null,null,null,null,null,null,null,null,null,null,null,null,null,null,null,null,null,null,null,null,null,null,null,null,null,null,null,null,null,null,null,null,null,null,null,null,null,null,null,null,null,null,null,null,null,null,null,null,null,null,{"$f":"\"EB\"&\" Critical Vol\"","v":"EB Critical Vol"}]
[null,null,null,null,null,null,null,null,null,null,null,null,null,null,null,null,null,null,null,null,null,null,null,null,null,null,null,null,null,null,null,null,null,null,null,null,null,null,null,null,null,null,null,null,null,null,null,null,null,null,null,null,null,null,null,null,null,null,null,null,null,null,null,null,null,null,null,null,{"$f":"ROUND(IF(Z2EWSplit,MAX(IFERROR(Z2EBL/LTAF/Z2EBLlanes,0),IFERROR(Z2EBT/Z2EBTlanes,0),IFERROR(Z2EBR/RTAF/Z2EBRlanes,0)),IFERROR(Z2EBL/LTAF/Z2EBLlanes,0) +MAX(IFERROR(Z2WBT/Z2WBTlanes,0), MAX(0,IFERROR(Z2WBR/RTAF/Z2WBRlanes-IFERROR(Z2SBL/LTAF/Z2SBLlanes,0),0)))),0)","v":204}]
[null,null,null,null,null,null,null,null,null,null,null,null,null,null,null,null,null,null,null,null,null,null,null,null,null,null,null,null,null,null,null,null,null,null,null,null,null,null,null,null,null,null,null,null,null,null,null,null,null,null,null,null,null,null,null,null,null,null,null,null,null,null,null,null,null,null,null,null,null,null,null,null,null,null,null,null,null,null,"Shared\n?",null,null,null,null,null,null,"pcph",{"$f":"IF(Z2EBRShared=\"Yes\",ROUND(INDIRECT(\"EB\"&\"R_Master\")*(Z2EBRlanes/(Z2EBRlanes+1)),0),INDIRECT(\"EB\"&\"R_Master\"))","v":51},1]
[]
[null,null,null,null,null,null,null,null,null,null,null,null,null,null,null,null,null,null,null,null,null,null,null,null,null,null,null,null,null,null,null,null,null,null,null,null,null,null,null,null,null,null,null,null,null,null,null,null,null,null,null,null,null,null,null,null,null,null,null,null,null,null,null,null,null,null,null,null,null,null,null,null,null,null,null,null,null,null,{"$f":"IF(Z2EBRlanes=0,\"Yes\",\"No\")","v":"No"}]
[null,null,null,null,null,null,null,null,null,null,null,null,null,null,null,null,null,null,null,null,null,null,null,null,null,null,null,null,null,null,null,null,null,null,null,null,null,null,null,null,null,null,null,null,null,null,null,null,null,null,null,null,null,null,null,null,null,null,null,null,null,null,null,null,null,null,null,null,null,null,null,null,null,null,null,null,null,null,null,null,null,null,null,null,null,null,null,null,null,null,null,1,null,null,null,null,null,1]
[null,null,null,null,null,null,null,null,null,null,null,null,null,null,null,null,null,null,null,null,null,null,null,null,null,null,null,null,null,null,null,null,null,null,null,null,null,null,null,null,null,null,null,null,null,null,null,null,null,null,null,null,null,null,null,null,null,null,null,null,null,null,null,null,null,null,null,null,null,null,null,null,null,null,null,null,null,null,null,null,null,null,null,null,null,null,null,null,null,null,null,{"$f":"INDIRECT(\"NB\"&\"L_Master\")","v":102},null,null,{"$f":"INDIRECT(\"NB\"&\"T_Master\")+ROUND((INDIRECT(\"NB\"&\"R_Master\")-Z2NBR)/RTAF,0)","v":510},null,null,{"$f":"IF(Z2NBRShared=\"Yes\",ROUND(INDIRECT(\"NB\"&\"R_Master\")*(Z2NBRlanes/(Z2NBRlanes+1)),0),INDIRECT(\"NB\"&\"R_Master\"))","v":204}]
[null,null,null,null,null,null,null,null,null,null,null,null,null,null,null,null,null,null,null,null,null,null,null,null,null,null,null,null,null,null,null,null,null,null,null,null,null,null,null,null,null,null,null,null,null,null,null,null,null,null,null,null,null,null,null,null,null,null,null,null,null,null,null,null,null,null,null,null,null,null,null,null,null,null,null,null,null,null,null,null,null,null,null,null,null,null,null,null,null,null,null,"pcph",null,null,"pcph",null,null,"pcph"]
[]
[]
[]
[]
[null,null,null,null,null,null,null,null,null,null,null,null,null,null,null,null,null,null,null,null,null,null,null,null,null,null,null,null,null,null,null,null,null,null,null,null,null,null,null,null,null,null,null,null,null,null,null,null,null,null,null,null,null,null,null,null,null,null,null,null,null,null,null,null,null,null,null,null,null,null,null,null,null,null,null,null,null,null,null,null,null,null,null,null,null,null,null,null,null,null,null,null,null,null,null,null,null,{"$f":"IF(Z2NBRlanes=0,\"Yes\",\"No\")","v":"No"}]
[null,null,null,null,null,null,null,null,null,null,null,null,null,null,null,null,null,null,null,null,null,null,null,null,null,null,null,null,null,null,null,null,null,null,null,null,null,null,null,null,null,null,null,null,null,null,null,null,null,null,null,null,null,null,null,null,null,null,null,null,null,null,null,null,null,null,null,null,null,null,null,null,null,null,null,null,null,null,null,null,null,null,null,null,null,null,null,null,{"$f":"\"NB\"&\" Critical Vol\"","v":"NB Critical Vol"},null,null,null,null,null,null,null,null,"Shared\n?"]
[null,null,null,null,null,null,null,null,null,null,null,null,null,null,null,null,null,null,null,null,null,null,null,null,null,null,null,null,null,null,null,null,null,null,null,null,null,null,null,null,null,null,null,null,null,null,null,null,null,null,null,null,null,null,null,null,null,null,null,null,null,null,null,null,null,null,null,null,null,null,null,null,null,null,null,null,null,null,null,null,null,null,null,null,null,null,null,null,{"$f":"ROUND(IF(Z2NSSplit,MAX(IFERROR((Z2NBT+Z2NBL)/Z2NBTlanes,0),IFERROR(Z2NBR/RTAF/Z2NBRlanes,0)),IFERROR(Z2SBT/Z2SBTlanes,0)),0)","v":235}]
[]
[]
[]
[]
[null,null,null,null,null,null,null,null,null,null,null,null,null,"Note: This diagram does not reflect the actual lane configuration of the Intersection"]

{"sheet":"Echelon N-S","index":42,"n_rows":74,"n_cols":116,"rows_kept":74,"cut":false,"hidden":false,"merged":[[73,13,73,46],[44,90,44,92],[52,92,54,95],[50,90,51,92],[50,96,51,98],[27,43,29,51],[27,52,29,52],[30,43,32,46],[30,47,32,47],[30,48,32,51],[30,52,32,52],[33,48,33,52],[42,90,42,92],[56,89,56,95],[57,90,57,92],[59,13,59,17],[33,80,35,83],[33,84,35,84],[29,87,29,89],[29,90,29,92],[33,88,34,97],[49,90,49,92],[49,96,49,98],[42,93,42,95],[56,8,58,11],[56,12,58,12],[56,13,58,16],[56,17,58,17],[53,8,55,16],[53,17,55,17],[33,85,35,85],[33,77,34,79],[33,86,35,86],[39,80,41,83],[39,84,41,84],[39,85,41,85],[36,76,38,79],[42,96,42,98],[43,90,43,92],[43,93,43,95],[43,96,43,98],[44,93,44,95],[44,96,44,98],[45,90,48,92],[45,93,48,95],[45,96,48,98],[20,93,21,95],[23,87,26,89],[23,90,26,92],[23,93,26,95],[10,2,11,9],[10,10,11,35],[10,36,13,47],[10,48,13,59],[12,2,13,9],[12,10,13,35],[15,44,17,57],[15,58,16,59],[20,87,21,89],[22,87,22,89],[22,93,22,95],[0,1,1,60],[0,63,1,122],[2,1,3,60],[5,36,5,38],[5,42,5,44],[2,63,3,122],[18,101,18,105],[18,106,18,109],[6,2,7,9],[6,10,7,35],[15,91,15,97],[16,93,16,95],[17,90,19,93],[6,36,7,59],[8,2,9,9],[8,10,9,35],[8,36,9,41],[8,42,9,47],[8,48,9,53],[8,54,9,59],[17,101,17,105],[17,106,17,109],[30,106,31,108],[31,88,32,97],[32,106,32,108],[27,93,27,95],[28,93,28,95],[30,99,32,99],[30,100,32,100],[30,101,32,101],[30,102,32,105],[27,87,27,89],[27,90,27,92],[28,87,28,89],[28,90,28,92],[29,93,29,95],[33,106,35,109],[34,67,34,73],[34,113,34,119],[35,69,35,71],[35,77,35,79],[35,115,35,117],[33,99,35,99],[33,100,35,100],[33,101,35,101],[33,102,35,105],[36,106,37,108],[37,88,38,97],[38,106,38,108],[39,77,40,79],[39,88,40,97],[41,77,41,79],[36,80,38,83],[36,84,38,84],[36,85,38,85],[36,86,38,86],[36,100,38,100],[36,101,38,101],[36,102,38,105],[39,86,41,86],[36,99,38,99]]}
[null,"Echelon (N-S)",null,null,null,null,null,null,null,null,null,null,null,null,null,null,null,null,null,null,null,null,null,null,null,null,null,null,null,null,null,null,null,null,null,null,null,null,null,null,null,null,null,null,null,null,null,null,null,null,null,null,null,null,null,null,null,null,null,null,null,null,null,"Echelon (N-S)"]
[]
[null,"Design and results",null,null,null,null,null,null,null,null,null,null,null,null,null,null,null,null,null,null,null,null,null,null,null,null,null,null,null,null,null,null,null,null,null,null,null,null,null,null,null,null,null,null,null,null,null,null,null,null,null,null,null,null,null,null,null,null,null,null,null,null,null,"Data Input and Configuration"]
[]
[]
[]
[null,null,"Project Name:",null,null,null,null,null,null,null,{"$f":"P_Name","v":"Cap-X Sample Street"},null,null,null,null,null,null,null,null,null,null,null,null,null,null,null,null,null,null,null,null,null,null,null,null,null,"Volume-to-Capacity Ratio"]
[]
[null,null,"Project Number:",null,null,null,null,null,null,null,{"$f":"P_Number","v":10000},null,null,null,null,null,null,null,null,null,null,null,null,null,null,null,null,null,null,null,null,null,null,null,null,null,"< 0.750",null,null,null,null,null,"0.750 - 0.875",null,null,null,null,null,"0.875 - 1.00",null,null,null,null,null,"≥ 1.00"]
[]
[null,null,"Location",null,null,null,null,null,null,null,{"$f":"Location","v":"Anywhere, USA"},null,null,null,null,null,null,null,null,null,null,null,null,null,null,null,null,null,null,null,null,null,null,null,null,null,"VOLUME / CAPACITY RATIO:",null,null,null,null,null,null,null,null,null,null,null,{"$f":"I57","v":0.11}]
[]
[null,null,"Date",null,null,null,null,null,null,null,{"$f":"Date","v":"2017 AM"}]
[]
[]
[null,null,null,null,null,null,null,null,null,null,null,null,null,null,null,null,null,null,null,null,null,null,null,null,null,null,null,null,null,null,null,null,null,null,null,null,null,null,null,null,null,null,null,null,"Multimodal Capacity Adjustment Factor",null,null,null,null,null,null,null,null,null,null,null,null,null,{"$f":"IF(Multimodal=1,1,IF(MAX(CM30,CV34,CP43,CI37)<3,1,IF(MAX(CI37,CP43,CV34,CM30)<4,0.9,0.8)))","v":1},null,null,null,null,null,null,null,null,null,null,null,null,null,null,null,null,null,null,null,null,null,null,null,null,null,null,null,null,null,null,null,null,"SB Critical Vol"]
[null,null,null,null,null,null,null,null,null,null,null,null,null,null,null,null,null,null,null,null,null,null,null,null,null,null,null,null,null,null,null,null,null,null,null,null,null,null,null,null,null,null,null,null,null,null,null,null,null,null,null,null,null,null,null,null,null,null,null,null,null,null,null,null,null,null,null,null,null,null,null,null,null,null,null,null,null,null,null,null,null,null,null,null,null,null,null,null,null,null,null,null,null,{"$f":"ROUND(IF(Z5NSSplit,MAX(IFERROR(Z5SBL/LTAF/Z5SBLlanes,0),IFERROR(Z5SBT/Z5SBTlanes,0),IFERROR(Z5SBR/RTAF/Z5SBRlanes,0)),IFERROR(Z5SBL/LTAF/Z5SBLlanes,0) +MAX(IFERROR(Z5NBT/Z5NBTlanes,0), MAX(0,IFERROR(Z5NBR/RTAF/Z5NBRlanes-IFERROR(Z5WBL/LTAF/Z5WBLlanes,0),0)))),0)","v":102}]
[null,null,null,null,null,null,null,null,null,null,null,null,null,null,null,null,null,null,null,null,null,null,null,null,null,null,null,null,null,null,null,null,null,null,null,null,null,null,null,null,null,null,null,null,null,null,null,null,null,null,null,null,null,null,null,null,null,null,null,null,null,null,null,null,null,null,null,null,null,null,null,null,null,null,null,null,null,null,null,null,null,null,null,null,null,null,null,null,null,null,"SB",null,null,null,null,null,null,null,null,null,null,"EW Split?",null,null,null,null,true]
[null,null,null,null,null,null,null,null,null,null,null,null,null,null,null,null,null,null,null,null,null,null,null,null,null,null,null,null,null,null,null,null,null,null,null,null,null,null,null,null,null,null,null,null,null,null,null,null,null,null,null,null,null,null,null,null,null,null,null,null,null,null,null,null,null,null,null,null,null,null,null,null,null,null,null,null,null,null,null,null,null,null,null,null,null,null,null,null,null,null,null,null,null,null,null,null,null,null,null,null,null,"NS Split?",null,null,null,null,true]
[]
[null,null,null,null,null,null,null,null,null,null,null,null,null,null,null,null,null,null,null,null,null,null,null,null,null,null,null,null,null,null,null,null,null,null,null,null,null,null,null,null,null,null,null,null,null,null,null,null,null,null,null,null,null,null,null,null,null,null,null,null,null,null,null,null,null,null,null,null,null,null,null,null,null,null,null,null,null,null,null,null,null,null,null,null,null,null,null,"Shared\n?",null,null,null,null,null,"Shared\n?"]
[]
[null,null,null,null,null,null,null,null,null,null,null,null,null,null,null,null,null,null,null,null,null,null,null,null,null,null,null,null,null,null,null,null,null,null,null,null,null,null,null,null,null,null,null,null,null,null,null,null,null,null,null,null,null,null,null,null,null,null,null,null,null,null,null,null,null,null,null,null,null,null,null,null,null,null,null,null,null,null,null,null,null,null,null,null,null,null,null,{"$f":"IF(Z5SBRlanes=0,\"Yes\",\"No\")","v":"No"},null,null,null,null,null,{"$f":"IF(Z5SBLlanes=0,\"Yes\",\"No\")","v":"No"}]
[]
[]
[]
[]
[null,null,null,null,null,null,null,null,null,null,null,null,null,null,null,null,null,null,null,null,null,null,null,null,null,null,null,null,null,null,null,null,null,null,null,null,null,null,null,null,null,null,null,{"$f":"CK40","v":357},null,null,null,null,null,null,null,null,"CLV",null,null,null,null,null,null,null,null,null,null,null,null,null,null,null,null,null,null,null,null,null,null,null,null,null,null,null,null,null,null,null,null,null,null,"pcph",null,null,"pcph",null,null,"pcph"]
[null,null,null,null,null,null,null,null,null,null,null,null,null,null,null,null,null,null,null,null,null,null,null,null,null,null,null,null,null,null,null,null,null,null,null,null,null,null,null,null,null,null,null,null,null,null,null,null,null,null,null,null,null,null,null,null,null,null,null,null,null,null,null,null,null,null,null,null,null,null,null,null,null,null,null,null,null,null,null,null,null,null,null,null,null,null,null,{"$f":"IF(Z5SBRShared=\"Yes\",ROUND(INDIRECT(CM18&\"R_Master\")*(Z5SBRlanes/(Z5SBRlanes+1)),0),INDIRECT(CM18&\"R_Master\"))","v":51},null,null,{"$f":"ROUND((INDIRECT(CM18&\"T_Master\")+ROUND((INDIRECT(CM18&\"R_Master\")-Z5SBR)/RTAF,0))+(INDIRECT(CM18&\"L_Master\")-Z5SBL)*IF(AND(Z5SBLShared=\"Yes\",Z5SBLlanes<2),1/LTAF,1),0)","v":204},null,null,{"$f":"IF(AND(Z5SBLShared=\"Yes\",Z5SBLlanes<2),ROUND(INDIRECT(CM18&\"L_Master\")*(Z5SBLlanes/(Z5SBLlanes+1)),0),INDIRECT(CM18&\"L_Master\"))","v":31}]
[null,null,null,null,null,null,null,null,null,null,null,null,null,null,null,null,null,null,null,null,null,null,null,null,null,null,null,null,null,null,null,null,null,null,null,null,null,null,null,null,null,null,null,null,null,null,null,null,null,null,null,null,null,null,null,null,null,null,null,null,null,null,null,null,null,null,null,null,null,null,null,null,null,null,null,null,null,null,null,null,null,null,null,null,null,null,null,{"$f":"'3 - Alt Num Lanes Input'!AO95","v":1},null,null,{"$f":"'3 - Alt Num Lanes Input'!AM95","v":2},null,null,{"$f":"'3 - Alt Num Lanes Input'!AK95","v":1}]
[null,null,null,null,null,null,null,null,null,null,null,null,null,null,null,null,null,null,null,null,null,null,null,null,null,null,null,null,null,null,null,null,null,null,null,null,null,null,null,null,null,null,null,{"$f":"ROUND(AR28/AW31,2)","v":0.2},null,null,null,"V/C",{"$f":"BG16*CLV_Limit_2","v":1800},null,null,null,"MAX",null,null,null,null,null,null,null,null,null,null,null,null,null,null,null,null,null,null,null,null,null,null,null,null,null,null,null,null,null,null,null,null,null,null,null,null,null,null,null,null,null,null,null,null,null,null,{"$f":"'3 - Alt Num Lanes Input'!BE95","v":1},{"$f":"IF(Z5WBRShared=\"Yes\",ROUND(INDIRECT(DC34&\"R_Master\")*(Z5WBRlanes/(Z5WBRlanes+1)),0),INDIRECT(DC34&\"R_Master\"))","v":51},"pcph",null,null,null,null,"Shared\n?"]
[]
[null,null,null,null,null,null,null,null,null,null,null,null,null,null,null,null,null,null,null,null,null,null,null,null,null,null,null,null,null,null,null,null,null,null,null,null,null,null,null,null,null,null,null,null,null,null,null,null,null,null,null,null,null,null,null,null,null,null,null,null,null,null,null,null,null,null,null,null,null,null,null,null,null,null,null,null,null,null,null,null,null,null,null,null,null,null,null,null,null,null,null,null,null,null,null,null,null,null,null,null,null,null,null,null,null,null,{"$f":"IF(Z5WBRlanes=0,\"Yes\",\"No\")","v":"No"}]
[null,null,null,null,null,null,null,null,null,null,null,null,null,null,null,null,null,null,null,null,null,null,null,null,null,null,null,null,null,null,null,null,null,null,null,null,null,null,null,null,null,null,null,null,null,null,null,null,"2 Phases",null,null,null,null,null,null,null,null,null,null,null,null,null,null,null,null,null,null,null,null,null,null,null,null,null,null,null,null,"Shared\n?",null,null,null,null,null,null,"pcph",{"$f":"IF(AND(Z5EBLShared=\"Yes\",Z5EBLlanes<2),ROUND(INDIRECT(BY37&\"L_Master\")*(Z5EBLlanes/(Z5EBLlanes+1)),0),INDIRECT(BY37&\"L_Master\"))","v":31},{"$f":"'3 - Alt Num Lanes Input'!AS95","v":1},null,{"$f":"Z5SB+Z5EB","v":204},null,null,null,null,null,null,null,null,null,null,{"$f":"'3 - Alt Num Lanes Input'!BC95","v":2},{"$f":"ROUND((INDIRECT(DC34&\"T_Master\")+ROUND((INDIRECT(DC34&\"R_Master\")-Z5WBR)/RTAF,0))+(INDIRECT(DC34&\"L_Master\")-Z5WBL)*IF(AND(Z5WBLShared=\"Yes\",Z5WBLlanes<2),1/LTAF,1),0)","v":204},"pcph",null,null,null,null,"WB"]
[null,null,null,null,null,null,null,null,null,null,null,null,null,null,null,null,null,null,null,null,null,null,null,null,null,null,null,null,null,null,null,null,null,null,null,null,null,null,null,null,null,null,null,null,null,null,null,null,null,null,null,null,null,null,null,null,null,null,null,null,null,null,null,null,null,null,null,"EB Critical Vol",null,null,null,null,null,null,null,null,null,null,null,null,null,null,null,null,null,null,null,null,null,null,null,null,null,null,null,null,null,null,null,null,null,null,null,null,null,null,null,null,null,null,null,null,null,"WB Critical Vol"]
[null,null,null,null,null,null,null,null,null,null,null,null,null,null,null,null,null,null,null,null,null,null,null,null,null,null,null,null,null,null,null,null,null,null,null,null,null,null,null,null,null,null,null,null,null,null,null,null,null,null,null,null,null,null,null,null,null,null,null,null,null,null,null,null,null,null,null,null,null,{"$f":"ROUND(IF(Z5EWSplit,MAX(IFERROR(Z5EBL/LTAF/Z5EBLlanes,0),IFERROR(Z5EBT/Z5EBTlanes,0),IFERROR(Z5EBR/RTAF/Z5EBRlanes,0)-IFERROR(Z5NBL/LTAF/Z5NBLlanes,0)),IFERROR(Z5EBL/LTAF/Z5EBLlanes,0) +MAX(IFERROR(Z5WBT/Z5WBTlanes,0), MAX(0,IFERROR(Z5WBR/RTAF/Z5WBRlanes-IFERROR(Z5SBL/LTAF/Z5SBLlanes,0),0)))),0)","v":102},null,null,null,null,null,null,null,{"$f":"IF(Z5EBLlanes=0,\"Yes\",\"No\")","v":"No"},null,null,null,null,null,null,null,null,null,null,null,null,null,null,null,null,null,null,null,null,null,null,null,null,null,null,null,null,null,null,null,null,null,null,null,null,null,{"$f":"ROUND(IF(Z5EWSplit,MAX(IFERROR(Z5WBL/LTAF/Z5WBLlanes,0),IFERROR(Z5WBT/Z5WBTlanes,0),IFERROR(Z5WBR/RTAF/Z5WBRlanes,0)-IFERROR(Z5SBL/LTAF/Z5SBLlanes,0)),IFERROR(Z5WBL/LTAF/Z5WBLlanes,0) +MAX(IFERROR(Z5EBT/Z5EBTlanes,0), MAX(0,IFERROR(Z5EBR/RTAF/Z5EBRlanes-IFERROR(Z5NBL/LTAF/Z5NBLlanes,0),0)))),0)","v":102}]
[null,null,null,null,null,null,null,null,null,null,null,null,null,null,null,null,null,null,null,null,null,null,null,null,null,null,null,null,null,null,null,null,null,null,null,null,null,null,null,null,null,null,null,null,null,null,null,null,null,null,null,null,null,null,null,null,null,null,null,null,null,null,null,null,null,null,null,null,null,null,null,null,null,null,null,null,"EB",null,null,null,null,null,null,null,"pcph",{"$f":"ROUND((INDIRECT(BY37&\"T_Master\")+ROUND((INDIRECT(BY37&\"R_Master\")-Z5EBR)/RTAF,0))+(INDIRECT(BY37&\"L_Master\")-Z5EBL)*IF(AND(Z5EBLShared=\"Yes\",Z5EBLlanes<2),1/LTAF,1),0)","v":204},{"$f":"'3 - Alt Num Lanes Input'!AU95","v":2},null,null,null,null,null,null,null,null,null,null,null,null,{"$f":"'3 - Alt Num Lanes Input'!BA95","v":1},{"$f":"IF(AND(Z5WBLShared=\"Yes\",Z5WBLlanes<2),ROUND(INDIRECT(DC34&\"L_Master\")*(Z5WBLlanes/(Z5WBLlanes+1)),0),INDIRECT(DC34&\"L_Master\"))","v":31},"pcph",null,null,null,null,"Shared\n?"]
[]
[null,null,null,null,null,null,null,null,null,null,null,null,null,null,null,null,null,null,null,null,null,null,null,null,null,null,null,null,null,null,null,null,null,null,null,null,null,null,null,null,null,null,null,null,null,null,null,null,null,null,null,null,null,null,null,null,null,null,null,null,null,null,null,null,null,null,null,null,null,null,null,null,null,null,null,null,null,null,null,null,null,null,null,null,null,null,null,null,null,null,null,null,null,null,null,null,null,null,null,null,null,null,null,null,null,null,{"$f":"IF(Z5WBLlanes=0,\"Yes\",\"No\")","v":"No"}]
[null,null,null,null,null,null,null,null,null,null,null,null,null,null,null,null,null,null,null,null,null,null,null,null,null,null,null,null,null,null,null,null,null,null,null,null,null,null,null,null,null,null,null,null,null,null,null,null,null,null,null,null,null,null,null,null,null,null,null,null,null,null,null,null,null,null,null,null,null,null,null,null,null,null,null,null,null,"Shared\n?",null,null,null,null,null,null,"pcph",{"$f":"IF(Z5EBRShared=\"Yes\",ROUND(INDIRECT(BY37&\"R_Master\")*(Z5EBRlanes/(Z5EBRlanes+1)),0),INDIRECT(BY37&\"R_Master\"))","v":51},{"$f":"'3 - Alt Num Lanes Input'!AW95","v":1},null,{"$f":"Z5NB+Z5WB","v":357}]
[]
[null,null,null,null,null,null,null,null,null,null,null,null,null,null,null,null,null,null,null,null,null,null,null,null,null,null,null,null,null,null,null,null,null,null,null,null,null,null,null,null,null,null,null,null,null,null,null,null,null,null,null,null,null,null,null,null,null,null,null,null,null,null,null,null,null,null,null,null,null,null,null,null,null,null,null,null,null,{"$f":"IF(Z5EBRlanes=0,\"Yes\",\"No\")","v":"No"}]
[null,null,null,null,null,null,null,null,null,null,null,null,null,null,null,null,null,null,null,null,null,null,null,null,null,null,null,null,null,null,null,null,null,null,null,null,null,null,null,null,null,null,null,null,null,null,null,null,null,null,null,null,null,null,null,null,null,null,null,null,null,null,null,null,null,null,null,null,null,null,null,null,null,null,null,null,null,null,null,null,null,null,null,null,null,null,null,null,null,null,{"$f":"'3 - Alt Num Lanes Input'!AC95","v":1},null,null,{"$f":"'3 - Alt Num Lanes Input'!AE95","v":2},null,null,{"$f":"'3 - Alt Num Lanes Input'!AG95","v":1}]
[null,null,null,null,null,null,null,null,null,null,null,null,null,null,null,null,null,null,null,null,null,null,null,null,null,null,null,null,null,null,null,null,null,null,null,null,null,null,null,null,null,null,null,null,null,null,null,null,null,null,null,null,null,null,null,null,null,null,null,null,null,null,null,null,null,null,null,null,null,null,null,null,null,null,null,null,null,null,null,null,null,null,null,null,null,null,null,null,null,null,{"$f":"IF(AND(Z5NBLShared=\"Yes\",Z5NBLlanes<2),ROUND(INDIRECT(CO53&\"L_Master\")*(Z5NBLlanes/(Z5NBLlanes+1)),0),INDIRECT(CO53&\"L_Master\"))","v":102},null,null,{"$f":"ROUND((INDIRECT(CO53&\"T_Master\")+ROUND((INDIRECT(CO53&\"R_Master\")-Z5NBR)/RTAF,0))+(INDIRECT(CO53&\"L_Master\")-Z5NBL)*IF(AND(Z5NBLShared=\"Yes\",Z5NBLlanes<2),1/LTAF,1),0)","v":510},null,null,{"$f":"IF(Z5NBRShared=\"Yes\",ROUND(INDIRECT(CO53&\"R_Master\")*(Z5NBRlanes/(Z5NBRlanes+1)),0),INDIRECT(CO53&\"R_Master\"))","v":204}]
[null,null,null,null,null,null,null,null,null,null,null,null,null,null,null,null,null,null,null,null,null,null,null,null,null,null,null,null,null,null,null,null,null,null,null,null,null,null,null,null,null,null,null,null,null,null,null,null,null,null,null,null,null,null,null,null,null,null,null,null,null,null,null,null,null,null,null,null,null,null,null,null,null,null,null,null,null,null,null,null,null,null,null,null,null,null,null,null,null,null,"pcph",null,null,"pcph",null,null,"pcph"]
[]
[]
[]
[]
[null,null,null,null,null,null,null,null,null,null,null,null,null,null,null,null,null,null,null,null,null,null,null,null,null,null,null,null,null,null,null,null,null,null,null,null,null,null,null,null,null,null,null,null,null,null,null,null,null,null,null,null,null,null,null,null,null,null,null,null,null,null,null,null,null,null,null,null,null,null,null,null,null,null,null,null,null,null,null,null,null,null,null,null,null,null,null,null,null,null,{"$f":"IF(Z5NBLlanes=0,\"Yes\",\"No\")","v":"No"},null,null,null,null,null,{"$f":"IF(Z5NBRlanes=0,\"Yes\",\"No\")","v":"No"}]
[null,null,null,null,null,null,null,null,null,null,null,null,null,null,null,null,null,null,null,null,null,null,null,null,null,null,null,null,null,null,null,null,null,null,null,null,null,null,null,null,null,null,null,null,null,null,null,null,null,null,null,null,null,null,null,null,null,null,null,null,null,null,null,null,null,null,null,null,null,null,null,null,null,null,null,null,null,null,null,null,null,null,null,null,null,null,null,null,null,null,"Shared\n?",null,null,null,null,null,"Shared\n?"]
[]
[null,null,null,null,null,null,null,null,null,null,null,null,null,null,null,null,null,null,null,null,null,null,null,null,null,null,null,null,null,null,null,null,null,null,null,null,null,null,null,null,null,null,null,null,null,null,null,null,null,null,null,null,null,null,null,null,null,null,null,null,null,null,null,null,null,null,null,null,null,null,null,null,null,null,null,null,null,null,null,null,null,null,null,null,null,null,null,null,null,null,null,null,"NB"]
[null,null,null,null,null,null,null,null,{"$f":"CK34","v":204},null,null,null,null,null,null,null,null,"CLV"]
[]
[]
[null,null,null,null,null,null,null,null,{"$f":"ROUND(I54/N57,2)","v":0.11},null,null,null,"V/C",{"$f":"BG16*CLV_Limit_2","v":1800},null,null,null,"MAX",null,null,null,null,null,null,null,null,null,null,null,null,null,null,null,null,null,null,null,null,null,null,null,null,null,null,null,null,null,null,null,null,null,null,null,null,null,null,null,null,null,null,null,null,null,null,null,null,null,null,null,null,null,null,null,null,null,null,null,null,null,null,null,null,null,null,null,null,null,null,null,"NB Critical Vol"]
[null,null,null,null,null,null,null,null,null,null,null,null,null,null,null,null,null,null,null,null,null,null,null,null,null,null,null,null,null,null,null,null,null,null,null,null,null,null,null,null,null,null,null,null,null,null,null,null,null,null,null,null,null,null,null,null,null,null,null,null,null,null,null,null,null,null,null,null,null,null,null,null,null,null,null,null,null,null,null,null,null,null,null,null,null,null,null,null,null,null,{"$f":"ROUND(IF(Z5NSSplit,MAX(IFERROR(Z5NBL/LTAF/Z5NBLlanes,0),IFERROR(Z5NBT/Z5NBTlanes,0),IFERROR(Z5NBR/RTAF/Z5NBRlanes,0)),IFERROR(Z5NBL/LTAF/Z5NBLlanes,0) +MAX(IFERROR(Z5SBT/Z5SBTlanes,0), MAX(0,IFERROR(Z5SBR/RTAF/Z5SBRlanes-IFERROR(Z5EBL/LTAF/Z5EBLlanes,0),0)))),0)","v":255}]
[]
[null,null,null,null,null,null,null,null,null,null,null,null,null,"2 Phases"]
[]
[]
[]
[]
[]
[]
[]
[]
[]
[]
[]
[]
[]
[null,null,null,null,null,null,null,null,null,null,null,null,null,"Note: This diagram does not reflect the actual lane configuration of the Intersection"]

{"sheet":"Echelon E-W","index":43,"n_rows":74,"n_cols":116,"rows_kept":74,"cut":false,"hidden":false,"merged":[[50,96,51,98],[52,92,54,95],[44,90,44,92],[44,93,44,95],[44,96,44,98],[45,90,48,92],[45,93,48,95],[45,96,48,98],[60,49,60,53],[56,89,56,95],[57,90,57,92],[54,44,56,52],[54,53,56,53],[57,44,59,47],[57,48,59,48],[57,49,59,52],[57,53,59,53],[38,106,38,108],[39,77,40,79],[39,80,41,83],[39,84,41,84],[39,85,41,85],[39,86,41,86],[39,88,40,97],[41,77,41,79],[36,99,38,99],[36,100,38,100],[36,101,38,101],[36,102,38,105],[36,106,37,108],[36,76,38,79],[36,80,38,83],[36,84,38,84],[36,85,38,85],[33,106,35,109],[34,67,34,73],[34,113,34,119],[35,69,35,71],[35,77,35,79],[35,115,35,117],[33,88,34,97],[33,99,35,99],[33,100,35,100],[33,101,35,101],[33,102,35,105],[33,77,34,79],[33,80,35,83],[33,84,35,84],[33,85,35,85],[33,86,35,86],[17,101,17,105],[17,106,17,109],[18,101,18,105],[18,106,18,109],[30,101,32,101],[30,102,32,105],[30,106,31,108],[31,88,32,97],[32,106,32,108],[29,87,29,89],[29,90,29,92],[29,93,29,95],[30,99,32,99],[30,100,32,100],[30,7,32,10],[30,11,32,11],[30,12,32,15],[30,16,32,16],[15,44,17,57],[15,58,16,59],[27,90,27,92],[27,93,27,95],[28,87,28,89],[28,90,28,92],[28,93,28,95],[73,13,73,46],[15,91,15,97],[16,93,16,95],[17,90,19,93],[20,87,21,89],[20,93,21,95],[22,87,22,89],[22,93,22,95],[23,87,26,89],[23,90,26,92],[23,93,26,95],[27,87,27,89],[33,12,33,16],[36,86,38,86],[42,90,42,92],[42,93,42,95],[42,96,42,98],[43,90,43,92],[43,93,43,95],[43,96,43,98],[37,88,38,97],[49,90,49,92],[49,96,49,98],[50,90,51,92],[10,2,11,9],[10,10,11,35],[10,36,13,47],[10,48,13,59],[12,2,13,9],[12,10,13,35],[0,1,1,60],[27,7,29,15],[27,16,29,16],[0,63,1,122],[2,1,3,60],[2,63,3,122],[5,36,5,38],[5,42,5,44],[6,36,7,59],[8,2,9,9],[8,10,9,35],[8,36,9,41],[8,42,9,47],[8,48,9,53],[8,54,9,59],[6,2,7,9],[6,10,7,35]]}
[null,"Echelon (E-W)",null,null,null,null,null,null,null,null,null,null,null,null,null,null,null,null,null,null,null,null,null,null,null,null,null,null,null,null,null,null,null,null,null,null,null,null,null,null,null,null,null,null,null,null,null,null,null,null,null,null,null,null,null,null,null,null,null,null,null,null,null,"Echelon (E-W)"]
[]
[null,"Design and results",null,null,null,null,null,null,null,null,null,null,null,null,null,null,null,null,null,null,null,null,null,null,null,null,null,null,null,null,null,null,null,null,null,null,null,null,null,null,null,null,null,null,null,null,null,null,null,null,null,null,null,null,null,null,null,null,null,null,null,null,null,"Data Input and Configuration"]
[]
[]
[]
[null,null,"Project Name:",null,null,null,null,null,null,null,{"$f":"P_Name","v":"Cap-X Sample Street"},null,null,null,null,null,null,null,null,null,null,null,null,null,null,null,null,null,null,null,null,null,null,null,null,null,"Volume-to-Capacity Ratio"]
[]
[null,null,"Project Number:",null,null,null,null,null,null,null,{"$f":"P_Number","v":10000},null,null,null,null,null,null,null,null,null,null,null,null,null,null,null,null,null,null,null,null,null,null,null,null,null,"< 0.750",null,null,null,null,null,"0.750 - 0.875",null,null,null,null,null,"0.875 - 1.00",null,null,null,null,null,"≥ 1.00"]
[]
[null,null,"Location",null,null,null,null,null,null,null,{"$f":"Location","v":"Anywhere, USA"},null,null,null,null,null,null,null,null,null,null,null,null,null,null,null,null,null,null,null,null,null,null,null,null,null,"VOLUME / CAPACITY RATIO:",null,null,null,null,null,null,null,null,null,null,null,{"$f":"H31","v":0.11}]
[]
[null,null,"Date",null,null,null,null,null,null,null,{"$f":"Date","v":"2017 AM"}]
[]
[]
[null,null,null,null,null,null,null,null,null,null,null,null,null,null,null,null,null,null,null,null,null,null,null,null,null,null,null,null,null,null,null,null,null,null,null,null,null,null,null,null,null,null,null,null,"Multimodal Capacity Adjustment Factor",null,null,null,null,null,null,null,null,null,null,null,null,null,{"$f":"IF(Multimodal=1,1,IF(MAX(CM30,CV34,CP43,CI37)<3,1,IF(MAX(CI37,CP43,CV34,CM30)<4,0.9,0.8)))","v":1},null,null,null,null,null,null,null,null,null,null,null,null,null,null,null,null,null,null,null,null,null,null,null,null,null,null,null,null,null,null,null,null,"SB Critical Vol"]
[null,null,null,null,null,null,null,null,null,null,null,null,null,null,null,null,null,null,null,null,null,null,null,null,null,null,null,null,null,null,null,null,null,null,null,null,null,null,null,null,null,null,null,null,null,null,null,null,null,null,null,null,null,null,null,null,null,null,null,null,null,null,null,null,null,null,null,null,null,null,null,null,null,null,null,null,null,null,null,null,null,null,null,null,null,null,null,null,null,null,null,null,null,{"$f":"ROUND(IF(Z5NSSplit,MAX(IFERROR(Z5SBL/LTAF/Z5SBLlanes,0),IFERROR(Z5SBT/Z5SBTlanes,0),IFERROR(Z5SBR/RTAF/Z5SBRlanes,0)),IFERROR(Z5SBL/LTAF/Z5SBLlanes,0) +MAX(IFERROR(Z5NBT/Z5NBTlanes,0), MAX(0,IFERROR(Z5NBR/RTAF/Z5NBRlanes-IFERROR(Z5WBL/LTAF/Z5WBLlanes,0),0)))),0)","v":102}]
[null,null,null,null,null,null,null,null,null,null,null,null,null,null,null,null,null,null,null,null,null,null,null,null,null,null,null,null,null,null,null,null,null,null,null,null,null,null,null,null,null,null,null,null,null,null,null,null,null,null,null,null,null,null,null,null,null,null,null,null,null,null,null,null,null,null,null,null,null,null,null,null,null,null,null,null,null,null,null,null,null,null,null,null,null,null,null,null,null,null,"SB",null,null,null,null,null,null,null,null,null,null,"EW Split?",null,null,null,null,true]
[null,null,null,null,null,null,null,null,null,null,null,null,null,null,null,null,null,null,null,null,null,null,null,null,null,null,null,null,null,null,null,null,null,null,null,null,null,null,null,null,null,null,null,null,null,null,null,null,null,null,null,null,null,null,null,null,null,null,null,null,null,null,null,null,null,null,null,null,null,null,null,null,null,null,null,null,null,null,null,null,null,null,null,null,null,null,null,null,null,null,null,null,null,null,null,null,null,null,null,null,null,"NS Split?",null,null,null,null,true]
[]
[null,null,null,null,null,null,null,null,null,null,null,null,null,null,null,null,null,null,null,null,null,null,null,null,null,null,null,null,null,null,null,null,null,null,null,null,null,null,null,null,null,null,null,null,null,null,null,null,null,null,null,null,null,null,null,null,null,null,null,null,null,null,null,null,null,null,null,null,null,null,null,null,null,null,null,null,null,null,null,null,null,null,null,null,null,null,null,"Shared\n?",null,null,null,null,null,"Shared\n?"]
[]
[null,null,null,null,null,null,null,null,null,null,null,null,null,null,null,null,null,null,null,null,null,null,null,null,null,null,null,null,null,null,null,null,null,null,null,null,null,null,null,null,null,null,null,null,null,null,null,null,null,null,null,null,null,null,null,null,null,null,null,null,null,null,null,null,null,null,null,null,null,null,null,null,null,null,null,null,null,null,null,null,null,null,null,null,null,null,null,{"$f":"IF(Z5SBRlanes=0,\"Yes\",\"No\")","v":"No"},null,null,null,null,null,{"$f":"IF(Z5SBLlanes=0,\"Yes\",\"No\")","v":"No"}]
[]
[]
[]
[]
[null,null,null,null,null,null,null,{"$f":"CK34","v":204},null,null,null,null,null,null,null,null,"CLV",null,null,null,null,null,null,null,null,null,null,null,null,null,null,null,null,null,null,null,null,null,null,null,null,null,null,null,null,null,null,null,null,null,null,null,null,null,null,null,null,null,null,null,null,null,null,null,null,null,null,null,null,null,null,null,null,null,null,null,null,null,null,null,null,null,null,null,null,null,null,"pcph",null,null,"pcph",null,null,"pcph"]
[null,null,null,null,null,null,null,null,null,null,null,null,null,null,null,null,null,null,null,null,null,null,null,null,null,null,null,null,null,null,null,null,null,null,null,null,null,null,null,null,null,null,null,null,null,null,null,null,null,null,null,null,null,null,null,null,null,null,null,null,null,null,null,null,null,null,null,null,null,null,null,null,null,null,null,null,null,null,null,null,null,null,null,null,null,null,null,{"$f":"IF(Z5SBRShared=\"Yes\",ROUND(INDIRECT(CM18&\"R_Master\")*(Z5SBRlanes/(Z5SBRlanes+1)),0),INDIRECT(CM18&\"R_Master\"))","v":51},null,null,{"$f":"ROUND((INDIRECT(CM18&\"T_Master\")+ROUND((INDIRECT(CM18&\"R_Master\")-Z5SBR)/RTAF,0))+(INDIRECT(CM18&\"L_Master\")-Z5SBL)*IF(AND(Z5SBLShared=\"Yes\",Z5SBLlanes<2),1/LTAF,1),0)","v":204},null,null,{"$f":"IF(AND(Z5SBLShared=\"Yes\",Z5SBLlanes<2),ROUND(INDIRECT(CM18&\"L_Master\")*(Z5SBLlanes/(Z5SBLlanes+1)),0),INDIRECT(CM18&\"L_Master\"))","v":31}]
[null,null,null,null,null,null,null,null,null,null,null,null,null,null,null,null,null,null,null,null,null,null,null,null,null,null,null,null,null,null,null,null,null,null,null,null,null,null,null,null,null,null,null,null,null,null,null,null,null,null,null,null,null,null,null,null,null,null,null,null,null,null,null,null,null,null,null,null,null,null,null,null,null,null,null,null,null,null,null,null,null,null,null,null,null,null,null,{"$f":"'3 - Alt Num Lanes Input'!AO97","v":1},null,null,{"$f":"'3 - Alt Num Lanes Input'!AM97","v":2},null,null,{"$f":"'3 - Alt Num Lanes Input'!AK97","v":1}]
[null,null,null,null,null,null,null,{"$f":"ROUND(H28/M31,2)","v":0.11},null,null,null,"V/C",{"$f":"BG16*CLV_Limit_2","v":1800},null,null,null,"MAX",null,null,null,null,null,null,null,null,null,null,null,null,null,null,null,null,null,null,null,null,null,null,null,null,null,null,null,null,null,null,null,null,null,null,null,null,null,null,null,null,null,null,null,null,null,null,null,null,null,null,null,null,null,null,null,null,null,null,null,null,null,null,null,null,null,null,null,null,null,null,null,null,null,null,null,null,null,null,null,null,null,null,{"$f":"'3 - Alt Num Lanes Input'!BE97","v":1},{"$f":"IF(Z5WBRShared=\"Yes\",ROUND(INDIRECT(DC34&\"R_Master\")*(Z5WBRlanes/(Z5WBRlanes+1)),0),INDIRECT(DC34&\"R_Master\"))","v":51},"pcph",null,null,null,null,"Shared\n?"]
[]
[null,null,null,null,null,null,null,null,null,null,null,null,null,null,null,null,null,null,null,null,null,null,null,null,null,null,null,null,null,null,null,null,null,null,null,null,null,null,null,null,null,null,null,null,null,null,null,null,null,null,null,null,null,null,null,null,null,null,null,null,null,null,null,null,null,null,null,null,null,null,null,null,null,null,null,null,null,null,null,null,null,null,null,null,null,null,null,null,null,null,null,null,null,null,null,null,null,null,null,null,null,null,null,null,null,null,{"$f":"IF(Z5WBRlanes=0,\"Yes\",\"No\")","v":"No"}]
[null,null,null,null,null,null,null,null,null,null,null,null,"2 Phases",null,null,null,null,null,null,null,null,null,null,null,null,null,null,null,null,null,null,null,null,null,null,null,null,null,null,null,null,null,null,null,null,null,null,null,null,null,null,null,null,null,null,null,null,null,null,null,null,null,null,null,null,null,null,null,null,null,null,null,null,null,null,null,null,"Shared\n?",null,null,null,null,null,null,"pcph",{"$f":"IF(AND(Z5EBLShared=\"Yes\",Z5EBLlanes<2),ROUND(INDIRECT(BY37&\"L_Master\")*(Z5EBLlanes/(Z5EBLlanes+1)),0),INDIRECT(BY37&\"L_Master\"))","v":31},{"$f":"'3 - Alt Num Lanes Input'!AS97","v":1},null,{"$f":"Z5SB+Z5WB","v":204},null,null,null,null,null,null,null,null,null,null,{"$f":"'3 - Alt Num Lanes Input'!BC97","v":2},{"$f":"ROUND((INDIRECT(DC34&\"T_Master\")+ROUND((INDIRECT(DC34&\"R_Master\")-Z5WBR)/RTAF,0))+(INDIRECT(DC34&\"L_Master\")-Z5WBL)*IF(AND(Z5WBLShared=\"Yes\",Z5WBLlanes<2),1/LTAF,1),0)","v":204},"pcph",null,null,null,null,"WB"]
[null,null,null,null,null,null,null,null,null,null,null,null,null,null,null,null,null,null,null,null,null,null,null,null,null,null,null,null,null,null,null,null,null,null,null,null,null,null,null,null,null,null,null,null,null,null,null,null,null,null,null,null,null,null,null,null,null,null,null,null,null,null,null,null,null,null,null,"EB Critical Vol",null,null,null,null,null,null,null,null,null,null,null,null,null,null,null,null,null,null,null,null,null,null,null,null,null,null,null,null,null,null,null,null,null,null,null,null,null,null,null,null,null,null,null,null,null,"WB Critical Vol"]
[null,null,null,null,null,null,null,null,null,null,null,null,null,null,null,null,null,null,null,null,null,null,null,null,null,null,null,null,null,null,null,null,null,null,null,null,null,null,null,null,null,null,null,null,null,null,null,null,null,null,null,null,null,null,null,null,null,null,null,null,null,null,null,null,null,null,null,null,null,{"$f":"ROUND(IF(Z5EWSplit,MAX(IFERROR(Z5EBL/LTAF/Z5EBLlanes,0),IFERROR(Z5EBT/Z5EBTlanes,0),IFERROR(Z5EBR/RTAF/Z5EBRlanes,0)-IFERROR(Z5NBL/LTAF/Z5NBLlanes,0)),IFERROR(Z5EBL/LTAF/Z5EBLlanes,0) +MAX(IFERROR(Z5WBT/Z5WBTlanes,0), MAX(0,IFERROR(Z5WBR/RTAF/Z5WBRlanes-IFERROR(Z5SBL/LTAF/Z5SBLlanes,0),0)))),0)","v":102},null,null,null,null,null,null,null,{"$f":"IF(Z5EBLlanes=0,\"Yes\",\"No\")","v":"No"},null,null,null,null,null,null,null,null,null,null,null,null,null,null,null,null,null,null,null,null,null,null,null,null,null,null,null,null,null,null,null,null,null,null,null,null,null,{"$f":"ROUND(IF(Z5EWSplit,MAX(IFERROR(Z5WBL/LTAF/Z5WBLlanes,0),IFERROR(Z5WBT/Z5WBTlanes,0),IFERROR(Z5WBR/RTAF/Z5WBRlanes,0)-IFERROR(Z5SBL/LTAF/Z5SBLlanes,0)),IFERROR(Z5WBL/LTAF/Z5WBLlanes,0) +MAX(IFERROR(Z5EBT/Z5EBTlanes,0), MAX(0,IFERROR(Z5EBR/RTAF/Z5EBRlanes-IFERROR(Z5NBL/LTAF/Z5NBLlanes,0),0)))),0)","v":102}]
[null,null,null,null,null,null,null,null,null,null,null,null,null,null,null,null,null,null,null,null,null,null,null,null,null,null,null,null,null,null,null,null,null,null,null,null,null,null,null,null,null,null,null,null,null,null,null,null,null,null,null,null,null,null,null,null,null,null,null,null,null,null,null,null,null,null,null,null,null,null,null,null,null,null,null,null,"EB",null,null,null,null,null,null,null,"pcph",{"$f":"ROUND((INDIRECT(BY37&\"T_Master\")+ROUND((INDIRECT(BY37&\"R_Master\")-Z5EBR)/RTAF,0))+(INDIRECT(BY37&\"L_Master\")-Z5EBL)*IF(AND(Z5EBLShared=\"Yes\",Z5EBLlanes<2),1/LTAF,1),0)","v":204},{"$f":"'3 - Alt Num Lanes Input'!AU97","v":2},null,null,null,null,null,null,null,null,null,null,null,null,{"$f":"'3 - Alt Num Lanes Input'!BA97","v":1},{"$f":"IF(AND(Z5WBLShared=\"Yes\",Z5WBLlanes<2),ROUND(INDIRECT(DC34&\"L_Master\")*(Z5WBLlanes/(Z5WBLlanes+1)),0),INDIRECT(DC34&\"L_Master\"))","v":31},"pcph",null,null,null,null,"Shared\n?"]
[]
[null,null,null,null,null,null,null,null,null,null,null,null,null,null,null,null,null,null,null,null,null,null,null,null,null,null,null,null,null,null,null,null,null,null,null,null,null,null,null,null,null,null,null,null,null,null,null,null,null,null,null,null,null,null,null,null,null,null,null,null,null,null,null,null,null,null,null,null,null,null,null,null,null,null,null,null,null,null,null,null,null,null,null,null,null,null,null,null,null,null,null,null,null,null,null,null,null,null,null,null,null,null,null,null,null,null,{"$f":"IF(Z5WBLlanes=0,\"Yes\",\"No\")","v":"No"}]
[null,null,null,null,null,null,null,null,null,null,null,null,null,null,null,null,null,null,null,null,null,null,null,null,null,null,null,null,null,null,null,null,null,null,null,null,null,null,null,null,null,null,null,null,null,null,null,null,null,null,null,null,null,null,null,null,null,null,null,null,null,null,null,null,null,null,null,null,null,null,null,null,null,null,null,null,null,"Shared\n?",null,null,null,null,null,null,"pcph",{"$f":"IF(Z5EBRShared=\"Yes\",ROUND(INDIRECT(BY37&\"R_Master\")*(Z5EBRlanes/(Z5EBRlanes+1)),0),INDIRECT(BY37&\"R_Master\"))","v":51},{"$f":"'3 - Alt Num Lanes Input'!AW97","v":1},null,{"$f":"Z5NB+Z5EB","v":357}]
[]
[null,null,null,null,null,null,null,null,null,null,null,null,null,null,null,null,null,null,null,null,null,null,null,null,null,null,null,null,null,null,null,null,null,null,null,null,null,null,null,null,null,null,null,null,null,null,null,null,null,null,null,null,null,null,null,null,null,null,null,null,null,null,null,null,null,null,null,null,null,null,null,null,null,null,null,null,null,{"$f":"IF(Z5EBRlanes=0,\"Yes\",\"No\")","v":"No"}]
[null,null,null,null,null,null,null,null,null,null,null,null,null,null,null,null,null,null,null,null,null,null,null,null,null,null,null,null,null,null,null,null,null,null,null,null,null,null,null,null,null,null,null,null,null,null,null,null,null,null,null,null,null,null,null,null,null,null,null,null,null,null,null,null,null,null,null,null,null,null,null,null,null,null,null,null,null,null,null,null,null,null,null,null,null,null,null,null,null,null,{"$f":"'3 - Alt Num Lanes Input'!AC97","v":1},null,null,{"$f":"'3 - Alt Num Lanes Input'!AE97","v":2},null,null,{"$f":"'3 - Alt Num Lanes Input'!AG97","v":1}]
[null,null,null,null,null,null,null,null,null,null,null,null,null,null,null,null,null,null,null,null,null,null,null,null,null,null,null,null,null,null,null,null,null,null,null,null,null,null,null,null,null,null,null,null,null,null,null,null,null,null,null,null,null,null,null,null,null,null,null,null,null,null,null,null,null,null,null,null,null,null,null,null,null,null,null,null,null,null,null,null,null,null,null,null,null,null,null,null,null,null,{"$f":"IF(AND(Z5NBLShared=\"Yes\",Z5NBLlanes<2),ROUND(INDIRECT(CO53&\"L_Master\")*(Z5NBLlanes/(Z5NBLlanes+1)),0),INDIRECT(CO53&\"L_Master\"))","v":102},null,null,{"$f":"ROUND((INDIRECT(CO53&\"T_Master\")+ROUND((INDIRECT(CO53&\"R_Master\")-Z5NBR)/RTAF,0))+(INDIRECT(CO53&\"L_Master\")-Z5NBL)*IF(AND(Z5NBLShared=\"Yes\",Z5NBLlanes<2),1/LTAF,1),0)","v":510},null,null,{"$f":"IF(Z5NBRShared=\"Yes\",ROUND(INDIRECT(CO53&\"R_Master\")*(Z5NBRlanes/(Z5NBRlanes+1)),0),INDIRECT(CO53&\"R_Master\"))","v":204}]
[null,null,null,null,null,null,null,null,null,null,null,null,null,null,null,null,null,null,null,null,null,null,null,null,null,null,null,null,null,null,null,null,null,null,null,null,null,null,null,null,null,null,null,null,null,null,null,null,null,null,null,null,null,null,null,null,null,null,null,null,null,null,null,null,null,null,null,null,null,null,null,null,null,null,null,null,null,null,null,null,null,null,null,null,null,null,null,null,null,null,"pcph",null,null,"pcph",null,null,"pcph"]
[]
[]
[]
[]
[null,null,null,null,null,null,null,null,null,null,null,null,null,null,null,null,null,null,null,null,null,null,null,null,null,null,null,null,null,null,null,null,null,null,null,null,null,null,null,null,null,null,null,null,null,null,null,null,null,null,null,null,null,null,null,null,null,null,null,null,null,null,null,null,null,null,null,null,null,null,null,null,null,null,null,null,null,null,null,null,null,null,null,null,null,null,null,null,null,null,{"$f":"IF(Z5NBLlanes=0,\"Yes\",\"No\")","v":"No"},null,null,null,null,null,{"$f":"IF(Z5NBRlanes=0,\"Yes\",\"No\")","v":"No"}]
[null,null,null,null,null,null,null,null,null,null,null,null,null,null,null,null,null,null,null,null,null,null,null,null,null,null,null,null,null,null,null,null,null,null,null,null,null,null,null,null,null,null,null,null,null,null,null,null,null,null,null,null,null,null,null,null,null,null,null,null,null,null,null,null,null,null,null,null,null,null,null,null,null,null,null,null,null,null,null,null,null,null,null,null,null,null,null,null,null,null,"Shared\n?",null,null,null,null,null,"Shared\n?"]
[]
[null,null,null,null,null,null,null,null,null,null,null,null,null,null,null,null,null,null,null,null,null,null,null,null,null,null,null,null,null,null,null,null,null,null,null,null,null,null,null,null,null,null,null,null,null,null,null,null,null,null,null,null,null,null,null,null,null,null,null,null,null,null,null,null,null,null,null,null,null,null,null,null,null,null,null,null,null,null,null,null,null,null,null,null,null,null,null,null,null,null,null,null,"NB"]
[]
[null,null,null,null,null,null,null,null,null,null,null,null,null,null,null,null,null,null,null,null,null,null,null,null,null,null,null,null,null,null,null,null,null,null,null,null,null,null,null,null,null,null,null,null,{"$f":"CK40","v":357},null,null,null,null,null,null,null,null,"CLV"]
[]
[null,null,null,null,null,null,null,null,null,null,null,null,null,null,null,null,null,null,null,null,null,null,null,null,null,null,null,null,null,null,null,null,null,null,null,null,null,null,null,null,null,null,null,null,null,null,null,null,null,null,null,null,null,null,null,null,null,null,null,null,null,null,null,null,null,null,null,null,null,null,null,null,null,null,null,null,null,null,null,null,null,null,null,null,null,null,null,null,null,"NB Critical Vol"]
[null,null,null,null,null,null,null,null,null,null,null,null,null,null,null,null,null,null,null,null,null,null,null,null,null,null,null,null,null,null,null,null,null,null,null,null,null,null,null,null,null,null,null,null,{"$f":"ROUND(AS55/AX58,2)","v":0.2},null,null,null,"V/C",{"$f":"BG16*CLV_Limit_2","v":1800},null,null,null,"MAX",null,null,null,null,null,null,null,null,null,null,null,null,null,null,null,null,null,null,null,null,null,null,null,null,null,null,null,null,null,null,null,null,null,null,null,null,{"$f":"ROUND(IF(Z5NSSplit,MAX(IFERROR(Z5NBL/LTAF/Z5NBLlanes,0),IFERROR(Z5NBT/Z5NBTlanes,0),IFERROR(Z5NBR/RTAF/Z5NBRlanes,0)),IFERROR(Z5NBL/LTAF/Z5NBLlanes,0) +MAX(IFERROR(Z5SBT/Z5SBTlanes,0), MAX(0,IFERROR(Z5SBR/RTAF/Z5SBRlanes-IFERROR(Z5EBL/LTAF/Z5EBLlanes,0),0)))),0)","v":255}]
[]
[]
[null,null,null,null,null,null,null,null,null,null,null,null,null,null,null,null,null,null,null,null,null,null,null,null,null,null,null,null,null,null,null,null,null,null,null,null,null,null,null,null,null,null,null,null,null,null,null,null,null,"2 Phases"]
[]
[]
[]
[]
[]
[]
[]
[]
[]
[]
[]
[]
[null,null,null,null,null,null,null,null,null,null,null,null,null,"Note: This diagram does not reflect the actual lane configuration of the Intersection"]

{"sheet":"Center Turn Overpass","index":44,"n_rows":74,"n_cols":112,"rows_kept":74,"cut":false,"hidden":false,"merged":[[27,7,29,15],[27,16,29,16],[73,13,73,46],[33,12,33,16],[30,7,32,10],[30,11,32,11],[30,12,32,15],[30,16,32,16],[58,42,60,45],[58,46,60,46],[0,1,1,60],[0,63,1,122],[2,1,3,60],[2,63,3,122],[5,36,5,38],[5,42,5,44],[15,44,17,57],[15,58,16,59],[6,2,7,9],[6,10,7,35],[10,2,11,9],[10,10,11,35],[10,36,13,47],[10,48,13,59],[12,2,13,9],[12,10,13,35],[6,36,7,59],[8,2,9,9],[8,10,9,35],[8,36,9,41],[8,42,9,47],[8,48,9,53],[17,101,17,105],[17,106,17,109],[29,87,29,89],[29,90,29,92],[29,93,29,95],[30,99,32,99],[30,100,32,100],[34,67,34,73],[18,101,18,105],[18,106,18,109],[8,54,9,59],[15,91,15,97],[16,93,16,95],[27,87,27,89],[27,90,27,92],[27,93,27,95],[28,87,28,89],[28,90,28,92],[28,93,28,95],[20,87,21,89],[22,87,22,89],[23,87,26,89],[23,90,26,92],[23,93,26,95],[35,69,35,71],[33,80,35,83],[33,84,35,84],[33,85,35,85],[33,86,35,86],[33,88,34,97],[30,101,32,101],[30,102,32,105],[35,109,35,115],[33,99,35,99],[33,100,35,100],[33,101,35,101],[33,102,35,105],[30,106,31,108],[31,88,32,97],[32,106,32,108],[36,80,38,83],[36,84,38,84],[36,85,38,85],[36,86,38,86],[36,99,38,99],[36,100,38,100],[36,101,38,101],[36,102,38,105],[36,111,36,113],[37,88,38,97],[39,86,41,86],[39,88,40,97],[41,77,41,79],[42,90,42,92],[42,93,42,95],[42,96,42,98],[39,77,40,79],[39,80,41,83],[39,84,41,84],[39,85,41,85],[45,96,48,98],[49,96,49,98],[50,96,51,98],[43,90,43,92],[43,93,43,95],[43,96,43,98],[44,90,44,92],[44,93,44,95],[44,96,44,98],[58,47,60,50],[58,51,60,51],[61,47,61,51],[56,89,56,95],[57,90,57,92],[55,42,57,50],[55,51,57,51],[45,90,48,92],[45,93,48,95]]}
[null,"Center Turn Overpass",null,null,null,null,null,null,null,null,null,null,null,null,null,null,null,null,null,null,null,null,null,null,null,null,null,null,null,null,null,null,null,null,null,null,null,null,null,null,null,null,null,null,null,null,null,null,null,null,null,null,null,null,null,null,null,null,null,null,null,null,null,"Center Turn Overpass"]
[]
[null,"Design and results",null,null,null,null,null,null,null,null,null,null,null,null,null,null,null,null,null,null,null,null,null,null,null,null,null,null,null,null,null,null,null,null,null,null,null,null,null,null,null,null,null,null,null,null,null,null,null,null,null,null,null,null,null,null,null,null,null,null,null,null,null,"Data Input and Configuration"]
[]
[]
[]
[null,null,"Project Name:",null,null,null,null,null,null,null,{"$f":"P_Name","v":"Cap-X Sample Street"},null,null,null,null,null,null,null,null,null,null,null,null,null,null,null,null,null,null,null,null,null,null,null,null,null,"Volume-to-Capacity Ratio"]
[]
[null,null,"Project Number:",null,null,null,null,null,null,null,{"$f":"P_Number","v":10000},null,null,null,null,null,null,null,null,null,null,null,null,null,null,null,null,null,null,null,null,null,null,null,null,null,"< 0.750",null,null,null,null,null,"0.750 - 0.875",null,null,null,null,null,"0.875 - 1.00",null,null,null,null,null,"≥ 1.00"]
[]
[null,null,"Location",null,null,null,null,null,null,null,{"$f":"Location","v":"Anywhere, USA"},null,null,null,null,null,null,null,null,null,null,null,null,null,null,null,null,null,null,null,null,null,null,null,null,null,"VOLUME / CAPACITY RATIO:",null,null,null,null,null,null,null,null,null,null,null,{"$f":"H31","v":0.2}]
[]
[null,null,"Date",null,null,null,null,null,null,null,{"$f":"Date","v":"2017 AM"}]
[]
[]
[null,null,null,null,null,null,null,null,null,null,null,null,null,null,null,null,null,null,null,null,null,null,null,null,null,null,null,null,null,null,null,null,null,null,null,null,null,null,null,null,null,null,null,null,"Multimodal Capacity Adjustment Factor",null,null,null,null,null,null,null,null,null,null,null,null,null,{"$f":"IF(Multimodal=1,1,IF(MAX(CM30,CV34,CP43,CI37)<3,1,IF(MAX(CI37,CP43,CV34,CM30)<4,0.9,0.8)))","v":1},null,null,null,null,null,null,null,null,null,null,null,null,null,null,null,null,null,null,null,null,null,null,null,null,null,null,null,null,null,null,null,null,"SB Critical Vol"]
[null,null,null,null,null,null,null,null,null,null,null,null,null,null,null,null,null,null,null,null,null,null,null,null,null,null,null,null,null,null,null,null,null,null,null,null,null,null,null,null,null,null,null,null,null,null,null,null,null,null,null,null,null,null,null,null,null,null,null,null,null,null,null,null,null,null,null,null,null,null,null,null,null,null,null,null,null,null,null,null,null,null,null,null,null,null,null,null,null,null,null,null,null,{"$f":"ROUND(IF(Z5NSSplit,MAX(IFERROR(Z5SBT/Z5SBTlanes,0),IFERROR(Z5SBR/RTAF/Z5SBRlanes,0)),MAX(IFERROR(Z5NBT/Z5NBTlanes,0), MAX(0,IFERROR(Z5NBR/RTAF/Z5NBRlanes,0)))),0)","v":255}]
[null,null,null,null,null,null,null,null,null,null,null,null,null,null,null,null,null,null,null,null,null,null,null,null,null,null,null,null,null,null,null,null,null,null,null,null,null,null,null,null,null,null,null,null,null,null,null,null,null,null,null,null,null,null,null,null,null,null,null,null,null,null,null,null,null,null,null,null,null,null,null,null,null,null,null,null,null,null,null,null,null,null,null,null,null,null,null,null,null,null,null,null,null,null,null,null,null,null,null,null,null,"EW Split?",null,null,null,null,false]
[null,null,null,null,null,null,null,null,null,null,null,null,null,null,null,null,null,null,null,null,null,null,null,null,null,null,null,null,null,null,null,null,null,null,null,null,null,null,null,null,null,null,null,null,null,null,null,null,null,null,null,null,null,null,null,null,null,null,null,null,null,null,null,null,null,null,null,null,null,null,null,null,null,null,null,null,null,null,null,null,null,null,null,null,null,null,null,null,null,null,null,null,null,null,null,null,null,null,null,null,null,"NS Split?",null,null,null,null,false]
[]
[null,null,null,null,null,null,null,null,null,null,null,null,null,null,null,null,null,null,null,null,null,null,null,null,null,null,null,null,null,null,null,null,null,null,null,null,null,null,null,null,null,null,null,null,null,null,null,null,null,null,null,null,null,null,null,null,null,null,null,null,null,null,null,null,null,null,null,null,null,null,null,null,null,null,null,null,null,null,null,null,null,null,null,null,null,null,null,"Shared\n?"]
[]
[null,null,null,null,null,null,null,null,null,null,null,null,null,null,null,null,null,null,null,null,null,null,null,null,null,null,null,null,null,null,null,null,null,null,null,null,null,null,null,null,null,null,null,null,null,null,null,null,null,null,null,null,null,null,null,null,null,null,null,null,null,null,null,null,null,null,null,null,null,null,null,null,null,null,null,null,null,null,null,null,null,null,null,null,null,null,null,{"$f":"IF(Z5SBRlanes=0,\"Yes\",\"No\")","v":"No"}]
[]
[]
[]
[]
[null,null,null,null,null,null,null,{"$f":"CK34","v":357},null,null,null,null,null,null,null,null,"CLV",null,null,null,null,null,null,null,null,null,null,null,null,null,null,null,null,null,null,null,null,null,null,null,null,null,null,null,null,null,null,null,null,null,null,null,null,null,null,null,null,null,null,null,null,null,null,null,null,null,null,null,null,null,null,null,null,null,null,null,null,null,null,null,null,null,null,null,null,null,null,"pcph",null,null,"pcph",null,null,"pcph"]
[null,null,null,null,null,null,null,null,null,null,null,null,null,null,null,null,null,null,null,null,null,null,null,null,null,null,null,null,null,null,null,null,null,null,null,null,null,null,null,null,null,null,null,null,null,null,null,null,null,null,null,null,null,null,null,null,null,null,null,null,null,null,null,null,null,null,null,null,null,null,null,null,null,null,null,null,null,null,null,null,null,null,null,null,null,null,null,{"$f":"IF(Z5SBRShared=\"Yes\",ROUND(SBR_Master*(Z5SBRlanes/(Z5SBRlanes+1)),0),SBR_Master)","v":51},null,null,{"$f":"SBT_Master+ROUND((SBR_Master-Z5SBR)/RTAF,0)","v":204},null,null,{"$f":"IF(AND(Z5SBLShared=\"Yes\",Z5SBLlanes<2),ROUND(SBL_Master*(Z5SBLlanes/(Z5SBLlanes+1)),0),SBL_Master)","v":31}]
[null,null,null,null,null,null,null,null,null,null,null,null,null,null,null,null,null,null,null,null,null,null,null,null,null,null,null,null,null,null,null,null,null,null,null,null,null,null,null,null,null,null,null,null,null,null,null,null,null,null,null,null,null,null,null,null,null,null,null,null,null,null,null,null,null,null,null,null,null,null,null,null,null,null,null,null,null,null,null,null,null,null,null,null,null,null,null,{"$f":"'3 - Alt Num Lanes Input'!AO99","v":1},null,null,{"$f":"'3 - Alt Num Lanes Input'!AM99","v":2},null,null,{"$f":"'3 - Alt Num Lanes Input'!AK99","v":1}]
[null,null,null,null,null,null,null,{"$f":"ROUND(H28/M31,2)","v":0.2},null,null,null,"V/C",{"$f":"BG16*CLV_Limit_2","v":1800},null,null,null,"MAX",null,null,null,null,null,null,null,null,null,null,null,null,null,null,null,null,null,null,null,null,null,null,null,null,null,null,null,null,null,null,null,null,null,null,null,null,null,null,null,null,null,null,null,null,null,null,null,null,null,null,null,null,null,null,null,null,null,null,null,null,null,null,null,null,null,null,null,null,null,null,null,null,null,null,null,null,null,null,null,null,null,null,{"$f":"'3 - Alt Num Lanes Input'!BE99","v":1},{"$f":"IF(Z5WBRShared=\"Yes\",ROUND(WBR_Master*(Z5WBRlanes/(Z5WBRlanes+1)),0),WBR_Master)","v":51},"pcph",null,null,null,null,"Shared\n?"]
[]
[null,null,null,null,null,null,null,null,null,null,null,null,null,null,null,null,null,null,null,null,null,null,null,null,null,null,null,null,null,null,null,null,null,null,null,null,null,null,null,null,null,null,null,null,null,null,null,null,null,null,null,null,null,null,null,null,null,null,null,null,null,null,null,null,null,null,null,null,null,null,null,null,null,null,null,null,null,null,null,null,null,null,null,null,null,null,null,null,null,null,null,null,null,null,null,null,null,null,null,null,null,null,null,null,null,null,{"$f":"IF(Z5WBRlanes=0,\"Yes\",\"No\")","v":"No"}]
[null,null,null,null,null,null,null,null,null,null,null,null,"2 Phases",null,null,null,null,null,null,null,null,null,null,null,null,null,null,null,null,null,null,null,null,null,null,null,null,null,null,null,null,null,null,null,null,null,null,null,null,null,null,null,null,null,null,null,null,null,null,null,null,null,null,null,null,null,null,null,null,null,null,null,null,null,null,null,null,null,null,null,null,null,null,null,"pcph",{"$f":"IF(AND(Z5EBLShared=\"Yes\",Z5EBLlanes<2),ROUND(EBL_Master*(Z5EBLlanes/(Z5EBLlanes+1)),0),EBL_Master)","v":31},{"$f":"'3 - Alt Num Lanes Input'!AS99","v":1},null,{"$f":"IF(Z5EWSplit,Z5EB+Z5WB,MAX(Z5EB,Z5WB))+IF(Z5NSSplit,Z5NB+Z5SB,MAX(Z5NB,Z5SB))","v":357},null,null,null,null,null,null,null,null,null,null,{"$f":"'3 - Alt Num Lanes Input'!BC99","v":2},{"$f":"WBT_Master+ROUND((WBR_Master-Z5WBR)/RTAF,0)","v":204},"pcph"]
[null,null,null,null,null,null,null,null,null,null,null,null,null,null,null,null,null,null,null,null,null,null,null,null,null,null,null,null,null,null,null,null,null,null,null,null,null,null,null,null,null,null,null,null,null,null,null,null,null,null,null,null,null,null,null,null,null,null,null,null,null,null,null,null,null,null,null,"EB Critical Vol"]
[null,null,null,null,null,null,null,null,null,null,null,null,null,null,null,null,null,null,null,null,null,null,null,null,null,null,null,null,null,null,null,null,null,null,null,null,null,null,null,null,null,null,null,null,null,null,null,null,null,null,null,null,null,null,null,null,null,null,null,null,null,null,null,null,null,null,null,null,null,{"$f":"ROUND(IF(Z5EWSplit,MAX(IFERROR(Z5EBT/Z5EBTlanes,0),IFERROR(Z5EBR/RTAF/Z5EBRlanes,0)),MAX(IFERROR(Z5WBT/Z5WBTlanes,0), MAX(0,IFERROR(Z5WBR/RTAF/Z5WBRlanes,0)))),0)","v":102},null,null,null,null,null,null,null,null,null,null,null,null,null,null,null,null,null,null,null,null,null,null,null,null,null,null,null,null,null,null,null,null,null,null,null,null,null,null,null,"WB Critical Vol"]
[null,null,null,null,null,null,null,null,null,null,null,null,null,null,null,null,null,null,null,null,null,null,null,null,null,null,null,null,null,null,null,null,null,null,null,null,null,null,null,null,null,null,null,null,null,null,null,null,null,null,null,null,null,null,null,null,null,null,null,null,null,null,null,null,null,null,null,null,null,null,null,null,null,null,null,null,null,null,null,null,null,null,null,null,"pcph",{"$f":"EBT_Master+ROUND((EBR_Master-Z5EBR)/RTAF,0)","v":204},{"$f":"'3 - Alt Num Lanes Input'!AU99","v":2},null,null,null,null,null,null,null,null,null,null,null,null,{"$f":"'3 - Alt Num Lanes Input'!BA99","v":1},{"$f":"IF(AND(Z5WBLShared=\"Yes\",Z5WBLlanes<2),ROUND(WBL_Master*(Z5WBLlanes/(Z5WBLlanes+1)),0),WBL_Master)","v":31},"pcph",null,null,null,null,null,null,null,null,null,{"$f":"ROUND(IF(Z5EWSplit,MAX(IFERROR(Z5WBT/Z5WBTlanes,0),IFERROR(Z5WBR/RTAF/Z5WBRlanes,0)),MAX(IFERROR(Z5EBT/Z5EBTlanes,0), MAX(0,IFERROR(Z5EBR/RTAF/Z5EBRlanes,0)))),0)","v":102}]
[]
[]
[null,null,null,null,null,null,null,null,null,null,null,null,null,null,null,null,null,null,null,null,null,null,null,null,null,null,null,null,null,null,null,null,null,null,null,null,null,null,null,null,null,null,null,null,null,null,null,null,null,null,null,null,null,null,null,null,null,null,null,null,null,null,null,null,null,null,null,null,null,null,null,null,null,null,null,null,null,"Shared\n?",null,null,null,null,null,null,"pcph",{"$f":"IF(Z5EBRShared=\"Yes\",ROUND(EBR_Master*(Z5EBRlanes/(Z5EBRlanes+1)),0),EBR_Master)","v":51},{"$f":"'3 - Alt Num Lanes Input'!AW99","v":1},null,{"$f":"MAX(Z5EBL/LTAF/Z5EBLlanes,Z5WBL/LTAF/Z5WBLlanes,0)+MAX(Z5SBL/LTAF/Z5SBLlanes,Z5NBL/LTAF/Z5NBLlanes,0)","v":140}]
[]
[null,null,null,null,null,null,null,null,null,null,null,null,null,null,null,null,null,null,null,null,null,null,null,null,null,null,null,null,null,null,null,null,null,null,null,null,null,null,null,null,null,null,null,null,null,null,null,null,null,null,null,null,null,null,null,null,null,null,null,null,null,null,null,null,null,null,null,null,null,null,null,null,null,null,null,null,null,{"$f":"IF(Z5EBRlanes=0,\"Yes\",\"No\")","v":"No"}]
[null,null,null,null,null,null,null,null,null,null,null,null,null,null,null,null,null,null,null,null,null,null,null,null,null,null,null,null,null,null,null,null,null,null,null,null,null,null,null,null,null,null,null,null,null,null,null,null,null,null,null,null,null,null,null,null,null,null,null,null,null,null,null,null,null,null,null,null,null,null,null,null,null,null,null,null,null,null,null,null,null,null,null,null,null,null,null,null,null,null,{"$f":"'3 - Alt Num Lanes Input'!AC99","v":1},null,null,{"$f":"'3 - Alt Num Lanes Input'!AE99","v":2},null,null,{"$f":"'3 - Alt Num Lanes Input'!AG99","v":1}]
[null,null,null,null,null,null,null,null,null,null,null,null,null,null,null,null,null,null,null,null,null,null,null,null,null,null,null,null,null,null,null,null,null,null,null,null,null,null,null,null,null,null,null,null,null,null,null,null,null,null,null,null,null,null,null,null,null,null,null,null,null,null,null,null,null,null,null,null,null,null,null,null,null,null,null,null,null,null,null,null,null,null,null,null,null,null,null,null,null,null,{"$f":"IF(AND(Z5NBLShared=\"Yes\",Z5NBLlanes<2),ROUND(NBL_Master*(Z5NBLlanes/(Z5NBLlanes+1)),0),NBL_Master)","v":102},null,null,{"$f":"NBT_Master+ROUND((NBR_Master-Z5NBR)/RTAF,0)","v":510},null,null,{"$f":"IF(Z5NBRShared=\"Yes\",ROUND(NBR_Master*(Z5NBRlanes/(Z5NBRlanes+1)),0),NBR_Master)","v":204}]
[null,null,null,null,null,null,null,null,null,null,null,null,null,null,null,null,null,null,null,null,null,null,null,null,null,null,null,null,null,null,null,null,null,null,null,null,null,null,null,null,null,null,null,null,null,null,null,null,null,null,null,null,null,null,null,null,null,null,null,null,null,null,null,null,null,null,null,null,null,null,null,null,null,null,null,null,null,null,null,null,null,null,null,null,null,null,null,null,null,null,"pcph",null,null,"pcph",null,null,"pcph"]
[]
[]
[]
[]
[null,null,null,null,null,null,null,null,null,null,null,null,null,null,null,null,null,null,null,null,null,null,null,null,null,null,null,null,null,null,null,null,null,null,null,null,null,null,null,null,null,null,null,null,null,null,null,null,null,null,null,null,null,null,null,null,null,null,null,null,null,null,null,null,null,null,null,null,null,null,null,null,null,null,null,null,null,null,null,null,null,null,null,null,null,null,null,null,null,null,null,null,null,null,null,null,{"$f":"IF(Z5NBRlanes=0,\"Yes\",\"No\")","v":"No"}]
[null,null,null,null,null,null,null,null,null,null,null,null,null,null,null,null,null,null,null,null,null,null,null,null,null,null,null,null,null,null,null,null,null,null,null,null,null,null,null,null,null,null,null,null,null,null,null,null,null,null,null,null,null,null,null,null,null,null,null,null,null,null,null,null,null,null,null,null,null,null,null,null,null,null,null,null,null,null,null,null,null,null,null,null,null,null,null,null,null,null,null,null,null,null,null,null,"Shared\n?"]
[]
[]
[]
[]
[null,null,null,null,null,null,null,null,null,null,null,null,null,null,null,null,null,null,null,null,null,null,null,null,null,null,null,null,null,null,null,null,null,null,null,null,null,null,null,null,null,null,{"$f":"CK40","v":140},null,null,null,null,null,null,null,null,"CLV"]
[null,null,null,null,null,null,null,null,null,null,null,null,null,null,null,null,null,null,null,null,null,null,null,null,null,null,null,null,null,null,null,null,null,null,null,null,null,null,null,null,null,null,null,null,null,null,null,null,null,null,null,null,null,null,null,null,null,null,null,null,null,null,null,null,null,null,null,null,null,null,null,null,null,null,null,null,null,null,null,null,null,null,null,null,null,null,null,null,null,"NB Critical Vol"]
[null,null,null,null,null,null,null,null,null,null,null,null,null,null,null,null,null,null,null,null,null,null,null,null,null,null,null,null,null,null,null,null,null,null,null,null,null,null,null,null,null,null,null,null,null,null,null,null,null,null,null,null,null,null,null,null,null,null,null,null,null,null,null,null,null,null,null,null,null,null,null,null,null,null,null,null,null,null,null,null,null,null,null,null,null,null,null,null,null,null,{"$f":"ROUND(IF(Z5NSSplit,MAX(IFERROR(Z5NBT/Z5NBTlanes,0),IFERROR(Z5NBR/RTAF/Z5NBRlanes,0)),MAX(IFERROR(Z5SBT/Z5SBTlanes,0), MAX(0,IFERROR(Z5SBR/RTAF/Z5SBRlanes,0)))),0)","v":102}]
[null,null,null,null,null,null,null,null,null,null,null,null,null,null,null,null,null,null,null,null,null,null,null,null,null,null,null,null,null,null,null,null,null,null,null,null,null,null,null,null,null,null,{"$f":"ROUND(AQ56/AV59,2)","v":0.08},null,null,null,"V/C",{"$f":"BG16*CLV_Limit_2","v":1800},null,null,null,"MAX"]
[]
[]
[null,null,null,null,null,null,null,null,null,null,null,null,null,null,null,null,null,null,null,null,null,null,null,null,null,null,null,null,null,null,null,null,null,null,null,null,null,null,null,null,null,null,null,null,null,null,null,"2 Phases"]
[]
[]
[]
[]
[]
[]
[]
[]
[]
[]
[]
[null,null,null,null,null,null,null,null,null,null,null,null,null,"Note: This diagram does not reflect the actual lane configuration of the Intersection"]

{"sheet":"Center Turn Overpass E-W","index":45,"n_rows":74,"n_cols":64,"rows_kept":74,"cut":false,"hidden":true,"merged":[[27,7,29,15],[27,16,29,16],[73,13,73,46],[33,12,33,16],[30,7,32,10],[30,11,32,11],[30,12,32,15],[30,16,32,16],[15,44,17,57],[15,58,16,59],[6,2,7,9],[6,10,7,35],[10,2,11,9],[10,10,11,35],[10,36,13,47],[10,48,13,59],[12,2,13,9],[12,10,13,35],[6,36,7,59],[8,2,9,9],[8,10,9,35],[8,36,9,41],[8,42,9,47],[8,48,9,53],[8,54,9,59],[0,1,1,60],[0,63,1,122],[2,1,3,60],[2,63,3,122],[5,36,5,38],[5,42,5,44]]}
[null,"Traffic Signal",null,null,null,null,null,null,null,null,null,null,null,null,null,null,null,null,null,null,null,null,null,null,null,null,null,null,null,null,null,null,null,null,null,null,null,null,null,null,null,null,null,null,null,null,null,null,null,null,null,null,null,null,null,null,null,null,null,null,null,null,null,"Traffic Signal"]
[]
[null,"Design and results",null,null,null,null,null,null,null,null,null,null,null,null,null,null,null,null,null,null,null,null,null,null,null,null,null,null,null,null,null,null,null,null,null,null,null,null,null,null,null,null,null,null,null,null,null,null,null,null,null,null,null,null,null,null,null,null,null,null,null,null,null,"Data Input and Configuration"]
[]
[]
[]
[null,null,"Project Name:",null,null,null,null,null,null,null,{"$f":"P_Name","v":"Cap-X Sample Street"},null,null,null,null,null,null,null,null,null,null,null,null,null,null,null,null,null,null,null,null,null,null,null,null,null,"Volume-to-Capacity Ratio"]
[]
[null,null,"Project Number:",null,null,null,null,null,null,null,{"$f":"P_Number","v":10000},null,null,null,null,null,null,null,null,null,null,null,null,null,null,null,null,null,null,null,null,null,null,null,null,null,"< 0.750",null,null,null,null,null,"0.750 - 0.875",null,null,null,null,null,"0.875 - 1.00",null,null,null,null,null,"≥ 1.00"]
[]
[null,null,"Location",null,null,null,null,null,null,null,{"$f":"Location","v":"Anywhere, USA"},null,null,null,null,null,null,null,null,null,null,null,null,null,null,null,null,null,null,null,null,null,null,null,null,null,"VOLUME / CAPACITY RATIO:",null,null,null,null,null,null,null,null,null,null,null,{"$f":"H31","v":0}]
[]
[null,null,"Date",null,null,null,null,null,null,null,{"$f":"Date","v":"2017 AM"}]
[]
[]
[null,null,null,null,null,null,null,null,null,null,null,null,null,null,null,null,null,null,null,null,null,null,null,null,null,null,null,null,null,null,null,null,null,null,null,null,null,null,null,null,null,null,null,null,"Multimodal Capacity Adjustment Factor",null,null,null,null,null,null,null,null,null,null,null,null,null,{"$f":"IF(Multimodal=1,1,IF(MAX(CM30,CV34,CP43,CI37)<3,1,IF(MAX(CI37,CP43,CV34,CM30)<4,0.9,0.8)))","v":1}]
[]
[]
[]
[]
[]
[]
[]
[]
[]
[]
[]
[null,null,null,null,null,null,null,{"$f":"CL37","v":0},null,null,null,null,null,null,null,null,"CLV"]
[]
[]
[null,null,null,null,null,null,null,{"$f":"ROUND(H28/M31,2)","v":0},null,null,null,"V/C",{"$f":"BG16*IF((EBL_Master+EBR_Master+EBT_Master+EBU_Master)=0,CLV_Limit_3,IF((WBL_Master+WBR_Master+WBT_Master+WBU_Master)=0,CLV_Limit_3,IF((NBL_Master+NBR_Master+NBT_Master+NBU_Master)=0,CLV_Limit_3,IF((SBL_Master+SBR_Master+SBT_Master+SBU_Master)=0,CLV_Limit_3,CLV_Limit_4))))","v":1700},null,null,null,"MAX"]
[]
[]
[null,null,null,null,null,null,null,null,null,null,null,null,{"$f":"IF((EBL_Master+EBR_Master+EBT_Master+EBU_Master)=0,\"3 Phases\",IF((WBL_Master+WBR_Master+WBT_Master+WBU_Master)=0,\"3 Phases\",IF((NBL_Master+NBR_Master+NBT_Master+NBU_Master)=0,\"3 Phases\",IF((SBL_Master+SBR_Master+SBT_Master+SBU_Master)=0,\"3 Phases\",\"4 Phases\"))))","v":"4 Phases"}]
[]
[]
[]
[]
[]
[]
[]
[]
[]
[]
[]
[]
[]
[]
[]
[]
[]
[]
[]
[]
[]
[]
[]
[]
[]
[]
[]
[]
[]
[]
[]
[]
[]
[]
[]
[]
[]
[]
[]
[null,null,null,null,null,null,null,null,null,null,null,null,null,"Note: This diagram does not reflect the actual lane configuration of the Intersection"]

{"sheet":"50 Mini-Rndabt","index":46,"n_rows":68,"n_cols":119,"rows_kept":68,"cut":false,"hidden":false,"merged":[[6,65,8,78],[0,1,1,60],[2,1,3,60],[5,2,6,9],[5,10,6,35],[5,36,6,59],[7,2,8,9],[7,10,8,35],[7,36,8,41],[7,42,8,47],[7,48,8,53],[20,9,21,12],[20,13,21,16],[7,54,8,59],[9,2,10,9],[9,10,10,35],[9,36,12,43],[9,44,10,47],[9,48,10,51],[9,52,10,55],[9,56,10,59],[11,2,12,9],[11,10,12,35],[64,9,65,12],[64,13,65,16],[64,45,65,48],[64,49,65,52],[0,63,1,122],[2,63,3,122],[59,9,61,16],[59,45,61,52],[62,9,63,12],[62,13,63,16],[62,45,63,48],[62,49,63,52],[22,9,23,12],[22,13,23,16],[22,46,23,49],[22,50,23,53],[24,46,25,49],[24,50,25,53],[11,44,12,47],[11,48,12,51],[11,52,12,55],[11,56,12,59],[17,9,19,16],[19,46,21,53],[10,85,10,87],[10,88,10,90],[10,91,10,93],[10,94,10,96],[11,85,11,87],[11,88,11,90],[11,91,11,93],[11,94,11,96],[6,85,9,87],[6,88,9,90],[6,91,9,93],[6,94,9,96],[30,109,32,112],[30,117,32,117],[30,118,32,118],[30,119,32,122],[33,117,35,117],[33,118,35,118],[33,119,35,122],[30,85,31,87],[30,99,32,100],[30,101,32,105],[30,106,32,106],[30,107,32,107],[30,108,32,108],[36,119,38,122],[37,74,38,77],[37,78,38,81],[37,104,38,107],[37,108,38,111],[38,63,40,66],[38,67,40,67],[38,68,40,68],[38,101,40,102],[39,74,40,81],[35,63,37,66],[35,67,37,67],[35,68,37,68],[36,83,38,84],[36,117,38,117],[36,118,38,118],[35,70,37,70],[38,70,40,70],[34,74,36,81],[34,82,42,82],[34,83,35,84],[34,101,37,102],[34,103,42,103],[34,104,36,111],[44,63,46,66],[44,67,46,67],[44,68,46,68],[44,73,46,76],[44,77,46,77],[44,78,46,78],[39,117,41,117],[39,118,41,118],[39,119,41,122],[41,63,43,66],[41,67,43,67],[41,68,43,68],[41,74,42,77],[41,78,42,81],[41,101,42,102],[41,104,42,107],[39,83,42,84],[39,104,40,111],[41,108,42,111],[41,70,43,70],[44,70,46,70],[68,89,71,91],[68,92,71,94],[68,95,71,97],[68,98,71,100],[35,71,37,71],[38,71,40,71],[41,71,43,71],[44,71,46,71],[64,95,64,97],[64,98,64,100],[66,89,66,91],[66,92,66,94],[66,95,66,97],[66,98,66,100],[67,89,67,91],[67,92,67,94],[67,95,67,97],[67,98,67,100],[53,98,53,100],[54,98,54,100],[55,89,56,92],[55,93,56,96],[55,98,55,100],[56,98,59,100],[32,70,34,70],[32,71,34,71],[64,89,64,91],[64,92,64,94],[63,89,63,91],[63,92,63,94],[57,89,58,96],[59,89,60,92],[59,93,60,96],[44,79,46,79],[44,80,46,84],[44,85,46,86],[49,89,50,89],[49,90,50,92],[49,93,50,96],[52,89,54,96],[51,89,51,96],[64,86,64,88],[13,85,13,87],[13,88,13,90],[13,91,13,93],[13,94,13,96],[14,85,14,87],[14,88,14,90],[24,85,24,87],[24,89,25,92],[24,93,25,96],[25,85,29,87],[26,89,26,96],[27,89,28,89],[27,90,28,92],[27,93,28,96],[17,89,19,96],[18,85,21,87],[20,89,21,92],[20,93,21,96],[22,85,22,87],[22,89,23,96],[23,85,23,87],[6,79,7,80],[13,82,13,84],[14,82,14,84],[47,71,49,71],[63,101,63,103],[14,97,14,99],[30,115,32,115],[33,115,35,115],[36,115,38,115],[39,115,41,115],[42,114,44,114],[42,115,44,115],[14,91,14,93],[14,94,14,96],[30,114,32,114],[33,114,35,114],[36,114,38,114],[39,114,41,114],[27,114,29,114],[63,95,63,97],[63,98,63,100],[63,86,63,88],[46,98,47,100],[48,98,52,100]]}
[null,"50' ICD Mini-Roundabout",null,null,null,null,null,null,null,null,null,null,null,null,null,null,null,null,null,null,null,null,null,null,null,null,null,null,null,null,null,null,null,null,null,null,null,null,null,null,null,null,null,null,null,null,null,null,null,null,null,null,null,null,null,null,null,null,null,null,null,null,null,"50' ICD Mini-Roundabout"]
[]
[null,"Design and Results",null,null,null,null,null,null,null,null,null,null,null,null,null,null,null,null,null,null,null,null,null,null,null,null,null,null,null,null,null,null,null,null,null,null,null,null,null,null,null,null,null,null,null,null,null,null,null,null,null,null,null,null,null,null,null,null,null,null,null,null,null,"Data Input and Configuration"]
[]
[]
[null,null,"Project Name:",null,null,null,null,null,null,null,{"$f":"P_Name","v":"Cap-X Sample Street"},null,null,null,null,null,null,null,null,null,null,null,null,null,null,null,null,null,null,null,null,null,null,null,null,null,"Volume-to-Capacity Ratio"]
[null,null,null,null,null,null,null,null,null,null,null,null,null,null,null,null,null,null,null,null,null,null,null,null,null,null,null,null,null,null,null,null,null,null,null,null,null,null,null,null,null,null,null,null,null,null,null,null,null,null,null,null,null,null,null,null,null,null,null,null,null,null,null,null,null,"Multimodal Capacity Adjustment Factor",null,null,null,null,null,null,null,null,null,null,null,null,null,{"$f":"IF(Multimodal=1,1,IF(Multimodal=2,0.99,0.98))","v":1}]
[null,null,"Project Number:",null,null,null,null,null,null,null,{"$f":"P_Number","v":10000},null,null,null,null,null,null,null,null,null,null,null,null,null,null,null,null,null,null,null,null,null,null,null,null,null,"< 0.750",null,null,null,null,null,"0.750 - 0.875",null,null,null,null,null,"0.875 - 1.00",null,null,null,null,null,"≥ 1.00"]
[]
[null,null,"Location",null,null,null,null,null,null,null,{"$f":"Location","v":"Anywhere, USA"},null,null,null,null,null,null,null,null,null,null,null,null,null,null,null,null,null,null,null,null,null,null,null,null,null,"VOLUME / CAPACITY RATIO:",null,null,null,null,null,null,null,"Zone 1",null,null,null,{"$f":"MAX(J23,0)","v":0.42052776234173883},null,null,null,"Zone 4",null,null,null,{"$f":"MAX(AU25,0)","v":0.797136004213433}]
[null,null,null,null,null,null,null,null,null,null,null,null,null,null,null,null,null,null,null,null,null,null,null,null,null,null,null,null,null,null,null,null,null,null,null,null,null,null,null,null,null,null,null,null,null,null,null,null,null,null,null,null,null,null,null,null,null,null,null,null,null,null,null,null,null,null,null,null,null,null,null,null,null,null,null,null,null,null,null,null,null,null,null,null,null,"pepch",null,null,"pepch",null,null,"pepch",null,null,"pepch"]
[null,null,"Date",null,null,null,null,null,null,null,{"$f":"Date","v":"2017 AM"},null,null,null,null,null,null,null,null,null,null,null,null,null,null,null,null,null,null,null,null,null,null,null,null,null,null,null,null,null,null,null,null,null,"Zone 3",null,null,null,{"$f":"MAX(J65,0)","v":0.38628448968657914},null,null,null,"Zone 2",null,null,null,{"$f":"MAX(AT65,0)","v":1.0639288231617303},null,null,null,null,null,null,null,null,null,null,null,null,null,null,null,null,null,null,null,null,null,null,null,null,null,null,null,null,{"$f":"ROUND('1 - Volume Input'!AI36*('1 - Volume Input'!AY36+1),0)","v":50},null,null,{"$f":"ROUND('1 - Volume Input'!AA36*('1 - Volume Input'!AY36+1),0)","v":200},null,null,{"$f":"ROUND('1 - Volume Input'!S36*('1 - Volume Input'!AY36+1),0)","v":30},null,null,{"$f":"ROUND('1 - Volume Input'!K36*('1 - Volume Input'!AY36+1),0)","v":0}]
[]
[null,null,null,null,null,null,null,null,null,null,null,null,null,null,null,null,null,null,null,null,null,null,null,null,null,null,null,null,null,null,null,null,null,null,null,null,null,null,null,null,null,null,null,null,null,null,null,null,null,null,null,null,null,null,null,null,null,null,null,null,null,null,null,null,null,null,null,null,null,null,null,null,null,null,null,null,null,null,null,null,null,null,"Car",null,null,{"$f":"CH12-CH15","v":46},null,null,{"$f":"CK12-CK15","v":200},null,null,{"$f":"CN12-CN15","v":26},null,null,{"$f":"CQ12-CQ15","v":0}]
[null,null,null,null,null,null,null,null,null,null,null,null,null,null,null,null,null,null,null,null,null,null,null,null,null,null,null,null,null,null,null,null,null,null,null,null,null,null,null,null,null,null,null,null,null,null,null,null,null,null,null,null,null,null,null,null,null,null,null,null,null,null,null,null,null,null,null,null,null,null,null,null,null,null,null,null,null,null,null,null,null,null,"Truck",null,null,4,null,null,0,null,null,4,null,null,0,null,null,{"$f":"SUM(CH15:CS15)/SUM(CH14:CS15)","v":2.8571428571428571E-2}]
[]
[]
[null,null,null,null,null,null,null,null,null,"Predicted approach capacity",null,null,null,null,null,null,null,null,null,null,null,null,null,null,null,null,null,null,null,null,null,null,null,null,null,null,null,null,null,null,null,null,null,null,null,null,null,null,null,null,null,null,null,null,null,null,null,null,null,null,null,null,null,null,null,null,null,null,null,null,null,null,null,null,null,null,null,null,null,null,null,null,null,null,null,null,null,null,null,"Predicted approach capacity"]
[]
[null,null,null,null,null,null,null,null,null,null,null,null,null,null,null,null,null,null,null,null,null,null,null,null,null,null,null,null,null,null,null,null,null,null,null,null,null,null,null,null,null,null,null,null,null,null,"Predicted approach capacity"]
[null,null,null,null,null,null,null,null,null,{"$f":"CL21","v":665.83},null,null,null,"PCEPH",null,null,null,null,null,null,null,null,null,null,null,null,null,null,null,null,null,null,null,null,null,null,null,null,null,null,null,null,null,null,null,null,null,null,null,null,null,null,null,null,null,null,null,null,null,null,null,null,null,null,null,null,null,null,null,null,null,null,null,null,null,null,null,null,null,null,null,null,null,null,null,null,null,null,null,{"$f":"MAX(1009-1.025*CL25,1)","v":665.83},null,null,null,"PCEPH"]
[]
[null,null,null,null,null,null,null,null,null,{"$f":"CH31/CB7","v":0.42052776234173883},null,null,null,"V/C",null,null,null,null,null,null,null,null,null,null,null,null,null,null,null,null,null,null,null,null,null,null,null,null,null,null,null,null,null,null,null,null,{"$f":"DA38","v":351.25750000000005},null,null,null,"PCEPH",null,null,null,null,null,null,null,null,null,null,null,null,null,null,null,null,null,null,null,null,null,null,null,null,null,null,null,null,null,null,null,null,null,null,"pepch",null,null,null,"conflicting with"]
[null,null,null,null,null,null,null,null,null,null,null,null,null,null,null,null,null,{"$f":"+IF(J23>1,1,0)","v":0},null,null,null,null,null,null,null,null,null,null,null,null,null,null,null,null,null,null,null,null,null,null,null,null,null,null,null,null,null,null,null,null,null,null,null,null,null,null,null,null,null,null,null,null,null,null,null,null,null,null,null,null,null,null,null,null,null,null,null,null,null,null,null,null,null,null,null,{"$f":"SUM(CH12:CS12)","v":280}]
[null,null,null,null,null,null,null,null,null,null,null,null,null,null,null,null,null,null,null,null,null,null,null,null,null,null,null,null,null,null,null,null,null,null,null,null,null,null,null,null,null,null,null,null,null,null,{"$f":"CV31/CB7","v":0.797136004213433},null,null,null,"V/C",null,null,null,null,null,null,null,null,null,null,null,null,null,null,null,null,null,null,null,null,null,null,null,null,null,null,null,null,null,null,null,null,null,null,1,null,null,null,{"$f":"DL34+DL37+DL40+CO65+CL65+BS36+(1.7*(DK34+CO64+BT39))","v":334.8},null,null,null,"PCEPH"]
[null,null,null,null,null,null,null,null,null,null,null,null,null,null,null,null,null,null,null,null,null,null,null,null,null,null,null,null,null,null,null,null,null,null,null,null,null,null,null,null,null,null,null,null,null,null,null,null,null,null,null,null,null,null,{"$f":"+IF(AY25>1,1,0)","v":1},null,null,null,null,null,null,null,null,null,null,null,null,null,null,null,null,null,null,null,null,null,null,null,null,null,null,null,null,null,null,"V/C RATIO"]
[null,null,null,null,null,null,null,null,null,null,null,null,null,null,null,null,null,null,null,null,null,null,null,null,null,null,null,null,null,null,null,null,null,null,null,null,null,null,null,null,null,null,null,null,null,null,null,null,null,null,null,null,null,null,null,null,null,null,null,null,null,null,null,null,null,null,null,null,null,null,null,null,null,null,null,null,null,null,null,null,null,null,null,null,null,null,null,null,null,"Conflicting flow"]
[null,null,null,null,null,null,null,null,null,null,null,null,null,null,null,null,null,null,null,null,null,null,null,null,null,null,null,null,null,null,null,null,null,null,null,null,null,null,null,null,null,null,null,null,null,null,null,null,null,null,null,null,null,null,null,null,null,null,null,null,null,null,null,null,null,null,null,null,null,null,null,null,null,null,null,null,null,null,null,null,null,null,null,null,null,null,null,null,null,1,"Lane",null,null,null,null,null,null,null,null,null,null,null,null,null,null,null,null,null,null,null,null,null,null,null,{"$f":"SUM(DK31:DK42)/SUM(DK31:DL42)","v":2.5000000000000001E-2}]
[]
[]
[null,null,null,null,null,null,null,null,null,null,null,null,null,null,null,null,null,null,null,null,null,null,null,null,null,null,null,null,null,null,null,null,null,null,null,null,null,null,null,null,null,null,null,null,null,null,null,null,null,null,null,null,null,null,null,null,null,null,null,null,null,null,null,null,null,null,null,null,null,null,null,null,null,null,null,null,null,null,null,null,null,null,null,null,null,{"$f":"CH24/CL21","v":0.42052776234173883},null,null,null,null,null,null,null,null,null,null,null,null,null,{"$f":"DD31/DA38","v":0.797136004213433},null,"V/C RATIO",null,null,null,null,1,{"$f":"SUM(DN31:DN42)","v":280},"pepch",null,null,null,null,null,5,{"$f":"DN31-DK31","v":45},null,{"$f":"ROUND('1 - Volume Input'!AI34*('1 - Volume Input'!AY34+1),0)","v":50},"pepch"]
[]
[null,null,null,null,null,null,null,null,null,null,null,null,null,null,null,null,null,null,null,null,null,null,null,null,null,null,null,null,null,null,null,null,null,null,null,null,null,null,null,null,null,null,null,null,null,null,null,null,null,null,null,null,null,null,null,null,null,null,null,null,null,null,null,null,null,null,null,null,null,null,"Car","Truck"]
[null,null,null,null,null,null,null,null,null,null,null,null,null,null,null,null,null,null,null,null,null,null,null,null,null,null,null,null,null,null,null,null,null,null,null,null,null,null,null,null,null,null,null,null,null,null,null,null,null,null,null,null,null,null,null,null,null,null,null,null,null,null,null,null,null,null,null,null,null,null,null,null,null,null,null,null,null,null,null,null,null,null,null,null,null,null,null,null,null,null,null,null,null,null,null,null,null,null,null,null,null,null,null,null,null,null,null,null,null,null,null,null,null,null,2,{"$f":"DN34-DK34","v":198},null,{"$f":"ROUND('1 - Volume Input'!AA34*('1 - Volume Input'!AY34+1),0)","v":200},"pepch"]
[null,null,null,null,null,null,null,null,null,null,null,null,null,null,null,null,null,null,null,null,null,null,null,null,null,null,null,null,null,null,null,null,null,null,null,null,null,null,null,null,null,null,null,null,null,null,null,null,null,null,null,null,null,null,null,null,null,null,null,null,null,null,null,null,null,null,null,null,null,null,null,null,null,null,"Predicted approach capacity",null,null,null,null,null,null,null,"Conflicting flow",1,null,null,null,null,null,null,null,null,null,null,null,null,null,null,null,null,null,null,null,"Conflicting flow","Predicted approach capacity"]
[null,null,null,null,null,null,null,null,null,null,null,null,null,null,null,null,null,null,null,null,null,null,null,null,null,null,null,null,null,null,null,null,null,null,null,null,null,null,null,null,null,null,null,null,null,null,null,null,null,null,null,null,null,null,null,null,null,null,null,null,null,null,null,null,null,null,null,"pepch",{"$f":"ROUND('1 - Volume Input'!K32*('1 - Volume Input'!AY32+1),0)","v":0},null,{"$f":"BQ36-BT36","v":0},0]
[null,null,null,null,null,null,null,null,null,null,null,null,null,null,null,null,null,null,null,null,null,null,null,null,null,null,null,null,null,null,null,null,null,null,null,null,null,null,null,null,null,null,null,null,null,null,null,null,null,null,null,null,null,null,null,null,null,null,null,null,null,null,null,null,null,null,null,null,null,null,null,null,null,null,null,null,null,null,null,null,null,null,null,"Lane",null,null,null,null,null,null,null,null,null,null,null,null,null,null,null,null,null,null,null,null,null,null,null,null,null,null,null,null,null,null,0,{"$f":"DN37-DK37","v":30},null,{"$f":"ROUND('1 - Volume Input'!S34*('1 - Volume Input'!AY34+1),0)","v":30},"pepch"]
[null,null,null,null,null,null,null,null,null,null,null,null,null,null,null,null,null,null,null,null,null,null,null,null,null,null,null,null,null,null,null,null,null,null,null,null,null,null,null,null,null,null,null,null,null,null,null,null,null,null,null,null,null,null,null,null,null,null,null,null,null,null,null,null,null,null,null,null,null,null,null,null,null,null,{"$f":"MAX(1009-1.025*BW42,1)","v":746.6},null,null,null,"PCEPH",null,null,null,null,null,null,null,null,null,null,null,null,null,null,null,null,null,null,null,null,null,null,null,null,null,{"$f":"MAX(1009-1.025*DA42,1)","v":351.25750000000005},null,null,null,"PCEPH"]
[null,null,null,null,null,null,null,null,null,null,null,null,null,null,null,null,null,null,null,null,null,null,null,null,null,null,null,null,null,null,null,null,null,null,null,null,null,null,null,null,null,null,null,null,null,null,null,null,null,null,null,null,null,null,null,null,null,null,null,null,null,null,null,null,null,null,null,"pepch",{"$f":"ROUND('1 - Volume Input'!S32*('1 - Volume Input'!AY32+1),0)","v":30},null,{"$f":"BQ39-BT39","v":28},2,null,null,null,null,null,null,null,null,null,null,null,null,null,null,null,null,null,null,null,null,null,null,null,null,null,null,null,null,null,"Lane"]
[null,null,null,null,null,null,null,null,null,null,null,null,null,null,null,null,null,null,null,null,null,null,null,null,null,null,null,null,null,null,null,null,null,null,null,null,null,null,null,null,null,null,null,null,null,null,null,null,null,null,null,null,null,null,null,null,null,null,null,null,null,null,null,null,null,null,null,null,null,null,null,null,null,null,"conflicting with",null,null,null,null,null,null,null,null,null,null,null,null,null,null,null,null,null,null,null,null,null,null,null,null,null,null,null,null,null,"conflicting with",null,null,null,null,null,null,null,null,null,0,{"$f":"DN40-DK40","v":0},null,{"$f":"ROUND('1 - Volume Input'!K34*('1 - Volume Input'!AY34+1),0)","v":0},"pepch"]
[]
[null,null,null,null,null,null,null,null,null,null,null,null,null,null,null,null,null,null,null,null,null,null,null,null,null,null,null,null,null,null,null,null,null,null,null,null,null,null,null,null,null,null,null,null,null,null,null,null,null,null,null,null,null,null,null,null,null,null,null,null,null,null,null,null,null,null,null,"pepch",{"$f":"ROUND('1 - Volume Input'!AA32*('1 - Volume Input'!AY32+1),0)","v":200},null,{"$f":"BQ42-BT42","v":190},10,null,null,{"$f":"(CK14+CN14+CQ14+DL37+DL40+CL65)+(1.7*(CO64+DK37+CK15))","v":256},null,null,null,"PCEPH",null,null,null,null,null,null,null,null,null,null,null,null,null,null,null,null,null,null,null,null,null,null,1,null,null,{"$f":"CL65+CO65+CR65+CQ14+BS39+BS36+(1.7*(CR64+BT39+CN15))","v":641.70000000000005},null,null,null,"PCEPH"]
[null,null,null,null,null,null,null,null,null,null,null,null,null,null,null,null,null,null,null,null,null,null,null,null,null,null,null,null,null,null,null,null,null,null,null,null,null,null,null,null,null,null,null,null,null,null,null,null,null,null,null,null,null,null,null,null,null,null,null,null,null,null,null,null,null,null,null,null,null,null,null,null,null,null,null,null,null,null,null,null,null,null,null,null,null,null,null,null,null,null,null,null,null,null,null,null,null,null,null,null,null,null,null,null,null,null,null,null,null,null,null,null,null,null,"Truck","Car"]
[]
[null,null,null,null,null,null,null,null,null,null,null,null,null,null,null,null,null,null,null,null,null,null,null,null,null,null,null,null,null,null,null,null,null,null,null,null,null,null,null,null,null,null,null,null,null,null,null,null,null,null,null,null,null,null,null,null,null,null,null,null,null,null,null,null,null,null,null,"pepch",{"$f":"ROUND('1 - Volume Input'!AI32*('1 - Volume Input'!AY32+1),0)","v":50},null,{"$f":"BQ45-BT45","v":50},0,null,null,null,null,null,"pepch",{"$f":"SUM(BS36:BS47)+(1.7*(SUM(BT36:BT47)))","v":288.39999999999998},1,"V/C RATIO",null,null,null,null,{"$f":"CA45/BW38","v":0.38628448968657914}]
[]
[null,null,null,null,null,null,null,null,null,null,null,null,null,null,null,null,null,null,null,null,null,null,null,null,null,null,null,null,null,null,null,null,null,null,null,null,null,null,null,null,null,null,null,null,null,null,null,null,null,null,null,null,null,null,null,null,null,null,null,null,null,null,null,null,null,null,null,null,null,null,null,null,null,null,null,null,null,null,null,null,null,null,null,null,null,null,null,null,null,null,null,null,null,null,null,null,null,null,{"$f":"CU55/CL56","v":1.0639288231617303}]
[null,null,null,null,null,null,null,null,null,null,null,null,null,null,null,null,null,null,null,null,null,null,null,null,null,null,null,null,null,null,null,null,null,null,null,null,null,null,null,null,null,null,null,null,null,null,null,null,null,null,null,null,null,null,null,null,null,null,null,null,null,null,null,null,null,null,null,null,null,null,null,{"$f":"SUM(BT36:BT47)/(SUM(BS36:BT47))","v":4.2857142857142858E-2}]
[null,null,null,null,null,null,null,null,null,null,null,null,null,null,null,null,null,null,null,null,null,null,null,null,null,null,null,null,null,null,null,null,null,null,null,null,null,null,null,null,null,null,null,null,null,null,null,null,null,null,null,null,null,null,null,null,null,null,null,null,null,null,null,null,null,null,null,null,null,null,null,null,null,null,null,null,null,null,null,null,null,null,null,null,null,null,null,null,null,null,null,null,null,null,null,null,null,null,"V/C RATIO"]
[null,null,null,null,null,null,null,null,null,null,null,null,null,null,null,null,null,null,null,null,null,null,null,null,null,null,null,null,null,null,null,null,null,null,null,null,null,null,null,null,null,null,null,null,null,null,null,null,null,null,null,null,null,null,null,null,null,null,null,null,null,null,null,null,null,null,null,null,null,null,null,null,null,null,null,null,null,null,null,null,null,null,null,null,null,null,null,null,null,1,"Lane"]
[]
[null,null,null,null,null,null,null,null,null,null,null,null,null,null,null,null,null,null,null,null,null,null,null,null,null,null,null,null,null,null,null,null,null,null,null,null,null,null,null,null,null,null,null,null,null,null,null,null,null,null,null,null,null,null,null,null,null,null,null,null,null,null,null,null,null,null,null,null,null,null,null,null,null,null,null,null,null,null,null,null,null,null,null,null,null,null,null,null,null,"Conflicting flow"]
[null,null,null,null,null,null,null,null,null,null,null,null,null,null,null,null,null,null,null,null,null,null,null,null,null,null,null,null,null,null,null,null,null,null,null,null,null,null,null,null,null,null,null,null,null,null,null,null,null,null,null,null,null,null,null,null,null,null,null,null,null,null,null,null,null,null,null,null,null,null,null,null,null,null,null,null,null,null,null,null,null,null,null,null,null,null,null,null,null,"Predicted approach capacity"]
[null,null,null,null,null,null,null,null,null,null,null,null,null,null,null,null,null,null,null,null,null,null,null,null,null,null,null,null,null,null,null,null,null,null,null,null,null,null,null,null,null,null,null,null,null,null,null,null,null,null,null,null,null,null,null,null,null,null,null,null,null,null,null,null,null,null,null,null,null,null,null,null,null,null,null,null,null,null,null,null,null,null,null,null,null,null,null,null,null,null,null,null,null,null,null,null,null,null,1]
[null,null,null,null,null,null,null,null,null,null,null,null,null,null,null,null,null,null,null,null,null,null,null,null,null,null,null,null,null,null,null,null,null,null,null,null,null,null,null,null,null,null,null,null,null,null,null,null,null,null,null,null,null,null,null,null,null,null,null,null,null,null,null,null,null,null,null,null,null,null,null,null,null,null,null,null,null,null,null,null,null,null,null,null,null,null,null,null,null,null,null,null,null,null,null,null,null,null,{"$f":"SUM(CL67:CW67)","v":800}]
[null,null,null,null,null,null,null,null,null,null,null,null,null,null,null,null,null,null,null,null,null,null,null,null,null,null,null,null,null,null,null,null,null,null,null,null,null,null,null,null,null,null,null,null,null,null,null,null,null,null,null,null,null,null,null,null,null,null,null,null,null,null,null,null,null,null,null,null,null,null,null,null,null,null,null,null,null,null,null,null,null,null,null,null,null,null,null,null,null,{"$f":"MAX(1009-1.025*CL60,1)","v":751.93000000000006},null,null,null,"PCEPH",null,null,null,null,"pepch"]
[]
[null,null,null,null,null,null,null,null,null,null,null,null,null,null,null,null,null,null,null,null,null,null,null,null,null,null,null,null,null,null,null,null,null,null,null,null,null,null,null,null,null,null,null,null,null,null,null,null,null,null,null,null,null,null,null,null,null,null,null,null,null,null,null,null,null,null,null,null,null,null,null,null,null,null,null,null,null,null,null,null,null,null,null,null,null,null,null,null,null,"conflicting with"]
[]
[null,null,null,null,null,null,null,null,null,"Predicted approach capacity",null,null,null,null,null,null,null,null,null,null,null,null,null,null,null,null,null,null,null,null,null,null,null,null,null,null,null,null,null,null,null,null,null,null,null,"Predicted approach capacity",null,null,null,null,null,null,null,null,null,null,null,null,null,null,null,null,null,null,null,null,null,null,null,null,null,null,null,null,null,null,null,null,null,null,null,null,null,null,null,null,null,null,null,{"$f":"BS36+BS39+BS42+CN14+CQ14+DL40+(1.7*(BT45+CN15+DK37))","v":250.8},null,null,null,"PCEPH"]
[]
[]
[null,null,null,null,null,null,null,null,null,{"$f":"BW38","v":746.6},null,null,null,"PCEPH",null,null,null,null,null,null,null,null,null,null,null,null,null,null,null,null,null,null,null,null,null,null,null,null,null,null,null,null,null,null,null,{"$f":"CL56","v":751.93000000000006},null,null,null,"PCEPH"]
[null,null,null,null,null,null,null,null,null,null,null,null,null,null,null,null,null,null,null,null,null,null,null,null,null,null,null,null,null,null,null,null,null,null,null,null,null,null,null,null,null,null,null,null,null,null,null,null,null,null,null,null,null,null,null,null,null,null,null,null,null,null,null,null,null,null,null,null,null,null,null,null,null,null,null,null,null,null,null,null,null,null,null,null,null,null,"Truck",null,null,0,null,null,0,null,null,5,null,null,4,null,null,{"$f":"SUM(CL64:CW64)/SUM(CL64:CW65)","v":1.125E-2}]
[null,null,null,null,null,null,null,null,null,{"$f":"CH45/CB7","v":0.38628448968657914},null,null,null,"V/C",null,null,null,null,null,null,null,null,null,null,null,null,null,null,null,null,null,null,null,null,null,null,null,null,null,null,null,null,null,null,null,{"$f":"CU47/CB7","v":1.0639288231617303},null,null,null,"V/C",null,null,null,null,null,null,null,null,null,null,null,null,null,null,null,null,null,null,null,null,null,null,null,null,null,null,null,null,null,null,null,null,null,null,null,null,"Car",null,null,{"$f":"CL67-CL64","v":0},null,null,{"$f":"CO67-CO64","v":100},null,null,{"$f":"CR67-CR64","v":495},null,null,{"$f":"CU67-CU64","v":196}]
[null,null,null,null,null,null,null,null,null,null,null,null,null,null,null,null,null,{"$f":"+IF(J65>1,1,0)","v":0},null,null,null,null,null,null,null,null,null,null,null,null,null,null,null,null,null,null,null,null,null,null,null,null,null,null,null,null,null,null,null,null,null,null,null,{"$f":"+IF(AT65>1,1,0)","v":1}]
[null,null,null,null,null,null,null,null,null,null,null,null,null,null,null,null,null,null,null,null,null,null,null,null,null,null,null,null,null,null,null,null,null,null,null,null,null,null,null,null,null,null,null,null,null,null,null,null,null,null,null,null,null,null,null,null,null,null,null,null,null,null,null,null,null,null,null,null,null,null,null,null,null,null,null,null,null,null,null,null,null,null,null,null,null,null,null,null,null,{"$f":"ROUND('1 - Volume Input'!K38*('1 - Volume Input'!AY38+1),0)","v":0},null,null,{"$f":"ROUND('1 - Volume Input'!S38*('1 - Volume Input'!AY38+1),0)","v":100},null,null,{"$f":"ROUND('1 - Volume Input'!AA38*('1 - Volume Input'!AY38+1),0)","v":500},null,null,{"$f":"ROUND('1 - Volume Input'!AI38*('1 - Volume Input'!AY38+1),0)","v":200}]
[null,null,null,null,null,null,null,null,null,null,null,null,null,null,null,null,null,null,null,null,null,null,null,null,null,null,null,null,null,null,null,null,null,null,null,null,null,null,null,null,null,null,null,null,null,null,null,null,null,null,null,null,null,null,null,null,null,null,null,null,null,null,null,null,null,null,null,null,null,null,null,null,null,null,null,null,null,null,null,null,null,null,null,null,null,null,null,null,null,"pepch",null,null,"pepch",null,null,"pepch",null,null,"pepch"]

{"sheet":"75 Mini-Rndabt","index":47,"n_rows":68,"n_cols":119,"rows_kept":68,"cut":false,"hidden":false,"merged":[[6,65,8,78],[0,1,1,60],[2,1,3,60],[5,2,6,9],[5,10,6,35],[5,36,6,59],[7,2,8,9],[7,10,8,35],[7,36,8,41],[7,42,8,47],[7,48,8,53],[0,63,1,122],[2,63,3,122],[6,85,9,87],[6,88,9,90],[6,91,9,93],[6,94,9,96],[6,79,7,80],[7,54,8,59],[9,2,10,9],[9,56,10,59],[10,85,10,87],[10,88,10,90],[10,91,10,93],[14,82,14,84],[14,85,14,87],[14,88,14,90],[14,91,14,93],[14,94,14,96],[24,85,24,87],[24,89,25,92],[24,93,25,96],[11,44,12,47],[11,48,12,51],[11,52,12,55],[11,56,12,59],[19,46,21,53],[13,82,13,84],[13,85,13,87],[13,88,13,90],[13,91,13,93],[13,94,13,96],[22,46,23,49],[22,50,23,53],[24,46,25,49],[24,50,25,53],[64,9,65,12],[64,13,65,16],[64,45,65,48],[64,49,65,52],[9,10,10,35],[9,36,12,43],[9,44,10,47],[9,48,10,51],[9,52,10,55],[11,2,12,9],[11,10,12,35],[17,9,19,16],[20,9,21,12],[20,13,21,16],[59,9,61,16],[59,45,61,52],[62,9,63,12],[62,13,63,16],[62,45,63,48],[62,49,63,52],[22,9,23,12],[22,13,23,16],[10,94,10,96],[17,89,19,96],[18,85,21,87],[20,89,21,92],[20,93,21,96],[22,85,22,87],[22,89,23,96],[23,85,23,87],[14,97,14,99],[11,85,11,87],[11,88,11,90],[11,91,11,93],[11,94,11,96],[27,114,29,114],[30,85,31,87],[30,99,32,100],[30,101,32,105],[30,106,32,106],[30,107,32,107],[30,108,32,108],[30,109,32,112],[30,114,32,114],[25,85,29,87],[26,89,26,96],[27,89,28,89],[27,90,28,92],[27,93,28,96],[30,115,32,115],[30,117,32,117],[30,118,32,118],[30,119,32,122],[32,70,34,70],[32,71,34,71],[33,114,35,114],[33,115,35,115],[33,117,35,117],[33,118,35,118],[33,119,35,122],[34,74,36,81],[34,82,42,82],[34,83,35,84],[34,101,37,102],[34,103,42,103],[34,104,36,111],[36,114,38,114],[36,115,38,115],[36,117,38,117],[37,104,38,107],[37,108,38,111],[39,115,41,115],[39,117,41,117],[35,63,37,66],[35,67,37,67],[35,68,37,68],[35,70,37,70],[35,71,37,71],[36,83,38,84],[38,63,40,66],[38,67,40,67],[38,68,40,68],[38,70,40,70],[39,118,41,118],[39,119,41,122],[41,63,43,66],[41,67,43,67],[41,68,43,68],[41,70,43,70],[41,71,43,71],[41,74,42,77],[38,71,40,71],[38,101,40,102],[39,74,40,81],[39,83,42,84],[39,104,40,111],[39,114,41,114],[41,78,42,81],[41,101,42,102],[41,104,42,107],[41,108,42,111],[36,118,38,118],[36,119,38,122],[37,74,38,77],[37,78,38,81],[42,114,44,114],[42,115,44,115],[44,63,46,66],[44,67,46,67],[44,68,46,68],[44,70,46,70],[44,71,46,71],[44,73,46,76],[44,77,46,77],[44,78,46,78],[44,79,46,79],[44,80,46,84],[44,85,46,86],[46,98,47,100],[47,71,49,71],[48,98,52,100],[49,89,50,89],[49,90,50,92],[49,93,50,96],[51,89,51,96],[63,101,63,103],[52,89,54,96],[53,98,53,100],[54,98,54,100],[55,89,56,92],[55,93,56,96],[55,98,55,100],[56,98,59,100],[57,89,58,96],[59,89,60,92],[59,93,60,96],[68,89,71,91],[68,92,71,94],[68,95,71,97],[68,98,71,100],[64,86,64,88],[64,89,64,91],[64,92,64,94],[64,95,64,97],[64,98,64,100],[66,89,66,91],[66,92,66,94],[66,95,66,97],[66,98,66,100],[63,86,63,88],[63,89,63,91],[63,92,63,94],[63,95,63,97],[63,98,63,100],[67,89,67,91],[67,92,67,94],[67,95,67,97],[67,98,67,100]]}
[null,"75' ICD Mini-Roundabout",null,null,null,null,null,null,null,null,null,null,null,null,null,null,null,null,null,null,null,null,null,null,null,null,null,null,null,null,null,null,null,null,null,null,null,null,null,null,null,null,null,null,null,null,null,null,null,null,null,null,null,null,null,null,null,null,null,null,null,null,null,"75' ICD Mini-Roundabout"]
[]
[null,"Design and Results",null,null,null,null,null,null,null,null,null,null,null,null,null,null,null,null,null,null,null,null,null,null,null,null,null,null,null,null,null,null,null,null,null,null,null,null,null,null,null,null,null,null,null,null,null,null,null,null,null,null,null,null,null,null,null,null,null,null,null,null,null,"Data Input and Configuration"]
[]
[]
[null,null,"Project Name:",null,null,null,null,null,null,null,{"$f":"P_Name","v":"Cap-X Sample Street"},null,null,null,null,null,null,null,null,null,null,null,null,null,null,null,null,null,null,null,null,null,null,null,null,null,"Volume-to-Capacity Ratio"]
[null,null,null,null,null,null,null,null,null,null,null,null,null,null,null,null,null,null,null,null,null,null,null,null,null,null,null,null,null,null,null,null,null,null,null,null,null,null,null,null,null,null,null,null,null,null,null,null,null,null,null,null,null,null,null,null,null,null,null,null,null,null,null,null,null,"Multimodal Capacity Adjustment Factor",null,null,null,null,null,null,null,null,null,null,null,null,null,{"$f":"IF(Multimodal=1,1,IF(Multimodal=2,0.99,0.98))","v":1}]
[null,null,"Project Number:",null,null,null,null,null,null,null,{"$f":"P_Number","v":10000},null,null,null,null,null,null,null,null,null,null,null,null,null,null,null,null,null,null,null,null,null,null,null,null,null,"< 0.750",null,null,null,null,null,"0.750 - 0.875",null,null,null,null,null,"0.875 - 1.00",null,null,null,null,null,"≥ 1.00"]
[]
[null,null,"Location",null,null,null,null,null,null,null,{"$f":"Location","v":"Anywhere, USA"},null,null,null,null,null,null,null,null,null,null,null,null,null,null,null,null,null,null,null,null,null,null,null,null,null,"VOLUME / CAPACITY RATIO:",null,null,null,null,null,null,null,"Zone 1",null,null,null,{"$f":"MAX(J23,0)","v":0.40136233845165875},null,null,null,"Zone 4",null,null,null,{"$f":"MAX(AU25,0)","v":0.67150663064832983}]
[null,null,null,null,null,null,null,null,null,null,null,null,null,null,null,null,null,null,null,null,null,null,null,null,null,null,null,null,null,null,null,null,null,null,null,null,null,null,null,null,null,null,null,null,null,null,null,null,null,null,null,null,null,null,null,null,null,null,null,null,null,null,null,null,null,null,null,null,null,null,null,null,null,null,null,null,null,null,null,null,null,null,null,null,null,"pepch",null,null,"pepch",null,null,"pepch",null,null,"pepch"]
[null,null,"Date",null,null,null,null,null,null,null,{"$f":"Date","v":"2017 AM"},null,null,null,null,null,null,null,null,null,null,null,null,null,null,null,null,null,null,null,null,null,null,null,null,null,null,null,null,null,null,null,null,null,"Zone 3",null,null,null,{"$f":"MAX(J65,0)","v":0.38170406359124004},null,null,null,"Zone 2",null,null,null,{"$f":"MAX(AT65,0)","v":1.0260914534790657},null,null,null,null,null,null,null,null,null,null,null,null,null,null,null,null,null,null,null,null,null,null,null,null,null,null,null,null,{"$f":"ROUND('1 - Volume Input'!AI36*('1 - Volume Input'!AY36+1),0)","v":50},null,null,{"$f":"ROUND('1 - Volume Input'!AA36*('1 - Volume Input'!AY36+1),0)","v":200},null,null,{"$f":"ROUND('1 - Volume Input'!S36*('1 - Volume Input'!AY36+1),0)","v":30},null,null,{"$f":"ROUND('1 - Volume Input'!K36*('1 - Volume Input'!AY36+1),0)","v":0}]
[]
[null,null,null,null,null,null,null,null,null,null,null,null,null,null,null,null,null,null,null,null,null,null,null,null,null,null,null,null,null,null,null,null,null,null,null,null,null,null,null,null,null,null,null,null,null,null,null,null,null,null,null,null,null,null,null,null,null,null,null,null,null,null,null,null,null,null,null,null,null,null,null,null,null,null,null,null,null,null,null,null,null,null,"Car",null,null,{"$f":"CH12-CH15","v":46},null,null,{"$f":"CK12-CK15","v":190},null,null,{"$f":"CN12-CN15","v":26},null,null,{"$f":"CQ12-CQ15","v":0}]
[null,null,null,null,null,null,null,null,null,null,null,null,null,null,null,null,null,null,null,null,null,null,null,null,null,null,null,null,null,null,null,null,null,null,null,null,null,null,null,null,null,null,null,null,null,null,null,null,null,null,null,null,null,null,null,null,null,null,null,null,null,null,null,null,null,null,null,null,null,null,null,null,null,null,null,null,null,null,null,null,null,null,"Truck",null,null,4,null,null,10,null,null,4,null,null,0,null,null,{"$f":"SUM(CH15:CS15)/SUM(CH14:CS15)","v":6.4285714285714279E-2}]
[]
[]
[null,null,null,null,null,null,null,null,null,"Predicted approach capacity",null,null,null,null,null,null,null,null,null,null,null,null,null,null,null,null,null,null,null,null,null,null,null,null,null,null,null,null,null,null,null,null,null,null,null,null,null,null,null,null,null,null,null,null,null,null,null,null,null,null,null,null,null,null,null,null,null,null,null,null,null,null,null,null,null,null,null,null,null,null,null,null,null,null,null,null,null,null,null,"Predicted approach capacity"]
[]
[null,null,null,null,null,null,null,null,null,null,null,null,null,null,null,null,null,null,null,null,null,null,null,null,null,null,null,null,null,null,null,null,null,null,null,null,null,null,null,null,null,null,null,null,null,null,"Predicted approach capacity"]
[null,null,null,null,null,null,null,null,null,{"$f":"CL21","v":697.62400000000002},null,null,null,"PCEPH",null,null,null,null,null,null,null,null,null,null,null,null,null,null,null,null,null,null,null,null,null,null,null,null,null,null,null,null,null,null,null,null,null,null,null,null,null,null,null,null,null,null,null,null,null,null,null,null,null,null,null,null,null,null,null,null,null,null,null,null,null,null,null,null,null,null,null,null,null,null,null,null,null,null,null,{"$f":"MAX(1020-0.944*CL25,1)","v":697.62400000000002},null,null,null,"PCEPH"]
[]
[null,null,null,null,null,null,null,null,null,{"$f":"CH31/CB7","v":0.40136233845165875},null,null,null,"V/C",null,null,null,null,null,null,null,null,null,null,null,null,null,null,null,null,null,null,null,null,null,null,null,null,null,null,null,null,null,null,null,null,{"$f":"DA38","v":416.97280000000012},null,null,null,"PCEPH",null,null,null,null,null,null,null,null,null,null,null,null,null,null,null,null,null,null,null,null,null,null,null,null,null,null,null,null,null,null,null,null,null,null,"pepch",null,null,null,"conflicting with"]
[null,null,null,null,null,null,null,null,null,null,null,null,null,null,null,null,null,{"$f":"+IF(J23>1,1,0)","v":0},null,null,null,null,null,null,null,null,null,null,null,null,null,null,null,null,null,null,null,null,null,null,null,null,null,null,null,null,null,null,null,null,null,null,null,null,null,null,null,null,null,null,null,null,null,null,null,null,null,null,null,null,null,null,null,null,null,null,null,null,null,null,null,null,null,null,null,{"$f":"SUM(CH12:CS12)","v":280}]
[null,null,null,null,null,null,null,null,null,null,null,null,null,null,null,null,null,null,null,null,null,null,null,null,null,null,null,null,null,null,null,null,null,null,null,null,null,null,null,null,null,null,null,null,null,null,{"$f":"CV31/CB7","v":0.67150663064832983},null,null,null,"V/C",null,null,null,null,null,null,null,null,null,null,null,null,null,null,null,null,null,null,null,null,null,null,null,null,null,null,null,null,null,null,null,null,null,null,1,null,null,null,{"$f":"DL34+DL37+DL40+CO65+CL65+BS36+(1.7*(DK34+CO64+BT39))","v":341.5},null,null,null,"PCEPH"]
[null,null,null,null,null,null,null,null,null,null,null,null,null,null,null,null,null,null,null,null,null,null,null,null,null,null,null,null,null,null,null,null,null,null,null,null,null,null,null,null,null,null,null,null,null,null,null,null,null,null,null,null,null,null,{"$f":"+IF(AY25>1,1,0)","v":1},null,null,null,null,null,null,null,null,null,null,null,null,null,null,null,null,null,null,null,null,null,null,null,null,null,null,null,null,null,null,"V/C RATIO"]
[null,null,null,null,null,null,null,null,null,null,null,null,null,null,null,null,null,null,null,null,null,null,null,null,null,null,null,null,null,null,null,null,null,null,null,null,null,null,null,null,null,null,null,null,null,null,null,null,null,null,null,null,null,null,null,null,null,null,null,null,null,null,null,null,null,null,null,null,null,null,null,null,null,null,null,null,null,null,null,null,null,null,null,null,null,null,null,null,null,"Conflicting flow"]
[null,null,null,null,null,null,null,null,null,null,null,null,null,null,null,null,null,null,null,null,null,null,null,null,null,null,null,null,null,null,null,null,null,null,null,null,null,null,null,null,null,null,null,null,null,null,null,null,null,null,null,null,null,null,null,null,null,null,null,null,null,null,null,null,null,null,null,null,null,null,null,null,null,null,null,null,null,null,null,null,null,null,null,null,null,null,null,null,null,1,"Lane",null,null,null,null,null,null,null,null,null,null,null,null,null,null,null,null,null,null,null,null,null,null,null,{"$f":"SUM(DK31:DK42)/SUM(DK31:DL42)","v":0.05}]
[]
[]
[null,null,null,null,null,null,null,null,null,null,null,null,null,null,null,null,null,null,null,null,null,null,null,null,null,null,null,null,null,null,null,null,null,null,null,null,null,null,null,null,null,null,null,null,null,null,null,null,null,null,null,null,null,null,null,null,null,null,null,null,null,null,null,null,null,null,null,null,null,null,null,null,null,null,null,null,null,null,null,null,null,null,null,null,null,{"$f":"CH24/CL21","v":0.40136233845165875},null,null,null,null,null,null,null,null,null,null,null,null,null,{"$f":"DD31/DA38","v":0.67150663064832983},null,"V/C RATIO",null,null,null,null,1,{"$f":"SUM(DN31:DN42)","v":280},"pepch",null,null,null,null,null,5,{"$f":"DN31-DK31","v":45},null,{"$f":"ROUND('1 - Volume Input'!AI34*('1 - Volume Input'!AY34+1),0)","v":50},"pepch"]
[]
[null,null,null,null,null,null,null,null,null,null,null,null,null,null,null,null,null,null,null,null,null,null,null,null,null,null,null,null,null,null,null,null,null,null,null,null,null,null,null,null,null,null,null,null,null,null,null,null,null,null,null,null,null,null,null,null,null,null,null,null,null,null,null,null,null,null,null,null,null,null,"Car","Truck"]
[null,null,null,null,null,null,null,null,null,null,null,null,null,null,null,null,null,null,null,null,null,null,null,null,null,null,null,null,null,null,null,null,null,null,null,null,null,null,null,null,null,null,null,null,null,null,null,null,null,null,null,null,null,null,null,null,null,null,null,null,null,null,null,null,null,null,null,null,null,null,null,null,null,null,null,null,null,null,null,null,null,null,null,null,null,null,null,null,null,null,null,null,null,null,null,null,null,null,null,null,null,null,null,null,null,null,null,null,null,null,null,null,null,null,5,{"$f":"DN34-DK34","v":195},null,{"$f":"ROUND('1 - Volume Input'!AA34*('1 - Volume Input'!AY34+1),0)","v":200},"pepch"]
[null,null,null,null,null,null,null,null,null,null,null,null,null,null,null,null,null,null,null,null,null,null,null,null,null,null,null,null,null,null,null,null,null,null,null,null,null,null,null,null,null,null,null,null,null,null,null,null,null,null,null,null,null,null,null,null,null,null,null,null,null,null,null,null,null,null,null,null,null,null,null,null,null,null,"Predicted approach capacity",null,null,null,null,null,null,null,"Conflicting flow",1,null,null,null,null,null,null,null,null,null,null,null,null,null,null,null,null,null,null,null,"Conflicting flow","Predicted approach capacity"]
[null,null,null,null,null,null,null,null,null,null,null,null,null,null,null,null,null,null,null,null,null,null,null,null,null,null,null,null,null,null,null,null,null,null,null,null,null,null,null,null,null,null,null,null,null,null,null,null,null,null,null,null,null,null,null,null,null,null,null,null,null,null,null,null,null,null,null,"pepch",{"$f":"ROUND('1 - Volume Input'!K32*('1 - Volume Input'!AY32+1),0)","v":0},null,{"$f":"BQ36-BT36","v":0},0]
[null,null,null,null,null,null,null,null,null,null,null,null,null,null,null,null,null,null,null,null,null,null,null,null,null,null,null,null,null,null,null,null,null,null,null,null,null,null,null,null,null,null,null,null,null,null,null,null,null,null,null,null,null,null,null,null,null,null,null,null,null,null,null,null,null,null,null,null,null,null,null,null,null,null,null,null,null,null,null,null,null,null,null,"Lane",null,null,null,null,null,null,null,null,null,null,null,null,null,null,null,null,null,null,null,null,null,null,null,null,null,null,null,null,null,null,4,{"$f":"DN37-DK37","v":26},null,{"$f":"ROUND('1 - Volume Input'!S34*('1 - Volume Input'!AY34+1),0)","v":30},"pepch"]
[null,null,null,null,null,null,null,null,null,null,null,null,null,null,null,null,null,null,null,null,null,null,null,null,null,null,null,null,null,null,null,null,null,null,null,null,null,null,null,null,null,null,null,null,null,null,null,null,null,null,null,null,null,null,null,null,null,null,null,null,null,null,null,null,null,null,null,null,null,null,null,null,null,null,{"$f":"MAX(1020-0.944*BW42,1)","v":761.06079999999997},null,null,null,"PCEPH",null,null,null,null,null,null,null,null,null,null,null,null,null,null,null,null,null,null,null,null,null,null,null,null,null,{"$f":"MAX(1020-0.944*DA42,1)","v":416.97280000000012},null,null,null,"PCEPH"]
[null,null,null,null,null,null,null,null,null,null,null,null,null,null,null,null,null,null,null,null,null,null,null,null,null,null,null,null,null,null,null,null,null,null,null,null,null,null,null,null,null,null,null,null,null,null,null,null,null,null,null,null,null,null,null,null,null,null,null,null,null,null,null,null,null,null,null,"pepch",{"$f":"ROUND('1 - Volume Input'!S32*('1 - Volume Input'!AY32+1),0)","v":30},null,{"$f":"BQ39-BT39","v":25},5,null,null,null,null,null,null,null,null,null,null,null,null,null,null,null,null,null,null,null,null,null,null,null,null,null,null,null,null,null,"Lane"]
[null,null,null,null,null,null,null,null,null,null,null,null,null,null,null,null,null,null,null,null,null,null,null,null,null,null,null,null,null,null,null,null,null,null,null,null,null,null,null,null,null,null,null,null,null,null,null,null,null,null,null,null,null,null,null,null,null,null,null,null,null,null,null,null,null,null,null,null,null,null,null,null,null,null,"conflicting with",null,null,null,null,null,null,null,null,null,null,null,null,null,null,null,null,null,null,null,null,null,null,null,null,null,null,null,null,null,"conflicting with",null,null,null,null,null,null,null,null,null,0,{"$f":"DN40-DK40","v":0},null,{"$f":"ROUND('1 - Volume Input'!K34*('1 - Volume Input'!AY34+1),0)","v":0},"pepch"]
[]
[null,null,null,null,null,null,null,null,null,null,null,null,null,null,null,null,null,null,null,null,null,null,null,null,null,null,null,null,null,null,null,null,null,null,null,null,null,null,null,null,null,null,null,null,null,null,null,null,null,null,null,null,null,null,null,null,null,null,null,null,null,null,null,null,null,null,null,"pepch",{"$f":"ROUND('1 - Volume Input'!AA32*('1 - Volume Input'!AY32+1),0)","v":200},null,{"$f":"BQ42-BT42","v":190},10,null,null,{"$f":"(CK14+CN14+CQ14+DL37+DL40+CL65)+(1.7*(CO64+DK37+CK15))","v":274.3},null,null,null,"PCEPH",null,null,null,null,null,null,null,null,null,null,null,null,null,null,null,null,null,null,null,null,null,null,1,null,null,{"$f":"CL65+CO65+CR65+CQ14+BS39+BS36+(1.7*(CR64+BT39+CN15))","v":638.79999999999995},null,null,null,"PCEPH"]
[null,null,null,null,null,null,null,null,null,null,null,null,null,null,null,null,null,null,null,null,null,null,null,null,null,null,null,null,null,null,null,null,null,null,null,null,null,null,null,null,null,null,null,null,null,null,null,null,null,null,null,null,null,null,null,null,null,null,null,null,null,null,null,null,null,null,null,null,null,null,null,null,null,null,null,null,null,null,null,null,null,null,null,null,null,null,null,null,null,null,null,null,null,null,null,null,null,null,null,null,null,null,null,null,null,null,null,null,null,null,null,null,null,null,"Truck","Car"]
[]
[null,null,null,null,null,null,null,null,null,null,null,null,null,null,null,null,null,null,null,null,null,null,null,null,null,null,null,null,null,null,null,null,null,null,null,null,null,null,null,null,null,null,null,null,null,null,null,null,null,null,null,null,null,null,null,null,null,null,null,null,null,null,null,null,null,null,null,"pepch",{"$f":"ROUND('1 - Volume Input'!AI32*('1 - Volume Input'!AY32+1),0)","v":50},null,{"$f":"BQ45-BT45","v":50},0,null,null,null,null,null,"pepch",{"$f":"SUM(BS36:BS47)+(1.7*(SUM(BT36:BT47)))","v":290.5},1,"V/C RATIO",null,null,null,null,{"$f":"CA45/BW38","v":0.38170406359124004}]
[]
[null,null,null,null,null,null,null,null,null,null,null,null,null,null,null,null,null,null,null,null,null,null,null,null,null,null,null,null,null,null,null,null,null,null,null,null,null,null,null,null,null,null,null,null,null,null,null,null,null,null,null,null,null,null,null,null,null,null,null,null,null,null,null,null,null,null,null,null,null,null,null,null,null,null,null,null,null,null,null,null,null,null,null,null,null,null,null,null,null,null,null,null,null,null,null,null,null,null,{"$f":"CU55/CL56","v":1.0260914534790657}]
[null,null,null,null,null,null,null,null,null,null,null,null,null,null,null,null,null,null,null,null,null,null,null,null,null,null,null,null,null,null,null,null,null,null,null,null,null,null,null,null,null,null,null,null,null,null,null,null,null,null,null,null,null,null,null,null,null,null,null,null,null,null,null,null,null,null,null,null,null,null,null,{"$f":"SUM(BT36:BT47)/(SUM(BS36:BT47))","v":5.3571428571428568E-2}]
[null,null,null,null,null,null,null,null,null,null,null,null,null,null,null,null,null,null,null,null,null,null,null,null,null,null,null,null,null,null,null,null,null,null,null,null,null,null,null,null,null,null,null,null,null,null,null,null,null,null,null,null,null,null,null,null,null,null,null,null,null,null,null,null,null,null,null,null,null,null,null,null,null,null,null,null,null,null,null,null,null,null,null,null,null,null,null,null,null,null,null,null,null,null,null,null,null,null,"V/C RATIO"]
[null,null,null,null,null,null,null,null,null,null,null,null,null,null,null,null,null,null,null,null,null,null,null,null,null,null,null,null,null,null,null,null,null,null,null,null,null,null,null,null,null,null,null,null,null,null,null,null,null,null,null,null,null,null,null,null,null,null,null,null,null,null,null,null,null,null,null,null,null,null,null,null,null,null,null,null,null,null,null,null,null,null,null,null,null,null,null,null,null,1,"Lane"]
[]
[null,null,null,null,null,null,null,null,null,null,null,null,null,null,null,null,null,null,null,null,null,null,null,null,null,null,null,null,null,null,null,null,null,null,null,null,null,null,null,null,null,null,null,null,null,null,null,null,null,null,null,null,null,null,null,null,null,null,null,null,null,null,null,null,null,null,null,null,null,null,null,null,null,null,null,null,null,null,null,null,null,null,null,null,null,null,null,null,null,"Conflicting flow"]
[null,null,null,null,null,null,null,null,null,null,null,null,null,null,null,null,null,null,null,null,null,null,null,null,null,null,null,null,null,null,null,null,null,null,null,null,null,null,null,null,null,null,null,null,null,null,null,null,null,null,null,null,null,null,null,null,null,null,null,null,null,null,null,null,null,null,null,null,null,null,null,null,null,null,null,null,null,null,null,null,null,null,null,null,null,null,null,null,null,"Predicted approach capacity"]
[null,null,null,null,null,null,null,null,null,null,null,null,null,null,null,null,null,null,null,null,null,null,null,null,null,null,null,null,null,null,null,null,null,null,null,null,null,null,null,null,null,null,null,null,null,null,null,null,null,null,null,null,null,null,null,null,null,null,null,null,null,null,null,null,null,null,null,null,null,null,null,null,null,null,null,null,null,null,null,null,null,null,null,null,null,null,null,null,null,null,null,null,null,null,null,null,null,null,1]
[null,null,null,null,null,null,null,null,null,null,null,null,null,null,null,null,null,null,null,null,null,null,null,null,null,null,null,null,null,null,null,null,null,null,null,null,null,null,null,null,null,null,null,null,null,null,null,null,null,null,null,null,null,null,null,null,null,null,null,null,null,null,null,null,null,null,null,null,null,null,null,null,null,null,null,null,null,null,null,null,null,null,null,null,null,null,null,null,null,null,null,null,null,null,null,null,null,null,{"$f":"SUM(CL67:CW67)","v":800}]
[null,null,null,null,null,null,null,null,null,null,null,null,null,null,null,null,null,null,null,null,null,null,null,null,null,null,null,null,null,null,null,null,null,null,null,null,null,null,null,null,null,null,null,null,null,null,null,null,null,null,null,null,null,null,null,null,null,null,null,null,null,null,null,null,null,null,null,null,null,null,null,null,null,null,null,null,null,null,null,null,null,null,null,null,null,null,null,null,null,{"$f":"MAX(1020-0.944*CL60,1)","v":779.6576},null,null,null,"PCEPH",null,null,null,null,"pepch"]
[]
[null,null,null,null,null,null,null,null,null,null,null,null,null,null,null,null,null,null,null,null,null,null,null,null,null,null,null,null,null,null,null,null,null,null,null,null,null,null,null,null,null,null,null,null,null,null,null,null,null,null,null,null,null,null,null,null,null,null,null,null,null,null,null,null,null,null,null,null,null,null,null,null,null,null,null,null,null,null,null,null,null,null,null,null,null,null,null,null,null,"conflicting with"]
[]
[null,null,null,null,null,null,null,null,null,"Predicted approach capacity",null,null,null,null,null,null,null,null,null,null,null,null,null,null,null,null,null,null,null,null,null,null,null,null,null,null,null,null,null,null,null,null,null,null,null,"Predicted approach capacity",null,null,null,null,null,null,null,null,null,null,null,null,null,null,null,null,null,null,null,null,null,null,null,null,null,null,null,null,null,null,null,null,null,null,null,null,null,null,null,null,null,null,null,{"$f":"BS36+BS39+BS42+CN14+CQ14+DL40+(1.7*(BT45+CN15+DK37))","v":254.6},null,null,null,"PCEPH"]
[]
[]
[null,null,null,null,null,null,null,null,null,{"$f":"BW38","v":761.06079999999997},null,null,null,"PCEPH",null,null,null,null,null,null,null,null,null,null,null,null,null,null,null,null,null,null,null,null,null,null,null,null,null,null,null,null,null,null,null,{"$f":"CL56","v":779.6576},null,null,null,"PCEPH"]
[null,null,null,null,null,null,null,null,null,null,null,null,null,null,null,null,null,null,null,null,null,null,null,null,null,null,null,null,null,null,null,null,null,null,null,null,null,null,null,null,null,null,null,null,null,null,null,null,null,null,null,null,null,null,null,null,null,null,null,null,null,null,null,null,null,null,null,null,null,null,null,null,null,null,null,null,null,null,null,null,null,null,null,null,null,null,"Truck",null,null,0,null,null,5,null,null,5,null,null,4,null,null,{"$f":"SUM(CL64:CW64)/SUM(CL64:CW65)","v":1.7500000000000002E-2}]
[null,null,null,null,null,null,null,null,null,{"$f":"CH45/CB7","v":0.38170406359124004},null,null,null,"V/C",null,null,null,null,null,null,null,null,null,null,null,null,null,null,null,null,null,null,null,null,null,null,null,null,null,null,null,null,null,null,null,{"$f":"CU47/CB7","v":1.0260914534790657},null,null,null,"V/C",null,null,null,null,null,null,null,null,null,null,null,null,null,null,null,null,null,null,null,null,null,null,null,null,null,null,null,null,null,null,null,null,null,null,null,null,"Car",null,null,{"$f":"CL67-CL64","v":0},null,null,{"$f":"CO67-CO64","v":95},null,null,{"$f":"CR67-CR64","v":495},null,null,{"$f":"CU67-CU64","v":196}]
[null,null,null,null,null,null,null,null,null,null,null,null,null,null,null,null,null,{"$f":"+IF(J65>1,1,0)","v":0},null,null,null,null,null,null,null,null,null,null,null,null,null,null,null,null,null,null,null,null,null,null,null,null,null,null,null,null,null,null,null,null,null,null,null,{"$f":"+IF(AT65>1,1,0)","v":1}]
[null,null,null,null,null,null,null,null,null,null,null,null,null,null,null,null,null,null,null,null,null,null,null,null,null,null,null,null,null,null,null,null,null,null,null,null,null,null,null,null,null,null,null,null,null,null,null,null,null,null,null,null,null,null,null,null,null,null,null,null,null,null,null,null,null,null,null,null,null,null,null,null,null,null,null,null,null,null,null,null,null,null,null,null,null,null,null,null,null,{"$f":"ROUND('1 - Volume Input'!K38*('1 - Volume Input'!AY38+1),0)","v":0},null,null,{"$f":"ROUND('1 - Volume Input'!S38*('1 - Volume Input'!AY38+1),0)","v":100},null,null,{"$f":"ROUND('1 - Volume Input'!AA38*('1 - Volume Input'!AY38+1),0)","v":500},null,null,{"$f":"ROUND('1 - Volume Input'!AI38*('1 - Volume Input'!AY38+1),0)","v":200}]
[null,null,null,null,null,null,null,null,null,null,null,null,null,null,null,null,null,null,null,null,null,null,null,null,null,null,null,null,null,null,null,null,null,null,null,null,null,null,null,null,null,null,null,null,null,null,null,null,null,null,null,null,null,null,null,null,null,null,null,null,null,null,null,null,null,null,null,null,null,null,null,null,null,null,null,null,null,null,null,null,null,null,null,null,null,null,null,null,null,"pepch",null,null,"pepch",null,null,"pepch",null,null,"pepch"]

{"sheet":"1x1 Rndabt ","index":48,"n_rows":66,"n_cols":119,"rows_kept":66,"cut":false,"hidden":false,"merged":[[5,36,6,59],[7,36,8,41],[7,42,8,47],[22,46,23,49],[22,50,23,53],[9,44,10,47],[9,48,10,51],[9,52,10,55],[9,56,10,59],[11,44,12,47],[11,48,12,51],[11,52,12,55],[11,56,12,59],[7,48,8,53],[7,54,8,59],[53,98,53,100],[54,98,54,100],[55,89,56,92],[55,93,56,96],[55,98,55,100],[46,98,47,100],[59,93,60,96],[49,89,50,89],[56,98,59,100],[59,89,60,92],[51,89,51,96],[48,98,52,100],[49,90,50,92],[49,93,50,96],[57,89,58,96],[52,89,54,96],[65,89,68,91],[65,92,68,94],[65,95,68,97],[65,98,68,100],[63,89,63,91],[63,92,63,94],[63,95,63,97],[63,98,63,100],[64,89,64,91],[64,92,64,94],[64,95,64,97],[64,98,64,100],[20,89,21,92],[20,93,21,96],[14,85,14,87],[14,88,14,90],[14,91,14,93],[35,63,37,66],[35,67,37,67],[35,68,37,68],[36,83,38,84],[37,74,38,77],[37,78,38,81],[34,83,35,84],[6,79,7,80],[6,65,8,78],[30,117,32,117],[9,36,12,43],[30,100,32,101],[36,119,38,122],[36,118,38,118],[33,118,35,118],[30,118,32,118],[30,119,32,122],[13,85,13,87],[13,88,13,90],[13,91,13,93],[18,85,21,87],[36,117,38,117],[37,104,38,107],[37,108,38,111],[33,117,35,117],[34,103,42,103],[34,104,36,111],[41,101,42,102],[39,104,40,111],[39,117,41,117],[34,82,42,82],[38,101,40,102],[34,101,37,102],[41,108,42,111],[26,89,26,96],[22,85,22,87],[22,89,23,96],[23,85,23,87],[27,89,28,89],[27,90,28,92],[27,93,28,96],[24,85,24,87],[24,89,25,92],[24,93,25,96],[30,108,32,108],[30,109,32,109],[30,110,32,113],[0,1,1,60],[2,1,3,60],[11,10,12,35],[9,115,10,119],[62,49,63,52],[59,9,61,16],[59,45,61,52],[5,2,6,9],[5,10,6,35],[7,2,8,9],[7,10,8,35],[9,2,10,9],[9,10,10,35],[9,108,10,112],[9,113,10,114],[9,85,12,87],[24,50,25,53],[24,46,25,49],[22,13,23,16],[11,2,12,9],[0,63,1,122],[22,9,23,12],[20,9,21,12],[20,13,21,16],[2,63,3,122],[62,9,63,12],[62,13,63,16],[7,101,8,107],[33,119,35,122],[34,74,36,81],[13,94,13,96],[9,88,12,90],[9,91,12,93],[9,94,12,96],[14,94,14,96],[30,85,31,87],[17,89,19,96],[9,101,10,105],[9,106,10,107],[30,107,32,107],[30,102,32,106],[25,85,29,87],[17,9,19,16],[19,46,21,53],[39,118,41,118],[7,108,8,119],[39,119,41,122],[41,104,42,107],[64,9,65,12],[64,45,65,48],[64,49,65,52],[64,13,65,16],[44,63,46,66],[44,67,46,67],[44,68,46,68],[44,72,46,75],[44,76,46,76],[62,45,63,48],[44,78,46,78],[44,84,46,85],[44,79,46,83],[41,63,43,66],[41,67,43,67],[41,68,43,68],[38,63,40,66],[38,67,40,67],[38,68,40,68],[39,74,40,81],[44,77,46,77],[41,74,42,77],[39,83,42,84],[41,78,42,81]]}
[null,"1 NS x 1 EW Roundabout",null,null,null,null,null,null,null,null,null,null,null,null,null,null,null,null,null,null,null,null,null,null,null,null,null,null,null,null,null,null,null,null,null,null,null,null,null,null,null,null,null,null,null,null,null,null,null,null,null,null,null,null,null,null,null,null,null,null,null,null,null,"1 NS x 1 EW Lane Roundabout"]
[]
[null,"Design and Results",null,null,null,null,null,null,null,null,null,null,null,null,null,null,null,null,null,null,null,null,null,null,null,null,null,null,null,null,null,null,null,null,null,null,null,null,null,null,null,null,null,null,null,null,null,null,null,null,null,null,null,null,null,null,null,null,null,null,null,null,null,"Data Input and Configuration"]
[]
[]
[null,null,"Project Name:",null,null,null,null,null,null,null,{"$f":"P_Name","v":"Cap-X Sample Street"},null,null,null,null,null,null,null,null,null,null,null,null,null,null,null,null,null,null,null,null,null,null,null,null,null,"Volume-to-Capacity Ratio"]
[null,null,null,null,null,null,null,null,null,null,null,null,null,null,null,null,null,null,null,null,null,null,null,null,null,null,null,null,null,null,null,null,null,null,null,null,null,null,null,null,null,null,null,null,null,null,null,null,null,null,null,null,null,null,null,null,null,null,null,null,null,null,null,null,null,"Multimodal Capacity Adjustment Factor",null,null,null,null,null,null,null,null,null,null,null,null,null,{"$f":"IF(Multimodal=1,1,IF(Multimodal=2,0.99,0.98))","v":1}]
[null,null,"Project Number:",null,null,null,null,null,null,null,{"$f":"P_Number","v":10000},null,null,null,null,null,null,null,null,null,null,null,null,null,null,null,null,null,null,null,null,null,null,null,null,null,"< 0.750",null,null,null,null,null,"0.750 - 0.875",null,null,null,null,null,"0.875 - 1.00",null,null,null,null,null,"≥ 1.00",null,null,null,null,null,null,null,null,null,null,null,null,null,null,null,null,null,null,null,null,null,null,null,null,null,null,null,null,null,null,null,null,null,null,null,null,null,null,null,null,null,null,null,null,null,null,"Equation",null,null,null,null,null,null,"A x exp(-B x Q)"]
[]
[null,null,"Location",null,null,null,null,null,null,null,{"$f":"Location","v":"Anywhere, USA"},null,null,null,null,null,null,null,null,null,null,null,null,null,null,null,null,null,null,null,null,null,null,null,null,null,"VOLUME / CAPACITY RATIO:",null,null,null,null,null,null,null,"Zone 1",null,null,null,{"$f":"J23","v":0.29226131359598517},null,null,null,"Zone 4",null,null,null,{"$f":"AU25","v":0.39932208093482385},null,null,null,null,null,null,null,null,null,null,null,null,null,null,null,null,null,null,null,null,null,null,null,null,null,null,null,null,null,null,null,null,null,null,null,null,null,null,null,null,null,null,null,null,"One Lane",null,null,null,null,"A",null,1380,null,null,null,null,"B",null,1.0200000000000001E-3]
[]
[null,null,"Date",null,null,null,null,null,null,null,{"$f":"Date","v":"2017 AM"},null,null,null,null,null,null,null,null,null,null,null,null,null,null,null,null,null,null,null,null,null,null,null,null,null,null,null,null,null,null,null,null,null,"Zone 3",null,null,null,{"$f":"J65","v":0.27184398349836608},null,null,null,"Zone 2",null,null,null,{"$f":"AT65","v":0.77561080606526822}]
[]
[null,null,null,null,null,null,null,null,null,null,null,null,null,null,null,null,null,null,null,null,null,null,null,null,null,null,null,null,null,null,null,null,null,null,null,null,null,null,null,null,null,null,null,null,null,null,null,null,null,null,null,null,null,null,null,null,null,null,null,null,null,null,null,null,null,null,null,null,null,null,null,null,null,null,null,null,null,null,null,null,null,null,null,null,null,"pepch",null,null,"pepch",null,null,"pepch",null,null,"pepch"]
[null,null,null,null,null,null,null,null,null,null,null,null,null,null,null,null,null,null,null,null,null,null,null,null,null,null,null,null,null,null,null,null,null,null,null,null,null,null,null,null,null,null,null,null,null,null,null,null,null,null,null,null,null,null,null,null,null,null,null,null,null,null,null,null,null,null,null,null,null,null,null,null,null,null,null,null,null,null,null,null,null,null,null,null,null,{"$f":"SBR_Master","v":51},null,null,{"$f":"SBT_Master","v":204},null,null,{"$f":"SBL_Master","v":31},null,null,{"$f":"SBU_Master","v":0}]
[]
[]
[null,null,null,null,null,null,null,null,null,"Predicted approach capacity",null,null,null,null,null,null,null,null,null,null,null,null,null,null,null,null,null,null,null,null,null,null,null,null,null,null,null,null,null,null,null,null,null,null,null,null,null,null,null,null,null,null,null,null,null,null,null,null,null,null,null,null,null,null,null,null,null,null,null,null,null,null,null,null,null,null,null,null,null,null,null,null,null,null,null,null,null,null,null,"Predicted approach capacity"]
[]
[null,null,null,null,null,null,null,null,null,null,null,null,null,null,null,null,null,null,null,null,null,null,null,null,null,null,null,null,null,null,null,null,null,null,null,null,null,null,null,null,null,null,null,null,null,null,"Predicted approach capacity"]
[null,null,null,null,null,null,null,null,null,{"$f":"CL21","v":978.57631747785592},null,null,null,"PCEPH",null,null,null,null,null,null,null,null,null,null,null,null,null,null,null,null,null,null,null,null,null,null,null,null,null,null,null,null,null,null,null,null,null,null,null,null,null,null,null,null,null,null,null,null,null,null,null,null,null,null,null,null,null,null,null,null,null,null,null,null,null,null,null,null,null,null,null,null,null,null,null,null,null,null,null,{"$f":"$DE$10*EXP(-$DL$10*CL25)","v":978.57631747785592},null,null,null,"PCEPH"]
[]
[null,null,null,null,null,null,null,null,null,{"$f":"CH31/CB7","v":0.29226131359598517},null,null,null,"V/C",null,null,null,null,null,null,null,null,null,null,null,null,null,null,null,null,null,null,null,null,null,null,null,null,null,null,null,null,null,null,null,null,{"$f":"DA38","v":716.21383753802502},null,null,null,"PCEPH",null,null,null,null,null,null,null,null,null,null,null,null,null,null,null,null,null,null,null,null,null,null,null,null,null,null,null,null,null,null,null,null,null,null,"pepch",null,null,null,"conflicting with"]
[null,null,null,null,null,null,null,null,null,null,null,null,null,null,null,null,null,{"$f":"+IF(J23>1,1,0)","v":0},null,null,null,null,null,null,null,null,null,null,null,null,null,null,null,null,null,null,null,null,null,null,null,null,null,null,null,null,null,null,null,null,null,null,null,null,null,null,null,null,null,null,null,null,null,null,null,null,null,null,null,null,null,null,null,null,null,null,null,null,null,null,null,null,null,null,null,{"$f":"SUM(CH15:CS15)","v":286}]
[null,null,null,null,null,null,null,null,null,null,null,null,null,null,null,null,null,null,null,null,null,null,null,null,null,null,null,null,null,null,null,null,null,null,null,null,null,null,null,null,null,null,null,null,null,null,{"$f":"CW31/CB7","v":0.39932208093482385},null,null,null,"V/C",null,null,null,null,null,null,null,null,null,null,null,null,null,null,null,null,null,null,null,null,null,null,null,null,null,null,null,null,null,null,null,null,null,null,1,null,null,null,{"$f":"DN34+DN37+DN40+CO64+CL64+BQ36","v":337},null,null,null,"PCEPH"]
[null,null,null,null,null,null,null,null,null,null,null,null,null,null,null,null,null,null,null,null,null,null,null,null,null,null,null,null,null,null,null,null,null,null,null,null,null,null,null,null,null,null,null,null,null,null,null,null,null,null,null,null,null,null,{"$f":"+IF(AY25>1,1,0)","v":1},null,null,null,null,null,null,null,null,null,null,null,null,null,null,null,null,null,null,null,null,null,null,null,null,null,null,null,null,null,null,"V/C RATIO"]
[null,null,null,null,null,null,null,null,null,null,null,null,null,null,null,null,null,null,null,null,null,null,null,null,null,null,null,null,null,null,null,null,null,null,null,null,null,null,null,null,null,null,null,null,null,null,null,null,null,null,null,null,null,null,null,null,null,null,null,null,null,null,null,null,null,null,null,null,null,null,null,null,null,null,null,null,null,null,null,null,null,null,null,null,null,null,null,null,null,"Conflicting flow"]
[null,null,null,null,null,null,null,null,null,null,null,null,null,null,null,null,null,null,null,null,null,null,null,null,null,null,null,null,null,null,null,null,null,null,null,null,null,null,null,null,null,null,null,null,null,null,null,null,null,null,null,null,null,null,null,null,null,null,null,null,null,null,null,null,null,null,null,null,null,null,null,null,null,null,null,null,null,null,null,null,null,null,null,null,null,null,null,null,null,1,"Lane"]
[]
[]
[null,null,null,null,null,null,null,null,null,null,null,null,null,null,null,null,null,null,null,null,null,null,null,null,null,null,null,null,null,null,null,null,null,null,null,null,null,null,null,null,null,null,null,null,null,null,null,null,null,null,null,null,null,null,null,null,null,null,null,null,null,null,null,null,null,null,null,null,null,null,null,null,null,null,null,null,null,null,null,null,null,null,null,null,null,{"$f":"CH24/CL21","v":0.29226131359598517},null,null,null,null,null,null,null,null,null,null,null,null,null,null,{"$f":"DE31/DA38","v":0.39932208093482385},null,"V/C RATIO",null,null,null,null,1,{"$f":"SUM(DN31:DN42)","v":286},"pepch",null,null,null,null,null,null,null,{"$f":"WBR_Master","v":51},"pepch"]
[]
[]
[null,null,null,null,null,null,null,null,null,null,null,null,null,null,null,null,null,null,null,null,null,null,null,null,null,null,null,null,null,null,null,null,null,null,null,null,null,null,null,null,null,null,null,null,null,null,null,null,null,null,null,null,null,null,null,null,null,null,null,null,null,null,null,null,null,null,null,null,null,null,null,null,null,null,null,null,null,null,null,null,null,null,null,null,null,null,null,null,null,null,null,null,null,null,null,null,null,null,null,null,null,null,null,null,null,null,null,null,null,null,null,null,null,null,null,null,null,{"$f":"WBT_Master","v":204},"pepch"]
[null,null,null,null,null,null,null,null,null,null,null,null,null,null,null,null,null,null,null,null,null,null,null,null,null,null,null,null,null,null,null,null,null,null,null,null,null,null,null,null,null,null,null,null,null,null,null,null,null,null,null,null,null,null,null,null,null,null,null,null,null,null,null,null,null,null,null,null,null,null,null,null,null,null,"Predicted approach capacity",null,null,null,null,null,null,null,"Conflicting flow",1,null,null,null,null,null,null,null,null,null,null,null,null,null,null,null,null,null,null,null,"Conflicting flow","Predicted approach capacity"]
[null,null,null,null,null,null,null,null,null,null,null,null,null,null,null,null,null,null,null,null,null,null,null,null,null,null,null,null,null,null,null,null,null,null,null,null,null,null,null,null,null,null,null,null,null,null,null,null,null,null,null,null,null,null,null,null,null,null,null,null,null,null,null,null,null,null,null,"pepch",{"$f":"EBU_Master","v":0}]
[null,null,null,null,null,null,null,null,null,null,null,null,null,null,null,null,null,null,null,null,null,null,null,null,null,null,null,null,null,null,null,null,null,null,null,null,null,null,null,null,null,null,null,null,null,null,null,null,null,null,null,null,null,null,null,null,null,null,null,null,null,null,null,null,null,null,null,null,null,null,null,null,null,null,null,null,null,null,null,null,null,null,null,"Lane",null,null,null,null,null,null,null,null,null,null,null,null,null,null,null,null,null,null,null,null,null,null,null,null,null,null,null,null,null,null,null,null,null,{"$f":"WBL_Master","v":31},"pepch"]
[null,null,null,null,null,null,null,null,null,null,null,null,null,null,null,null,null,null,null,null,null,null,null,null,null,null,null,null,null,null,null,null,null,null,null,null,null,null,null,null,null,null,null,null,null,null,null,null,null,null,null,null,null,null,null,null,null,null,null,null,null,null,null,null,null,null,null,null,null,null,null,null,null,null,{"$f":"$DE$10*EXP(-$DL$10*BW42)","v":1052.0740474718618},null,null,null,"PCEPH",null,null,null,null,null,null,null,null,null,null,null,null,null,null,null,null,null,null,null,null,null,null,null,null,null,{"$f":"$DE$10*EXP(-$DL$10*DA42)","v":716.21383753802502},null,null,null,"PCEPH"]
[null,null,null,null,null,null,null,null,null,null,null,null,null,null,null,null,null,null,null,null,null,null,null,null,null,null,null,null,null,null,null,null,null,null,null,null,null,null,null,null,null,null,null,null,null,null,null,null,null,null,null,null,null,null,null,null,null,null,null,null,null,null,null,null,null,null,null,"pepch",{"$f":"EBL_Master","v":31},null,null,null,null,null,null,null,null,null,null,null,null,null,null,null,null,null,null,null,null,null,null,null,null,null,null,null,null,null,null,null,null,"Lane"]
[null,null,null,null,null,null,null,null,null,null,null,null,null,null,null,null,null,null,null,null,null,null,null,null,null,null,null,null,null,null,null,null,null,null,null,null,null,null,null,null,null,null,null,null,null,null,null,null,null,null,null,null,null,null,null,null,null,null,null,null,null,null,null,null,null,null,null,null,null,null,null,null,null,null,"conflicting with",null,null,null,null,null,null,null,null,null,null,null,null,null,null,null,null,null,null,null,null,null,null,null,null,null,null,null,null,null,"conflicting with",null,null,null,null,null,null,null,null,null,null,null,null,{"$f":"WBU_Master","v":0},"pepch"]
[]
[null,null,null,null,null,null,null,null,null,null,null,null,null,null,null,null,null,null,null,null,null,null,null,null,null,null,null,null,null,null,null,null,null,null,null,null,null,null,null,null,null,null,null,null,null,null,null,null,null,null,null,null,null,null,null,null,null,null,null,null,null,null,null,null,null,null,null,"pepch",{"$f":"EBT_Master","v":204},null,null,null,null,null,{"$f":"CK15+CN15+CQ15+DN37+DN40+CL64","v":266},null,null,null,"PCEPH",null,null,null,null,null,null,null,null,null,null,null,null,null,null,null,null,null,null,null,null,null,null,1,null,null,{"$f":"CL64+CO64+CR64+CQ15+BQ39+BQ36","v":643},null,null,null,"PCEPH"]
[]
[]
[null,null,null,null,null,null,null,null,null,null,null,null,null,null,null,null,null,null,null,null,null,null,null,null,null,null,null,null,null,null,null,null,null,null,null,null,null,null,null,null,null,null,null,null,null,null,null,null,null,null,null,null,null,null,null,null,null,null,null,null,null,null,null,null,null,null,null,"pepch",{"$f":"EBR_Master","v":51},null,null,null,null,null,null,null,"pepch",{"$f":"SUM(BQ36:BQ47)","v":286},1,"V/C RATIO",null,null,null,null,{"$f":"BZ45/BW38","v":0.27184398349836608}]
[]
[null,null,null,null,null,null,null,null,null,null,null,null,null,null,null,null,null,null,null,null,null,null,null,null,null,null,null,null,null,null,null,null,null,null,null,null,null,null,null,null,null,null,null,null,null,null,null,null,null,null,null,null,null,null,null,null,null,null,null,null,null,null,null,null,null,null,null,null,null,null,null,null,null,null,null,null,null,null,null,null,null,null,null,null,null,null,null,null,null,null,null,null,null,null,null,null,null,null,{"$f":"CU55/CL56","v":0.77561080606526822}]
[]
[null,null,null,null,null,null,null,null,null,null,null,null,null,null,null,null,null,null,null,null,null,null,null,null,null,null,null,null,null,null,null,null,null,null,null,null,null,null,null,null,null,null,null,null,null,null,null,null,null,null,null,null,null,null,null,null,null,null,null,null,null,null,null,null,null,null,null,null,null,null,null,null,null,null,null,null,null,null,null,null,null,null,null,null,null,null,null,null,null,null,null,null,null,null,null,null,null,null,"V/C RATIO"]
[null,null,null,null,null,null,null,null,null,null,null,null,null,null,null,null,null,null,null,null,null,null,null,null,null,null,null,null,null,null,null,null,null,null,null,null,null,null,null,null,null,null,null,null,null,null,null,null,null,null,null,null,null,null,null,null,null,null,null,null,null,null,null,null,null,null,null,null,null,null,null,null,null,null,null,null,null,null,null,null,null,null,null,null,null,null,null,null,null,1,"Lane"]
[]
[null,null,null,null,null,null,null,null,null,null,null,null,null,null,null,null,null,null,null,null,null,null,null,null,null,null,null,null,null,null,null,null,null,null,null,null,null,null,null,null,null,null,null,null,null,null,null,null,null,null,null,null,null,null,null,null,null,null,null,null,null,null,null,null,null,null,null,null,null,null,null,null,null,null,null,null,null,null,null,null,null,null,null,null,null,null,null,null,null,"Conflicting flow"]
[null,null,null,null,null,null,null,null,null,null,null,null,null,null,null,null,null,null,null,null,null,null,null,null,null,null,null,null,null,null,null,null,null,null,null,null,null,null,null,null,null,null,null,null,null,null,null,null,null,null,null,null,null,null,null,null,null,null,null,null,null,null,null,null,null,null,null,null,null,null,null,null,null,null,null,null,null,null,null,null,null,null,null,null,null,null,null,null,null,"Predicted approach capacity"]
[null,null,null,null,null,null,null,null,null,null,null,null,null,null,null,null,null,null,null,null,null,null,null,null,null,null,null,null,null,null,null,null,null,null,null,null,null,null,null,null,null,null,null,null,null,null,null,null,null,null,null,null,null,null,null,null,null,null,null,null,null,null,null,null,null,null,null,null,null,null,null,null,null,null,null,null,null,null,null,null,null,null,null,null,null,null,null,null,null,null,null,null,null,null,null,null,null,null,1]
[null,null,null,null,null,null,null,null,null,null,null,null,null,null,null,null,null,null,null,null,null,null,null,null,null,null,null,null,null,null,null,null,null,null,null,null,null,null,null,null,null,null,null,null,null,null,null,null,null,null,null,null,null,null,null,null,null,null,null,null,null,null,null,null,null,null,null,null,null,null,null,null,null,null,null,null,null,null,null,null,null,null,null,null,null,null,null,null,null,null,null,null,null,null,null,null,null,null,{"$f":"SUM(CL64:CW64)","v":816}]
[null,null,null,null,null,null,null,null,null,null,null,null,null,null,null,null,null,null,null,null,null,null,null,null,null,null,null,null,null,null,null,null,null,null,null,null,null,null,null,null,null,null,null,null,null,null,null,null,null,null,null,null,null,null,null,null,null,null,null,null,null,null,null,null,null,null,null,null,null,null,null,null,null,null,null,null,null,null,null,null,null,null,null,null,null,null,null,null,null,{"$f":"$DE$10*EXP(-$DL$10*CL60)","v":1052.0740474718618},null,null,null,"PCEPH",null,null,null,null,"pepch"]
[]
[null,null,null,null,null,null,null,null,null,null,null,null,null,null,null,null,null,null,null,null,null,null,null,null,null,null,null,null,null,null,null,null,null,null,null,null,null,null,null,null,null,null,null,null,null,null,null,null,null,null,null,null,null,null,null,null,null,null,null,null,null,null,null,null,null,null,null,null,null,null,null,null,null,null,null,null,null,null,null,null,null,null,null,null,null,null,null,null,null,"conflicting with"]
[]
[null,null,null,null,null,null,null,null,null,"Predicted approach capacity",null,null,null,null,null,null,null,null,null,null,null,null,null,null,null,null,null,null,null,null,null,null,null,null,null,null,null,null,null,null,null,null,null,null,null,"Predicted approach capacity",null,null,null,null,null,null,null,null,null,null,null,null,null,null,null,null,null,null,null,null,null,null,null,null,null,null,null,null,null,null,null,null,null,null,null,null,null,null,null,null,null,null,null,{"$f":"BQ36+BQ39+BQ42+CN15+CQ15+DN40","v":266},null,null,null,"PCEPH"]
[]
[]
[null,null,null,null,null,null,null,null,null,{"$f":"BW38","v":1052.0740474718618},null,null,null,"PCEPH",null,null,null,null,null,null,null,null,null,null,null,null,null,null,null,null,null,null,null,null,null,null,null,null,null,null,null,null,null,null,null,{"$f":"CL56","v":1052.0740474718618},null,null,null,"PCEPH"]
[null,null,null,null,null,null,null,null,null,null,null,null,null,null,null,null,null,null,null,null,null,null,null,null,null,null,null,null,null,null,null,null,null,null,null,null,null,null,null,null,null,null,null,null,null,null,null,null,null,null,null,null,null,null,null,null,null,null,null,null,null,null,null,null,null,null,null,null,null,null,null,null,null,null,null,null,null,null,null,null,null,null,null,null,null,null,null,null,null,{"$f":"NBU_Master","v":0},null,null,{"$f":"NBL_Master","v":102},null,null,{"$f":"NBT_Master","v":510},null,null,{"$f":"NBR_Master","v":204}]
[null,null,null,null,null,null,null,null,null,{"$f":"CG45/CB7","v":0.27184398349836608},null,null,null,"V/C",null,null,null,null,null,null,null,null,null,null,null,null,null,null,null,null,null,null,null,null,null,null,null,null,null,null,null,null,null,null,null,{"$f":"CU47/CB7","v":0.77561080606526822},null,null,null,"V/C",null,null,null,null,null,null,null,null,null,null,null,null,null,null,null,null,null,null,null,null,null,null,null,null,null,null,null,null,null,null,null,null,null,null,null,null,null,null,null,"pepch",null,null,"pepch",null,null,"pepch",null,null,"pepch"]
[null,null,null,null,null,null,null,null,null,null,null,null,null,null,null,null,null,{"$f":"+IF(J65>1,1,0)","v":0},null,null,null,null,null,null,null,null,null,null,null,null,null,null,null,null,null,null,null,null,null,null,null,null,null,null,null,null,null,null,null,null,null,null,null,{"$f":"+IF(AT65>1,1,0)","v":0}]

{"sheet":"1NS x 2 EW Rndabt","index":49,"n_rows":65,"n_cols":120,"rows_kept":65,"cut":false,"hidden":false,"merged":[[6,79,7,80],[9,44,10,47],[9,48,10,51],[9,52,10,55],[9,56,10,59],[11,44,12,47],[11,48,12,51],[11,52,12,55],[11,56,12,59],[6,65,8,78],[7,2,8,9],[7,10,8,35],[9,2,10,9],[9,10,10,35],[11,2,12,9],[11,10,12,35],[9,36,12,43],[0,1,1,60],[2,1,3,60],[5,2,6,9],[5,10,6,35],[5,36,6,59],[7,36,8,41],[7,42,8,47],[7,48,8,53],[7,54,8,59],[58,45,60,56],[19,5,21,16],[22,5,23,8],[58,5,60,16],[19,45,21,56],[22,45,23,48],[24,45,25,48],[61,49,62,52],[61,53,62,56],[22,49,23,52],[22,53,23,56],[24,49,25,52],[24,53,25,56],[22,9,23,12],[22,13,23,16],[61,9,62,12],[61,13,62,16],[61,5,62,8],[61,45,62,48],[14,117,17,118],[14,119,17,120],[19,69,19,71],[19,72,19,74],[19,75,19,77],[19,78,19,80],[15,113,17,114],[15,69,18,71],[15,72,18,74],[15,75,18,77],[15,78,18,80],[18,111,20,112],[18,113,20,116],[18,119,27,120],[25,113,27,114],[18,103,22,104],[18,105,22,106],[23,69,23,76],[23,78,26,80],[23,82,23,89],[14,103,17,104],[14,105,17,106],[14,107,22,107],[22,111,24,112],[24,73,25,76],[24,82,25,85],[24,86,25,89],[24,95,26,96],[24,97,26,101],[29,78,33,80],[31,105,34,106],[27,97,29,101],[27,102,29,102],[27,103,29,103],[27,104,29,107],[28,78,28,80],[27,78,27,80],[22,113,24,116],[18,117,27,118],[29,115,31,115],[29,116,31,116],[29,117,31,120],[18,93,19,95],[24,93,26,94],[27,93,29,94],[32,117,34,120],[24,102,26,102],[24,103,26,103],[24,104,26,107],[27,95,29,96],[35,115,37,115],[35,116,37,116],[35,117,37,120],[35,105,39,106],[38,115,40,115],[38,116,40,116],[54,112,55,115],[53,77,55,80],[53,81,55,81],[53,82,55,82],[53,83,55,87],[53,104,56,106],[52,95,53,98],[52,99,53,102],[36,78,37,80],[31,107,39,107],[32,115,34,115],[32,116,34,116],[42,104,43,106],[38,117,40,120],[56,95,56,102],[56,108,56,115],[61,107,64,109],[57,80,61,81],[60,110,60,112],[51,104,51,106],[50,88,52,89],[61,113,64,115],[46,104,50,106],[59,107,59,109],[59,110,59,112],[59,113,59,115],[60,113,60,115],[52,104,52,106],[50,77,52,80],[50,81,52,81],[50,82,52,82],[53,88,55,89],[50,90,52,91],[53,90,55,91],[54,99,55,102],[54,108,55,111],[60,107,60,109],[62,64,65,65],[62,66,65,67],[59,68,61,71],[59,72,61,73],[59,104,59,106],[50,83,52,87],[60,104,60,106],[55,68,57,71],[55,72,57,73],[62,78,65,79],[62,80,65,81],[52,64,61,65],[52,66,61,67],[54,95,55,98],[62,70,64,71],[57,77,65,77],[57,78,61,79],[61,104,64,106],[0,63,1,122],[2,63,3,122],[4,82,5,88],[63,5,64,8],[61,110,64,112],[6,87,7,88],[6,89,7,93],[39,64,41,67],[39,68,41,68],[39,69,41,69],[40,77,48,77],[40,78,44,79],[42,64,44,67],[42,68,44,68],[42,69,44,69],[48,68,50,68],[48,69,50,69],[45,64,47,67],[45,68,47,68],[45,69,47,69],[34,78,35,80],[20,69,20,71],[20,72,20,74],[20,75,20,77],[6,82,7,86],[24,69,25,72],[6,94,7,95],[4,89,5,100],[44,104,45,106],[45,78,48,79],[48,64,50,67],[52,70,54,71],[63,9,64,12],[63,13,64,16],[10,82,11,86],[10,87,11,88],[10,89,11,93],[10,94,11,95],[10,96,11,100],[6,96,7,100],[8,82,9,86],[8,87,9,88],[8,89,9,93],[8,94,9,95],[8,96,9,100],[20,78,20,80],[26,82,27,85],[26,86,27,89]]}
[null,"1 NS x 2 EW Lane Roundabout",null,null,null,null,null,null,null,null,null,null,null,null,null,null,null,null,null,null,null,null,null,null,null,null,null,null,null,null,null,null,null,null,null,null,null,null,null,null,null,null,null,null,null,null,null,null,null,null,null,null,null,null,null,null,null,null,null,null,null,null,null,"1 NS x 2 EW Lane Roundabout"]
[]
[null,"Design and Results",null,null,null,null,null,null,null,null,null,null,null,null,null,null,null,null,null,null,null,null,null,null,null,null,null,null,null,null,null,null,null,null,null,null,null,null,null,null,null,null,null,null,null,null,null,null,null,null,null,null,null,null,null,null,null,null,null,null,null,null,null,"Data Input and Configuration"]
[]
[null,null,null,null,null,null,null,null,null,null,null,null,null,null,null,null,null,null,null,null,null,null,null,null,null,null,null,null,null,null,null,null,null,null,null,null,null,null,null,null,null,null,null,null,null,null,null,null,null,null,null,null,null,null,null,null,null,null,null,null,null,null,null,null,null,null,null,null,null,null,null,null,null,null,null,null,null,null,null,null,null,null,"Equation",null,null,null,null,null,null,"A x exp(-B x Q)"]
[null,null,"Project Name:",null,null,null,null,null,null,null,{"$f":"P_Name","v":"Cap-X Sample Street"},null,null,null,null,null,null,null,null,null,null,null,null,null,null,null,null,null,null,null,null,null,null,null,null,null,"Volume-to-Capacity Ratio"]
[null,null,null,null,null,null,null,null,null,null,null,null,null,null,null,null,null,null,null,null,null,null,null,null,null,null,null,null,null,null,null,null,null,null,null,null,null,null,null,null,null,null,null,null,null,null,null,null,null,null,null,null,null,null,null,null,null,null,null,null,null,null,null,null,null,"Multimodal Capacity Adjustment Factor",null,null,null,null,null,null,null,null,null,null,null,null,null,{"$f":"IF(Multimodal=1,1,IF(Multimodal=2,IF(MIN(CA35,DA45)=0,0.97,0.95),IF(MIN(CA35,DA45)=0,0.95,0.91)))","v":1},null,null,"LT Lane",null,null,null,null,"A",null,1350,null,null,null,null,"B",null,9.2000000000000003E-4]
[null,null,"Project Number:",null,null,null,null,null,null,null,{"$f":"P_Number","v":10000},null,null,null,null,null,null,null,null,null,null,null,null,null,null,null,null,null,null,null,null,null,null,null,null,null,"< 0.750",null,null,null,null,null,"0.750 - 0.875",null,null,null,null,null,"0.875 - 1.00",null,null,null,null,null,"≥ 1.00"]
[null,null,null,null,null,null,null,null,null,null,null,null,null,null,null,null,null,null,null,null,null,null,null,null,null,null,null,null,null,null,null,null,null,null,null,null,null,null,null,null,null,null,null,null,null,null,null,null,null,null,null,null,null,null,null,null,null,null,null,null,null,null,null,null,null,null,null,null,null,null,null,null,null,null,null,null,null,null,null,null,null,null,"RT Lane",null,null,null,null,"A",null,1420,null,null,null,null,"B",null,8.4999999999999995E-4]
[null,null,"Location",null,null,null,null,null,null,null,{"$f":"Location","v":"Anywhere, USA"},null,null,null,null,null,null,null,null,null,null,null,null,null,null,null,null,null,null,null,null,null,null,null,null,null,"VOLUME / CAPACITY RATIO:",null,null,null,null,null,null,null,"Zone 1",null,null,null,{"$f":"MAX(J23)","v":0.26821393827608347},null,null,null,"Zone3",null,null,null,{"$f":"MAX(AX23:BA26)","v":0.18438144211542062}]
[null,null,null,null,null,null,null,null,null,null,null,null,null,null,null,null,null,null,null,null,null,null,null,null,null,null,null,null,null,null,null,null,null,null,null,null,null,null,null,null,null,null,null,null,null,null,null,null,null,null,null,null,null,null,null,null,null,null,null,null,null,null,null,null,null,null,null,null,null,null,null,null,null,null,null,null,null,null,null,null,null,null,"One Lane",null,null,null,null,"A",null,1420,null,null,null,null,"B",null,8.4999999999999995E-4]
[null,null,"Date",null,null,null,null,null,null,null,{"$f":"Date","v":"2017 AM"},null,null,null,null,null,null,null,null,null,null,null,null,null,null,null,null,null,null,null,null,null,null,null,null,null,null,null,null,null,null,null,null,null,"Zone 4",null,null,null,{"$f":"MAX(J62:M65)","v":0.13382817041754827},null,null,null,"Zone 2",null,null,null,{"$f":"AX62","v":0.72043664771552562}]
[]
[]
[null,null,null,null,null,null,null,null,null,null,null,null,null,null,null,null,null,null,null,null,null,null,null,null,null,null,null,null,null,null,null,null,null,null,null,null,null,null,null,null,null,null,null,null,null,null,null,null,null,null,null,null,null,null,null,null,null,null,null,null,null,null,null,null,null,null,null,null,null,null,null,null,null,null,null,null,null,null,null,null,null,null,null,null,null,null,null,null,null,null,null,null,null,null,null,null,null,null,null,null,null,null,null,{"$f":"$CL$7*EXP(-$CS$7*DB36)","v":747.17533123895942},null,{"$f":"$CL$9*EXP(-$CS$9*DB36)","v":822.10008914624234},null,"Lane Capacity",null,null,null,null,null,null,null,null,null,0.53,null,{"$f":"DL30/(DL30+DL33+DL36+DL39)","v":0.17832167832167833}]
[null,null,null,null,null,null,null,null,null,null,null,null,null,null,null,null,null,null,null,null,null,null,null,null,null,null,null,null,null,null,null,null,null,null,null,null,null,null,null,null,null,null,null,null,null,null,null,null,null,null,null,null,null,null,null,null,null,null,null,null,null,null,null,null,null,null,null,null,null,null,null,null,null,null,null,null,null,null,null,null,null,null,null,null,null,null,null,null,null,null,null,null,null,null,null,null,null,null,null,null,null,null,null,null,null,null,null,null,null,null,null,null,null,{"$f":"DL30","v":51}]
[]
[]
[null,null,null,null,null,null,null,null,null,null,null,null,null,null,null,null,null,null,null,null,null,null,null,null,null,null,null,null,null,null,null,null,null,null,null,null,null,null,null,null,null,null,null,null,null,null,null,null,null,null,null,null,null,null,null,null,null,null,null,null,null,null,null,null,null,null,null,null,null,null,null,null,null,null,null,null,null,null,null,null,null,null,null,null,null,null,null,null,null,null,null,null,null,null,null,null,null,null,null,null,null,null,null,1,null,2,null,null,null,null,null,{"$f":"IF(DJ16>DN15*SUM(DL30:DL41),0,IF(DJ26>(1-DN15)*SUM(DL30:DL41),DL33,DN15*SUM(DL30:DL41)-DL30))","v":100.58000000000001},null,null,null,null,null,"Through lane utilization factor",null,"Right turn to Total Flow Ratio"]
[null,null,null,null,null,"Predicted approach capacity",null,null,null,null,null,null,null,null,null,null,null,null,null,null,null,null,null,null,null,null,null,null,null,null,null,null,null,null,null,null,null,null,null,null,null,null,null,null,null,"Predicted approach capacity",null,null,null,null,null,null,null,null,null,null,null,null,null,null,null,null,null,null,null,null,null,null,null,"pepch",null,null,"pepch",null,null,"pepch",null,null,"pepch"]
[null,null,null,null,null,null,null,null,null,null,null,null,null,null,null,null,null,null,null,null,null,null,null,null,null,null,null,null,null,null,null,null,null,null,null,null,null,null,null,null,null,null,null,null,null,null,null,null,null,null,null,null,null,null,null,null,null,null,null,null,null,null,null,null,null,null,null,null,null,{"$f":"SBR_Master","v":51},null,null,{"$f":"SBT_Master","v":204},null,null,{"$f":"SBL_Master","v":31},null,null,{"$f":"SBU_Master","v":0}]
[]
[null,null,null,null,null,"Lane 1",null,null,null,{"$f":"CA35/CB7","v":0.26821393827608347},null,null,null,"V/C",null,null,null,null,null,null,null,null,null,null,null,null,null,null,null,null,null,null,null,null,null,null,null,null,null,null,null,null,null,null,null,"Lane 1",null,null,null,{"$f":"CR28/CB7","v":0.17990422646463175},null,null,null,"V/C",null,null,null,null,null,null,null,null,null,null,null,null,null,null,null,null,null,null,null,null,null,null,null,null,null,null,null,null,null,null,null,null,null,null,null,null,null,null,null,null,null,null,null,null,null,null,null,null,null,null,null,null,null,null,null,null,null,{"$f":"IF(DJ26>(1-DN15)*SUM(DL30:DL41),0,IF(DJ16>DN15*SUM(DL30:DL41),DL33,DL33-DH19))","v":103.41999999999999}]
[null,null,null,null,null,null,null,null,null,null,null,null,null,null,null,null,null,{"$f":"+IF(J23>1,1,0)","v":0},null,null,null,null,null,null,null,null,null,null,null,null,null,null,null,null,null,null,null,null,null,null,null,null,null,null,null,null,null,null,null,null,null,null,null,null,null,null,null,null,null,null,null,null,null,null,null,null,null,null,null,"Lane Capacity",null,null,null,null,null,null,null,null,null,null,null,null,"Conflicting flow"]
[null,null,null,null,null,null,null,null,null,null,null,null,null,null,null,null,null,null,null,null,null,null,null,null,null,null,null,null,null,null,null,null,null,null,null,null,null,null,null,null,null,null,null,null,null,"Lane 2",null,null,null,{"$f":"CR25/CB7","v":0.18438144211542062},null,null,null,"V/C",null,null,null,null,null,null,null,null,null,null,null,null,null,null,null,1,null,null,null,{"$f":"$CL$11*EXP(-$CS$11*(CE27+CE25))","v":1066.3129658295707},null,null,null,null,null,null,null,null,{"$f":"DH19+DD60+BR40","v":202.58},null,null,null,null,null,null,null,null,null,null,2,null,{"$f":"CY25/DB15","v":0.18438144211542062},null,"V/C RATIO",null,null,null,null,{"$f":"DH19+DJ16","v":151.58000000000001},"pepch"]
[null,null,null,null,null,null,null,null,null,null,null,null,null,null,null,null,null,null,null,null,null,null,null,null,null,null,null,null,null,null,null,null,null,null,null,null,null,null,null,null,null,null,null,null,null,null,null,null,null,null,null,null,null,null,null,null,null,{"$f":"+IF(OR(AX23>1,AX25>1),1,0)","v":0},null,null,null,null,null,null,null,null,null,null,null,null,null,null,null,null,null,null,null,null,null,null,null,null,null,null,null,null,null,null,null,null,null,null,null,null,null,null,null,null,null,null,null,null,null,null,null,null,null,null,null,null,null,null,null,{"$f":"DL36+DL39","v":31}]
[null,null,null,null,null,null,null,null,null,null,null,null,null,null,null,null,null,null,null,null,null,null,null,null,null,null,null,null,null,null,null,null,null,null,null,null,null,null,null,null,null,null,null,null,null,null,null,null,null,null,null,null,null,null,null,null,null,null,null,null,null,null,null,null,null,null,null,null,null,null,null,null,null,null,null,null,null,null,null,null,null,null,{"$f":"DH23+DJ26+DA60","v":134.41999999999999}]
[null,null,null,null,null,null,null,null,null,null,null,null,null,null,null,null,null,null,null,null,null,null,null,null,null,null,null,null,null,null,null,null,null,null,null,null,null,null,null,null,null,null,null,null,null,null,null,null,null,null,null,null,null,null,null,null,null,null,null,null,null,null,null,null,null,null,null,null,null,null,null,null,null,null,null,null,null,null,"pepch",null,null,null,null,null,null,null,null,null,null,null,null,null,null,1,null,{"$f":"CY28/CZ15","v":0.17990422646463175},null,"V/C RATIO",null,null,null,null,{"$f":"DJ26+DH23","v":134.41999999999999},"pepch"]
[null,null,null,null,null,null,null,null,null,null,null,null,null,null,null,null,null,null,null,null,null,null,null,null,null,null,null,null,null,null,null,null,null,null,null,null,null,null,null,null,null,null,null,null,null,null,null,null,null,null,null,null,null,null,null,null,null,null,null,null,null,null,null,null,null,null,null,null,null,null,null,null,null,null,null,null,null,null,{"$f":"BR21+BU21+BX21+CA21","v":286}]
[null,null,null,null,null,null,null,null,null,null,null,null,null,null,null,null,null,null,null,null,null,null,null,null,null,null,null,null,null,null,null,null,null,null,null,null,null,null,null,null,null,null,null,null,null,null,null,null,null,null,null,null,null,null,null,null,null,null,null,null,null,null,null,null,null,null,null,null,null,null,null,null,null,null,null,null,null,null,"V/C RATIO",null,null,null,null,null,null,null,null,null,null,null,null,null,null,null,null,null,null,null,null,null,null,null,null,null,null,null,null,null,null,null,null,null,null,null,null,{"$f":"WBR_Master","v":51},"pepch"]
[]
[null,null,null,null,null,null,null,null,null,null,null,null,null,null,null,null,null,null,null,null,null,null,null,null,null,null,null,null,null,null,null,null,null,null,null,null,null,null,null,null,null,null,null,null,null,null,null,null,null,null,null,null,null,null,null,null,null,null,null,null,null,null,null,null,null,null,null,null,null,null,null,null,null,null,null,null,null,null,null,null,null,null,null,null,null,null,null,null,null,null,null,null,null,null,null,null,null,null,null,null,null,null,null,null,null,null,null,"Conflicting flow"]
[null,null,null,null,null,null,null,null,null,null,null,null,null,null,null,null,null,null,null,null,null,null,null,null,null,null,null,null,null,null,null,null,null,null,null,null,null,null,null,null,null,null,null,null,null,null,null,null,null,null,null,null,null,null,null,null,null,null,null,null,null,null,null,null,null,null,null,null,null,null,null,null,null,null,null,null,null,null,null,null,null,null,null,null,null,null,null,null,null,null,null,null,null,null,null,null,null,null,null,null,null,null,null,null,null,null,null,null,null,null,null,null,null,null,null,{"$f":"WBT_Master","v":204},"pepch"]
[]
[null,null,null,null,null,null,null,null,null,null,null,null,null,null,null,null,null,null,null,null,null,null,null,null,null,null,null,null,null,null,null,null,null,null,null,null,null,null,null,null,null,null,null,null,null,null,null,null,null,null,null,null,null,null,null,null,null,null,null,null,null,null,null,null,null,null,null,null,null,null,null,null,null,null,null,null,null,null,{"$f":"CA29/BV25","v":0.26821393827608347}]
[null,null,null,null,null,null,null,null,null,null,null,null,null,null,null,null,null,null,null,null,null,null,null,null,null,null,null,null,null,null,null,null,null,null,null,null,null,null,null,null,null,null,null,null,null,null,null,null,null,null,null,null,null,null,null,null,null,null,null,null,null,null,null,null,null,null,null,null,null,null,null,null,null,null,null,null,null,null,null,null,null,null,null,null,null,null,null,null,null,null,null,null,null,null,null,null,null,null,null,null,null,null,null,null,null,{"$f":"BS53+DA60+DD60+DG60+CA21","v":643},null,null,null,null,null,null,null,null,null,{"$f":"WBL_Master","v":31},"pepch"]
[null,null,null,null,null,null,null,null,null,null,null,null,null,null,null,null,null,null,null,null,null,null,null,null,null,null,null,null,null,null,null,null,null,null,null,null,null,null,null,null,null,null,null,null,null,null,null,null,null,null,null,null,null,null,null,null,null,null,null,null,null,null,null,null,null,null,null,null,null,null,null,null,null,null,null,null,null,null,1]
[]
[null,null,null,null,null,null,null,null,null,null,null,null,null,null,null,null,null,null,null,null,null,null,null,null,null,null,null,null,null,null,null,null,null,null,null,null,null,null,null,null,null,null,null,null,null,null,null,null,null,null,null,null,null,null,null,null,null,null,null,null,null,null,null,null,null,null,null,null,null,null,null,null,null,null,null,null,null,null,null,null,null,null,null,null,null,null,null,null,null,null,null,null,null,null,null,null,null,null,null,null,null,null,null,null,null,null,null,null,null,null,null,null,null,null,null,{"$f":"WBU_Master","v":0},"pepch"]
[null,null,null,null,null,null,null,null,null,null,null,null,null,null,null,null,null,null,null,null,null,null,null,null,null,null,null,null,null,null,null,null,null,null,null,null,null,null,null,null,null,null,null,null,null,null,null,null,null,null,null,null,null,null,null,null,null,null,null,null,null,null,null,null,null,null,null,null,"pepch",{"$f":"EBU_Master","v":0}]
[null,null,null,null,null,null,null,null,null,null,null,null,null,null,null,null,null,null,null,null,null,null,null,null,null,null,null,null,null,null,null,null,null,null,null,null,null,null,null,null,null,null,null,null,null,null,null,null,null,null,null,null,null,null,null,null,null,null,null,null,null,null,null,null,null,null,null,null,null,null,null,null,null,null,null,null,null,"Conflicting flow",{"$f":"DJ26+CA21+BX21+BU21+DA60","v":266}]
[]
[null,null,null,null,null,null,null,null,null,null,null,null,null,null,null,null,null,null,null,null,null,null,null,null,null,null,null,null,null,null,null,null,null,null,null,null,null,null,null,null,null,null,null,null,null,null,null,null,null,null,null,null,null,null,null,null,null,null,null,null,null,null,null,null,null,null,null,null,"pepch",{"$f":"EBL_Master","v":31},null,null,null,null,null,null,null,null,null,null,null,null,null,null,null,null,null,null,null,null,null,null,null,null,null,null,null,null,null,null,null,null,null,null,1]
[]
[null,null,null,null,null,null,null,null,null,null,null,null,null,null,null,null,null,null,null,null,null,null,null,null,null,null,null,null,null,null,null,null,null,null,null,null,null,null,null,null,null,null,null,null,null,null,null,null,null,null,null,null,null,null,null,null,null,null,null,null,null,null,null,null,null,null,null,null,null,null,null,null,null,null,null,null,null,null,null,null,null,null,null,null,null,null,null,null,null,null,null,null,null,null,null,null,null,null,null,null,null,null,null,null,{"$f":"DA52/DI55","v":0.72043664771552562}]
[null,null,null,null,null,null,null,null,null,null,null,null,null,null,null,null,null,null,null,null,null,null,null,null,null,null,null,null,null,null,null,null,null,null,null,null,null,null,null,null,null,null,null,null,null,null,null,null,null,null,null,null,null,null,null,null,null,null,null,null,null,null,null,null,null,null,null,null,"pepch",{"$f":"EBT_Master","v":204}]
[null,null,null,null,null,null,null,null,null,null,null,null,null,null,null,null,null,null,null,null,null,null,null,null,null,null,null,null,null,null,null,null,null,null,null,null,null,null,null,null,null,null,null,null,null,null,null,null,null,null,null,null,null,null,null,null,null,null,null,null,null,null,null,null,null,null,null,null,null,null,null,null,null,null,null,null,null,null,null,null,null,null,null,null,null,null,null,null,null,null,null,null,null,null,null,null,null,null,null,null,null,null,null,null,"V/C RATIO"]
[]
[null,null,null,null,null,null,null,null,null,null,null,null,null,null,null,null,null,null,null,null,null,null,null,null,null,null,null,null,null,null,null,null,null,null,null,null,null,null,null,null,null,null,null,null,null,null,null,null,null,null,null,null,null,null,null,null,null,null,null,null,null,null,null,null,null,null,null,null,"pepch",{"$f":"EBR_Master","v":51}]
[]
[null,null,null,null,null,null,null,null,null,null,null,null,null,null,null,null,null,null,null,null,null,null,null,null,null,null,null,null,null,null,null,null,null,null,null,null,null,null,null,null,null,null,null,null,null,null,null,null,null,null,null,null,null,null,null,null,null,null,null,null,null,null,null,null,null,null,null,null,null,null,null,null,null,null,null,null,null,null,null,null,null,"pepch",{"$f":"BS53+BU56","v":134.41999999999999},"V/C RATIO",null,null,null,null,{"$f":"CE51/CC63","v":0.12717761263152494},null,1]
[null,null,null,null,null,null,null,null,null,null,null,null,null,null,null,null,null,null,null,null,null,null,null,null,null,null,null,null,null,null,null,null,null,null,null,null,null,null,null,null,null,null,null,null,null,null,null,null,null,null,null,null,null,null,null,null,null,null,null,null,null,null,null,null,null,null,null,null,null,null,null,null,null,null,null,null,null,null,null,null,null,null,null,null,null,null,null,null,null,null,null,null,null,null,null,null,null,null,null,null,null,null,null,null,{"$f":"DD60+DG60+DJ60+DA60","v":816}]
[null,null,null,null,null,null,null,null,null,null,null,null,null,null,null,null,null,null,null,null,null,null,null,null,null,null,null,null,null,null,null,null,null,null,null,null,null,null,null,null,null,null,null,null,null,null,null,null,null,null,null,null,null,null,null,null,null,null,null,null,null,null,null,null,"Right turn to Total Flow Ratio",null,"Through lane utilization factor",null,null,null,{"$f":"BR43+BR40","v":31},null,null,null,null,null,null,null,null,null,null,null,null,null,null,null,null,null,null,null,null,null,null,null,null,{"$f":"BS53+BU56+CA21","v":134.41999999999999},null,null,null,null,null,null,null,null,"pepch"]
[null,null,null,null,null,null,null,null,null,null,null,null,null,null,null,null,null,null,null,null,null,null,null,null,null,null,null,null,null,null,null,null,null,null,null,null,null,null,null,null,null,null,null,null,null,null,null,null,null,null,null,null,null,null,null,null,null,null,null,null,null,null,null,null,null,null,null,null,null,null,null,null,null,null,null,null,null,null,null,null,null,"pepch",{"$f":"BU60+BS63","v":151.58000000000001},"V/C RATIO",null,null,null,null,{"$f":"CE54/CA63","v":0.13382817041754827},null,2]
[null,null,null,null,null,null,null,null,null,null,null,null,null,null,null,null,null,null,null,null,null,null,null,null,null,null,null,null,null,null,null,null,null,null,null,null,null,null,null,null,null,null,null,null,null,null,null,null,null,null,null,null,null,null,null,null,null,null,null,null,null,null,null,null,null,null,null,null,null,null,null,null,null,null,null,null,null,null,null,null,null,null,null,null,null,null,null,null,null,null,null,null,null,null,null,{"$f":"BU60+BX21+DL39","v":131.58000000000001},null,null,null,null,null,null,null,null,null,null,null,null,1,null,null,null,{"$f":"$CL$11*EXP(-$CS$11*(CR53+CR55))","v":1132.6464340584307}]
[null,null,null,null,null,null,null,null,null,null,null,null,null,null,null,null,null,null,null,null,null,null,null,null,null,null,null,null,null,null,null,null,null,null,null,null,null,null,null,null,null,null,null,null,null,null,null,null,null,null,null,null,null,null,null,null,null,null,null,null,null,null,null,null,null,null,null,null,null,null,null,null,{"$f":"IF(BS53>(1-BO63)*SUM(BR40:BR51),0,IF(BS63>BO63*SUM(BR40:BR51),BR46,BR46-BU60))","v":103.41999999999999}]
[null,null,null,null,null,null,null,null,null,null,null,null,null,null,null,null,null,null,null,null,null,null,null,null,null,null,null,null,null,null,null,null,null,null,null,null,null,null,null,null,null,null,null,null,null,null,null,null,null,null,null,null,null,null,null,null,null,null,null,null,null,null,null,null,null,null,null,null,null,null,null,null,null,null,null,null,null,null,null,null,null,null,null,null,null,null,null,null,null,null,null,null,null,null,null,"Conflicting flow",null,null,null,null,null,null,null,null,null,null,null,null,"Lane Capacity"]
[null,null,null,null,null,null,null,null,null,null,null,null,null,null,null,null,null,null,null,null,null,null,null,null,null,null,null,null,null,null,null,null,null,null,null,null,null,null,null,null,null,null,null,null,null,null,null,null,null,null,null,null,null,null,null,null,null,null,null,null,null,null,null,null,null,null,null,null,null,null,null,null,null,null,null,null,null,"Lane Capacity",2,null,1]
[null,null,null,null,null,"Predicted approach capacity",null,null,null,null,null,null,null,null,null,null,null,null,null,null,null,null,null,null,null,null,null,null,null,null,null,null,null,null,null,null,null,null,null,null,null,null,null,null,null,"Predicted approach capacity"]
[null,null,null,null,null,null,null,null,null,null,null,null,null,null,null,null,null,null,null,null,null,null,null,null,null,null,null,null,null,null,null,null,null,null,null,null,null,null,null,null,null,null,null,null,null,null,null,null,null,null,null,null,null,null,null,null,null,null,null,null,null,null,null,null,null,null,null,null,null,null,null,null,{"$f":"IF(BS63>BO63*SUM(BR40:BR51),0,IF(BS53>(1-BO63)*SUM(BR40:BR51),BR46,BO63*SUM(BR40:BR51)-BR49))","v":100.58000000000001},null,null,null,null,null,null,null,null,null,null,null,null,null,null,null,null,null,null,null,null,null,null,null,null,null,null,null,null,null,null,null,{"$f":"NBU_Master","v":0},null,null,{"$f":"NBL_Master","v":102},null,null,{"$f":"NBT_Master","v":510},null,null,{"$f":"NBR_Master","v":204}]
[null,null,null,null,null,null,null,null,null,null,null,null,null,null,null,null,null,null,null,null,null,null,null,null,null,null,null,null,null,null,null,null,null,null,null,null,null,null,null,null,null,null,null,null,null,null,null,null,null,null,null,null,null,null,null,null,null,null,null,null,null,null,null,null,null,null,null,null,null,null,null,null,null,null,null,null,null,null,null,null,null,null,null,null,null,null,null,null,null,null,null,null,null,null,null,null,null,null,null,null,null,null,null,null,"pepch",null,null,"pepch",null,null,"pepch",null,null,"pepch"]
[null,null,null,null,null,"Lane 1",null,null,null,{"$f":"CK51/CB7","v":0.12717761263152494},null,null,null,"V/C",null,null,null,null,null,null,null,null,null,null,null,null,null,null,null,null,null,null,null,null,null,null,null,null,null,null,null,null,null,null,null,"Lane 1",null,null,null,{"$f":"DA45/CB7","v":0.72043664771552562},null,null,null,"V/C"]
[null,null,null,null,null,null,null,null,null,null,null,null,null,null,null,null,null,null,null,null,null,null,null,null,null,null,null,null,null,null,null,null,null,null,null,null,null,null,null,null,null,null,null,null,null,null,null,null,null,null,null,null,null,null,null,null,null,{"$f":"+IF(AX62>1,1,0)","v":0},null,null,null,null,null,null,{"$f":"BR49/(BR49+BR46+BR43+BR40)","v":0.17832167832167833},null,0.53,null,null,null,{"$f":"BR49","v":51},null,null,null,null,null,null,null,{"$f":"$CL$9*EXP(-$CS$9*CA41)","v":1132.6464340584307},null,{"$f":"$CL$7*EXP(-$CS$7*CA41)","v":1056.9470303665678}]
[null,null,null,null,null,"Lane 2",null,null,null,{"$f":"CK54/CB7","v":0.13382817041754827},null,null,null,"V/C"]
[null,null,null,null,null,null,null,null,null,null,null,null,null,null,null,null,null,{"$f":"+IF(OR(J62>1,J64>1),1,0)","v":0}]

{"sheet":"2 NS x 1 EW Rndabt","index":50,"n_rows":65,"n_cols":116,"rows_kept":65,"cut":false,"hidden":false,"merged":[[6,79,7,80],[9,44,10,47],[9,48,10,51],[9,52,10,55],[9,56,10,59],[11,44,12,47],[11,48,12,51],[11,52,12,55],[11,56,12,59],[6,65,8,78],[7,2,8,9],[7,10,8,35],[9,2,10,9],[9,10,10,35],[11,2,12,9],[11,10,12,35],[9,36,12,43],[0,1,1,60],[2,1,3,60],[5,2,6,9],[5,10,6,35],[5,36,6,59],[7,36,8,41],[7,42,8,47],[7,48,8,53],[7,54,8,59],[61,45,62,48],[63,45,64,48],[19,5,21,16],[22,5,23,8],[24,5,25,8],[58,45,60,56],[19,45,21,56],[22,45,23,48],[58,5,60,16],[61,5,62,8],[22,49,23,52],[22,53,23,56],[61,49,62,52],[61,53,62,56],[63,49,64,52],[63,53,64,56],[61,9,62,12],[61,13,62,16],[22,9,23,12],[22,13,23,16],[24,9,25,12],[24,13,25,16],[0,63,1,122],[2,63,3,122],[4,101,5,107],[6,101,7,105],[6,106,7,107],[6,108,7,112],[6,113,7,114],[10,101,11,105],[10,106,11,107],[10,108,11,112],[10,113,11,114],[10,115,11,119],[4,108,5,119],[10,69,11,78],[10,79,11,82],[10,84,13,86],[10,87,13,89],[10,90,13,92],[10,93,13,95],[6,115,7,119],[8,101,9,105],[8,106,9,107],[8,108,9,112],[8,113,9,114],[8,115,9,119],[15,69,16,71],[15,79,16,81],[15,84,15,86],[15,87,15,89],[15,90,15,92],[15,93,15,95],[12,69,13,78],[12,79,13,82],[14,72,17,74],[14,76,17,78],[14,84,14,86],[14,87,14,89],[14,90,14,92],[14,93,14,95],[18,72,19,74],[18,76,19,78],[18,106,22,107],[23,69,23,76],[23,78,26,80],[23,81,26,83],[23,85,23,92],[14,106,17,107],[14,108,22,108],[24,105,26,108],[24,98,26,102],[24,103,26,103],[24,104,26,104],[25,112,27,112],[25,113,27,113],[25,114,27,117],[28,78,28,80],[28,81,28,83],[26,69,27,72],[26,73,27,76],[27,78,27,80],[27,81,27,83],[24,96,26,97],[24,69,25,72],[24,73,25,76],[24,85,25,88],[24,89,25,92],[24,94,26,95],[34,78,35,80],[34,81,35,83],[31,112,33,112],[31,113,33,113],[31,114,33,117],[32,104,36,105],[32,106,36,107],[34,112,36,112],[34,113,36,113],[29,78,33,80],[29,81,33,83],[28,104,31,105],[28,106,31,107],[28,108,36,108],[28,112,30,112],[28,113,30,113],[36,78,37,80],[36,81,37,83],[34,114,36,117],[28,114,30,117],[45,68,47,71],[45,72,47,72],[45,73,47,73],[44,78,47,79],[44,80,47,81],[48,68,50,71],[39,68,41,71],[39,72,41,72],[39,73,41,73],[39,77,47,77],[39,78,43,79],[39,80,43,81],[42,68,44,71],[42,72,44,72],[42,73,44,73],[48,72,50,72],[48,73,50,73],[58,78,61,79],[58,103,59,105],[58,106,61,108],[50,93,51,96],[50,97,51,100],[50,109,51,112],[50,113,51,116],[52,93,52,100],[52,109,52,116],[61,90,61,92],[61,93,61,95],[61,96,61,98],[61,99,61,101],[49,77,51,80],[49,81,51,81],[49,82,51,82],[49,83,51,87],[53,77,61,77],[53,78,57,79],[49,88,51,89],[49,90,51,91],[62,90,65,92],[62,93,65,95],[62,96,65,98],[62,99,65,101],[58,110,61,112],[60,90,60,92],[60,93,60,95],[60,96,60,98],[60,99,60,101],[62,103,63,112],[38,102,39,104],[38,105,39,107],[62,113,63,116],[64,103,65,112],[64,113,65,116],[58,113,59,115],[56,106,57,108],[56,110,57,112],[40,102,41,104],[40,105,41,107],[42,102,46,104],[42,105,46,107],[48,109,49,112],[48,113,49,116],[49,102,52,104],[49,105,52,107],[47,102,47,104],[47,105,47,107],[48,102,48,104],[48,105,48,107]]}
[null,"2 NS x 1 EW Lane Roundabout",null,null,null,null,null,null,null,null,null,null,null,null,null,null,null,null,null,null,null,null,null,null,null,null,null,null,null,null,null,null,null,null,null,null,null,null,null,null,null,null,null,null,null,null,null,null,null,null,null,null,null,null,null,null,null,null,null,null,null,null,null,"2 NS x 1 EW Lane Roundabout"]
[]
[null,"Design and Results",null,null,null,null,null,null,null,null,null,null,null,null,null,null,null,null,null,null,null,null,null,null,null,null,null,null,null,null,null,null,null,null,null,null,null,null,null,null,null,null,null,null,null,null,null,null,null,null,null,null,null,null,null,null,null,null,null,null,null,null,null,"Data Input and Configuration"]
[]
[null,null,null,null,null,null,null,null,null,null,null,null,null,null,null,null,null,null,null,null,null,null,null,null,null,null,null,null,null,null,null,null,null,null,null,null,null,null,null,null,null,null,null,null,null,null,null,null,null,null,null,null,null,null,null,null,null,null,null,null,null,null,null,null,null,null,null,null,null,null,null,null,null,null,null,null,null,null,null,null,null,null,null,null,null,null,null,null,null,null,null,null,null,null,null,null,null,null,null,null,null,"Equation",null,null,null,null,null,null,"A x exp(-B x Q)"]
[null,null,"Project Name:",null,null,null,null,null,null,null,{"$f":"P_Name","v":"Cap-X Sample Street"},null,null,null,null,null,null,null,null,null,null,null,null,null,null,null,null,null,null,null,null,null,null,null,null,null,"Volume-to-Capacity Ratio"]
[null,null,null,null,null,null,null,null,null,null,null,null,null,null,null,null,null,null,null,null,null,null,null,null,null,null,null,null,null,null,null,null,null,null,null,null,null,null,null,null,null,null,null,null,null,null,null,null,null,null,null,null,null,null,null,null,null,null,null,null,null,null,null,null,null,"Multimodal Capacity Adjustment Factor",null,null,null,null,null,null,null,null,null,null,null,null,null,{"$f":"IF(Multimodal=1,1,IF(Multimodal=2,IF(MIN(CK50,CS25)=0,0.97,0.95),IF(MIN(CK50,CS25)=0,0.95,0.91)))","v":1},null,null,null,null,null,null,null,null,null,null,null,null,null,null,null,null,null,null,null,null,null,"LT Lane",null,null,null,null,"A",null,1350,null,null,null,null,"B",null,9.2000000000000003E-4]
[null,null,"Project Number:",null,null,null,null,null,null,null,{"$f":"P_Number","v":10000},null,null,null,null,null,null,null,null,null,null,null,null,null,null,null,null,null,null,null,null,null,null,null,null,null,"< 0.750",null,null,null,null,null,"0.750 - 0.875",null,null,null,null,null,"0.875 - 1.00",null,null,null,null,null,"≥ 1.00"]
[null,null,null,null,null,null,null,null,null,null,null,null,null,null,null,null,null,null,null,null,null,null,null,null,null,null,null,null,null,null,null,null,null,null,null,null,null,null,null,null,null,null,null,null,null,null,null,null,null,null,null,null,null,null,null,null,null,null,null,null,null,null,null,null,null,null,null,null,null,null,null,null,null,null,null,null,null,null,null,null,null,null,null,null,null,null,null,null,null,null,null,null,null,null,null,null,null,null,null,null,null,"RT Lane",null,null,null,null,"A",null,1420,null,null,null,null,"B",null,8.4999999999999995E-4]
[null,null,"Location",null,null,null,null,null,null,null,{"$f":"Location","v":"Anywhere, USA"},null,null,null,null,null,null,null,null,null,null,null,null,null,null,null,null,null,null,null,null,null,null,null,null,null,"VOLUME / CAPACITY RATIO:",null,null,null,null,null,null,null,"Zone 1",null,null,null,{"$f":"MAX(J23:M26)","v":0.14215338728632426},null,null,null,"Zone3",null,null,null,{"$f":"MAX(AX23)","v":0.34788951342532187}]
[null,null,null,null,null,null,null,null,null,null,null,null,null,null,null,null,null,null,null,null,null,null,null,null,null,null,null,null,null,null,null,null,null,null,null,null,null,null,null,null,null,null,null,null,null,null,null,null,null,null,null,null,null,null,null,null,null,null,null,null,null,null,null,null,null,null,null,null,null,"Right turn to Total Flow Ratio",null,null,null,null,null,null,null,null,null,{"$f":"CG16/(CG16+CJ16+CM16+CP16)","v":0.17832167832167833},null,null,null,null,null,null,null,null,null,null,null,null,null,null,null,null,null,null,null,null,null,"One Lane",null,null,null,null,"A",null,1420,null,null,null,null,"B",null,8.4999999999999995E-4]
[null,null,"Date",null,null,null,null,null,null,null,{"$f":"Date","v":"2017 AM"},null,null,null,null,null,null,null,null,null,null,null,null,null,null,null,null,null,null,null,null,null,null,null,null,null,null,null,null,null,null,null,null,null,"Zone 4",null,null,null,{"$f":"MAX(J62)","v":0.25250598191990237},null,null,null,"Zone 2",null,null,null,{"$f":"MAX(AX62:BA65)","v":0.38183142328922859}]
[null,null,null,null,null,null,null,null,null,null,null,null,null,null,null,null,null,null,null,null,null,null,null,null,null,null,null,null,null,null,null,null,null,null,null,null,null,null,null,null,null,null,null,null,null,null,null,null,null,null,null,null,null,null,null,null,null,null,null,null,null,null,null,null,null,null,null,null,null,"Through lane utilization factor",null,null,null,null,null,null,null,null,null,0.53]
[]
[null,null,null,null,null,null,null,null,null,null,null,null,null,null,null,null,null,null,null,null,null,null,null,null,null,null,null,null,null,null,null,null,null,null,null,null,null,null,null,null,null,null,null,null,null,null,null,null,null,null,null,null,null,null,null,null,null,null,null,null,null,null,null,null,null,null,null,null,null,null,null,null,null,null,null,null,null,null,null,null,null,null,null,null,"pepch",null,null,"pepch",null,null,"pepch",null,null,"pepch",null,null,null,null,null,null,null,null,null,null,null,null,{"$f":"$DE$11*EXP(-$DL$11*(DC33+DA33))","v":822.10008914624234},null,"Lane Capacity"]
[null,null,null,null,null,null,null,null,null,null,null,null,null,null,null,null,null,null,null,null,null,null,null,null,null,null,null,null,null,null,null,null,null,null,null,null,null,null,null,null,null,null,null,null,null,null,null,null,null,null,null,null,null,null,null,null,null,null,null,null,null,null,null,null,null,null,null,null,null,{"$f":"CG16","v":51},null,null,null,null,null,null,null,null,null,{"$f":"CM16+CP16","v":31},null,null,null,null,{"$f":"SBR_Master","v":51},null,null,{"$f":"SBT_Master","v":204},null,null,{"$f":"SBL_Master","v":31},null,null,{"$f":"SBU_Master","v":0}]
[]
[]
[null,null,null,null,null,null,null,null,null,null,null,null,null,null,null,null,null,null,null,null,null,null,null,null,null,null,null,null,null,null,null,null,null,null,null,null,null,null,null,null,null,null,null,null,null,null,null,null,null,null,null,null,null,null,null,null,null,null,null,null,null,null,null,null,null,null,null,null,null,null,null,null,{"$f":"IF(BR16>CB13*SUM(CG16:CR16),0,IF(CB16>(1-CB13)*SUM(CG16:CR16),CJ16,CB13*SUM(CG16:CR16)-BR16))","v":100.58000000000001},null,null,null,{"$f":"IF(CB16>(1-CB13)*SUM(CG16:CR16),0,IF(BR16>CB13*SUM(CG16:CR16),CJ16,CJ16-BU19))","v":103.41999999999999},null,null,null,null,null,null,null,null,null,null,null,null,null,null,null,null,null,null,null,null,null,null,null,null,null,null,null,null,null,1]
[null,null,null,null,null,"Predicted approach capacity",null,null,null,null,null,null,null,null,null,null,null,null,null,null,null,null,null,null,null,null,null,null,null,null,null,null,null,null,null,null,null,null,null,null,null,null,null,null,null,"Predicted approach capacity"]
[]
[]
[null,null,null,null,null,"Lane 1",null,null,null,{"$f":"CD35/CB7","v":0.13576217396475573},null,null,null,"V/C",null,null,null,null,null,null,null,null,null,null,null,null,null,null,null,null,null,null,null,null,null,null,null,null,null,null,null,null,null,null,null,"Lane 1",null,null,null,{"$f":"CS25/CB7","v":0.34788951342532187},null,null,null,"V/C"]
[null,null,null,null,null,null,null,null,null,null,null,null,null,null,null,null,null,null,null,null,null,null,null,null,null,null,null,null,null,null,null,null,null,null,null,null,null,null,null,null,null,null,null,null,null,null,null,null,null,null,null,null,null,null,null,null,null,{"$f":"+IF(AX23>1,1,0)","v":0},null,null,null,null,null,null,null,null,null,null,null,"Lane Capacity",null,null,null,null,null,null,null,null,null,null,null,null,null,null,null,"Conflicting flow"]
[null,null,null,null,null,"Lane 2",null,null,null,{"$f":"CA35/CB7","v":0.14215338728632426},null,null,null,"V/C",null,null,null,null,null,null,null,null,null,null,null,null,null,null,null,null,null,null,null,null,null,null,null,null,null,null,null,null,null,null,null,null,null,null,null,null,null,null,null,null,null,null,null,null,null,null,null,null,null,null,null,null,null,null,null,1,null,null,null,{"$f":"$DE$7*EXP(-$DL$7*CH25)","v":990.11378555926649},null,null,null,null,null,null,null,null,null,null,null,{"$f":"CZ59+DI35+DI32+DI29+BV40","v":337},null,null,null,null,null,null,null,null,1,null,{"$f":"CZ25/DC15","v":0.34788951342532187},null,"V/C RATIO",null,null,null,null,{"$f":"DI32+DI29+DI26+DI35","v":286},"pepch"]
[null,null,null,null,null,null,null,null,null,null,null,null,null,null,null,null,null,{"$f":"+IF(OR(J23>1,J25>1),1,0)","v":0},null,null,null,null,null,null,null,null,null,null,null,null,null,null,null,null,null,null,null,null,null,null,null,null,null,null,null,null,null,null,null,null,null,null,null,null,null,null,null,null,null,null,null,null,null,null,null,null,null,null,null,null,null,null,null,null,null,null,null,null,null,null,null,null,null,null,null,null,null,null,null,null,null,null,null,null,null,null,null,null,null,null,null,null,null,null,null,null,null,null,null,null,null,null,{"$f":"WBR_Master","v":51},"pepch"]
[null,null,null,null,null,null,null,null,null,null,null,null,null,null,null,null,null,null,null,null,null,null,null,null,null,null,null,null,null,null,null,null,null,null,null,null,null,null,null,null,null,null,null,null,null,null,null,null,null,null,null,null,null,null,null,null,null,null,null,null,null,null,null,null,null,null,null,null,null,2,null,null,null,{"$f":"$DE$9*EXP(-$DL$9*CH25)","v":1066.3129658295707}]
[null,null,null,null,null,null,null,null,null,null,null,null,null,null,null,null,null,null,null,null,null,null,null,null,null,null,null,null,null,null,null,null,null,null,null,null,null,null,null,null,null,null,null,null,null,null,null,null,null,null,null,null,null,null,null,null,null,null,null,null,null,null,null,null,null,null,null,null,null,null,null,null,null,null,null,null,null,null,"pepch",null,null,"pepch"]
[null,null,null,null,null,null,null,null,null,null,null,null,null,null,null,null,null,null,null,null,null,null,null,null,null,null,null,null,null,null,null,null,null,null,null,null,null,null,null,null,null,null,null,null,null,null,null,null,null,null,null,null,null,null,null,null,null,null,null,null,null,null,null,null,null,null,null,null,null,null,null,null,null,null,null,null,null,null,{"$f":"BU19+BR16","v":151.58000000000001},null,null,{"$f":"BY19+CB16","v":134.41999999999999},null,null,null,null,null,null,null,null,null,null,null,null,null,null,null,null,null,null,null,null,null,null,null,null,null,null,"Conflicting flow",null,null,null,{"$f":"WBT_Master","v":204},"pepch"]
[null,null,null,null,null,null,null,null,null,null,null,null,null,null,null,null,null,null,null,null,null,null,null,null,null,null,null,null,null,null,null,null,null,null,null,null,null,null,null,null,null,null,null,null,null,null,null,null,null,null,null,null,null,null,null,null,null,null,null,null,null,null,null,null,null,null,null,null,null,null,null,null,null,null,null,null,null,null,"V/C RATIO",null,null,"V/C RATIO"]
[]
[null,null,null,null,null,null,null,null,null,null,null,null,null,null,null,null,null,null,null,null,null,null,null,null,null,null,null,null,null,null,null,null,null,null,null,null,null,null,null,null,null,null,null,null,null,null,null,null,null,null,null,null,null,null,null,null,null,null,null,null,null,null,null,null,null,null,null,null,null,null,null,null,null,null,null,null,null,null,null,null,null,null,null,null,null,null,null,null,null,null,null,null,null,null,null,null,null,null,null,null,null,null,null,null,null,null,null,null,null,null,null,null,{"$f":"WBL_Master","v":31},"pepch"]
[null,null,null,null,null,null,null,null,null,null,null,null,null,null,null,null,null,null,null,null,null,null,null,null,null,null,null,null,null,null,null,null,null,null,null,null,null,null,null,null,null,null,null,null,null,null,null,null,null,null,null,null,null,null,null,null,null,null,null,null,null,null,null,null,null,null,null,null,null,null,null,null,null,null,null,null,null,null,null,null,null,null,null,null,null,null,null,null,null,null,null,null,null,null,null,null,null,null,null,null,null,null,null,null,{"$f":"DC57+CZ59+BV40","v":383.52},null,{"$f":"DG57+BV43+CP16","v":259.48}]
[]
[null,null,null,null,null,null,null,null,null,null,null,null,null,null,null,null,null,null,null,null,null,null,null,null,null,null,null,null,null,null,null,null,null,null,null,null,null,null,null,null,null,null,null,null,null,null,null,null,null,null,null,null,null,null,null,null,null,null,null,null,null,null,null,null,null,null,null,null,null,null,null,null,null,null,null,null,null,null,{"$f":"CA29/BV27","v":0.14215338728632426},null,null,{"$f":"CD29/BV25","v":0.13576217396475573},null,null,null,null,null,null,null,null,null,null,null,null,null,null,null,null,null,null,null,null,null,null,null,null,null,null,null,null,null,null,{"$f":"WBU_Master","v":0},"pepch"]
[]
[null,null,null,null,null,null,null,null,null,null,null,null,null,null,null,null,null,null,null,null,null,null,null,null,null,null,null,null,null,null,null,null,null,null,null,null,null,null,null,null,null,null,null,null,null,null,null,null,null,null,null,null,null,null,null,null,null,null,null,null,null,null,null,null,null,null,null,null,null,null,null,null,null,null,null,null,null,null,2,null,null,1]
[]
[null,null,null,null,null,null,null,null,null,null,null,null,null,null,null,null,null,null,null,null,null,null,null,null,null,null,null,null,null,null,null,null,null,null,null,null,null,null,null,null,null,null,null,null,null,null,null,null,null,null,null,null,null,null,null,null,null,null,null,null,null,null,null,null,null,null,null,null,null,null,null,null,null,null,null,null,null,null,null,null,null,null,null,null,null,null,null,null,null,null,null,null,null,null,null,null,null,null,null,null,null,null,1,null,null,2]
[null,null,null,null,null,null,null,null,null,null,null,null,null,null,null,null,null,null,null,null,null,null,null,null,null,null,null,null,null,null,null,null,null,null,null,null,null,null,null,null,null,null,null,null,null,null,null,null,null,null,null,null,null,null,null,null,null,null,null,null,null,null,null,null,null,null,null,null,null,null,null,null,"pepch",{"$f":"EBU_Master","v":0},null,null,null,"Conflicting flow",{"$f":"BU19+DI32+CM61","v":131.58000000000001},null,{"$f":"BY19+CB16+DI35","v":134.41999999999999}]
[null,null,null,null,null,null,null,null,null,null,null,null,null,null,null,null,null,null,null,null,null,null,null,null,null,null,null,null,null,null,null,null,null,null,null,null,null,null,null,null,null,null,null,null,null,null,null,null,null,null,null,null,null,null,null,null,null,null,null,null,null,null,null,null,null,null,null,null,null,null,null,null,null,null,null,null,null,null,null,null,null,null,null,null,null,null,null,null,null,null,null,null,null,null,null,null,null,null,null,null,null,null,{"$f":"CY48/DJ49","v":0.36285640527036489},null,null,{"$f":"DB48/DJ51","v":0.38183142328922859}]
[]
[null,null,null,null,null,null,null,null,null,null,null,null,null,null,null,null,null,null,null,null,null,null,null,null,null,null,null,null,null,null,null,null,null,null,null,null,null,null,null,null,null,null,null,null,null,null,null,null,null,null,null,null,null,null,null,null,null,null,null,null,null,null,null,null,null,null,null,null,null,null,null,null,"pepch",{"$f":"EBL_Master","v":31},null,null,null,null,null,null,null,null,null,null,null,null,null,null,null,null,null,null,null,null,null,null,null,null,null,null,null,null,"V/C RATIO",null,null,"V/C RATIO"]
[]
[]
[null,null,null,null,null,null,null,null,null,null,null,null,null,null,null,null,null,null,null,null,null,null,null,null,null,null,null,null,null,null,null,null,null,null,null,null,null,null,null,null,null,null,null,null,null,null,null,null,null,null,null,null,null,null,null,null,null,null,null,null,null,null,null,null,null,null,null,null,null,null,null,null,"pepch",{"$f":"EBT_Master","v":204}]
[]
[null,null,null,null,null,null,null,null,null,null,null,null,null,null,null,null,null,null,null,null,null,null,null,null,null,null,null,null,null,null,null,null,null,null,null,null,null,null,null,null,null,null,null,null,null,null,null,null,null,null,null,null,null,null,null,null,null,null,null,null,null,null,null,null,null,null,null,null,null,null,null,null,null,null,null,null,null,null,null,null,null,null,null,null,null,null,null,null,null,null,null,null,null,null,null,null,null,null,null,null,null,null,{"$f":"CZ59+DC57","v":383.52},null,null,{"$f":"DG57+DJ59","v":432.48}]
[null,null,null,null,null,null,null,null,null,null,null,null,null,null,null,null,null,null,null,null,null,null,null,null,null,null,null,null,null,null,null,null,null,null,null,null,null,null,null,null,null,null,null,null,null,null,null,null,null,null,null,null,null,null,null,null,null,null,null,null,null,null,null,null,null,null,null,null,null,null,null,null,"pepch",{"$f":"EBR_Master","v":51},null,null,null,null,null,null,null,null,null,null,null,null,null,null,null,null,null,null,null,null,null,null,null,null,null,null,null,null,"pepch",null,null,"pepch",null,null,null,1,null,null,null,{"$f":"$DE$7*EXP(-$DL$7*CP51)","v":1056.9470303665678}]
[null,null,null,null,null,null,null,null,null,null,null,null,null,null,null,null,null,null,null,null,null,null,null,null,null,null,null,null,null,null,null,null,null,null,null,null,null,null,null,null,null,null,null,null,null,null,null,null,null,null,null,null,null,null,null,null,null,null,null,null,null,null,null,null,null,null,null,null,null,null,null,null,null,null,null,null,null,null,null,null,null,"pepch",{"$f":"BV43+BV46+BV49+BV40","v":286},"V/C RATIO",null,null,null,null,{"$f":"CE50/CA59","v":0.25250598191990237},null,2]
[null,null,null,null,null,null,null,null,null,null,null,null,null,null,null,null,null,null,null,null,null,null,null,null,null,null,null,null,null,null,null,null,null,null,null,null,null,null,null,null,null,null,null,null,null,null,null,null,null,null,null,null,null,null,null,null,null,null,null,null,null,null,null,null,null,null,null,null,null,null,null,null,null,null,null,null,null,null,null,null,null,null,null,null,null,null,null,null,null,null,null,null,null,{"$f":"CB16+BV43+DI35+BV40+BV46","v":266},null,null,null,null,null,null,null,null,null,null,null,null,null,null,null,2,null,null,null,{"$f":"$DE$9*EXP(-$DL$9*CP51)","v":1132.6464340584307}]
[]
[null,null,null,null,null,null,null,null,null,null,null,null,null,null,null,null,null,null,null,null,null,null,null,null,null,null,null,null,null,null,null,null,null,null,null,null,null,null,null,null,null,null,null,null,null,null,null,null,null,null,null,null,null,null,null,null,null,null,null,null,null,null,null,null,null,null,null,null,null,null,null,null,null,null,null,null,null,null,null,null,null,null,null,null,null,null,null,null,null,null,null,null,null,"Conflicting flow",null,null,null,null,null,null,null,null,null,null,null,null,null,null,null,"Lane Capacity"]
[null,null,null,null,null,null,null,null,null,null,null,null,null,null,null,null,null,null,null,null,null,null,null,null,null,null,null,null,null,null,null,null,null,null,null,null,null,null,null,null,null,null,null,null,null,null,null,null,null,null,null,null,null,null,null,null,null,null,null,null,null,null,null,null,null,null,null,null,null,null,null,null,null,null,null,null,null,"Lane Capacity",1]
[]
[]
[null,null,null,null,null,null,null,null,null,null,null,null,null,null,null,null,null,null,null,null,null,null,null,null,null,null,null,null,null,null,null,null,null,null,null,null,null,null,null,null,null,null,null,null,null,null,null,null,null,null,null,null,null,null,null,null,null,null,null,null,null,null,null,null,null,null,null,null,null,null,null,null,null,null,null,null,null,null,null,null,null,null,null,null,null,null,null,null,null,null,null,null,null,null,null,null,null,null,null,null,null,null,null,null,null,null,{"$f":"IF(CZ59>(1-DJ63)*SUM(CM61:CX61),0,IF(DJ59>DJ63*SUM(CM61:CX61),CS61,CS61-DG57))","v":281.52},null,null,null,{"$f":"IF(DJ59>DJ63*SUM(CM61:CX61),0,IF(CZ59>(1-DJ63)*SUM(CM61:CX61),CS61,DJ63*SUM(CM61:CX61)-DJ59))","v":228.48000000000002}]
[]
[null,null,null,null,null,"Predicted approach capacity",null,null,null,null,null,null,null,null,null,null,null,null,null,null,null,null,null,null,null,null,null,null,null,null,null,null,null,null,null,null,null,null,null,null,null,null,null,null,null,"Predicted approach capacity",null,null,null,null,null,null,null,null,null,null,null,null,null,null,null,null,null,null,null,null,null,null,null,null,null,null,null,null,null,null,null,null,{"$f":"$DE$11*EXP(-$DL$11*(CA40+CC40))","v":1132.6464340584307},null,null,null,null,null,null,null,null,null,null,null,null,null,null,null,null,null,null,null,null,null,null,null,null,{"$f":"CM61+CP61","v":102},null,null,null,null,null,null,null,null,null,{"$f":"CV61","v":204}]
[]
[null,null,null,null,null,null,null,null,null,null,null,null,null,null,null,null,null,null,null,null,null,null,null,null,null,null,null,null,null,null,null,null,null,null,null,null,null,null,null,null,null,null,null,null,null,null,null,null,null,null,null,null,null,null,null,null,null,null,null,null,null,null,null,null,null,null,null,null,null,null,null,null,null,null,null,null,null,null,null,null,null,null,null,null,null,null,null,null,null,null,{"$f":"NBU_Master","v":0},null,null,{"$f":"NBL_Master","v":102},null,null,{"$f":"NBT_Master","v":510},null,null,{"$f":"NBR_Master","v":204}]
[null,null,null,null,null,"Lane 1",null,null,null,{"$f":"CK50/CB7","v":0.25250598191990237},null,null,null,"V/C",null,null,null,null,null,null,null,null,null,null,null,null,null,null,null,null,null,null,null,null,null,null,null,null,null,null,null,null,null,null,null,"Lane 1",null,null,null,{"$f":"CY41/CB7","v":0.36285640527036489},null,null,null,"V/C",null,null,null,null,null,null,null,null,null,null,null,null,null,null,null,null,null,null,null,null,null,null,null,null,null,null,null,null,null,null,null,null,null,null,null,null,"pepch",null,null,"pepch",null,null,"pepch",null,null,"pepch"]
[null,null,null,null,null,null,null,null,null,null,null,null,null,null,null,null,null,{"$f":"+IF(J62>1,1,0)","v":0},null,null,null,null,null,null,null,null,null,null,null,null,null,null,null,null,null,null,null,null,null,null,null,null,null,null,null,null,null,null,null,null,null,null,null,null,null,null,null,null,null,null,null,null,null,null,null,null,null,null,null,null,null,null,null,null,null,null,null,null,null,null,null,null,null,null,null,null,null,null,null,null,null,null,null,null,null,null,null,null,null,null,null,null,null,"Through lane utilization factor",null,null,null,null,null,null,null,null,null,0.53]
[null,null,null,null,null,null,null,null,null,null,null,null,null,null,null,null,null,null,null,null,null,null,null,null,null,null,null,null,null,null,null,null,null,null,null,null,null,null,null,null,null,null,null,null,null,"Lane 2",null,null,null,{"$f":"DB41/CB7","v":0.38183142328922859},null,null,null,"V/C"]
[null,null,null,null,null,null,null,null,null,null,null,null,null,null,null,null,null,null,null,null,null,null,null,null,null,null,null,null,null,null,null,null,null,null,null,null,null,null,null,null,null,null,null,null,null,null,null,null,null,null,null,null,null,null,null,null,null,{"$f":"+IF(OR(AX62>1,AX64>1),1,0)","v":0},null,null,null,null,null,null,null,null,null,null,null,null,null,null,null,null,null,null,null,null,null,null,null,null,null,null,null,null,null,null,null,null,null,null,null,null,null,null,null,null,null,null,null,null,null,"Right turn to Total Flow Ratio",null,null,null,null,null,null,null,null,null,{"$f":"CV61/(CV61+CS61+CP61+CM61)","v":0.25}]

{"sheet":"2x2 Rndabt","index":51,"n_rows":69,"n_cols":120,"rows_kept":69,"cut":false,"hidden":false,"merged":[[6,79,7,80],[14,119,17,120],[15,113,17,114],[18,113,20,116],[14,104,17,105],[14,106,17,107],[18,104,22,105],[18,106,22,107],[8,116,9,120],[6,109,7,113],[6,114,7,115],[6,116,7,120],[8,109,9,113],[8,114,9,115],[6,65,8,78],[24,98,26,102],[24,103,26,103],[24,104,26,104],[24,105,26,108],[18,119,27,120],[27,98,29,102],[66,112,67,115],[68,102,69,111],[68,112,69,115],[62,112,63,114],[52,105,52,107],[54,109,55,112],[54,113,55,116],[53,102,56,104],[53,105,56,107],[52,109,53,112],[52,113,53,116],[56,93,56,100],[56,109,56,116],[52,102,52,104],[18,111,20,112],[22,111,24,112],[22,113,24,116],[60,109,61,111],[62,45,63,48],[4,102,5,108],[53,86,55,87],[51,102,51,104],[51,105,51,107],[52,93,53,96],[52,97,53,100],[8,102,9,106],[6,107,7,108],[6,102,7,106],[8,107,9,108],[14,108,22,108],[62,70,64,71],[62,64,65,65],[62,66,65,67],[59,68,61,71],[59,72,61,73],[62,76,65,77],[62,78,65,79],[60,105,61,107],[55,68,57,71],[55,72,57,73],[62,102,63,104],[66,89,69,91],[66,92,69,94],[66,95,69,97],[66,98,69,100],[66,102,67,111],[64,89,64,91],[64,92,64,94],[64,95,64,97],[64,98,64,100],[65,89,65,91],[65,92,65,94],[65,95,65,97],[65,98,65,100],[62,105,65,107],[62,109,65,111],[46,102,50,104],[46,105,50,107],[50,88,52,89],[52,70,54,71],[50,75,52,78],[53,88,55,89],[57,76,61,77],[57,78,61,79],[52,64,61,65],[52,66,61,67],[54,93,55,96],[54,97,55,100],[53,75,55,78],[53,79,55,79],[53,80,55,80],[53,81,55,85],[50,81,52,85],[50,86,52,87],[57,75,65,75],[28,76,28,78],[28,79,28,81],[41,68,43,68],[41,69,43,69],[44,64,46,67],[44,68,46,68],[44,69,46,69],[38,116,40,116],[38,64,40,67],[38,68,40,68],[38,69,40,69],[40,75,48,75],[40,76,44,77],[40,78,44,79],[41,64,43,67],[42,102,43,104],[42,105,43,107],[45,76,48,77],[45,78,48,79],[44,102,45,104],[44,105,45,107],[47,64,49,67],[47,68,49,68],[47,69,49,69],[32,117,34,120],[35,104,39,105],[35,106,39,107],[35,115,37,115],[29,115,31,115],[29,116,31,116],[29,117,31,120],[31,104,34,105],[31,106,34,107],[31,108,39,108],[35,116,37,116],[35,117,37,120],[38,115,40,115],[38,117,40,120],[62,9,63,12],[62,13,63,16],[26,67,27,70],[26,71,27,74],[24,83,25,86],[24,87,25,90],[24,96,26,97],[23,83,23,90],[18,72,19,74],[18,76,19,78],[23,67,23,74],[23,76,26,78],[23,79,26,81],[24,67,25,70],[27,76,27,78],[27,79,27,81],[26,87,27,90],[34,76,35,78],[34,79,35,81],[29,76,33,78],[29,79,33,81],[27,96,29,97],[50,79,52,79],[50,80,52,80],[62,49,63,52],[62,53,63,56],[64,49,65,52],[25,113,27,114],[18,117,27,118],[14,87,14,89],[14,90,14,92],[14,93,14,95],[15,84,15,86],[15,87,15,89],[27,105,29,108],[27,103,29,103],[15,79,16,81],[24,71,25,74],[15,90,15,92],[15,93,15,95],[64,53,65,56],[14,117,17,118],[27,104,29,104],[14,72,17,74],[14,76,17,78],[14,84,14,86],[32,115,34,115],[32,116,34,116],[19,45,21,56],[22,45,23,48],[24,45,25,48],[19,5,21,16],[22,5,23,8],[24,5,25,8],[22,9,23,12],[22,13,23,16],[24,9,25,12],[24,13,25,16],[22,49,23,52],[22,53,23,56],[24,49,25,52],[24,53,25,56],[62,5,63,8],[64,5,65,8],[59,45,61,56],[64,45,65,48],[0,1,1,60],[2,1,3,60],[5,2,6,9],[5,10,6,35],[59,5,61,16],[7,2,8,9],[7,10,8,35],[9,2,10,9],[9,10,10,35],[11,2,12,9],[11,10,12,35],[5,36,6,59],[7,36,8,41],[7,42,8,47],[7,48,8,53],[7,54,8,59],[9,36,12,43],[9,44,10,47],[9,48,10,51],[9,52,10,55],[11,52,12,55],[64,9,65,12],[64,13,65,16],[36,76,37,78],[36,79,37,81],[24,94,26,95],[27,94,29,95],[0,63,1,122],[2,63,3,122],[10,69,11,78],[10,79,11,82],[10,84,13,86],[10,87,13,89],[10,90,13,92],[10,93,13,95],[12,69,13,78],[12,79,13,82],[4,109,5,120],[15,69,16,71],[26,83,27,86],[9,56,10,59],[11,56,12,59],[11,44,12,47],[11,48,12,51]]}
[null,"2 NS x 2 EW Lane Roundabout",null,null,null,null,null,null,null,null,null,null,null,null,null,null,null,null,null,null,null,null,null,null,null,null,null,null,null,null,null,null,null,null,null,null,null,null,null,null,null,null,null,null,null,null,null,null,null,null,null,null,null,null,null,null,null,null,null,null,null,null,null,"2 NS x 2 EW Lane Roundabout"]
[]
[null,"Design and Results",null,null,null,null,null,null,null,null,null,null,null,null,null,null,null,null,null,null,null,null,null,null,null,null,null,null,null,null,null,null,null,null,null,null,null,null,null,null,null,null,null,null,null,null,null,null,null,null,null,null,null,null,null,null,null,null,null,null,null,null,null,"Data Input and Configuration"]
[]
[null,null,null,null,null,null,null,null,null,null,null,null,null,null,null,null,null,null,null,null,null,null,null,null,null,null,null,null,null,null,null,null,null,null,null,null,null,null,null,null,null,null,null,null,null,null,null,null,null,null,null,null,null,null,null,null,null,null,null,null,null,null,null,null,null,null,null,null,null,null,null,null,null,null,null,null,null,null,null,null,null,null,null,null,null,null,null,null,null,null,null,null,null,null,null,null,null,null,null,null,null,null,"Equation",null,null,null,null,null,null,"A x exp(-B x Q)"]
[null,null,"Project Name:",null,null,null,null,null,null,null,{"$f":"P_Name","v":"Cap-X Sample Street"},null,null,null,null,null,null,null,null,null,null,null,null,null,null,null,null,null,null,null,null,null,null,null,null,null,"Volume-to-Capacity Ratio"]
[null,null,null,null,null,null,null,null,null,null,null,null,null,null,null,null,null,null,null,null,null,null,null,null,null,null,null,null,null,null,null,null,null,null,null,null,null,null,null,null,null,null,null,null,null,null,null,null,null,null,null,null,null,null,null,null,null,null,null,null,null,null,null,null,null,"Multimodal Capacity Adjustment Factor",null,null,null,null,null,null,null,null,null,null,null,null,null,{"$f":"IF(Multimodal=1,1,IF(Multimodal=2,IF(MIN(BY35+CB35,CI54+CI51,CY45+DB45,CS28+CS25)=0,0.97,0.95),IF(MIN(BY35+CB35,CI54+CI51,CY45+DB45,CS28+CS25)=0,0.95,0.91)))","v":1},null,null,null,null,null,null,null,null,null,null,null,null,null,null,null,null,null,null,null,null,null,null,"LT Lane",null,null,null,null,"A",null,1350,null,null,null,null,"B",null,9.2000000000000003E-4]
[null,null,"Project Number:",null,null,null,null,null,null,null,{"$f":"P_Number","v":10000},null,null,null,null,null,null,null,null,null,null,null,null,null,null,null,null,null,null,null,null,null,null,null,null,null,"< 0.750",null,null,null,null,null,"0.750 - 0.875",null,null,null,null,null,"0.875 - 1.00",null,null,null,null,null,"≥ 1.00"]
[null,null,null,null,null,null,null,null,null,null,null,null,null,null,null,null,null,null,null,null,null,null,null,null,null,null,null,null,null,null,null,null,null,null,null,null,null,null,null,null,null,null,null,null,null,null,null,null,null,null,null,null,null,null,null,null,null,null,null,null,null,null,null,null,null,null,null,null,null,null,null,null,null,null,null,null,null,null,null,null,null,null,null,null,null,null,null,null,null,null,null,null,null,null,null,null,null,null,null,null,null,null,"RT Lane",null,null,null,null,"A",null,1420,null,null,null,null,"B",null,8.4999999999999995E-4]
[null,null,"Location",null,null,null,null,null,null,null,{"$f":"Location","v":"Anywhere, USA"},null,null,null,null,null,null,null,null,null,null,null,null,null,null,null,null,null,null,null,null,null,null,null,null,null,"VOLUME / CAPACITY RATIO:",null,null,null,null,null,null,null,"Zone 1",null,null,null,{"$f":"MAX(J23:M26)","v":0.14215338728632426},null,null,null,"Zone3",null,null,null,{"$f":"MAX(AX23:BA26)","v":0.18438144211542062}]
[null,null,null,null,null,null,null,null,null,null,null,null,null,null,null,null,null,null,null,null,null,null,null,null,null,null,null,null,null,null,null,null,null,null,null,null,null,null,null,null,null,null,null,null,null,null,null,null,null,null,null,null,null,null,null,null,null,null,null,null,null,null,null,null,null,null,null,null,null,"Right turn to Total Flow Ratio",null,null,null,null,null,null,null,null,null,{"$f":"CG16/(CG16+CJ16+CM16+CP16)","v":0.17832167832167833}]
[null,null,"Date",null,null,null,null,null,null,null,{"$f":"Date","v":"2017 AM"},null,null,null,null,null,null,null,null,null,null,null,null,null,null,null,null,null,null,null,null,null,null,null,null,null,null,null,null,null,null,null,null,null,"Zone 4",null,null,null,{"$f":"MAX(J63:M66)","v":0.13382817041754827},null,null,null,"Zone 2",null,null,null,{"$f":"MAX(AX63:BA66)","v":0.38183142328922859}]
[null,null,null,null,null,null,null,null,null,null,null,null,null,null,null,null,null,null,null,null,null,null,null,null,null,null,null,null,null,null,null,null,null,null,null,null,null,null,null,null,null,null,null,null,null,null,null,null,null,null,null,null,null,null,null,null,null,null,null,null,null,null,null,null,null,null,null,null,null,"Through lane utilization factor",null,null,null,null,null,null,null,null,null,0.53]
[]
[null,null,null,null,null,null,null,null,null,null,null,null,null,null,null,null,null,null,null,null,null,null,null,null,null,null,null,null,null,null,null,null,null,null,null,null,null,null,null,null,null,null,null,null,null,null,null,null,null,null,null,null,null,null,null,null,null,null,null,null,null,null,null,null,null,null,null,null,null,null,null,null,null,null,null,null,null,null,null,null,null,null,null,null,"pepch",null,null,"pepch",null,null,"pepch",null,null,"pepch",null,null,null,null,null,null,null,null,null,null,{"$f":"$DF$7*EXP(-$DM$7*(DA36+DC36))","v":747.17533123895942},null,{"$f":"$DF$9*EXP(-$DM$9*(DA36+DC36))","v":822.10008914624234},null,"Lane Capacity",null,null,null,null,null,null,null,null,0.53,null,{"$f":"DL30/(DL30+DL33+DL36+DL39)","v":0.17832167832167833}]
[null,null,null,null,null,null,null,null,null,null,null,null,null,null,null,null,null,null,null,null,null,null,null,null,null,null,null,null,null,null,null,null,null,null,null,null,null,null,null,null,null,null,null,null,null,null,null,null,null,null,null,null,null,null,null,null,null,null,null,null,null,null,null,null,null,null,null,null,null,{"$f":"CG16","v":51},null,null,null,null,null,null,null,null,null,{"$f":"CM16+CP16","v":31},null,null,null,null,{"$f":"SBR_Master","v":51},null,null,{"$f":"SBT_Master","v":204},null,null,{"$f":"SBL_Master","v":31},null,null,{"$f":"SBU_Master","v":0},null,null,null,null,null,null,null,null,null,null,null,null,null,null,null,null,null,null,null,{"$f":"DL30","v":51}]
[]
[]
[null,null,null,null,null,null,null,null,null,null,null,null,null,null,null,null,null,null,null,null,null,null,null,null,null,null,null,null,null,null,null,null,null,null,null,null,null,null,null,null,null,null,null,null,null,null,null,null,null,null,null,null,null,null,null,null,null,null,null,null,null,null,null,null,null,null,null,null,null,null,null,null,{"$f":"IF(BR16>CB13*SUM(CG16:CR16),0,IF(CB16>(1-CB13)*SUM(CG16:CR16),CJ16,CB13*SUM(CG16:CR16)-BR16))","v":100.58000000000001},null,null,null,{"$f":"IF(CB16>(1-CB13)*SUM(CG16:CR16),0,IF(BR16>CB13*SUM(CG16:CR16),CJ16,CJ16-BU19))","v":103.41999999999999},null,null,null,null,null,null,null,null,null,null,null,null,null,null,null,null,null,null,null,null,null,null,null,null,null,null,null,1,null,2,null,null,null,null,{"$f":"IF(DJ16>DN15*SUM(DL30:DL41),0,IF(DJ26>(1-DN15)*SUM(DL30:DL41),DL33,DN15*SUM(DL30:DL41)-DL30))","v":100.58000000000001},null,null,null,null,null,"Through lane utilization factor",null,"Right turn to Total Flow Ratio"]
[null,null,null,null,null,"Predicted approach capacity",null,null,null,null,null,null,null,null,null,null,null,null,null,null,null,null,null,null,null,null,null,null,null,null,null,null,null,null,null,null,null,null,null,null,null,null,null,null,null,"Predicted approach capacity"]
[]
[]
[null,null,null,null,null,"Lane 1",null,null,null,{"$f":"CB35/CB7","v":0.13576217396475573},null,null,null,"V/C",null,null,null,null,null,null,null,null,null,null,null,null,null,null,null,null,null,null,null,null,null,null,null,null,null,null,null,null,null,null,null,"Lane 1",null,null,null,{"$f":"CS28/CB7","v":0.17990422646463175},null,null,null,"V/C",null,null,null,null,null,null,null,null,null,null,null,null,null,null,null,null,null,null,null,null,null,null,null,null,null,null,null,null,null,null,null,null,null,null,null,null,null,null,null,null,null,null,null,null,null,null,null,null,null,null,null,null,null,null,null,null,null,{"$f":"IF(DJ26>(1-DN15)*SUM(DL30:DL41),0,IF(DJ16>DN15*SUM(DL30:DL41),DL33,DL33-DH19))","v":103.41999999999999}]
[null,null,null,null,null,null,null,null,null,null,null,null,null,null,null,null,null,null,null,null,null,null,null,null,null,null,null,null,null,null,null,null,null,null,null,null,null,null,null,null,null,null,null,null,null,null,null,null,null,null,null,null,null,null,null,null,null,null,null,null,null,null,null,null,null,null,null,"Lane Capacity",null,null,null,null,null,null,null,null,null,null,null,null,null,null,null,"Conflicting flow"]
[null,null,null,null,null,"Lane 2",null,null,null,{"$f":"BY35/CB7","v":0.14215338728632426},null,null,null,"V/C",null,null,null,null,null,null,null,null,null,null,null,null,null,null,null,null,null,null,null,null,null,null,null,null,null,null,null,null,null,null,null,"Lane 2",null,null,null,{"$f":"CS25/CB7","v":0.18438144211542062},null,null,null,"V/C",null,null,null,null,null,null,null,null,null,null,null,null,null,1,null,null,null,{"$f":"$DF$7*EXP(-$DM$7*(CF27+CF25))","v":990.11378555926649},null,null,null,null,null,null,null,null,null,null,null,{"$f":"DH19+BR39","v":100.58000000000001},null,null,null,null,null,null,null,null,null,null,2,null,{"$f":"CZ25/DC15","v":0.18438144211542062},null,"V/C RATIO",null,null,null,null,{"$f":"DH19+DJ16","v":151.58000000000001},"pepch"]
[null,null,null,null,null,null,null,null,null,null,null,null,null,null,null,null,null,{"$f":"+IF(OR(J23>1,J25>1),1,0)","v":0},null,null,null,null,null,null,null,null,null,null,null,null,null,null,null,null,null,null,null,null,null,null,null,null,null,null,null,null,null,null,null,null,null,null,null,null,null,null,null,{"$f":"+IF(OR(AX23>1,AX25>1),1,0)","v":0},null,null,null,null,null,null,null,null,null,null,null,null,null,null,null,null,null,null,null,null,null,null,null,null,null,null,null,null,null,null,null,null,null,null,null,null,null,null,null,null,null,null,null,null,null,null,null,null,null,null,null,null,null,null,null,{"$f":"DL36+DL39","v":31}]
[null,null,null,null,null,null,null,null,null,null,null,null,null,null,null,null,null,null,null,null,null,null,null,null,null,null,null,null,null,null,null,null,null,null,null,null,null,null,null,null,null,null,null,null,null,null,null,null,null,null,null,null,null,null,null,null,null,null,null,null,null,null,null,null,null,null,null,2,null,null,null,{"$f":"$DF$9*EXP(-$DM$9*(CF25+CF27))","v":1066.3129658295707},null,null,null,null,null,null,null,null,null,null,null,{"$f":"DH23+DJ26+CY63","v":236.42}]
[null,null,null,null,null,null,null,null,null,null,null,null,null,null,null,null,null,null,null,null,null,null,null,null,null,null,null,null,null,null,null,null,null,null,null,null,null,null,null,null,null,null,null,null,null,null,null,null,null,null,null,null,null,null,null,null,null,null,null,null,null,null,null,null,null,null,null,null,null,null,null,null,null,null,null,null,"pepch",null,null,"pepch",null,null,null,null,null,null,null,null,null,null,null,null,null,null,1,null,{"$f":"CZ28/DA15","v":0.17990422646463175},null,"V/C RATIO",null,null,null,null,{"$f":"DJ26+DH23","v":134.41999999999999},"pepch"]
[null,null,null,null,null,null,null,null,null,null,null,null,null,null,null,null,null,null,null,null,null,null,null,null,null,null,null,null,null,null,null,null,null,null,null,null,null,null,null,null,null,null,null,null,null,null,null,null,null,null,null,null,null,null,null,null,null,null,null,null,null,null,null,null,null,null,null,null,null,null,null,null,null,null,null,null,{"$f":"BU19+BR16","v":151.58000000000001},null,null,{"$f":"BY19+CB16","v":134.41999999999999}]
[null,null,null,null,null,null,null,null,null,null,null,null,null,null,null,null,null,null,null,null,null,null,null,null,null,null,null,null,null,null,null,null,null,null,null,null,null,null,null,null,null,null,null,null,null,null,null,null,null,null,null,null,null,null,null,null,null,null,null,null,null,null,null,null,null,null,null,null,null,null,null,null,null,null,null,null,"V/C RATIO",null,null,"V/C RATIO",null,null,null,null,null,null,null,null,null,null,null,null,null,null,null,null,null,null,null,null,null,null,null,null,null,null,null,null,null,null,null,null,null,null,null,{"$f":"WBR_Master","v":51},"pepch"]
[]
[null,null,null,null,null,null,null,null,null,null,null,null,null,null,null,null,null,null,null,null,null,null,null,null,null,null,null,null,null,null,null,null,null,null,null,null,null,null,null,null,null,null,null,null,null,null,null,null,null,null,null,null,null,null,null,null,null,null,null,null,null,null,null,null,null,null,null,null,null,null,null,null,null,null,null,null,null,null,null,null,null,null,null,null,null,null,null,null,null,null,null,null,null,null,null,null,null,null,null,null,null,null,null,null,null,null,null,null,"Conflicting flow"]
[null,null,null,null,null,null,null,null,null,null,null,null,null,null,null,null,null,null,null,null,null,null,null,null,null,null,null,null,null,null,null,null,null,null,null,null,null,null,null,null,null,null,null,null,null,null,null,null,null,null,null,null,null,null,null,null,null,null,null,null,null,null,null,null,null,null,null,null,null,null,null,null,null,null,null,null,null,null,null,null,null,null,null,null,null,null,null,null,null,null,null,null,null,null,null,null,null,null,null,null,null,null,null,null,null,null,null,null,null,null,null,null,null,null,null,{"$f":"WBT_Master","v":204},"pepch"]
[]
[null,null,null,null,null,null,null,null,null,null,null,null,null,null,null,null,null,null,null,null,null,null,null,null,null,null,null,null,null,null,null,null,null,null,null,null,null,null,null,null,null,null,null,null,null,null,null,null,null,null,null,null,null,null,null,null,null,null,null,null,null,null,null,null,null,null,null,null,null,null,null,null,null,null,null,null,{"$f":"BY29/BT27","v":0.14215338728632426},null,null,{"$f":"CB29/BT25","v":0.13576217396475573}]
[null,null,null,null,null,null,null,null,null,null,null,null,null,null,null,null,null,null,null,null,null,null,null,null,null,null,null,null,null,null,null,null,null,null,null,null,null,null,null,null,null,null,null,null,null,null,null,null,null,null,null,null,null,null,null,null,null,null,null,null,null,null,null,null,null,null,null,null,null,null,null,null,null,null,null,null,null,null,null,null,null,null,null,null,null,null,null,null,null,null,null,null,null,null,null,null,null,null,null,null,null,null,null,null,{"$f":"DB61+CY63+BS53","v":414.52},null,{"$f":"DF61+CP16","v":228.48000000000002},null,null,null,null,null,null,null,null,{"$f":"WBL_Master","v":31},"pepch"]
[null,null,null,null,null,null,null,null,null,null,null,null,null,null,null,null,null,null,null,null,null,null,null,null,null,null,null,null,null,null,null,null,null,null,null,null,null,null,null,null,null,null,null,null,null,null,null,null,null,null,null,null,null,null,null,null,null,null,null,null,null,null,null,null,null,null,null,null,null,null,null,null,null,null,null,null,2,null,null,1]
[]
[null,null,null,null,null,null,null,null,null,null,null,null,null,null,null,null,null,null,null,null,null,null,null,null,null,null,null,null,null,null,null,null,null,null,null,null,null,null,null,null,null,null,null,null,null,null,null,null,null,null,null,null,null,null,null,null,null,null,null,null,null,null,null,null,null,null,null,null,"pepch",{"$f":"EBU_Master","v":0},null,null,null,null,null,null,null,null,null,null,null,null,null,null,null,null,null,null,null,null,null,null,null,null,null,null,null,null,null,null,null,null,null,null,null,null,null,null,null,null,null,null,null,null,null,{"$f":"WBU_Master","v":0},"pepch"]
[]
[null,null,null,null,null,null,null,null,null,null,null,null,null,null,null,null,null,null,null,null,null,null,null,null,null,null,null,null,null,null,null,null,null,null,null,null,null,null,null,null,null,null,null,null,null,null,null,null,null,null,null,null,null,null,null,null,null,null,null,null,null,null,null,null,null,null,null,null,null,null,null,null,null,null,null,"Conflicting flow",{"$f":"BU19+CL65","v":100.58000000000001},null,{"$f":"BY19+CB16+DJ26","v":165.42}]
[null,null,null,null,null,null,null,null,null,null,null,null,null,null,null,null,null,null,null,null,null,null,null,null,null,null,null,null,null,null,null,null,null,null,null,null,null,null,null,null,null,null,null,null,null,null,null,null,null,null,null,null,null,null,null,null,null,null,null,null,null,null,null,null,null,null,null,null,"pepch",{"$f":"EBL_Master","v":31}]
[null,null,null,null,null,null,null,null,null,null,null,null,null,null,null,null,null,null,null,null,null,null,null,null,null,null,null,null,null,null,null,null,null,null,null,null,null,null,null,null,null,null,null,null,null,null,null,null,null,null,null,null,null,null,null,null,null,null,null,null,null,null,null,null,null,null,null,null,null,null,null,null,null,null,null,null,null,null,null,null,null,null,null,null,null,null,null,null,null,null,null,null,null,null,null,null,null,null,null,null,null,null,1,null,null,2]
[]
[null,null,null,null,null,null,null,null,null,null,null,null,null,null,null,null,null,null,null,null,null,null,null,null,null,null,null,null,null,null,null,null,null,null,null,null,null,null,null,null,null,null,null,null,null,null,null,null,null,null,null,null,null,null,null,null,null,null,null,null,null,null,null,null,null,null,null,null,"pepch",{"$f":"EBT_Master","v":204},null,null,null,null,null,null,null,null,null,null,null,null,null,null,null,null,null,null,null,null,null,null,null,null,null,null,null,null,null,null,null,null,{"$f":"CY52/DJ53","v":0.36285640527036489},null,null,{"$f":"DB52/DJ55","v":0.38183142328922859}]
[]
[null,null,null,null,null,null,null,null,null,null,null,null,null,null,null,null,null,null,null,null,null,null,null,null,null,null,null,null,null,null,null,null,null,null,null,null,null,null,null,null,null,null,null,null,null,null,null,null,null,null,null,null,null,null,null,null,null,null,null,null,null,null,null,null,null,null,null,null,null,null,null,null,null,null,null,null,null,null,null,null,null,null,null,null,null,null,null,null,null,null,null,null,null,null,null,null,null,null,null,null,null,null,"V/C RATIO",null,null,"V/C RATIO"]
[null,null,null,null,null,null,null,null,null,null,null,null,null,null,null,null,null,null,null,null,null,null,null,null,null,null,null,null,null,null,null,null,null,null,null,null,null,null,null,null,null,null,null,null,null,null,null,null,null,null,null,null,null,null,null,null,null,null,null,null,null,null,null,null,null,null,null,null,"pepch",{"$f":"EBR_Master","v":51}]
[]
[]
[null,null,null,null,null,null,null,null,null,null,null,null,null,null,null,null,null,null,null,null,null,null,null,null,null,null,null,null,null,null,null,null,null,null,null,null,null,null,null,null,null,null,null,null,null,null,null,null,null,null,null,null,null,null,null,null,null,null,null,null,null,null,null,null,null,null,null,null,null,null,null,null,null,null,null,null,null,null,null,"pepch",{"$f":"BS53+BU56","v":134.41999999999999},"V/C RATIO",null,null,null,null,{"$f":"CC51/CA63","v":0.12717761263152494},null,1]
[null,null,null,null,null,null,null,null,null,null,null,null,null,null,null,null,null,null,null,null,null,null,null,null,null,null,null,null,null,null,null,null,null,null,null,null,null,null,null,null,null,null,null,null,null,null,null,null,null,null,null,null,null,null,null,null,null,null,null,null,null,null,null,null,null,null,null,null,null,null,null,null,null,null,null,null,null,null,null,null,null,null,null,null,null,null,null,null,null,null,null,null,null,null,null,null,null,null,null,null,null,null,{"$f":"CY63+DB61","v":383.52},null,null,{"$f":"DF61+DI63","v":432.48}]
[null,null,null,null,null,null,null,null,null,null,null,null,null,null,null,null,null,null,null,null,null,null,null,null,null,null,null,null,null,null,null,null,null,null,null,null,null,null,null,null,null,null,null,null,null,null,null,null,null,null,null,null,null,null,null,null,null,null,null,null,null,null,null,null,"Right turn to Total Flow Ratio",null,"Through lane utilization factor",null,null,null,{"$f":"BR42+BR39","v":31},null,null,null,null,null,null,null,null,null,null,null,null,null,null,null,null,null,null,null,null,null,null,{"$f":"BS53+BU56+CB16","v":165.42},null,null,null,null,null,null,null,null,"pepch",null,null,"pepch",null,null,null,1,null,null,null,{"$f":"$DF$7*EXP(-$DM$7*(CP55+CP53))","v":1056.9470303665678}]
[null,null,null,null,null,null,null,null,null,null,null,null,null,null,null,null,null,null,null,null,null,null,null,null,null,null,null,null,null,null,null,null,null,null,null,null,null,null,null,null,null,null,null,null,null,null,null,null,null,null,null,null,null,null,null,null,null,null,null,null,null,null,null,null,null,null,null,null,null,null,null,null,null,null,null,null,null,null,null,"pepch",{"$f":"BU60+BS63","v":151.58000000000001},"V/C RATIO",null,null,null,null,{"$f":"CC54/BY63","v":0.13382817041754827},null,2]
[null,null,null,null,null,null,null,null,null,null,null,null,null,null,null,null,null,null,null,null,null,null,null,null,null,null,null,null,null,null,null,null,null,null,null,null,null,null,null,null,null,null,null,null,null,null,null,null,null,null,null,null,null,null,null,null,null,null,null,null,null,null,null,null,null,null,null,null,null,null,null,null,null,null,null,null,null,null,null,null,null,null,null,null,null,null,null,null,null,null,null,null,null,{"$f":"BU60+DL39","v":100.58000000000001},null,null,null,null,null,null,null,null,null,null,null,null,null,null,null,2,null,null,null,{"$f":"$DF$9*EXP(-$DM$9*(CP53+CP55))","v":1132.6464340584307}]
[null,null,null,null,null,null,null,null,null,null,null,null,null,null,null,null,null,null,null,null,null,null,null,null,null,null,null,null,null,null,null,null,null,null,null,null,null,null,null,null,null,null,null,null,null,null,null,null,null,null,null,null,null,null,null,null,null,null,null,null,null,null,null,null,null,null,null,null,null,null,null,null,{"$f":"IF(BS53>(1-BO63)*SUM(BR39:BR50),0,IF(BS63>BO63*SUM(BR39:BR50),BR45,BR45-BU60))","v":103.41999999999999}]
[null,null,null,null,null,null,null,null,null,null,null,null,null,null,null,null,null,null,null,null,null,null,null,null,null,null,null,null,null,null,null,null,null,null,null,null,null,null,null,null,null,null,null,null,null,null,null,null,null,null,null,null,null,null,null,null,null,null,null,null,null,null,null,null,null,null,null,null,null,null,null,null,null,null,null,null,null,null,null,null,null,null,null,null,null,null,null,null,null,null,null,null,null,"Conflicting flow",null,null,null,null,null,null,null,null,null,null,null,null,null,null,null,"Lane Capacity"]
[null,null,null,null,null,null,null,null,null,null,null,null,null,null,null,null,null,null,null,null,null,null,null,null,null,null,null,null,null,null,null,null,null,null,null,null,null,null,null,null,null,null,null,null,null,null,null,null,null,null,null,null,null,null,null,null,null,null,null,null,null,null,null,null,null,null,null,null,null,null,null,null,null,null,null,"Lane Capacity",2,null,1]
[]
[null,null,null,null,null,"Predicted approach capacity",null,null,null,null,null,null,null,null,null,null,null,null,null,null,null,null,null,null,null,null,null,null,null,null,null,null,null,null,null,null,null,null,null,null,null,null,null,null,null,"Predicted approach capacity",null,null,null,null,null,null,null,null,null,null,null,null,null,null,null,null,null,null,null,null,null,null,null,null,null,null,{"$f":"IF(BS63>BO63*SUM(BR39:BR50),0,IF(BS53>(1-BO63)*SUM(BR39:BR50),BR45,BO63*SUM(BR39:BR50)-BR48))","v":100.58000000000001}]
[null,null,null,null,null,null,null,null,null,null,null,null,null,null,null,null,null,null,null,null,null,null,null,null,null,null,null,null,null,null,null,null,null,null,null,null,null,null,null,null,null,null,null,null,null,null,null,null,null,null,null,null,null,null,null,null,null,null,null,null,null,null,null,null,null,null,null,null,null,null,null,null,null,null,null,null,null,null,null,null,null,null,null,null,null,null,null,null,null,null,null,null,null,null,null,null,null,null,null,null,null,null,null,null,null,{"$f":"IF(CY63>(1-DI67)*SUM(CL65:CW65),0,IF(DI63>DI67*SUM(CL65:CW65),CR65,CR65-DF61))","v":281.52},null,null,null,{"$f":"IF(DI63>DI67*SUM(CL65:CW65),0,IF(CY63>(1-DI67)*SUM(CL65:CW65),CR65,DI67*SUM(CL65:CW65)-DI63))","v":228.48000000000002}]
[]
[null,null,null,null,null,"Lane 1",null,null,null,{"$f":"CI51/CB7","v":0.12717761263152494},null,null,null,"V/C",null,null,null,null,null,null,null,null,null,null,null,null,null,null,null,null,null,null,null,null,null,null,null,null,null,null,null,null,null,null,null,"Lane 1",null,null,null,{"$f":"CY45/CB7","v":0.36285640527036489},null,null,null,"V/C",null,null,null,null,null,null,null,null,null,null,{"$f":"BR48/(BR48+BR45+BR42+BR39)","v":0.17832167832167833},null,0.53,null,null,null,{"$f":"BR48","v":51},null,null,null,null,null,{"$f":"$DF$9*EXP(-$DM$9*(CA41+BY41))","v":1132.6464340584307},null,{"$f":"$DF$7*EXP(-$DM$7*(BY41+CA41))","v":1056.9470303665678},null,null,null,null,null,null,null,null,null,null,null,null,null,null,null,null,null,null,null,null,null,null,null,{"$f":"CL65+CO65","v":102},null,null,null,null,null,null,null,null,null,{"$f":"CU65","v":204}]
[]
[null,null,null,null,null,"Lane 2",null,null,null,{"$f":"CI54/CB7","v":0.13382817041754827},null,null,null,"V/C",null,null,null,null,null,null,null,null,null,null,null,null,null,null,null,null,null,null,null,null,null,null,null,null,null,null,null,null,null,null,null,"Lane 2",null,null,null,{"$f":"DB45/CB7","v":0.38183142328922859},null,null,null,"V/C",null,null,null,null,null,null,null,null,null,null,null,null,null,null,null,null,null,null,null,null,null,null,null,null,null,null,null,null,null,null,null,null,null,null,null,{"$f":"NBU_Master","v":0},null,null,{"$f":"NBL_Master","v":102},null,null,{"$f":"NBT_Master","v":510},null,null,{"$f":"NBR_Master","v":204}]
[null,null,null,null,null,null,null,null,null,null,null,null,null,null,null,null,null,{"$f":"+IF(OR(J63>1,J65>1),1,0)","v":0},null,null,null,null,null,null,null,null,null,null,null,null,null,null,null,null,null,null,null,null,null,null,null,null,null,null,null,null,null,null,null,null,null,null,null,null,null,null,null,{"$f":"+IF(OR(AX63>1,AX65>1),1,0)","v":0},null,null,null,null,null,null,null,null,null,null,null,null,null,null,null,null,null,null,null,null,null,null,null,null,null,null,null,null,null,null,null,"pepch",null,null,"pepch",null,null,"pepch",null,null,"pepch"]
[null,null,null,null,null,null,null,null,null,null,null,null,null,null,null,null,null,null,null,null,null,null,null,null,null,null,null,null,null,null,null,null,null,null,null,null,null,null,null,null,null,null,null,null,null,null,null,null,null,null,null,null,null,null,null,null,null,null,null,null,null,null,null,null,null,null,null,null,null,null,null,null,null,null,null,null,null,null,null,null,null,null,null,null,null,null,null,null,null,null,null,null,null,null,null,null,null,null,null,null,null,null,"Through lane utilization factor",null,null,null,null,null,null,null,null,null,0.53]
[]
[null,null,null,null,null,null,null,null,null,null,null,null,null,null,null,null,null,null,null,null,null,null,null,null,null,null,null,null,null,null,null,null,null,null,null,null,null,null,null,null,null,null,null,null,null,null,null,null,null,null,null,null,null,null,null,null,null,null,null,null,null,null,null,null,null,null,null,null,null,null,null,null,null,null,null,null,null,null,null,null,null,null,null,null,null,null,null,null,null,null,null,null,null,null,null,null,null,null,null,null,null,null,"Right turn to Total Flow Ratio",null,null,null,null,null,null,null,null,null,{"$f":"CU65/(CU65+CR65+CO65+CL65)","v":0.25}]

{"sheet":"3x3 Rndabt","index":52,"n_rows":71,"n_cols":140,"rows_kept":71,"cut":false,"hidden":false,"merged":[[10,125,11,129],[10,130,11,131],[10,132,11,136],[10,137,11,138],[10,139,11,143],[4,125,5,131],[4,132,5,143],[6,125,7,129],[6,130,7,131],[6,132,7,136],[6,137,7,138],[6,139,7,143],[8,125,9,129],[8,130,9,131],[8,132,9,136],[8,137,9,138],[8,139,9,143],[4,98,6,111],[5,112,6,113],[37,118,39,121],[24,111,26,112],[24,114,26,115],[21,112,23,115],[17,112,19,113],[14,110,16,111],[10,116,13,117],[31,117,33,117],[31,118,33,121],[10,118,13,119],[10,120,13,121],[14,112,16,115],[10,110,12,111],[10,112,12,115],[34,116,36,116],[34,117,36,117],[34,118,36,121],[37,116,39,116],[7,112,9,113],[19,104,21,104],[19,105,21,108],[25,98,27,102],[44,109,45,111],[56,113,57,116],[56,117,57,120],[28,118,30,121],[29,102,32,103],[29,104,32,105],[29,106,32,107],[29,108,37,108],[37,117,39,117],[54,117,55,120],[28,116,30,116],[28,117,30,117],[52,113,53,116],[52,117,53,120],[54,113,55,116],[54,106,54,108],[54,109,54,111],[31,116,33,116],[9,52,10,55],[40,82,44,83],[41,64,43,67],[41,68,43,68],[41,69,43,69],[44,64,46,67],[44,68,46,68],[44,69,46,69],[45,78,48,79],[45,80,48,81],[45,82,48,83],[38,64,40,67],[30,80,31,82],[12,64,13,66],[47,69,49,69],[32,74,33,76],[24,74,24,76],[30,77,31,79],[19,65,19,72],[20,65,21,68],[20,69,21,72],[38,68,40,68],[40,77,48,77],[25,74,29,76],[0,1,1,60],[2,1,3,60],[5,2,6,9],[5,10,6,35],[22,4,23,7],[22,46,23,49],[17,4,19,15],[17,46,19,57],[20,4,21,7],[20,46,21,49],[20,8,21,11],[20,12,21,15],[5,36,6,59],[7,36,8,41],[7,42,8,47],[22,8,23,11],[22,12,23,15],[7,48,8,53],[7,54,8,59],[7,2,8,9],[7,10,8,35],[9,2,10,9],[9,10,10,35],[11,2,12,9],[66,4,67,7],[66,46,67,49],[59,4,61,15],[59,46,61,57],[62,4,63,7],[62,46,63,49],[58,113,58,120],[46,103,47,105],[46,106,47,108],[46,109,47,111],[51,70,53,71],[51,73,53,74],[53,109,53,111],[48,109,52,111],[58,72,60,73],[58,94,58,101],[61,70,63,73],[61,74,63,75],[60,112,61,114],[60,77,68,77],[60,78,64,79],[60,80,64,81],[60,82,64,83],[65,78,68,79],[24,4,25,7],[24,46,25,49],[64,4,65,7],[64,46,65,49],[11,44,12,47],[11,48,12,51],[64,8,65,11],[64,12,65,15],[20,50,21,53],[11,52,12,55],[20,54,21,57],[22,50,23,53],[22,54,23,57],[24,50,25,53],[24,54,25,57],[24,8,25,11],[24,12,25,15],[62,8,63,11],[62,12,63,15],[9,36,12,43],[9,44,10,47],[9,48,10,51],[9,56,10,59],[11,56,12,59],[68,115,69,118],[70,105,71,114],[70,115,71,118],[66,98,66,100],[66,105,67,114],[66,115,67,118],[62,116,65,118],[61,102,62,104],[11,10,12,35],[22,65,23,68],[22,69,23,72],[24,65,25,68],[24,69,25,72],[30,74,31,76],[53,77,55,80],[53,81,55,81],[44,106,45,108],[50,90,52,91],[50,77,52,80],[50,81,52,81],[50,82,52,82],[50,83,52,87],[50,88,52,89],[25,104,27,104],[62,119,63,121],[64,64,67,65],[64,66,67,67],[64,68,67,69],[65,70,67,73],[65,74,67,75],[64,102,65,104],[66,89,66,91],[66,92,66,94],[66,95,66,97],[54,64,63,65],[54,66,63,67],[60,116,61,118],[56,94,57,97],[54,68,63,69],[54,70,56,73],[54,94,55,97],[56,88,58,89],[56,90,58,91],[53,88,55,89],[56,82,58,82],[56,83,58,87],[52,94,53,97],[52,98,53,101],[62,109,63,111],[62,112,65,114],[53,82,55,82],[53,83,55,87],[53,90,55,91],[56,98,57,101],[65,80,68,81],[65,82,68,83],[55,103,58,105],[55,106,58,108],[55,109,58,111],[56,77,58,80],[56,81,58,81],[54,98,55,101],[54,103,54,105],[68,89,71,91],[68,92,71,94],[68,95,71,97],[68,98,71,100],[68,105,69,114],[53,103,53,105],[53,106,53,108],[68,72,70,73],[67,89,67,91],[67,92,67,94],[67,95,67,97],[67,98,67,100],[62,105,65,107],[25,105,27,108],[10,94,10,96],[22,84,23,87],[22,88,23,91],[24,84,25,87],[48,103,52,105],[48,106,52,108],[9,108,17,108],[13,102,17,103],[9,106,12,107],[9,102,12,103],[22,98,24,102],[22,103,24,103],[22,104,24,104],[22,105,24,108],[13,106,17,107],[13,104,17,105],[9,104,12,105],[5,77,6,80],[5,85,8,87],[5,88,8,90],[5,91,8,93],[5,94,8,96],[7,67,8,76],[7,77,8,80],[23,77,23,79],[23,80,23,82],[9,67,10,76],[9,77,10,80],[9,85,9,87],[9,88,9,90],[9,91,9,93],[9,94,9,96],[12,74,13,76],[19,74,22,76],[19,77,22,79],[19,80,22,82],[19,84,19,91],[15,67,16,69],[15,71,16,73],[10,91,10,93],[14,81,15,83],[66,8,67,11],[66,12,67,15],[25,77,29,79],[0,63,1,122],[2,63,3,122],[5,67,6,76],[62,50,63,53],[62,54,63,57],[64,50,65,53],[64,54,65,57],[66,50,67,53],[66,54,67,57],[14,116,23,117],[14,118,23,119],[14,120,23,121],[11,67,14,69],[11,71,14,73],[11,78,14,80],[11,81,12,83],[33,106,37,107],[20,84,21,87],[20,88,21,91],[40,78,44,79],[40,80,44,81],[25,103,27,103],[32,77,33,79],[32,80,33,82],[19,94,21,95],[44,103,45,105],[10,88,10,90],[24,77,24,79],[24,80,24,82],[47,64,49,67],[47,68,49,68],[24,88,25,91],[23,74,23,76],[22,94,24,95],[25,94,27,95],[25,80,29,82],[22,96,24,97],[25,96,27,97],[10,85,10,87],[38,69,40,69],[33,102,37,103],[33,104,37,105],[19,96,21,97],[19,98,21,102],[19,103,21,103]]}
[null,"3 NS x 3 EW Lane Roundabout",null,null,null,null,null,null,null,null,null,null,null,null,null,null,null,null,null,null,null,null,null,null,null,null,null,null,null,null,null,null,null,null,null,null,null,null,null,null,null,null,null,null,null,null,null,null,null,null,null,null,null,null,null,null,null,null,null,null,null,null,null,"3 NS x 3 EW Lane Roundabout"]
[]
[null,"Design and Results",null,null,null,null,null,null,null,null,null,null,null,null,null,null,null,null,null,null,null,null,null,null,null,null,null,null,null,null,null,null,null,null,null,null,null,null,null,null,null,null,null,null,null,null,null,null,null,null,null,null,null,null,null,null,null,null,null,null,null,null,null,"Data Input and Configuration"]
[]
[null,null,null,null,null,null,null,null,null,null,null,null,null,null,null,null,null,null,null,null,null,null,null,null,null,null,null,null,null,null,null,null,null,null,null,null,null,null,null,null,null,null,null,null,null,null,null,null,null,null,null,null,null,null,null,null,null,null,null,null,null,null,null,null,null,null,null,null,null,null,null,null,null,null,null,null,null,null,null,null,null,null,null,null,null,null,null,null,null,null,null,null,null,null,null,null,null,null,"Multimodal Capacity Adjustment Factor",null,null,null,null,null,null,null,null,null,null,null,null,null,null,null,null,null,null,null,null,null,null,null,null,null,null,"Equation",null,null,null,null,null,null,"A x exp(-B x Q)"]
[null,null,"Project Name:",null,null,null,null,null,null,null,{"$f":"P_Name","v":"Cap-X Sample Street"},null,null,null,null,null,null,null,null,null,null,null,null,null,null,null,null,null,null,null,null,null,null,null,null,null,"Volume-to-Capacity Ratio",null,null,null,null,null,null,null,null,null,null,null,null,null,null,null,null,null,null,null,null,null,null,null,null,null,null,null,null,null,null,"Default percent of traffic in right lane",null,null,null,null,null,null,null,null,null,0.36,null,null,null,null,null,null,null,null,null,null,null,null,null,null,null,null,null,null,null,null,null,null,null,null,null,null,null,null,null,null,null,null,null,null,{"$f":"IF(Multimodal=1,1,IF(Multimodal=2,IF(MIN(BW31+BZ31+CC31,CS20+CS23+CS26,CZ47+DC47+DF47,CK51+CK54+CK57)=0,0.97,0.95),IF(MIN(BW31+BZ31+CC31,CS20+CS23+CS26,CZ47+DC47+DF47,CK51+CK54+CK57)=0,0.95,0.91)))","v":1}]
[null,null,null,null,null,null,null,null,null,null,null,null,null,null,null,null,null,null,null,null,null,null,null,null,null,null,null,null,null,null,null,null,null,null,null,null,null,null,null,null,null,null,null,null,null,null,null,null,null,null,null,null,null,null,null,null,null,null,null,null,null,null,null,null,null,null,null,null,null,null,null,null,null,null,null,null,null,null,null,null,null,null,null,null,null,null,null,null,null,null,null,null,null,null,null,null,null,null,null,null,null,null,null,null,null,null,null,null,null,null,null,null,null,null,null,null,null,null,null,null,null,null,null,null,null,"LT Lane",null,null,null,null,"A",null,1350,null,null,null,null,"B",null,9.2000000000000003E-4]
[null,null,"Project Number:",null,null,null,null,null,null,null,{"$f":"P_Number","v":10000},null,null,null,null,null,null,null,null,null,null,null,null,null,null,null,null,null,null,null,null,null,null,null,null,null,"< 0.750",null,null,null,null,null,"0.750 - 0.875",null,null,null,null,null,"0.875 - 1.00",null,null,null,null,null,"≥ 1.00",null,null,null,null,null,null,null,null,null,null,null,null,"Default percent of traffic in center lane",null,null,null,null,null,null,null,null,null,0.32,null,null,null,null,null,null,null,null,null,null,null,null,null,null,null,null,null,null,null,null,null,null,null,null,null,null,null,null,null,null,null,null,null,null,{"$f":"DM29","v":51}]
[null,null,null,null,null,null,null,null,null,null,null,null,null,null,null,null,null,null,null,null,null,null,null,null,null,null,null,null,null,null,null,null,null,null,null,null,null,null,null,null,null,null,null,null,null,null,null,null,null,null,null,null,null,null,null,null,null,null,null,null,null,null,null,null,null,null,null,null,null,null,null,null,null,null,null,null,null,null,null,null,null,null,null,null,null,null,null,null,null,null,null,null,null,null,null,null,null,null,null,null,null,null,null,null,null,null,null,null,null,null,null,null,null,null,null,null,null,null,null,null,null,null,null,null,null,"C Lane",null,null,null,null,"A",null,1350,null,null,null,null,"B",null,9.2000000000000003E-4]
[null,null,"Location",null,null,null,null,null,null,null,{"$f":"Location","v":"Anywhere, USA"},null,null,null,null,null,null,null,null,null,null,null,null,null,null,null,null,null,null,null,null,null,null,null,null,null,"VOLUME / CAPACITY RATIO:",null,null,null,null,null,null,null,"Zone 1",null,null,null,{"$f":"MAX(I21:L26)","v":9.6557017779390061E-2},null,null,null,"Zone3",null,null,null,{"$f":"MAX(AY21:BB26)","v":0.12524022483311587},null,null,null,null,null,null,null,null,null,null,"Default percent of traffic in left lane",null,null,null,null,null,null,null,null,null,0.32,null,null,null,null,null,null,null,"pepch",null,null,"pepch",null,null,"pepch",null,null,"pepch",null,null,null,null,null,null,null,{"$f":"EC7*EXP(SUM(CY34:DD38)*-1*EJ7)","v":747.17533123895942},null,{"$f":"EC9*EXP(SUM(CY34:DD38)*-1*EJ9)","v":747.17533123895942},null,{"$f":"EC11*EXP(SUM(CY34:DD38)*-1*EJ11)","v":822.10008914624234},null,"Lane Capacity"]
[null,null,null,null,null,null,null,null,null,null,null,null,null,null,null,null,null,null,null,null,null,null,null,null,null,null,null,null,null,null,null,null,null,null,null,null,null,null,null,null,null,null,null,null,null,null,null,null,null,null,null,null,null,null,null,null,null,null,null,null,null,null,null,null,null,null,null,null,null,null,null,null,null,null,null,null,null,null,null,null,null,null,null,null,null,{"$f":"SBR_Master","v":51},null,null,{"$f":"SBT_Master","v":204},null,null,{"$f":"SBL_Master","v":31},null,null,{"$f":"SBU_Master","v":0},null,null,null,null,null,null,null,null,null,null,null,null,null,null,null,{"$f":"DM32*(1-DM11)","v":138.72},null,null,null,null,null,0.32,null,0.32,null,0.36,null,null,null,null,"RT Lane",null,null,null,null,"A",null,1420,null,null,null,null,"B",null,8.4999999999999995E-4]
[null,null,"Date",null,null,null,null,null,null,null,{"$f":"Date","v":"2017 AM"},null,null,null,null,null,null,null,null,null,null,null,null,null,null,null,null,null,null,null,null,null,null,null,null,null,null,null,null,null,null,null,null,null,"Zone 4",null,null,null,{"$f":"MAX(I63:L68)","v":9.0902153491164844E-2},null,null,null,"Zone 2",null,null,null,{"$f":"MAX(AY63:BB68)","v":0.25935719317758921},null,null,null,null,null,null,null,null,null,null,null,null,null,null,null,null,null,null,null,null,null,null,null,null,{"$f":"CQ11","v":0}]
[null,null,null,null,null,null,null,null,null,null,null,null,null,null,null,null,null,null,null,null,null,null,null,null,null,null,null,null,null,null,null,null,null,null,null,null,null,null,null,null,null,null,null,null,null,null,null,null,null,null,null,null,null,null,null,null,null,null,null,null,null,null,null,null,{"$f":"CH11","v":51},null,null,null,null,null,null,null,null,null,{"$f":"CN11*(1-BZ10)","v":21.08}]
[null,null,null,null,null,null,null,null,null,null,null,null,null,null,null,null,null,null,null,null,null,null,null,null,null,null,null,null,null,null,null,null,null,null,null,null,null,null,null,null,null,null,null,null,null,null,null,null,null,null,null,null,null,null,null,null,null,null,null,null,null,null,null,null,null,null,null,null,null,null,null,null,null,null,null,null,null,null,null,null,null,null,null,null,null,null,null,null,null,null,null,null,null,null,null,null,null,null,null,null,null,null,1,null,2,null,3]
[null,null,null,null,null,null,null,null,null,null,null,null,null,null,null,null,null,null,null,null,null,null,null,null,null,null,null,null,null,null,null,null,null,null,null,null,null,null,null,null,null,null,null,null,null,null,null,null,null,null,null,null,null,null,null,null,null,null,null,null,null,null,null,null,null,null,null,null,null,null,null,null,null,null,null,null,null,null,null,null,null,{"$f":"CN11*BZ10","v":9.92},null,null,null,null,null,null,null,null,null,null,null,null,null,null,null,null,null,null,null,null,null,null,null,null,null,null,null,null,{"$f":"DM32*DM11","v":65.28},null,null,null,null,null,"Default percent of traffic in left lane",null,"Default percent of traffic in center lane",null,"Default percent of traffic in right lane"]
[null,null,null,null,null,null,null,null,null,null,null,null,null,null,null,null,null,null,null,null,null,null,null,null,null,null,null,null,null,null,null,null,null,null,null,null,null,null,null,null,null,null,null,null,null,null,null,null,null,null,null,null,null,null,null,null,null,null,null,null,null,null,null,null,null,null,null,{"$f":"CK11*(1-BZ8)","v":138.72},null,null,null,{"$f":"CK11*BZ8","v":65.28}]
[]
[null,null,null,null,"Predicted approach capacity",null,null,null,null,null,null,null,null,null,null,null,null,null,null,null,null,null,null,null,null,null,null,null,null,null,null,null,null,null,null,null,null,null,null,null,null,null,null,null,null,null,"Predicted approach capacity",null,null,null,null,null,null,null,null,null,null,null,null,null,null,null,null,null,null,null,null,null,null,null,null,null,null,null,null,null,null,null,null,null,null,null,null,null,null,null,null,null,null,null,null,null,null,null,null,null,null,null,null,null,null,null,null,null,null,null,null,null,null,null,null,null,{"$f":"DM35*(1-DO11)","v":21.08}]
[]
[null,null,null,null,null,null,null,null,null,null,null,null,null,null,null,null,null,null,null,null,null,null,null,null,null,null,null,null,null,null,null,null,null,null,null,null,null,null,null,null,null,null,null,null,null,null,null,null,null,null,null,null,null,null,null,null,null,null,null,null,null,null,null,null,null,"Lane Capacity",null,null,null,null,null,null,null,null,null,null,null,null,null,null,null,null,null,null,"Conflicting flow",null,null,null,null,null,null,null,null,null,3,null,{"$f":"CZ20/DC10","v":0.12524022483311587},null,"V/C RATIO",null,null,null,null,{"$f":"IF((DM29)>DQ11*SUM(DM29:DM40),DM29,DQ11*SUM(DM29:DM40))","v":102.96},"pepch"]
[null,null,null,null,"Lane 1",null,null,null,{"$f":"CC31/DI6","v":9.2433820571748593E-2},null,null,null,"V/C",null,null,null,null,null,null,null,null,null,null,null,null,null,null,null,null,null,null,null,null,null,null,null,null,null,null,null,null,null,null,null,null,null,"Lane 1",null,null,null,{"$f":"CS26/DI6","v":0.12248798397591949},null,null,null,"V/C",null,null,null,null,null,null,null,null,null,null,1,null,null,null,{"$f":"EC7*EXP(SUM(CG21:CJ26)*-1*EJ7)","v":990.11378555926649},null,null,null,null,null,null,null,null,null,null,null,null,null,null,{"$f":"DM32+DM35","v":235}]
[]
[null,null,null,null,"Lane 2",null,null,null,{"$f":"BZ31/DI6","v":9.2433820571748621E-2},null,null,null,"V/C",null,null,null,null,null,null,null,null,null,null,null,null,null,null,null,null,null,null,null,null,null,null,null,null,null,null,null,null,null,null,null,null,null,"Lane 2",null,null,null,{"$f":"CS23/DI6","v":0.12248798397591952},null,null,null,"V/C",null,null,null,null,null,null,null,null,null,null,2,null,null,null,{"$f":"EC9*EXP(SUM(CG21:CJ26)*-1*EJ9)","v":990.11378555926649},null,null,null,null,null,null,null,null,null,null,null,null,null,null,{"$f":"CO67","v":102},null,null,null,null,null,null,null,null,null,2,null,{"$f":"CZ23/DA10","v":0.12248798397591952},null,"V/C RATIO",null,null,null,null,{"$f":"SUM(DM29:DM40)-CZ20-CZ26","v":91.520000000000024},"pepch"]
[null,null,null,null,null,null,null,null,null,null,null,null,null,null,null,null,null,null,null,null,null,null,null,null,null,null,null,null,null,null,null,null,null,null,null,null,null,null,null,null,null,null,null,null,null,null,null,null,null,null,null,null,null,null,null,null,null,null,null,null,null,null,null,null,null,null,null,null,null,null,null,null,null,null,"pepch",null,null,"pepch",null,null,"pepch"]
[null,null,null,null,"Lane 3",null,null,null,{"$f":"BW31/DI6","v":9.6557017779390061E-2},null,null,null,"V/C",null,null,null,null,null,null,null,null,null,null,null,null,null,null,null,null,null,null,null,null,null,null,null,null,null,null,null,null,null,null,null,null,null,"Lane 3",null,null,null,{"$f":"CS20/DI6","v":0.12524022483311587},null,null,null,"V/C",null,null,null,null,null,null,null,null,null,null,3,null,null,null,{"$f":"EC11*EXP(SUM(CG21:CJ26)*-1*EJ11)","v":1066.3129658295707},null,null,null,null,{"$f":"IF((CH11)>BZ6*SUM(CH11:CS11),CH11,BZ6*SUM(CH11:CS11))","v":102.96},null,null,{"$f":"SUM(CH11:CS11)-CC25-BW25","v":91.520000000000024},null,null,{"$f":"IF((CQ11+CN11)>BZ10*SUM(CH11:CS11),CQ11+CN11,BZ10*SUM(CH11:CS11))","v":91.52},null,null,null,{"$f":"DM38+CL67+BR39","v":0},null,null,null,null,null,null,null,null,null,null,null,null,null,null,null,null,null,null,null,null,null,null,null,null,null,null,{"$f":"DM35*DO11","v":9.92},null,null,{"$f":"DM38","v":0}]
[null,null,null,null,null,null,null,null,null,null,null,null,null,null,null,null,{"$f":"IF(OR(I21>1,I23>1,I25>1),1,0)","v":0},null,null,null,null,null,null,null,null,null,null,null,null,null,null,null,null,null,null,null,null,null,null,null,null,null,null,null,null,null,null,null,null,null,null,null,null,null,null,null,null,null,{"$f":"IF(OR(AY21>1,AY23>1,AY25>1),1,0)","v":0},null,null,null,null,null,null,null,null,null,null,null,null,null,null,null,"V/C RATIO",null,null,"V/C RATIO",null,null,"V/C RATIO",null,null,null,null,null,null,null,null,null,null,null,null,null,1,null,{"$f":"CZ26/CY10","v":0.12248798397591949},null,"V/C RATIO",null,null,null,null,{"$f":"IF((DM38+DM35)>DM11*SUM(DM29:DM40),DM38+DM35,DM11*SUM(DM29:DM40))","v":91.52},"pepch"]
[]
[]
[null,null,null,null,null,null,null,null,null,null,null,null,null,null,null,null,null,null,null,null,null,null,null,null,null,null,null,null,null,null,null,null,null,null,null,null,null,null,null,null,null,null,null,null,null,null,null,null,null,null,null,null,null,null,null,null,null,null,null,null,null,null,null,null,null,null,null,null,null,null,null,null,null,null,null,null,null,null,null,null,null,null,null,null,null,null,null,null,null,null,null,null,null,null,null,null,null,null,null,null,null,null,null,null,null,null,null,null,null,null,null,null,null,null,null,null,{"$f":"WBR_Master","v":51},"pepch"]
[null,null,null,null,null,null,null,null,null,null,null,null,null,null,null,null,null,null,null,null,null,null,null,null,null,null,null,null,null,null,null,null,null,null,null,null,null,null,null,null,null,null,null,null,null,null,null,null,null,null,null,null,null,null,null,null,null,null,null,null,null,null,null,null,null,null,null,null,null,null,null,null,null,null,null,null,null,null,null,null,null,null,null,null,null,null,null,null,null,null,null,null,null,null,null,null,null,null,null,null,null,null,null,null,null,null,null,null,"Conflicting flow"]
[null,null,null,null,null,null,null,null,null,null,null,null,null,null,null,null,null,null,null,null,null,null,null,null,null,null,null,null,null,null,null,null,null,null,null,null,null,null,null,null,null,null,null,null,null,null,null,null,null,null,null,null,null,null,null,null,null,null,null,null,null,null,null,null,null,null,null,null,null,null,null,null,null,null,{"$f":"BW25/BR25","v":9.6557017779390061E-2},null,null,{"$f":"BZ25/BR23","v":9.2433820571748621E-2},null,null,{"$f":"CC25/BR21","v":9.2433820571748593E-2}]
[null,null,null,null,null,null,null,null,null,null,null,null,null,null,null,null,null,null,null,null,null,null,null,null,null,null,null,null,null,null,null,null,null,null,null,null,null,null,null,null,null,null,null,null,null,null,null,null,null,null,null,null,null,null,null,null,null,null,null,null,null,null,null,null,null,null,null,null,null,null,null,null,null,null,null,null,null,null,null,null,null,null,null,null,null,null,null,null,null,null,null,null,null,null,null,null,null,null,null,null,null,null,null,null,null,null,null,null,null,null,null,null,null,null,null,null,{"$f":"WBT_Master","v":204},"pepch"]
[null,null,null,null,null,null,null,null,null,null,null,null,null,null,null,null,null,null,null,null,null,null,null,null,null,null,null,null,null,null,null,null,null,null,null,null,null,null,null,null,null,null,null,null,null,null,null,null,null,null,null,null,null,null,null,null,null,null,null,null,null,null,null,null,null,null,null,null,null,null,null,null,null,null,3,null,null,2,null,null,1]
[null,null,null,null,null,null,null,null,null,null,null,null,null,null,null,null,null,null,null,null,null,null,null,null,null,null,null,null,null,null,null,null,null,null,null,null,null,null,null,null,null,null,null,null,null,null,null,null,null,null,null,null,null,null,null,null,null,null,null,null,null,null,null,null,null,null,null,null,null,null,null,null,null,null,null,null,null,null,null,null,null,null,null,null,null,null,null,null,null,null,null,null,null,null,null,null,null,null,null,null,null,null,{"$f":"CL67+BR39+CQ11","v":0},null,{"$f":"BR42","v":31},null,{"$f":"CR67+CO67","v":612}]
[null,null,null,null,null,null,null,null,null,null,null,null,null,null,null,null,null,null,null,null,null,null,null,null,null,null,null,null,null,null,null,null,null,null,null,null,null,null,null,null,null,null,null,null,null,null,null,null,null,null,null,null,null,null,null,null,null,null,null,null,null,null,null,null,null,null,null,null,null,null,null,null,null,null,null,null,null,null,null,null,null,null,null,null,null,null,null,null,null,null,null,null,null,null,null,null,null,null,null,null,null,null,null,null,null,null,null,null,null,null,null,null,null,null,null,null,{"$f":"WBL_Master","v":31},"pepch"]
[]
[]
[null,null,null,null,null,null,null,null,null,null,null,null,null,null,null,null,null,null,null,null,null,null,null,null,null,null,null,null,null,null,null,null,null,null,null,null,null,null,null,null,null,null,null,null,null,null,null,null,null,null,null,null,null,null,null,null,null,null,null,null,null,null,null,null,null,null,null,null,null,null,null,null,null,null,null,null,null,null,null,null,null,null,null,null,null,null,null,null,null,null,null,null,null,null,null,null,null,null,null,null,null,null,null,null,null,null,null,null,null,null,null,null,null,null,null,null,{"$f":"WBU_Master","v":0},"pepch"]
[null,null,null,null,null,null,null,null,null,null,null,null,null,null,null,null,null,null,null,null,null,null,null,null,null,null,null,null,null,null,null,null,null,null,null,null,null,null,null,null,null,null,null,null,null,null,null,null,null,null,null,null,null,null,null,null,null,null,null,null,null,null,null,null,null,null,null,null,"pepch",{"$f":"EBU_Master","v":0}]
[]
[null,null,null,null,null,null,null,null,null,null,null,null,null,null,null,null,null,null,null,null,null,null,null,null,null,null,null,null,null,null,null,null,null,null,null,null,null,null,null,null,null,null,null,null,null,null,null,null,null,null,null,null,null,null,null,null,null,null,null,null,null,null,null,null,null,null,null,null,null,null,null,null,null,null,null,null,null,"Conflicting flow",{"$f":"CN11+CK11","v":235},null,{"$f":"DM35","v":31},null,{"$f":"DM38+CL67+CQ11","v":0}]
[null,null,null,null,null,null,null,null,null,null,null,null,null,null,null,null,null,null,null,null,null,null,null,null,null,null,null,null,null,null,null,null,null,null,null,null,null,null,null,null,null,null,null,null,null,null,null,null,null,null,null,null,null,null,null,null,null,null,null,null,null,null,null,null,null,null,null,null,"pepch",{"$f":"EBL_Master","v":31}]
[]
[]
[null,null,null,null,null,null,null,null,null,null,null,null,null,null,null,null,null,null,null,null,null,null,null,null,null,null,null,null,null,null,null,null,null,null,null,null,null,null,null,null,null,null,null,null,null,null,null,null,null,null,null,null,null,null,null,null,null,null,null,null,null,null,null,null,null,null,null,null,"pepch",{"$f":"EBT_Master","v":204},null,null,null,null,null,null,null,null,null,null,null,null,null,null,null,null,null,null,null,null,null,null,null,null,null,null,null,null,null,null,null,null,null,1,null,null,2,null,null,3]
[]
[null,null,null,null,null,null,null,null,null,null,null,null,null,null,null,null,null,null,null,null,null,null,null,null,null,null,null,null,null,null,null,null,null,null,null,null,null,null,null,null,null,null,null,null,null,null,null,null,null,null,null,null,null,null,null,null,null,null,null,null,null,null,null,null,null,null,null,null,null,null,null,null,null,null,null,null,null,null,null,null,null,null,null,null,null,null,null,null,null,null,null,null,null,null,null,null,null,null,null,null,null,null,null,{"$f":"CZ54/DN53","v":0.24705116954578035},null,null,{"$f":"DC54/DN55","v":0.24705116954578035},null,null,{"$f":"DF54/DN57","v":0.25935719317758921}]
[null,null,null,null,null,null,null,null,null,null,null,null,null,null,null,null,null,null,null,null,null,null,null,null,null,null,null,null,null,null,null,null,null,null,null,null,null,null,null,null,null,null,null,null,null,null,null,null,null,null,null,null,null,null,null,null,null,null,null,null,null,null,null,null,null,null,null,null,"pepch",{"$f":"EBR_Master","v":51}]
[null,null,null,null,null,null,null,null,null,null,null,null,null,null,null,null,null,null,null,null,null,null,null,null,null,null,null,null,null,null,null,null,null,null,null,null,null,null,null,null,null,null,null,null,null,null,null,null,null,null,null,null,null,null,null,null,null,null,null,null,null,null,null,null,null,null,null,null,null,null,null,null,null,null,null,null,null,null,null,null,null,null,null,null,null,null,null,null,null,null,null,null,null,null,null,null,null,null,null,null,null,null,null,"V/C RATIO",null,null,"V/C RATIO",null,null,"V/C RATIO"]
[]
[null,null,null,null,null,null,null,null,null,null,null,null,null,null,null,null,null,null,null,null,null,null,null,null,null,null,null,null,null,null,null,null,null,null,null,null,null,null,null,null,null,null,null,null,null,null,null,null,null,null,null,null,null,null,null,null,null,null,null,null,null,null,null,null,null,null,null,null,null,null,null,null,null,null,null,null,null,null,null,null,null,"pepch",{"$f":"IF((BR39+BR42)>BQ65*SUM(BR39:BR50),BR39+BR42,BQ65*SUM(BR39:BR50))","v":91.52},"V/C RATIO",null,null,null,null,{"$f":"CE51/CE66","v":8.6589012855506353E-2},null,1]
[null,null,null,null,null,null,null,null,null,null,null,null,null,null,null,null,null,null,null,null,null,null,null,null,null,null,null,null,null,null,null,null,null,null,null,null,null,null,null,null,null,null,null,null,null,null,null,null,null,null,null,null,null,null,null,null,null,null,null,null,null,null,null,null,null,null,null,null,null,null,{"$f":"BR39","v":0},null,null,{"$f":"BR42*BO65","v":9.92}]
[null,null,null,null,null,null,null,null,null,null,null,null,null,null,null,null,null,null,null,null,null,null,null,null,null,null,null,null,null,null,null,null,null,null,null,null,null,null,null,null,null,null,null,null,null,null,null,null,null,null,null,null,null,null,null,null,null,null,null,null,null,null,null,null,null,null,null,null,null,null,null,null,null,null,null,null,null,null,null,null,null,null,null,null,null,null,null,null,null,null,null,null,null,null,{"$f":"BR39+CQ11+DM38","v":0},null,null,null,null,null,null,null,null,null,null,null,null,null,null,null,null,null,null,1,null,null,null,{"$f":"EC7*EXP(SUM(CQ53:CT58)*-1*EJ7)","v":1056.9470303665678}]
[null,null,null,null,null,null,null,null,null,null,null,null,null,null,null,null,null,null,null,null,null,null,null,null,null,null,null,null,null,null,null,null,null,null,null,null,null,null,null,null,null,null,null,null,null,null,null,null,null,null,null,null,null,null,null,null,null,null,null,null,null,null,null,null,null,null,null,null,null,null,null,null,null,null,null,null,null,null,null,null,null,"pepch",{"$f":"SUM(BR39:BR50)-CE51-CE57","v":91.520000000000024},"V/C RATIO",null,null,null,null,{"$f":"CE54/CC66","v":8.6589012855506381E-2},null,2,null,null,null,null,null,null,null,null,null,null,null,null,{"$f":"IF((CL67+CO67)>DL67*SUM(CL67:CW67),CL67+CO67,DL67*SUM(CL67:CW67))","v":261.12},null,null,{"$f":"SUM(CL67:CW67)-CZ54-DF54","v":261.12},null,null,{"$f":"IF(CU67>DL71*SUM(CL67:CW67),CU67,DL71*SUM(CL67:CW67))","v":293.76}]
[null,null,null,null,null,null,null,null,null,null,null,null,null,null,null,null,null,null,null,null,null,null,null,null,null,null,null,null,null,null,null,null,null,null,null,null,null,null,null,null,null,null,null,null,null,null,null,null,null,null,null,null,null,null,null,null,null,null,null,null,null,null,null,null,"Default percent of traffic in right lane",null,"Default percent of traffic in center lane",null,"Default percent of traffic in left lane",null,null,null,null,null,null,null,null,null,null,null,null,null,null,null,null,null,null,null,null,null,null,null,null,null,{"$f":"CN11","v":31},null,null,null,null,null,null,null,null,"pepch",null,null,"pepch",null,null,"pepch",null,null,null,2,null,null,null,{"$f":"EC9*EXP(SUM(CQ53:CT58)*-1*EJ9)","v":1056.9470303665678}]
[]
[null,null,null,null,null,null,null,null,null,null,null,null,null,null,null,null,null,null,null,null,null,null,null,null,null,null,null,null,null,null,null,null,null,null,null,null,null,null,null,null,null,null,null,null,null,null,null,null,null,null,null,null,null,null,null,null,null,null,null,null,null,null,null,null,null,null,null,null,null,null,null,null,null,null,null,null,null,null,null,null,null,"pepch",{"$f":"IF((BR48)>BM65*SUM(BR39:BR50),BR48,BM65*SUM(BR39:BR50))","v":102.96},"V/C RATIO",null,null,null,null,{"$f":"CE57/CA66","v":9.0902153491164844E-2},null,3,null,null,null,{"$f":"BR42+BR45","v":235},null,null,null,null,null,null,null,null,null,null,null,null,null,null,null,null,null,null,3,null,null,null,{"$f":"EC11*EXP(SUM(CQ53:CT58)*-1*EJ11)","v":1132.6464340584307}]
[]
[null,null,null,null,null,null,null,null,null,null,null,null,null,null,null,null,null,null,null,null,null,null,null,null,null,null,null,null,null,null,null,null,null,null,null,null,null,null,null,null,null,null,null,null,null,null,null,null,null,null,null,null,null,null,null,null,null,null,null,null,null,null,null,null,null,null,null,null,null,null,null,null,{"$f":"BR42*(1-BO65)","v":21.08},null,null,null,null,null,null,null,null,null,null,null,null,null,null,null,null,null,null,null,null,null,"Conflicting flow",null,null,null,null,null,null,null,null,null,null,null,null,null,null,null,null,null,null,"Lane Capacity"]
[null,null,null,null,"Predicted approach capacity",null,null,null,null,null,null,null,null,null,null,null,null,null,null,null,null,null,null,null,null,null,null,null,null,null,null,null,null,null,null,null,null,null,null,null,null,null,null,null,null,null,"Predicted approach capacity"]
[null,null,null,null,null,null,null,null,null,null,null,null,null,null,null,null,null,null,null,null,null,null,null,null,null,null,null,null,null,null,null,null,null,null,null,null,null,null,null,null,null,null,null,null,null,null,null,null,null,null,null,null,null,null,null,null,null,null,null,null,null,null,null,null,null,null,null,null,null,null,null,null,null,null,null,null,null,"Lane Capacity",3,null,2,null,1,null,null,null,null,null,null,null,null,null,null,null,null,null,null,null,null,null,null,null,null,null,null,null,null,null,null,null,null,null,{"$f":"CR67*DL67","v":163.20000000000002},null,null,null,{"$f":"CR67*(1-DL67)","v":346.79999999999995}]
[null,null,null,null,null,null,null,null,null,null,null,null,null,null,null,null,null,null,null,null,null,null,null,null,null,null,null,null,null,null,null,null,null,null,null,null,null,null,null,null,null,null,null,null,null,null,null,null,null,null,null,null,null,null,null,null,null,null,null,null,null,null,null,null,null,null,null,null,null,null,null,null,null,null,{"$f":"BR45*BQ65","v":65.28},null,null,null,null,null,null,null,null,null,null,null,null,null,null,null,null,null,null,null,null,null,null,null,null,null,null,null,{"$f":"CO67*DL69","v":32.64}]
[null,null,null,null,"Lane 1",null,null,null,{"$f":"CK51/DI6","v":8.6589012855506353E-2},null,null,null,"V/C",null,null,null,null,null,null,null,null,null,null,null,null,null,null,null,null,null,null,null,null,null,null,null,null,null,null,null,null,null,null,null,null,null,"Lane 1",null,null,null,{"$f":"CZ47/DI6","v":0.24705116954578035},null,null,null,"V/C",null,null,null,null,null,null,null,null,null,null,null,null,null,null,null,null,null,null,null,null,null,null,null,null,null,null,null,null,null,null,null,null,null,null,null,null,null,null,null,null,null,null,null,null,null,null,null,null,null,null,null,null,null,null,{"$f":"CO67*(1-DL69)","v":69.36},null,null,null,null,null,null,null,null,null,{"$f":"CU67","v":204}]
[]
[null,null,null,null,"Lane 2",null,null,null,{"$f":"CK54/DI6","v":8.6589012855506381E-2},null,null,null,"V/C",null,null,null,null,null,null,null,null,null,null,null,null,null,null,null,null,null,null,null,null,null,null,null,null,null,null,null,null,null,null,null,null,null,"Lane 2",null,null,null,{"$f":"DC47/DI6","v":0.24705116954578035},null,null,null,"V/C",null,null,null,null,null,null,null,null,null,0.36,null,0.32,null,0.32,null,null,null,null,null,null,null,null,null,null,null,null,null,null,null,null,null,null,null,null,null,null,null,null,null,null,null,null,null,null,null,null,null,{"$f":"CL67","v":0}]
[null,null,null,null,null,null,null,null,null,null,null,null,null,null,null,null,null,null,null,null,null,null,null,null,null,null,null,null,null,null,null,null,null,null,null,null,null,null,null,null,null,null,null,null,null,null,null,null,null,null,null,null,null,null,null,null,null,null,null,null,null,null,null,null,null,null,null,null,null,null,null,null,null,null,{"$f":"BR45*(1-BQ65)","v":138.72},null,null,null,{"$f":"EC11*EXP(SUM(CA41:CF45)*-1*EJ11)","v":1132.6464340584307},null,{"$f":"EC9*EXP(SUM(CA41:CF45)*-1*EJ9)","v":1056.9470303665678},null,{"$f":"EC7*EXP(SUM(CA41:CF45)*-1*EJ7)","v":1056.9470303665678}]
[null,null,null,null,"Lane 3",null,null,null,{"$f":"CK57/DI6","v":9.0902153491164844E-2},null,null,null,"V/C",null,null,null,null,null,null,null,null,null,null,null,null,null,null,null,null,null,null,null,null,null,null,null,null,null,null,null,null,null,null,null,null,null,"Lane 3",null,null,null,{"$f":"DF47/DI6","v":0.25935719317758921},null,null,null,"V/C",null,null,null,null,null,null,null,null,null,null,null,null,null,null,null,null,null,null,null,null,null,null,null,null,null,null,null,null,null,null,null,null,null,null,{"$f":"NBU_Master","v":0},null,null,{"$f":"NBL_Master","v":102},null,null,{"$f":"NBT_Master","v":510},null,null,{"$f":"NBR_Master","v":204},null,null,null,null,null,null,"Default percent of traffic in left lane",null,null,null,null,null,null,null,null,null,0.32]
[null,null,null,null,null,null,null,null,null,null,null,null,null,null,null,null,{"$f":"IF(OR(I63>1,I65>1,I67>1),1,0)","v":0},null,null,null,null,null,null,null,null,null,null,null,null,null,null,null,null,null,null,null,null,null,null,null,null,null,null,null,null,null,null,null,null,null,null,null,null,null,null,null,null,null,{"$f":"IF(OR(AY63>1,AY65>1,AY67>1),1,0)","v":0},null,null,null,null,null,null,null,null,null,null,null,null,null,null,null,null,null,null,null,null,null,null,null,null,null,null,null,null,null,null,"pepch",null,null,"pepch",null,null,"pepch",null,null,"pepch"]
[null,null,null,null,null,null,null,null,null,null,null,null,null,null,null,null,null,null,null,null,null,null,null,null,null,null,null,null,null,null,null,null,null,null,null,null,null,null,null,null,null,null,null,null,null,null,null,null,null,null,null,null,null,null,null,null,null,null,null,null,null,null,null,null,null,null,null,null,null,null,null,null,{"$f":"BR48","v":51},null,null,null,null,null,null,null,null,null,null,null,null,null,null,null,null,null,null,null,null,null,null,null,null,null,null,null,null,null,null,null,null,"Default percent of traffic in center lane",null,null,null,null,null,null,null,null,null,0.32]
[]
[null,null,null,null,null,null,null,null,null,null,null,null,null,null,null,null,null,null,null,null,null,null,null,null,null,null,null,null,null,null,null,null,null,null,null,null,null,null,null,null,null,null,null,null,null,null,null,null,null,null,null,null,null,null,null,null,null,null,null,null,null,null,null,null,null,null,null,null,null,null,null,null,null,null,null,null,null,null,null,null,null,null,null,null,null,null,null,null,null,null,null,null,null,null,null,null,null,null,null,null,null,null,null,null,null,"Default percent of traffic in right lane",null,null,null,null,null,null,null,null,null,0.36]

{"sheet":"TD N-S","index":53,"n_rows":106,"n_cols":74,"rows_kept":106,"cut":false,"hidden":false,"merged":[[61,66,62,67],[22,55,22,59],[22,25,22,29],[19,55,21,58],[19,59,21,59],[16,20,18,28],[16,29,18,29],[19,20,21,23],[19,24,21,24],[19,25,21,28],[19,29,21,29],[56,1,57,79],[16,50,18,58],[16,59,18,59],[19,50,21,53],[19,54,21,54],[61,52,63,65],[83,38,86,40],[83,41,86,43],[84,32,87,34],[84,35,87,37],[88,32,88,34],[88,35,88,37],[106,38,109,40],[106,41,109,43],[106,44,109,46],[103,38,103,43],[103,44,103,46],[104,38,104,40],[104,41,104,43],[104,44,104,46],[105,38,105,40],[105,41,105,43],[105,44,105,46],[89,32,89,34],[89,35,89,37],[90,32,90,34],[90,35,90,37],[94,34,96,41],[103,25,105,28],[103,29,105,29],[103,30,105,30],[103,31,105,31],[97,34,99,41],[100,25,102,28],[100,29,102,29],[100,30,102,30],[100,31,102,31],[97,25,99,28],[97,29,99,29],[97,30,99,30],[97,31,99,31],[80,38,80,40],[80,41,80,43],[81,38,81,40],[81,41,81,43],[82,38,82,40],[82,41,82,43],[74,34,76,41],[65,44,67,44],[65,45,67,45],[71,44,73,44],[71,45,73,45],[71,34,73,41],[65,35,65,37],[68,44,70,44],[68,45,70,45],[65,32,65,34],[66,32,66,34],[66,35,66,37],[7,67,8,72],[7,73,8,78],[9,55,12,66],[9,67,12,78],[7,10,8,54],[9,2,10,9],[9,10,10,54],[11,2,12,9],[11,10,12,54],[80,47,90,58],[65,46,67,46],[71,46,73,46],[65,47,67,50],[68,46,70,46],[68,47,70,50],[71,47,73,50],[0,1,1,79],[2,1,3,79],[5,2,6,9],[5,10,6,54],[5,55,6,78],[54,23,54,56],[67,29,67,31],[67,32,67,37],[58,1,59,79],[7,2,8,9],[61,29,64,31],[61,32,64,34],[61,35,64,37],[65,29,65,31],[66,29,66,31],[7,55,8,60],[7,61,8,66]]}
[null,"Traditional Diamond (N-S)"]
[]
[null,"Design and Results"]
[]
[]
[null,null,"Project Name:",null,null,null,null,null,null,null,{"$f":"P_Name","v":"Cap-X Sample Street"},null,null,null,null,null,null,null,null,null,null,null,null,null,null,null,null,null,null,null,null,null,null,null,null,null,null,null,null,null,null,null,null,null,null,null,null,null,null,null,null,null,null,null,null,"Volume-to-Capacity Ratio"]
[]
[null,null,"Project Number:",null,null,null,null,null,null,null,{"$f":"P_Number","v":10000},null,null,null,null,null,null,null,null,null,null,null,null,null,null,null,null,null,null,null,null,null,null,null,null,null,null,null,null,null,null,null,null,null,null,null,null,null,null,null,null,null,null,null,null,"< 0.750",null,null,null,null,null,"0.750 - 0.875",null,null,null,null,null,"0.875 - 1.00",null,null,null,null,null,"≥ 1.00"]
[]
[null,null,"Location",null,null,null,null,null,null,null,{"$f":"Location","v":"Anywhere, USA"},null,null,null,null,null,null,null,null,null,null,null,null,null,null,null,null,null,null,null,null,null,null,null,null,null,null,null,null,null,null,null,null,null,null,null,null,null,null,null,null,null,null,null,null,"VOLUME / CAPACITY RATIO:",null,null,null,null,null,null,null,null,null,null,null,{"$f":"MAX(U20,AY20)","v":0.25}]
[]
[null,null,"Date",null,null,null,null,null,null,null,{"$f":"Date","v":"2017 AM"}]
[]
[]
[]
[]
[null,null,null,null,null,null,null,null,null,null,null,null,null,null,null,null,null,null,null,null,{"$f":"AI98","v":446},null,null,null,null,null,null,null,null,"CLV",null,null,null,null,null,null,null,null,null,null,null,null,null,null,null,null,null,null,null,null,{"$f":"AI75","v":410.5},null,null,null,null,null,null,null,null,"CLV"]
[]
[]
[null,null,null,null,null,null,null,null,null,null,null,null,null,null,null,null,null,null,null,null,{"$f":"ROUND(U17/CLV_Limit_3,2)","v":0.25},null,null,null,"V/C",{"$f":"CLV_Limit_3*BO62","v":1750},null,null,null,"MAX",null,null,null,null,null,null,null,null,null,null,null,null,null,null,null,null,null,null,null,null,{"$f":"ROUND(AY17/CLV_Limit_3,2)","v":0.23},null,null,null,"V/C",{"$f":"CLV_Limit_3*BO62","v":1750},null,null,null,"MAX"]
[]
[]
[null,null,null,null,null,null,null,null,null,null,null,null,null,null,null,null,null,null,null,null,null,null,null,null,null,"3 Phases",null,null,null,null,null,null,null,null,null,null,null,null,null,null,null,null,null,null,null,null,null,null,null,null,null,null,null,null,null,"3 Phases"]
[]
[]
[]
[]
[]
[]
[]
[]
[]
[]
[]
[]
[]
[]
[]
[]
[]
[]
[]
[]
[]
[]
[]
[]
[]
[]
[]
[]
[]
[]
[]
[null,null,null,null,null,null,null,null,null,null,null,null,null,null,null,null,null,null,null,null,null,null,null,"Note: This diagram does not reflect the actual lane configuration of the Intersection"]
[]
[null,"Traditional Diamond (N-S)"]
[]
[null,"Data Input and Configuration"]
[]
[]
[null,null,null,null,null,null,null,null,null,null,null,null,null,null,null,null,null,null,null,null,null,null,null,null,null,null,null,null,null,null,null,null,null,null,null,null,null,null,null,null,null,null,null,null,null,null,null,null,null,null,null,null,"Multimodal Capacity Adjustment Factor",null,null,null,null,null,null,null,null,null,null,null,null,null,{"$f":"IF(Multimodal=1,1,IF(MAX(AG68,AM104)<3,1,IF(MAX(AG68,AM104)<4,0.9,0.8)))","v":1}]
[]
[]
[]
[null,null,null,null,null,null,null,null,null,null,null,null,null,null,null,null,null,null,null,null,null,null,null,null,null,null,null,null,null,"pepch",null,null,"pepch",null,null,"pepch",null,null,null,null,null,null,null,null,{"$f":"'3 - Alt Num Lanes Input'!BE111","v":1},{"$f":"WBR_Master","v":51},"pepch"]
[null,null,null,null,null,null,null,null,null,null,null,null,null,null,null,null,null,null,null,null,null,null,null,null,null,null,null,null,null,{"$f":"SBR_Master","v":51},null,null,{"$f":"SBT_Master","v":204},null,null,{"$f":"SBL_Master","v":31}]
[null,null,null,null,null,null,null,null,null,null,null,null,null,null,null,null,null,null,null,null,null,null,null,null,null,null,null,null,null,{"$f":"'3 - Alt Num Lanes Input'!AO111","v":1},null,null,{"$f":"'3 - Alt Num Lanes Input'!AM111","v":2}]
[null,null,null,null,null,null,null,null,null,null,null,null,null,null,null,null,null,null,null,null,null,null,null,null,null,null,null,null,null,null,null,null,null,null,null,null,null,null,null,null,null,null,null,null,{"$f":"'3 - Alt Num Lanes Input'!BC111","v":2},{"$f":"WBT_Master","v":204},"pepch"]
[]
[]
[null,null,null,null,null,null,null,null,null,null,null,null,null,null,null,null,null,null,null,null,null,null,null,null,null,null,null,null,null,null,null,null,null,null,null,null,null,null,null,null,null,null,null,null,{"$f":"'3 - Alt Num Lanes Input'!BA111","v":1},{"$f":"WBL_Master","v":31},"pepch"]
[]
[]
[null,null,null,null,null,null,null,null,null,null,null,null,null,null,null,null,null,null,null,null,null,null,null,null,null,null,null,null,null,null,null,null,null,null,{"$f":"MAX((AJ67/LTAF+AG67)/AG68/RTAF, AP82/AP81)+(AT72/LTAF/AS72)+IF(AS69=0,MAX((AT72/LTAF+AT69)/AS72,AT66/LTAF/AS66),MAX(AT72/LTAF/AS72,AT69/LTAF/AS69,AT66/LTAF/AS66))","v":410.5}]
[]
[]
[]
[]
[]
[null,null,null,null,null,null,null,null,null,null,null,null,null,null,null,null,null,null,null,null,null,null,null,null,null,null,null,null,null,null,null,null,null,null,null,null,null,null,{"$f":"'3 - Alt Num Lanes Input'!AC111","v":1},null,null,{"$f":"'3 - Alt Num Lanes Input'!AE111","v":2},null,null,null,null,null,{"$f":"IF((AE101+AT69)>0,\"Through volume entered on Input Worksheet is routed through ramp terminal intersections (assumed to be frontage road volume)\")","v":"Through volume entered on Input Worksheet is routed through ramp terminal intersections (assumed to be frontage road volume)"}]
[null,null,null,null,null,null,null,null,null,null,null,null,null,null,null,null,null,null,null,null,null,null,null,null,null,null,null,null,null,null,null,null,null,null,null,null,null,null,{"$f":"AM105","v":102},null,null,{"$f":"AE98+AP105","v":541}]
[null,null,null,null,null,null,null,null,null,null,null,null,null,null,null,null,null,null,null,null,null,null,null,null,null,null,null,null,null,null,null,null,null,null,null,null,null,null,"pepch",null,null,"pepch"]
[]
[]
[]
[]
[]
[null,null,null,null,null,null,null,null,null,null,null,null,null,null,null,null,null,null,null,null,null,null,null,null,null,null,null,null,null,null,null,null,"pepch",null,null,"pepch"]
[null,null,null,null,null,null,null,null,null,null,null,null,null,null,null,null,null,null,null,null,null,null,null,null,null,null,null,null,null,null,null,null,{"$f":"AG67+AT72","v":235},null,null,{"$f":"AJ67","v":31}]
[null,null,null,null,null,null,null,null,null,null,null,null,null,null,null,null,null,null,null,null,null,null,null,null,null,null,null,null,null,null,null,null,{"$f":"'3 - Alt Num Lanes Input'!AM111","v":2},null,null,{"$f":"'3 - Alt Num Lanes Input'!AK111","v":1}]
[]
[]
[]
[]
[]
[]
[null,null,null,null,null,null,null,null,null,null,null,null,null,null,null,null,null,null,null,null,null,null,null,null,null,null,null,null,null,"pepch",{"$f":"EBL_Master","v":31},{"$f":"'3 - Alt Num Lanes Input'!AS111","v":1},null,null,{"$f":"MAX((AP105+AM105)/AM104, AG90/AG91)+(AJ90/LTAF/AJ91)+IF(AF101=0,MAX((AE98+AE101)/LTAF/AF98,AE104/LTAF/AF104),MAX(AE98/LTAF/AF98,AE101/LTAF/AF101,AE104/LTAF/AF104))","v":446}]
[]
[]
[null,null,null,null,null,null,null,null,null,null,null,null,null,null,null,null,null,null,null,null,null,null,null,null,null,null,null,null,null,"pepch",{"$f":"EBT_Master","v":204},{"$f":"'3 - Alt Num Lanes Input'!AU111","v":2}]
[]
[]
[null,null,null,null,null,null,null,null,null,null,null,null,null,null,null,null,null,null,null,null,null,null,null,null,null,null,null,null,null,"pepch",{"$f":"EBR_Master","v":51},{"$f":"'3 - Alt Num Lanes Input'!AW111","v":1},null,null,null,null,null,null,{"$f":"'3 - Alt Num Lanes Input'!AE111","v":2},null,null,null,null,null,{"$f":"'3 - Alt Num Lanes Input'!AG111","v":1}]
[null,null,null,null,null,null,null,null,null,null,null,null,null,null,null,null,null,null,null,null,null,null,null,null,null,null,null,null,null,null,null,null,null,null,null,null,null,null,{"$f":"NBL_Master","v":102},null,null,{"$f":"NBT_Master","v":510},null,null,{"$f":"NBR_Master","v":204}]
[null,null,null,null,null,null,null,null,null,null,null,null,null,null,null,null,null,null,null,null,null,null,null,null,null,null,null,null,null,null,null,null,null,null,null,null,null,null,"pepch",null,null,"pepch",null,null,"pepch"]

{"sheet":"TD E-W","index":54,"n_rows":74,"n_cols":115,"rows_kept":74,"cut":false,"hidden":false,"merged":[[38,49,38,53],[51,49,51,53],[45,44,47,52],[45,53,47,53],[48,44,50,47],[48,48,50,48],[48,49,50,52],[48,53,50,53],[32,44,34,52],[32,53,34,53],[35,44,37,47],[35,48,37,48],[35,49,37,52],[35,53,37,53],[42,111,45,113],[42,114,45,116],[20,71,23,73],[20,74,23,76],[24,71,24,73],[24,74,24,76],[25,71,25,73],[25,74,25,76],[26,71,26,73],[26,74,26,76],[39,111,39,113],[39,114,39,116],[40,111,40,113],[40,114,40,116],[41,111,41,113],[41,114,41,116],[42,108,45,110],[36,98,38,98],[39,70,41,73],[39,74,41,74],[39,75,41,75],[39,76,41,76],[39,108,39,110],[40,108,40,110],[41,108,41,110],[36,97,38,97],[36,96,38,96],[33,101,35,108],[33,92,35,95],[36,70,38,73],[36,74,38,74],[36,75,38,75],[36,92,38,95],[33,70,35,73],[33,74,35,74],[33,75,35,75],[33,76,38,76],[33,79,35,86],[33,96,35,96],[33,97,35,97],[33,98,35,98],[30,79,32,86],[30,89,32,89],[30,90,32,90],[30,91,32,91],[30,101,32,108],[30,112,32,112],[30,113,32,113],[30,114,32,117],[27,89,29,89],[27,90,29,90],[27,91,29,91],[27,92,29,95],[27,111,32,111],[27,112,29,112],[20,77,23,79],[24,77,24,79],[24,111,26,111],[24,112,26,112],[24,113,26,113],[6,79,7,80],[27,113,29,113],[27,114,29,117],[6,65,8,78],[9,36,12,47],[9,48,12,59],[24,114,26,117],[25,77,25,79],[26,77,26,79],[73,13,73,48],[0,1,1,60],[2,1,3,60],[5,2,6,9],[5,10,6,35],[5,36,6,59],[7,2,8,9],[7,10,8,35],[9,2,10,9],[9,10,10,35],[11,2,12,9],[11,10,12,35],[7,36,8,41],[7,42,8,47],[7,48,8,53],[7,54,8,59],[14,88,25,99],[0,63,1,122],[2,63,3,122]]}
[null,"Traditional Diamond (E-W)",null,null,null,null,null,null,null,null,null,null,null,null,null,null,null,null,null,null,null,null,null,null,null,null,null,null,null,null,null,null,null,null,null,null,null,null,null,null,null,null,null,null,null,null,null,null,null,null,null,null,null,null,null,null,null,null,null,null,null,null,null,"Traditional Diamond (E-W)"]
[]
[null,"Design and Results",null,null,null,null,null,null,null,null,null,null,null,null,null,null,null,null,null,null,null,null,null,null,null,null,null,null,null,null,null,null,null,null,null,null,null,null,null,null,null,null,null,null,null,null,null,null,null,null,null,null,null,null,null,null,null,null,null,null,null,null,null,"Data Input and Configuration"]
[]
[]
[null,null,"Project Name:",null,null,null,null,null,null,null,{"$f":"P_Name","v":"Cap-X Sample Street"},null,null,null,null,null,null,null,null,null,null,null,null,null,null,null,null,null,null,null,null,null,null,null,null,null,"Volume-to-Capacity Ratio"]
[null,null,null,null,null,null,null,null,null,null,null,null,null,null,null,null,null,null,null,null,null,null,null,null,null,null,null,null,null,null,null,null,null,null,null,null,null,null,null,null,null,null,null,null,null,null,null,null,null,null,null,null,null,null,null,null,null,null,null,null,null,null,null,null,null,"Multimodal Capacity Adjustment Factor",null,null,null,null,null,null,null,null,null,null,null,null,null,{"$f":"IF(Multimodal=1,1,IF(MAX(BY34,DH28)<3,1,IF(MAX(BY34,DH28)<4,0.9,0.8)))","v":1}]
[null,null,"Project Number:",null,null,null,null,null,null,null,{"$f":"P_Number","v":10000},null,null,null,null,null,null,null,null,null,null,null,null,null,null,null,null,null,null,null,null,null,null,null,null,null,"< 0.750",null,null,null,null,null,"0.750 - 0.875",null,null,null,null,null,"0.875 - 1.00",null,null,null,null,null,"≥ 1.00"]
[]
[null,null,"Location",null,null,null,null,null,null,null,{"$f":"Location","v":"Anywhere, USA"},null,null,null,null,null,null,null,null,null,null,null,null,null,null,null,null,null,null,null,null,null,null,null,null,null,"VOLUME / CAPACITY RATIO:",null,null,null,null,null,null,null,null,null,null,null,{"$f":"MAX(AS36,AS49)","v":0.28000000000000003}]
[]
[null,null,"Date",null,null,null,null,null,null,null,{"$f":"Date","v":"2017 AM"}]
[]
[]
[null,null,null,null,null,null,null,null,null,null,null,null,null,null,null,null,null,null,null,null,null,null,null,null,null,null,null,null,null,null,null,null,null,null,null,null,null,null,null,null,null,null,null,null,null,null,null,null,null,null,null,null,null,null,null,null,null,null,null,null,null,null,null,null,null,null,null,null,null,null,null,null,null,null,null,null,null,null,null,null,null,null,null,null,null,null,null,null,{"$f":"IF((BW26+DH41)>0,\"Through volume entered on Input Worksheet is routed through ramp terminal intersections (assumed to be frontage road volume)\")","v":"Through volume entered on Input Worksheet is routed through ramp terminal intersections (assumed to be frontage road volume)"}]
[]
[]
[]
[]
[]
[]
[]
[]
[]
[null,null,null,null,null,null,null,null,null,null,null,null,null,null,null,null,null,null,null,null,null,null,null,null,null,null,null,null,null,null,null,null,null,null,null,null,null,null,null,null,null,null,null,null,null,null,null,null,null,null,null,null,null,null,null,null,null,null,null,null,null,null,null,null,null,null,null,null,null,null,null,"pepch",null,null,"pepch",null,null,"pepch",null,null,null,null,null,null,null,null,null,null,null,null,null,null,null,null,null,null,null,null,null,null,null,null,null,null,null,null,null,null,null,null,null,{"$f":"'3 - Alt Num Lanes Input'!BE113","v":1},{"$f":"WBR_Master","v":51},"pepch"]
[null,null,null,null,null,null,null,null,null,null,null,null,null,null,null,null,null,null,null,null,null,null,null,null,null,null,null,null,null,null,null,null,null,null,null,null,null,null,null,null,null,null,null,null,null,null,null,null,null,null,null,null,null,null,null,null,null,null,null,null,null,null,null,null,null,null,null,null,null,null,null,{"$f":"SBR_Master","v":51},null,null,{"$f":"SBT_Master","v":204},null,null,{"$f":"SBL_Master","v":31}]
[null,null,null,null,null,null,null,null,null,null,null,null,null,null,null,null,null,null,null,null,null,null,null,null,null,null,null,null,null,null,null,null,null,null,null,null,null,null,null,null,null,null,null,null,null,null,null,null,null,null,null,null,null,null,null,null,null,null,null,null,null,null,null,null,null,null,null,null,null,null,null,{"$f":"'3 - Alt Num Lanes Input'!AO113","v":1},null,null,{"$f":"'3 - Alt Num Lanes Input'!AM113","v":2},null,null,{"$f":"'3 - Alt Num Lanes Input'!AK113","v":1}]
[null,null,null,null,null,null,null,null,null,null,null,null,null,null,null,null,null,null,null,null,null,null,null,null,null,null,null,null,null,null,null,null,null,null,null,null,null,null,null,null,null,null,null,null,null,null,null,null,null,null,null,null,null,null,null,null,null,null,null,null,null,null,null,null,null,null,null,null,null,null,null,null,null,null,null,null,null,null,null,null,null,null,null,null,null,null,null,null,null,{"$f":"'3 - Alt Num Lanes Input'!BC113","v":2},{"$f":"DI28+DE41","v":306},"pepch",null,null,null,null,null,null,null,null,null,null,null,null,null,null,null,null,null,null,null,{"$f":"'3 - Alt Num Lanes Input'!BC113","v":2},{"$f":"WBT_Master","v":204},"pepch"]
[]
[]
[null,null,null,null,null,null,null,null,null,null,null,null,null,null,null,null,null,null,null,null,null,null,null,null,null,null,null,null,null,null,null,null,null,null,null,null,null,null,null,null,null,null,null,null,null,null,null,null,null,null,null,null,null,null,null,null,null,null,null,null,null,null,null,null,null,null,null,null,null,null,null,null,null,null,null,null,null,null,null,null,null,null,null,null,null,null,null,null,null,{"$f":"'3 - Alt Num Lanes Input'!BA113","v":1},{"$f":"DI31","v":31},"pepch",null,null,null,null,null,null,null,null,null,null,null,null,null,null,null,null,null,null,null,null,{"$f":"WBL_Master","v":31},"pepch"]
[]
[null,null,null,null,null,null,null,null,null,null,null,null,null,null,null,null,null,null,null,null,null,null,null,null,null,null,null,null,null,null,null,null,null,null,null,null,null,null,null,null,null,null,null,null,{"$f":"CX34","v":493.28947368421052},null,null,null,null,null,null,null,null,"CLV"]
[null,null,null,null,null,null,null,null,null,null,null,null,null,null,null,null,null,null,null,null,null,null,null,null,null,null,null,null,null,null,null,null,null,null,null,null,null,null,null,null,null,null,null,null,null,null,null,null,null,null,null,null,null,null,null,null,null,null,null,null,null,null,null,null,null,null,null,null,null,null,null,null,null,null,"pepch",{"$f":"EBL_Master","v":31},{"$f":"'3 - Alt Num Lanes Input'!AU113","v":2},null,null,{"$f":"MAX((BX37+BX34)/BY34, CM28/CL28)+(CM31/LTAF/CL31)+IF(BW27=0,MAX((BZ26+BW26)/LTAF/BZ27,BT26/LTAF/BT27),MAX(BZ26/LTAF/BZ27,BW26/LTAF/BW27,BT26/LTAF/BT27))","v":293},null,null,null,null,null,null,null,null,null,null,null,null,null,null,null,null,"pepch",{"$f":"BX34","v":31},{"$f":"'3 - Alt Num Lanes Input'!AS113","v":1},null,null,{"$f":"MAX((DI28+DI31)/DH28, CT37/CU37)+(DE41/LTAF/DE40)+IF(DH40=0,MAX((DE41+DH41)/LTAF/DE40,DK41/LTAF/DK40),MAX(DE41/LTAF/DE40,DH41/LTAF/DH40,DK41/LTAF/DK40))","v":493.28947368421052}]
[]
[null,null,null,null,null,null,null,null,null,null,null,null,null,null,null,null,null,null,null,null,null,null,null,null,null,null,null,null,null,null,null,null,null,null,null,null,null,null,null,null,null,null,null,null,{"$f":"ROUND(AS33/CLV_Limit_3,2)","v":0.28000000000000003},null,null,null,"V/C",{"$f":"CLV_Limit_3*CB7","v":1750},null,null,null,"MAX"]
[null,null,null,null,null,null,null,null,null,null,null,null,null,null,null,null,null,null,null,null,null,null,null,null,null,null,null,null,null,null,null,null,null,null,null,null,null,null,null,null,null,null,null,null,null,null,null,null,null,null,null,null,null,null,null,null,null,null,null,null,null,null,null,null,null,null,null,null,null,null,null,null,null,null,"pepch",{"$f":"EBT_Master","v":204},null,null,null,null,null,null,null,null,null,null,null,null,null,null,null,null,null,null,null,null,"pepch",{"$f":"BX37+BZ26","v":235},{"$f":"'3 - Alt Num Lanes Input'!AU113","v":2}]
[]
[null,null,null,null,null,null,null,null,null,null,null,null,null,null,null,null,null,null,null,null,null,null,null,null,null,null,null,null,null,null,null,null,null,null,null,null,null,null,null,null,null,null,null,null,null,null,null,null,null,"3 Phases"]
[null,null,null,null,null,null,null,null,null,null,null,null,null,null,null,null,null,null,null,null,null,null,null,null,null,null,null,null,null,null,null,null,null,null,null,null,null,null,null,null,null,null,null,null,null,null,null,null,null,null,null,null,null,null,null,null,null,null,null,null,null,null,null,null,null,null,null,null,null,null,null,null,null,null,"pepch",{"$f":"EBR_Master","v":51},{"$f":"'3 - Alt Num Lanes Input'!AW113","v":1},null,null,null,null,null,null,null,null,null,null,null,null,null,null,null,null,null,null,null,null,null,null,null,null,null,null,null,null,null,null,null,{"$f":"'3 - Alt Num Lanes Input'!AC113","v":1},null,null,{"$f":"'3 - Alt Num Lanes Input'!AE113","v":2},null,null,{"$f":"'3 - Alt Num Lanes Input'!AG113","v":1}]
[null,null,null,null,null,null,null,null,null,null,null,null,null,null,null,null,null,null,null,null,null,null,null,null,null,null,null,null,null,null,null,null,null,null,null,null,null,null,null,null,null,null,null,null,null,null,null,null,null,null,null,null,null,null,null,null,null,null,null,null,null,null,null,null,null,null,null,null,null,null,null,null,null,null,null,null,null,null,null,null,null,null,null,null,null,null,null,null,null,null,null,null,null,null,null,null,null,null,null,null,null,null,null,null,null,null,null,null,{"$f":"NBL_Master","v":102},null,null,{"$f":"NBT_Master","v":510},null,null,{"$f":"NBR_Master","v":204}]
[null,null,null,null,null,null,null,null,null,null,null,null,null,null,null,null,null,null,null,null,null,null,null,null,null,null,null,null,null,null,null,null,null,null,null,null,null,null,null,null,null,null,null,null,null,null,null,null,null,null,null,null,null,null,null,null,null,null,null,null,null,null,null,null,null,null,null,null,null,null,null,null,null,null,null,null,null,null,null,null,null,null,null,null,null,null,null,null,null,null,null,null,null,null,null,null,null,null,null,null,null,null,null,null,null,null,null,null,"pepch",null,null,"pepch",null,null,"pepch"]
[]
[]
[]
[null,null,null,null,null,null,null,null,null,null,null,null,null,null,null,null,null,null,null,null,null,null,null,null,null,null,null,null,null,null,null,null,null,null,null,null,null,null,null,null,null,null,null,null,{"$f":"CB34","v":293},null,null,null,null,null,null,null,null,"CLV"]
[]
[]
[null,null,null,null,null,null,null,null,null,null,null,null,null,null,null,null,null,null,null,null,null,null,null,null,null,null,null,null,null,null,null,null,null,null,null,null,null,null,null,null,null,null,null,null,{"$f":"ROUND(AS46/CLV_Limit_3,2)","v":0.17},null,null,null,"V/C",{"$f":"CLV_Limit_3*CB7","v":1750},null,null,null,"MAX"]
[]
[]
[null,null,null,null,null,null,null,null,null,null,null,null,null,null,null,null,null,null,null,null,null,null,null,null,null,null,null,null,null,null,null,null,null,null,null,null,null,null,null,null,null,null,null,null,null,null,null,null,null,"3 Phases"]
[]
[]
[]
[]
[]
[]
[]
[]
[]
[]
[]
[]
[]
[]
[]
[]
[]
[]
[]
[]
[]
[null,null,null,null,null,null,null,null,null,null,null,null,null,"Note: This diagram does not reflect the actual lane configuration of the Intersection"]

{"sheet":"PCLA N-S","index":55,"n_rows":74,"n_cols":103,"rows_kept":74,"cut":false,"hidden":false,"merged":[[28,9,28,13],[64,48,66,56],[64,57,66,57],[67,48,69,51],[67,52,69,52],[67,53,69,56],[67,57,69,57],[24,102,26,102],[49,90,51,97],[55,94,55,99],[55,100,55,102],[32,88,32,90],[23,90,25,97],[26,90,28,97],[46,90,48,97],[21,101,23,101],[21,102,23,102],[21,100,23,100],[42,97,42,99],[47,85,49,85],[73,14,73,47],[24,100,26,100],[24,101,26,101],[70,53,70,57],[58,94,61,96],[58,97,61,99],[58,100,61,102],[56,94,56,96],[56,97,56,99],[56,100,56,102],[57,94,57,96],[57,97,57,99],[57,100,57,102],[41,88,41,90],[42,88,42,90],[18,85,18,87],[18,88,18,90],[18,91,18,93],[19,85,19,87],[19,88,19,93],[22,4,24,12],[22,13,24,13],[25,4,27,7],[25,8,27,8],[25,9,27,12],[25,13,27,13],[13,85,16,87],[13,88,16,90],[13,91,16,93],[17,85,17,87],[17,88,17,90],[17,91,17,93],[9,2,10,9],[9,10,10,35],[9,36,12,47],[9,48,12,59],[11,2,12,9],[11,10,12,35],[7,54,8,59],[0,1,1,60],[0,63,1,122],[2,1,3,60],[2,63,3,122],[5,2,6,9],[5,10,6,35],[5,36,6,59],[7,2,8,9],[7,10,8,35],[7,36,8,41],[7,42,8,47],[7,48,8,53],[21,103,23,106],[50,81,52,84],[50,85,52,85],[50,86,52,86],[50,87,52,87],[32,97,32,99],[33,97,33,99],[34,97,34,99],[35,97,38,99],[24,103,26,106],[47,86,49,86],[47,87,49,87],[47,81,49,84],[41,97,41,99],[36,88,39,90],[40,88,40,90]]}
[null,"Partial Cloverleaf A (N-S)",null,null,null,null,null,null,null,null,null,null,null,null,null,null,null,null,null,null,null,null,null,null,null,null,null,null,null,null,null,null,null,null,null,null,null,null,null,null,null,null,null,null,null,null,null,null,null,null,null,null,null,null,null,null,null,null,null,null,null,null,null,"Partial Cloverleaf A (N-S)"]
[]
[null,"Design and Results",null,null,null,null,null,null,null,null,null,null,null,null,null,null,null,null,null,null,null,null,null,null,null,null,null,null,null,null,null,null,null,null,null,null,null,null,null,null,null,null,null,null,null,null,null,null,null,null,null,null,null,null,null,null,null,null,null,null,null,null,null,"Data Input and Configuration"]
[]
[]
[null,null,"Project Name:",null,null,null,null,null,null,null,{"$f":"P_Name","v":"Cap-X Sample Street"},null,null,null,null,null,null,null,null,null,null,null,null,null,null,null,null,null,null,null,null,null,null,null,null,null,"Volume-to-Capacity Ratio"]
[]
[null,null,"Project Number:",null,null,null,null,null,null,null,{"$f":"P_Number","v":10000},null,null,null,null,null,null,null,null,null,null,null,null,null,null,null,null,null,null,null,null,null,null,null,null,null,"< 0.750",null,null,null,null,null,"0.750 - 0.875",null,null,null,null,null,"0.875 - 1.00",null,null,null,null,null,"≥ 1.00"]
[]
[null,null,"Location",null,null,null,null,null,null,null,{"$f":"Location","v":"Anywhere, USA"},null,null,null,null,null,null,null,null,null,null,null,null,null,null,null,null,null,null,null,null,null,null,null,null,null,"VOLUME / CAPACITY RATIO:",null,null,null,null,null,null,null,null,null,null,null,{"$f":"MAX(E26,AW68)","v":0.19}]
[]
[null,null,"Date",null,null,null,null,null,null,null,{"$f":"Date","v":"2017 AM"}]
[]
[]
[]
[]
[]
[null,null,null,null,null,null,null,null,null,null,null,null,null,null,null,null,null,null,null,null,null,null,null,null,null,null,null,null,null,null,null,null,null,null,null,null,null,null,null,null,null,null,null,null,null,null,null,null,null,null,null,null,null,null,null,null,null,null,null,null,null,null,null,null,null,null,null,null,null,null,null,null,null,null,null,null,null,null,null,null,null,null,null,null,null,null,null,null,"pepch",null,null,"pepch"]
[null,null,null,null,null,null,null,null,null,null,null,null,null,null,null,null,null,null,null,null,null,null,null,null,null,null,null,null,null,null,null,null,null,null,null,null,null,null,null,null,null,null,null,null,null,null,null,null,null,null,null,null,null,null,null,null,null,null,null,null,null,null,null,null,null,null,null,null,null,null,null,null,null,null,null,null,null,null,null,null,null,null,null,null,null,null,null,null,{"$f":"SBT_Master","v":204},null,null,{"$f":"SBL_Master","v":31}]
[null,null,null,null,null,null,null,null,null,null,null,null,null,null,null,null,null,null,null,null,null,null,null,null,null,null,null,null,null,null,null,null,null,null,null,null,null,null,null,null,null,null,null,null,null,null,null,null,null,null,null,null,null,null,null,null,null,null,null,null,null,null,null,null,null,null,null,null,null,null,null,null,null,null,null,null,null,null,null,null,null,null,null,null,null,null,null,null,{"$f":"'3 - Alt Num Lanes Input'!AM115","v":2}]
[]
[null,null,null,null,null,null,null,null,null,null,null,null,null,null,null,null,null,null,null,null,null,null,null,null,null,null,null,null,null,null,null,null,null,null,null,null,null,null,null,null,null,null,null,null,null,null,null,null,null,null,null,null,null,null,null,null,null,null,null,null,null,null,null,null,null,null,null,null,null,null,null,null,null,null,null,null,null,null,null,null,null,null,null,null,null,null,null,null,null,null,null,null,null,null,null,null,null,null,null,null,{"$f":"'3 - Alt Num Lanes Input'!BE115","v":1},{"$f":"WBL_Master","v":31},"pepch"]
[null,null,null,null,{"$f":"CM27","v":150.13157894736844},null,null,null,null,null,null,null,null,"CLV"]
[]
[null,null,null,null,null,null,null,null,null,null,null,null,null,null,null,null,null,null,null,null,null,null,null,null,null,null,null,null,null,null,null,null,null,null,null,null,null,null,null,null,null,null,null,null,null,null,null,null,null,null,null,null,null,null,null,null,null,null,null,null,null,null,null,null,null,null,null,null,null,null,null,null,null,null,null,null,null,null,null,null,null,null,null,null,null,null,null,null,null,null,null,null,null,null,null,null,null,null,null,null,{"$f":"'3 - Alt Num Lanes Input'!BA115","v":1},{"$f":"WBL_Master","v":31},"pepch"]
[null,null,null,null,{"$f":"ROUND(E23/CLV_Limit_2,2)","v":0.08},null,null,null,"V/C",{"$f":"CLV_Limit_2","v":1800},null,null,null,"MAX"]
[null,null,null,null,null,null,null,null,null,null,null,null,null,null,null,null,null,null,null,null,null,null,null,null,null,null,null,null,null,null,null,null,null,null,null,null,null,null,null,null,null,null,null,null,null,null,null,null,null,null,null,null,null,null,null,null,null,null,null,null,null,null,null,null,null,null,null,null,null,null,null,null,null,null,null,null,null,null,null,null,null,null,null,null,null,null,null,null,null,null,{"$f":"SUM(CK19:CP19)/CK20+CX25/LTAF/CW25","v":150.13157894736844}]
[]
[null,null,null,null,null,null,null,null,null,"2 Phases"]
[]
[]
[]
[null,null,null,null,null,null,null,null,null,null,null,null,null,null,null,null,null,null,null,null,null,null,null,null,null,null,null,null,null,null,null,null,null,null,null,null,null,null,null,null,null,null,null,null,null,null,null,null,null,null,null,null,null,null,null,null,null,null,null,null,null,null,null,null,null,null,null,null,null,null,null,null,null,null,null,null,null,null,null,null,null,null,null,null,null,null,null,null,null,null,null,null,null,null,null,null,null,{"$f":"'3 - Alt Num Lanes Input'!AE115","v":2}]
[null,null,null,null,null,null,null,null,null,null,null,null,null,null,null,null,null,null,null,null,null,null,null,null,null,null,null,null,null,null,null,null,null,null,null,null,null,null,null,null,null,null,null,null,null,null,null,null,null,null,null,null,null,null,null,null,null,null,null,null,null,null,null,null,null,null,null,null,null,null,null,null,null,null,null,null,null,null,null,null,null,null,null,null,null,null,null,null,null,null,null,null,null,null,null,null,null,{"$f":"CI48+CT57","v":541}]
[null,null,null,null,null,null,null,null,null,null,null,null,null,null,null,null,null,null,null,null,null,null,null,null,null,null,null,null,null,null,null,null,null,null,null,null,null,null,null,null,null,null,null,null,null,null,null,null,null,null,null,null,null,null,null,null,null,null,null,null,null,null,null,null,null,null,null,null,null,null,null,null,null,null,null,null,null,null,null,null,null,null,null,null,null,null,null,null,null,null,null,null,null,null,null,null,null,"pepch"]
[]
[]
[]
[]
[]
[null,null,null,null,null,null,null,null,null,null,null,null,null,null,null,null,null,null,null,null,null,null,null,null,null,null,null,null,null,null,null,null,null,null,null,null,null,null,null,null,null,null,null,null,null,null,null,null,null,null,null,null,null,null,null,null,null,null,null,null,null,null,null,null,null,null,null,null,null,null,null,null,null,null,null,null,null,null,null,null,null,null,null,null,null,null,null,null,"pepch"]
[null,null,null,null,null,null,null,null,null,null,null,null,null,null,null,null,null,null,null,null,null,null,null,null,null,null,null,null,null,null,null,null,null,null,null,null,null,null,null,null,null,null,null,null,null,null,null,null,null,null,null,null,null,null,null,null,null,null,null,null,null,null,null,null,null,null,null,null,null,null,null,null,null,null,null,null,null,null,null,null,null,null,null,null,null,null,null,null,{"$f":"CX25+CK19","v":235}]
[null,null,null,null,null,null,null,null,null,null,null,null,null,null,null,null,null,null,null,null,null,null,null,null,null,null,null,null,null,null,null,null,null,null,null,null,null,null,null,null,null,null,null,null,null,null,null,null,null,null,null,null,null,null,null,null,null,null,null,null,null,null,null,null,null,null,null,null,null,null,null,null,null,null,null,null,null,null,null,null,null,null,null,null,null,null,null,null,{"$f":"'3 - Alt Num Lanes Input'!AM115","v":2}]
[]
[]
[]
[]
[null,null,null,null,null,null,null,null,null,null,null,null,null,null,null,null,null,null,null,null,null,null,null,null,null,null,null,null,null,null,null,null,null,null,null,null,null,null,null,null,null,null,null,null,null,null,null,null,null,null,null,null,null,null,null,null,null,null,null,null,null,null,null,null,null,null,null,null,null,null,null,null,null,null,null,null,null,null,null,null,null,null,null,null,null,"pepch",{"$f":"EBL_Master","v":31},{"$f":"'3 - Alt Num Lanes Input'!AS115","v":1}]
[]
[null,null,null,null,null,null,null,null,null,null,null,null,null,null,null,null,null,null,null,null,null,null,null,null,null,null,null,null,null,null,null,null,null,null,null,null,null,null,null,null,null,null,null,null,null,null,null,null,null,null,null,null,null,null,null,null,null,null,null,null,null,null,null,null,null,null,null,null,null,null,null,null,null,null,null,null,null,null,null,null,null,null,null,null,null,null,null,null,null,null,{"$f":"SUM(CQ57:CV57)/CQ56+CI48/LTAF/CJ48","v":338.63157894736844}]
[null,null,null,null,null,null,null,null,null,null,null,null,null,null,null,null,null,null,null,null,null,null,null,null,null,null,null,null,null,null,null,null,null,null,null,null,null,null,null,null,null,null,null,null,null,null,null,null,null,null,null,null,null,null,null,null,null,null,null,null,null,null,null,null,null,null,null,null,null,null,null,null,null,null,null,null,null,null,null,null,null,null,null,null,null,"pepch",{"$f":"EBL_Master","v":31},{"$f":"'3 - Alt Num Lanes Input'!AW115","v":1}]
[]
[]
[]
[]
[null,null,null,null,null,null,null,null,null,null,null,null,null,null,null,null,null,null,null,null,null,null,null,null,null,null,null,null,null,null,null,null,null,null,null,null,null,null,null,null,null,null,null,null,null,null,null,null,null,null,null,null,null,null,null,null,null,null,null,null,null,null,null,null,null,null,null,null,null,null,null,null,null,null,null,null,null,null,null,null,null,null,null,null,null,null,null,null,null,null,null,null,null,null,{"$f":"'3 - Alt Num Lanes Input'!AE115","v":2}]
[null,null,null,null,null,null,null,null,null,null,null,null,null,null,null,null,null,null,null,null,null,null,null,null,null,null,null,null,null,null,null,null,null,null,null,null,null,null,null,null,null,null,null,null,null,null,null,null,null,null,null,null,null,null,null,null,null,null,null,null,null,null,null,null,null,null,null,null,null,null,null,null,null,null,null,null,null,null,null,null,null,null,null,null,null,null,null,null,null,null,null,null,null,null,{"$f":"NBL_Master","v":102},null,null,{"$f":"NBT_Master","v":510}]
[null,null,null,null,null,null,null,null,null,null,null,null,null,null,null,null,null,null,null,null,null,null,null,null,null,null,null,null,null,null,null,null,null,null,null,null,null,null,null,null,null,null,null,null,null,null,null,null,null,null,null,null,null,null,null,null,null,null,null,null,null,null,null,null,null,null,null,null,null,null,null,null,null,null,null,null,null,null,null,null,null,null,null,null,null,null,null,null,null,null,null,null,null,null,"pepch",null,null,"pepch"]
[]
[]
[]
[]
[]
[]
[null,null,null,null,null,null,null,null,null,null,null,null,null,null,null,null,null,null,null,null,null,null,null,null,null,null,null,null,null,null,null,null,null,null,null,null,null,null,null,null,null,null,null,null,null,null,null,null,{"$f":"CM50","v":338.63157894736844},null,null,null,null,null,null,null,null,"CLV"]
[]
[]
[null,null,null,null,null,null,null,null,null,null,null,null,null,null,null,null,null,null,null,null,null,null,null,null,null,null,null,null,null,null,null,null,null,null,null,null,null,null,null,null,null,null,null,null,null,null,null,null,{"$f":"ROUND(AW65/CLV_Limit_2,2)","v":0.19},null,null,null,"V/C",{"$f":"CLV_Limit_2","v":1800},null,null,null,"MAX"]
[]
[]
[null,null,null,null,null,null,null,null,null,null,null,null,null,null,null,null,null,null,null,null,null,null,null,null,null,null,null,null,null,null,null,null,null,null,null,null,null,null,null,null,null,null,null,null,null,null,null,null,null,null,null,null,null,"2 Phases"]
[]
[]
[null,null,null,null,null,null,null,null,null,null,null,null,null,null,"Note: This diagram does not reflect the actual lane configuration of the Intersection"]

{"sheet":"PCLA E-W","index":56,"n_rows":74,"n_cols":115,"rows_kept":74,"cut":false,"hidden":false,"merged":[[34,73,39,73],[34,76,36,83],[37,67,39,70],[37,71,39,71],[37,72,39,72],[37,86,39,86],[37,87,39,87],[21,80,24,82],[25,80,25,82],[26,80,26,82],[27,80,27,82],[31,86,33,86],[31,87,33,87],[69,8,69,12],[24,53,24,57],[31,76,33,83],[63,3,65,11],[63,12,65,12],[66,3,68,6],[66,7,68,7],[66,8,68,11],[66,12,68,12],[21,77,24,79],[25,77,25,79],[26,77,26,79],[27,77,27,79],[34,67,36,70],[34,71,36,71],[34,72,36,72],[18,48,20,56],[18,57,20,57],[21,48,23,51],[21,52,23,52],[21,53,23,56],[21,57,23,57],[73,14,73,47],[40,104,40,106],[41,104,41,106],[42,104,42,106],[43,104,46,106],[40,67,42,70],[40,71,42,71],[40,72,42,72],[40,73,42,73],[25,115,27,118],[28,93,30,96],[28,97,30,97],[28,98,30,98],[28,99,30,99],[28,112,33,112],[28,113,30,113],[28,114,30,114],[28,115,30,118],[25,114,27,114],[31,113,33,113],[31,114,33,114],[31,115,33,118],[25,112,27,112],[25,113,27,113],[31,102,33,109],[9,2,10,9],[9,10,10,35],[9,36,12,47],[9,48,12,59],[11,2,12,9],[11,10,12,35],[7,54,8,59],[0,1,1,60],[0,63,1,122],[2,1,3,60],[2,63,3,122],[5,2,6,9],[5,10,6,35],[5,36,6,59],[7,2,8,9],[7,10,8,35],[7,36,8,41],[7,42,8,47],[7,48,8,53],[40,107,40,109],[41,107,41,109],[42,107,42,109],[43,107,46,109],[34,93,36,96],[34,97,36,97],[34,98,36,98],[34,99,36,99],[31,88,33,88],[31,89,33,92],[34,102,36,109],[37,88,39,88],[37,89,39,92]]}
[null,"Partial Cloverleaf A (E-W)",null,null,null,null,null,null,null,null,null,null,null,null,null,null,null,null,null,null,null,null,null,null,null,null,null,null,null,null,null,null,null,null,null,null,null,null,null,null,null,null,null,null,null,null,null,null,null,null,null,null,null,null,null,null,null,null,null,null,null,null,null,"Partial Cloverleaf A (E-W)"]
[]
[null,"Design and Results",null,null,null,null,null,null,null,null,null,null,null,null,null,null,null,null,null,null,null,null,null,null,null,null,null,null,null,null,null,null,null,null,null,null,null,null,null,null,null,null,null,null,null,null,null,null,null,null,null,null,null,null,null,null,null,null,null,null,null,null,null,"Data Input and Configuration"]
[]
[]
[null,null,"Project Name:",null,null,null,null,null,null,null,{"$f":"P_Name","v":"Cap-X Sample Street"},null,null,null,null,null,null,null,null,null,null,null,null,null,null,null,null,null,null,null,null,null,null,null,null,null,"Volume-to-Capacity Ratio"]
[]
[null,null,"Project Number:",null,null,null,null,null,null,null,{"$f":"P_Number","v":10000},null,null,null,null,null,null,null,null,null,null,null,null,null,null,null,null,null,null,null,null,null,null,null,null,null,"< 0.750",null,null,null,null,null,"0.750 - 0.875",null,null,null,null,null,"0.875 - 1.00",null,null,null,null,null,"≥ 1.00"]
[]
[null,null,"Location",null,null,null,null,null,null,null,{"$f":"Location","v":"Anywhere, USA"},null,null,null,null,null,null,null,null,null,null,null,null,null,null,null,null,null,null,null,null,null,null,null,null,null,"VOLUME / CAPACITY RATIO:",null,null,null,null,null,null,null,null,null,null,null,{"$f":"MAX(AW22,D67)","v":0.12}]
[]
[null,null,"Date",null,null,null,null,null,null,null,{"$f":"Date","v":"2017 AM"}]
[]
[]
[]
[]
[]
[]
[null,null,null,null,null,null,null,null,null,null,null,null,null,null,null,null,null,null,null,null,null,null,null,null,null,null,null,null,null,null,null,null,null,null,null,null,null,null,null,null,null,null,null,null,null,null,null,null,{"$f":"CY35","v":224.86842105263159},null,null,null,null,null,null,null,null,"CLV"]
[]
[]
[null,null,null,null,null,null,null,null,null,null,null,null,null,null,null,null,null,null,null,null,null,null,null,null,null,null,null,null,null,null,null,null,null,null,null,null,null,null,null,null,null,null,null,null,null,null,null,null,{"$f":"ROUND(AW19/CLV_Limit_2,2)","v":0.12},null,null,null,"V/C",{"$f":"CLV_Limit_2","v":1800},null,null,null,"MAX"]
[]
[]
[null,null,null,null,null,null,null,null,null,null,null,null,null,null,null,null,null,null,null,null,null,null,null,null,null,null,null,null,null,null,null,null,null,null,null,null,null,null,null,null,null,null,null,null,null,null,null,null,null,null,null,null,null,"2 Phases"]
[null,null,null,null,null,null,null,null,null,null,null,null,null,null,null,null,null,null,null,null,null,null,null,null,null,null,null,null,null,null,null,null,null,null,null,null,null,null,null,null,null,null,null,null,null,null,null,null,null,null,null,null,null,null,null,null,null,null,null,null,null,null,null,null,null,null,null,null,null,null,null,null,null,null,null,null,null,"pepch",null,null,"pepch"]
[null,null,null,null,null,null,null,null,null,null,null,null,null,null,null,null,null,null,null,null,null,null,null,null,null,null,null,null,null,null,null,null,null,null,null,null,null,null,null,null,null,null,null,null,null,null,null,null,null,null,null,null,null,null,null,null,null,null,null,null,null,null,null,null,null,null,null,null,null,null,null,null,null,null,null,null,null,{"$f":"SBR_Master","v":51},null,null,{"$f":"SBL_Master","v":31}]
[null,null,null,null,null,null,null,null,null,null,null,null,null,null,null,null,null,null,null,null,null,null,null,null,null,null,null,null,null,null,null,null,null,null,null,null,null,null,null,null,null,null,null,null,null,null,null,null,null,null,null,null,null,null,null,null,null,null,null,null,null,null,null,null,null,null,null,null,null,null,null,null,null,null,null,null,null,{"$f":"'3 - Alt Num Lanes Input'!AO117","v":1},null,null,{"$f":"'3 - Alt Num Lanes Input'!AK117","v":1}]
[null,null,null,null,null,null,null,null,null,null,null,null,null,null,null,null,null,null,null,null,null,null,null,null,null,null,null,null,null,null,null,null,null,null,null,null,null,null,null,null,null,null,null,null,null,null,null,null,null,null,null,null,null,null,null,null,null,null,null,null,null,null,null,null,null,null,null,null,null,null,null,null,null,null,null,null,null,null,null,null,null,null,null,null,null,null,null,null,null,null,null,null,null,null,null,null,null,null,null,null,null,null,null,null,null,null,null,null,null,null,null,null,{"$f":"'3 - Alt Num Lanes Input'!BC117","v":2},{"$f":"WBT_Master","v":204},"pepch"]
[]
[]
[null,null,null,null,null,null,null,null,null,null,null,null,null,null,null,null,null,null,null,null,null,null,null,null,null,null,null,null,null,null,null,null,null,null,null,null,null,null,null,null,null,null,null,null,null,null,null,null,null,null,null,null,null,null,null,null,null,null,null,null,null,null,null,null,null,null,null,null,null,null,null,null,null,null,null,null,null,null,null,null,null,null,null,null,null,null,{"$f":"'3 - Alt Num Lanes Input'!BC117","v":2},{"$f":"DJ29+DA42","v":306},"pepch",null,null,null,null,null,null,null,null,null,null,null,null,null,null,null,null,null,null,null,null,null,null,null,null,{"$f":"WBL_Master","v":31},"pepch"]
[]
[]
[null,null,null,null,null,null,null,null,null,null,null,null,null,null,null,null,null,null,null,null,null,null,null,null,null,null,null,null,null,null,null,null,null,null,null,null,null,null,null,null,null,null,null,null,null,null,null,null,null,null,null,null,null,null,null,null,null,null,null,null,null,null,null,null,null,null,null,null,null,null,null,"pepch",{"$f":"EBL_Master","v":31},{"$f":"'3 - Alt Num Lanes Input'!AU117","v":2},null,null,{"$f":"SUM(BU35:BU40)/BV35+CC27/LTAF/CC28","v":150.13157894736844},null,null,null,null,null,null,null,null,null,null,null,null,null,null,null,null,null,null,null,null,"pepch",{"$f":"CC27+BU38","v":235},{"$f":"'3 - Alt Num Lanes Input'!AU117","v":2},null,null,{"$f":"SUM(DJ29:DJ34)/DI29+DA42/LTAF/DA41","v":224.86842105263159}]
[]
[]
[null,null,null,null,null,null,null,null,null,null,null,null,null,null,null,null,null,null,null,null,null,null,null,null,null,null,null,null,null,null,null,null,null,null,null,null,null,null,null,null,null,null,null,null,null,null,null,null,null,null,null,null,null,null,null,null,null,null,null,null,null,null,null,null,null,null,null,null,null,null,null,"pepch",{"$f":"EBT_Master","v":204}]
[]
[]
[null,null,null,null,null,null,null,null,null,null,null,null,null,null,null,null,null,null,null,null,null,null,null,null,null,null,null,null,null,null,null,null,null,null,null,null,null,null,null,null,null,null,null,null,null,null,null,null,null,null,null,null,null,null,null,null,null,null,null,null,null,null,null,null,null,null,null,null,null,null,null,null,null,null,null,null,null,null,null,null,null,null,null,null,null,null,null,null,null,null,null,null,null,null,null,null,null,null,null,null,null,null,null,null,{"$f":"'3 - Alt Num Lanes Input'!AC117","v":1},null,null,{"$f":"'3 - Alt Num Lanes Input'!AG117","v":1}]
[null,null,null,null,null,null,null,null,null,null,null,null,null,null,null,null,null,null,null,null,null,null,null,null,null,null,null,null,null,null,null,null,null,null,null,null,null,null,null,null,null,null,null,null,null,null,null,null,null,null,null,null,null,null,null,null,null,null,null,null,null,null,null,null,null,null,null,null,null,null,null,null,null,null,null,null,null,null,null,null,null,null,null,null,null,null,null,null,null,null,null,null,null,null,null,null,null,null,null,null,null,null,null,null,{"$f":"NBL_Master","v":102},null,null,{"$f":"NBR_Master","v":204}]
[null,null,null,null,null,null,null,null,null,null,null,null,null,null,null,null,null,null,null,null,null,null,null,null,null,null,null,null,null,null,null,null,null,null,null,null,null,null,null,null,null,null,null,null,null,null,null,null,null,null,null,null,null,null,null,null,null,null,null,null,null,null,null,null,null,null,null,null,null,null,null,null,null,null,null,null,null,null,null,null,null,null,null,null,null,null,null,null,null,null,null,null,null,null,null,null,null,null,null,null,null,null,null,null,"pepch",null,null,"pepch"]
[]
[]
[]
[]
[]
[]
[]
[]
[]
[]
[]
[]
[]
[]
[]
[]
[]
[]
[]
[]
[null,null,null,{"$f":"BY35","v":150.13157894736844},null,null,null,null,null,null,null,null,"CLV"]
[]
[]
[null,null,null,{"$f":"ROUND(D64/CLV_Limit_2,2)","v":0.08},null,null,null,"V/C",{"$f":"CLV_Limit_2","v":1800},null,null,null,"MAX"]
[]
[]
[null,null,null,null,null,null,null,null,"2 Phases"]
[]
[]
[]
[null,null,null,null,null,null,null,null,null,null,null,null,null,null,"Note: This diagram does not reflect the actual lane configuration of the Intersection"]

{"sheet":"PCLB N-S","index":57,"n_rows":74,"n_cols":103,"rows_kept":74,"cut":false,"hidden":false,"merged":[[58,100,61,102],[55,100,55,102],[55,94,55,99],[58,94,61,96],[58,97,61,99],[56,94,56,96],[56,97,56,99],[56,100,56,102],[57,94,57,96],[57,97,57,99],[57,100,57,102],[18,85,18,87],[18,88,18,90],[18,91,18,93],[19,85,19,87],[19,88,19,93],[9,36,12,47],[9,48,12,59],[5,10,6,35],[5,36,6,59],[7,2,8,9],[7,10,8,35],[9,2,10,9],[9,10,10,35],[5,2,6,9],[11,2,12,9],[11,10,12,35],[0,63,1,122],[7,36,8,41],[7,42,8,47],[7,48,8,53],[7,54,8,59],[0,1,1,60],[2,1,3,60],[13,85,16,87],[13,88,16,90],[13,91,16,93],[17,85,17,87],[2,63,3,122],[17,88,17,90],[17,91,17,93],[73,14,73,47],[64,48,66,56],[64,57,66,57],[67,48,69,51],[67,52,69,52],[67,53,69,56],[67,57,69,57],[70,53,70,57],[28,9,28,13],[52,81,54,84],[52,85,54,85],[29,81,31,84],[29,85,31,85],[22,4,24,12],[22,13,24,13],[25,4,27,7],[25,8,27,8],[25,9,27,12],[25,13,27,13],[52,86,54,86],[52,87,54,87],[29,86,31,86],[29,87,31,87],[34,88,34,90],[32,88,32,90],[33,88,33,90],[46,90,48,97],[49,90,51,97],[35,88,38,90],[36,97,39,99],[40,97,40,99],[41,97,41,99],[42,97,42,99],[43,103,45,106],[20,100,22,100],[23,90,25,97],[20,101,22,101],[20,102,22,102],[20,103,22,106],[26,90,28,97],[43,100,45,100],[43,101,45,101],[43,102,45,102]]}
[null,"Partial Cloverleaf B (N-S)",null,null,null,null,null,null,null,null,null,null,null,null,null,null,null,null,null,null,null,null,null,null,null,null,null,null,null,null,null,null,null,null,null,null,null,null,null,null,null,null,null,null,null,null,null,null,null,null,null,null,null,null,null,null,null,null,null,null,null,null,null,"Partial Cloverleaf B (N-S)"]
[]
[null,"Design and Results",null,null,null,null,null,null,null,null,null,null,null,null,null,null,null,null,null,null,null,null,null,null,null,null,null,null,null,null,null,null,null,null,null,null,null,null,null,null,null,null,null,null,null,null,null,null,null,null,null,null,null,null,null,null,null,null,null,null,null,null,null,"Data Input and Configuration"]
[]
[]
[null,null,"Project Name:",null,null,null,null,null,null,null,{"$f":"P_Name","v":"Cap-X Sample Street"},null,null,null,null,null,null,null,null,null,null,null,null,null,null,null,null,null,null,null,null,null,null,null,null,null,"Volume-to-Capacity Ratio"]
[]
[null,null,"Project Number:",null,null,null,null,null,null,null,{"$f":"P_Number","v":10000},null,null,null,null,null,null,null,null,null,null,null,null,null,null,null,null,null,null,null,null,null,null,null,null,null,"< 0.750",null,null,null,null,null,"0.750 - 0.875",null,null,null,null,null,"0.875 - 1.00",null,null,null,null,null,"≥ 1.00"]
[]
[null,null,"Location",null,null,null,null,null,null,null,{"$f":"Location","v":"Anywhere, USA"},null,null,null,null,null,null,null,null,null,null,null,null,null,null,null,null,null,null,null,null,null,null,null,null,null,"VOLUME / CAPACITY RATIO:",null,null,null,null,null,null,null,null,null,null,null,{"$f":"MAX(E26,AW68)","v":0.19}]
[]
[null,null,"Date",null,null,null,null,null,null,null,{"$f":"Date","v":"2017 AM"}]
[]
[]
[]
[]
[]
[null,null,null,null,null,null,null,null,null,null,null,null,null,null,null,null,null,null,null,null,null,null,null,null,null,null,null,null,null,null,null,null,null,null,null,null,null,null,null,null,null,null,null,null,null,null,null,null,null,null,null,null,null,null,null,null,null,null,null,null,null,null,null,null,null,null,null,null,null,null,null,null,null,null,null,null,null,null,null,null,null,null,null,null,null,"pepch",null,null,"pepch",null,null,"pepch"]
[null,null,null,null,null,null,null,null,null,null,null,null,null,null,null,null,null,null,null,null,null,null,null,null,null,null,null,null,null,null,null,null,null,null,null,null,null,null,null,null,null,null,null,null,null,null,null,null,null,null,null,null,null,null,null,null,null,null,null,null,null,null,null,null,null,null,null,null,null,null,null,null,null,null,null,null,null,null,null,null,null,null,null,null,null,{"$f":"SBR_Master","v":51},null,null,{"$f":"SBT_Master","v":204},null,null,{"$f":"SBL_Master","v":31}]
[null,null,null,null,null,null,null,null,null,null,null,null,null,null,null,null,null,null,null,null,null,null,null,null,null,null,null,null,null,null,null,null,null,null,null,null,null,null,null,null,null,null,null,null,null,null,null,null,null,null,null,null,null,null,null,null,null,null,null,null,null,null,null,null,null,null,null,null,null,null,null,null,null,null,null,null,null,null,null,null,null,null,null,null,null,{"$f":"'3 - Alt Num Lanes Input'!AO119","v":1},null,null,{"$f":"'3 - Alt Num Lanes Input'!AM119","v":2}]
[null,null,null,null,null,null,null,null,null,null,null,null,null,null,null,null,null,null,null,null,null,null,null,null,null,null,null,null,null,null,null,null,null,null,null,null,null,null,null,null,null,null,null,null,null,null,null,null,null,null,null,null,null,null,null,null,null,null,null,null,null,null,null,null,null,null,null,null,null,null,null,null,null,null,null,null,null,null,null,null,null,null,null,null,null,null,null,null,null,null,null,null,null,null,null,null,null,null,null,null,{"$f":"'3 - Alt Num Lanes Input'!BE119","v":1},{"$f":"WBR_Master","v":51},"pepch"]
[]
[null,null,null,null,{"$f":"CM27","v":224.86842105263159},null,null,null,null,null,null,null,null,"CLV"]
[]
[]
[null,null,null,null,{"$f":"ROUND(E23/CLV_Limit_2,2)","v":0.12},null,null,null,"V/C",{"$f":"CLV_Limit_2","v":1800},null,null,null,"MAX"]
[null,null,null,null,null,null,null,null,null,null,null,null,null,null,null,null,null,null,null,null,null,null,null,null,null,null,null,null,null,null,null,null,null,null,null,null,null,null,null,null,null,null,null,null,null,null,null,null,null,null,null,null,null,null,null,null,null,null,null,null,null,null,null,null,null,null,null,null,null,null,null,null,null,null,null,null,null,null,null,null,null,null,null,null,null,null,null,null,null,null,{"$f":"(CK19+CN19)/CK20+CK34/LTAF/CK33","v":224.86842105263159}]
[]
[null,null,null,null,null,null,null,null,null,"2 Phases"]
[null,null,null,null,null,null,null,null,null,null,null,null,null,null,null,null,null,null,null,null,null,null,null,null,null,null,null,null,null,null,null,null,null,null,null,null,null,null,null,null,null,null,null,null,null,null,null,null,null,null,null,null,null,null,null,null,null,null,null,null,null,null,null,null,null,null,null,null,null,null,null,null,null,null,null,null,null,null,null,null,null,null,null,null,null,"pepch",{"$f":"WBL_Master","v":31},{"$f":"'3 - Alt Num Lanes Input'!BA119","v":1}]
[]
[]
[null,null,null,null,null,null,null,null,null,null,null,null,null,null,null,null,null,null,null,null,null,null,null,null,null,null,null,null,null,null,null,null,null,null,null,null,null,null,null,null,null,null,null,null,null,null,null,null,null,null,null,null,null,null,null,null,null,null,null,null,null,null,null,null,null,null,null,null,null,null,null,null,null,null,null,null,null,null,null,null,null,null,null,null,null,null,null,null,{"$f":"'3 - Alt Num Lanes Input'!AC119","v":1}]
[null,null,null,null,null,null,null,null,null,null,null,null,null,null,null,null,null,null,null,null,null,null,null,null,null,null,null,null,null,null,null,null,null,null,null,null,null,null,null,null,null,null,null,null,null,null,null,null,null,null,null,null,null,null,null,null,null,null,null,null,null,null,null,null,null,null,null,null,null,null,null,null,null,null,null,null,null,null,null,null,null,null,null,null,null,null,null,null,{"$f":"CQ57","v":102}]
[null,null,null,null,null,null,null,null,null,null,null,null,null,null,null,null,null,null,null,null,null,null,null,null,null,null,null,null,null,null,null,null,null,null,null,null,null,null,null,null,null,null,null,null,null,null,null,null,null,null,null,null,null,null,null,null,null,null,null,null,null,null,null,null,null,null,null,null,null,null,null,null,null,null,null,null,null,null,null,null,null,null,null,null,null,null,null,null,"pepch"]
[]
[]
[]
[]
[]
[null,null,null,null,null,null,null,null,null,null,null,null,null,null,null,null,null,null,null,null,null,null,null,null,null,null,null,null,null,null,null,null,null,null,null,null,null,null,null,null,null,null,null,null,null,null,null,null,null,null,null,null,null,null,null,null,null,null,null,null,null,null,null,null,null,null,null,null,null,null,null,null,null,null,null,null,null,null,null,null,null,null,null,null,null,null,null,null,null,null,null,null,null,null,null,null,null,"pepch"]
[null,null,null,null,null,null,null,null,null,null,null,null,null,null,null,null,null,null,null,null,null,null,null,null,null,null,null,null,null,null,null,null,null,null,null,null,null,null,null,null,null,null,null,null,null,null,null,null,null,null,null,null,null,null,null,null,null,null,null,null,null,null,null,null,null,null,null,null,null,null,null,null,null,null,null,null,null,null,null,null,null,null,null,null,null,null,null,null,null,null,null,null,null,null,null,null,null,{"$f":"CN19","v":31}]
[null,null,null,null,null,null,null,null,null,null,null,null,null,null,null,null,null,null,null,null,null,null,null,null,null,null,null,null,null,null,null,null,null,null,null,null,null,null,null,null,null,null,null,null,null,null,null,null,null,null,null,null,null,null,null,null,null,null,null,null,null,null,null,null,null,null,null,null,null,null,null,null,null,null,null,null,null,null,null,null,null,null,null,null,null,null,null,null,null,null,null,null,null,null,null,null,null,{"$f":"'3 - Alt Num Lanes Input'!AK119","v":1}]
[null,null,null,null,null,null,null,null,null,null,null,null,null,null,null,null,null,null,null,null,null,null,null,null,null,null,null,null,null,null,null,null,null,null,null,null,null,null,null,null,null,null,null,null,null,null,null,null,null,null,null,null,null,null,null,null,null,null,null,null,null,null,null,null,null,null,null,null,null,null,null,null,null,null,null,null,null,null,null,null,null,null,null,null,null,null,null,null,null,null,null,null,null,null,null,null,null,null,null,null,{"$f":"'3 - Alt Num Lanes Input'!AS119","v":1},{"$f":"EBL_Master","v":31},"pepch"]
[]
[]
[]
[]
[]
[null,null,null,null,null,null,null,null,null,null,null,null,null,null,null,null,null,null,null,null,null,null,null,null,null,null,null,null,null,null,null,null,null,null,null,null,null,null,null,null,null,null,null,null,null,null,null,null,null,null,null,null,null,null,null,null,null,null,null,null,null,null,null,null,null,null,null,null,null,null,null,null,null,null,null,null,null,null,null,null,null,null,null,null,null,null,null,null,null,null,{"$f":"(CQ57+CT57)/CQ56 +(CT42/LTAF/CT43)","v":338.63157894736844}]
[]
[]
[null,null,null,null,null,null,null,null,null,null,null,null,null,null,null,null,null,null,null,null,null,null,null,null,null,null,null,null,null,null,null,null,null,null,null,null,null,null,null,null,null,null,null,null,null,null,null,null,null,null,null,null,null,null,null,null,null,null,null,null,null,null,null,null,null,null,null,null,null,null,null,null,null,null,null,null,null,null,null,null,null,null,null,null,null,"pepch",{"$f":"EBR_Master","v":51},{"$f":"'3 - Alt Num Lanes Input'!AW119","v":1}]
[]
[]
[null,null,null,null,null,null,null,null,null,null,null,null,null,null,null,null,null,null,null,null,null,null,null,null,null,null,null,null,null,null,null,null,null,null,null,null,null,null,null,null,null,null,null,null,null,null,null,null,null,null,null,null,null,null,null,null,null,null,null,null,null,null,null,null,null,null,null,null,null,null,null,null,null,null,null,null,null,null,null,null,null,null,null,null,null,null,null,null,null,null,null,null,null,null,{"$f":"'3 - Alt Num Lanes Input'!AE119","v":2},null,null,null,null,null,{"$f":"'3 - Alt Num Lanes Input'!AG119","v":1}]
[null,null,null,null,null,null,null,null,null,null,null,null,null,null,null,null,null,null,null,null,null,null,null,null,null,null,null,null,null,null,null,null,null,null,null,null,null,null,null,null,null,null,null,null,null,null,null,null,null,null,null,null,null,null,null,null,null,null,null,null,null,null,null,null,null,null,null,null,null,null,null,null,null,null,null,null,null,null,null,null,null,null,null,null,null,null,null,null,null,null,null,null,null,null,{"$f":"NBL_Master","v":102},null,null,{"$f":"NBT_Master","v":510},null,null,{"$f":"NBR_Master","v":204}]
[null,null,null,null,null,null,null,null,null,null,null,null,null,null,null,null,null,null,null,null,null,null,null,null,null,null,null,null,null,null,null,null,null,null,null,null,null,null,null,null,null,null,null,null,null,null,null,null,null,null,null,null,null,null,null,null,null,null,null,null,null,null,null,null,null,null,null,null,null,null,null,null,null,null,null,null,null,null,null,null,null,null,null,null,null,null,null,null,null,null,null,null,null,null,"pepch",null,null,"pepch",null,null,"pepch"]
[]
[]
[]
[]
[]
[]
[null,null,null,null,null,null,null,null,null,null,null,null,null,null,null,null,null,null,null,null,null,null,null,null,null,null,null,null,null,null,null,null,null,null,null,null,null,null,null,null,null,null,null,null,null,null,null,null,{"$f":"CM50","v":338.63157894736844},null,null,null,null,null,null,null,null,"CLV"]
[]
[]
[null,null,null,null,null,null,null,null,null,null,null,null,null,null,null,null,null,null,null,null,null,null,null,null,null,null,null,null,null,null,null,null,null,null,null,null,null,null,null,null,null,null,null,null,null,null,null,null,{"$f":"ROUND(AW65/CLV_Limit_2,2)","v":0.19},null,null,null,"V/C",{"$f":"CLV_Limit_2","v":1800},null,null,null,"MAX"]
[]
[]
[null,null,null,null,null,null,null,null,null,null,null,null,null,null,null,null,null,null,null,null,null,null,null,null,null,null,null,null,null,null,null,null,null,null,null,null,null,null,null,null,null,null,null,null,null,null,null,null,null,null,null,null,null,"2 Phases"]
[]
[]
[null,null,null,null,null,null,null,null,null,null,null,null,null,null,"Note: This diagram does not reflect the actual lane configuration of the Intersection"]

{"sheet":"PCLB E-W","index":58,"n_rows":74,"n_cols":115,"rows_kept":74,"cut":false,"hidden":false,"merged":[[40,67,42,70],[40,71,42,71],[40,72,42,72],[24,53,24,57],[69,8,69,12],[9,2,10,9],[9,10,10,35],[40,73,42,73],[34,102,36,109],[37,67,39,70],[37,71,39,71],[37,72,39,72],[37,86,39,86],[34,67,36,70],[34,71,36,71],[34,72,36,72],[34,73,39,73],[34,76,36,83],[37,87,39,87],[37,88,39,88],[37,89,39,92],[0,1,1,60],[2,1,3,60],[31,115,33,118],[25,112,27,112],[25,113,27,113],[25,114,27,114],[25,115,27,118],[28,113,30,113],[28,114,30,114],[28,115,30,118],[18,48,20,56],[18,57,20,57],[21,48,23,51],[21,52,23,52],[0,63,1,122],[7,36,8,41],[7,42,8,47],[7,48,8,53],[7,54,8,59],[2,63,3,122],[28,93,30,96],[28,97,30,97],[28,98,30,98],[28,99,30,99],[28,112,33,112],[31,76,33,83],[31,102,33,109],[31,113,33,113],[31,114,33,114],[21,53,23,56],[21,57,23,57],[21,100,24,102],[5,2,6,9],[5,10,6,35],[5,36,6,59],[73,14,73,47],[63,3,65,11],[63,12,65,12],[66,3,68,6],[66,7,68,7],[66,8,68,11],[66,12,68,12],[11,2,12,9],[11,10,12,35],[9,36,12,47],[9,48,12,59],[7,2,8,9],[7,10,8,35],[40,109,40,111],[41,109,41,111],[42,109,42,111],[43,109,46,111],[40,83,40,85],[41,83,41,85],[42,83,42,85],[43,83,46,85],[25,100,25,102],[26,100,26,102],[27,100,27,102],[21,74,24,76],[25,74,25,76],[26,74,26,76],[27,74,27,76]]}
[null,"Partial Cloverleaf B (E-W)",null,null,null,null,null,null,null,null,null,null,null,null,null,null,null,null,null,null,null,null,null,null,null,null,null,null,null,null,null,null,null,null,null,null,null,null,null,null,null,null,null,null,null,null,null,null,null,null,null,null,null,null,null,null,null,null,null,null,null,null,null,"Partial Cloverleaf B (E-W)"]
[]
[null,"Design and Results",null,null,null,null,null,null,null,null,null,null,null,null,null,null,null,null,null,null,null,null,null,null,null,null,null,null,null,null,null,null,null,null,null,null,null,null,null,null,null,null,null,null,null,null,null,null,null,null,null,null,null,null,null,null,null,null,null,null,null,null,null,"Data Input and Configuration"]
[]
[]
[null,null,"Project Name:",null,null,null,null,null,null,null,{"$f":"P_Name","v":"Cap-X Sample Street"},null,null,null,null,null,null,null,null,null,null,null,null,null,null,null,null,null,null,null,null,null,null,null,null,null,"Volume-to-Capacity Ratio"]
[]
[null,null,"Project Number:",null,null,null,null,null,null,null,{"$f":"P_Number","v":10000},null,null,null,null,null,null,null,null,null,null,null,null,null,null,null,null,null,null,null,null,null,null,null,null,null,"< 0.750",null,null,null,null,null,"0.750 - 0.875",null,null,null,null,null,"0.875 - 1.00",null,null,null,null,null,"≥ 1.00"]
[]
[null,null,"Location",null,null,null,null,null,null,null,{"$f":"Location","v":"Anywhere, USA"},null,null,null,null,null,null,null,null,null,null,null,null,null,null,null,null,null,null,null,null,null,null,null,null,null,"VOLUME / CAPACITY RATIO:",null,null,null,null,null,null,null,null,null,null,null,{"$f":"MAX(AW22,D67)","v":0.09}]
[]
[null,null,"Date",null,null,null,null,null,null,null,{"$f":"Date","v":"2017 AM"}]
[]
[]
[]
[]
[]
[]
[null,null,null,null,null,null,null,null,null,null,null,null,null,null,null,null,null,null,null,null,null,null,null,null,null,null,null,null,null,null,null,null,null,null,null,null,null,null,null,null,null,null,null,null,null,null,null,null,{"$f":"CY35","v":150.13157894736844},null,null,null,null,null,null,null,null,"CLV"]
[]
[]
[null,null,null,null,null,null,null,null,null,null,null,null,null,null,null,null,null,null,null,null,null,null,null,null,null,null,null,null,null,null,null,null,null,null,null,null,null,null,null,null,null,null,null,null,null,null,null,null,{"$f":"ROUND(AW19/CLV_Limit_2,2)","v":0.08},null,null,null,"V/C",{"$f":"CLV_Limit_2","v":1800},null,null,null,"MAX"]
[]
[]
[null,null,null,null,null,null,null,null,null,null,null,null,null,null,null,null,null,null,null,null,null,null,null,null,null,null,null,null,null,null,null,null,null,null,null,null,null,null,null,null,null,null,null,null,null,null,null,null,null,null,null,null,null,"2 Phases"]
[null,null,null,null,null,null,null,null,null,null,null,null,null,null,null,null,null,null,null,null,null,null,null,null,null,null,null,null,null,null,null,null,null,null,null,null,null,null,null,null,null,null,null,null,null,null,null,null,null,null,null,null,null,null,null,null,null,null,null,null,null,null,null,null,null,null,null,null,null,null,null,null,null,null,"pepch",null,null,null,null,null,null,null,null,null,null,null,null,null,null,null,null,null,null,null,null,null,null,null,null,null,"pepch",null,null,null,null,null,null,null,null,null,null,null,{"$f":"'3 - Alt Num Lanes Input'!BE121","v":1},{"$f":"WBR_Master","v":51},"pepch"]
[null,null,null,null,null,null,null,null,null,null,null,null,null,null,null,null,null,null,null,null,null,null,null,null,null,null,null,null,null,null,null,null,null,null,null,null,null,null,null,null,null,null,null,null,null,null,null,null,null,null,null,null,null,null,null,null,null,null,null,null,null,null,null,null,null,null,null,null,null,null,null,null,null,null,{"$f":"SBR_Master","v":51},null,null,null,null,null,null,null,null,null,null,null,null,null,null,null,null,null,null,null,null,null,null,null,null,null,{"$f":"NBL_Master","v":102}]
[null,null,null,null,null,null,null,null,null,null,null,null,null,null,null,null,null,null,null,null,null,null,null,null,null,null,null,null,null,null,null,null,null,null,null,null,null,null,null,null,null,null,null,null,null,null,null,null,null,null,null,null,null,null,null,null,null,null,null,null,null,null,null,null,null,null,null,null,null,null,null,null,null,null,{"$f":"'3 - Alt Num Lanes Input'!AO121","v":1},null,null,null,null,null,null,null,null,null,null,null,null,null,null,null,null,null,null,null,null,null,null,null,null,null,{"$f":"'3 - Alt Num Lanes Input'!AC121","v":1}]
[null,null,null,null,null,null,null,null,null,null,null,null,null,null,null,null,null,null,null,null,null,null,null,null,null,null,null,null,null,null,null,null,null,null,null,null,null,null,null,null,null,null,null,null,null,null,null,null,null,null,null,null,null,null,null,null,null,null,null,null,null,null,null,null,null,null,null,null,null,null,null,null,null,null,null,null,null,null,null,null,null,null,null,null,null,null,null,null,null,null,null,null,null,null,null,null,null,"pepch",{"$f":"BU35","v":31},{"$f":"'3 - Alt Num Lanes Input'!AS121","v":1},null,null,null,null,null,null,null,null,null,null,null,null,{"$f":"'3 - Alt Num Lanes Input'!BC121","v":2},{"$f":"WBT_Master","v":204},"pepch"]
[]
[]
[null,null,null,null,null,null,null,null,null,null,null,null,null,null,null,null,null,null,null,null,null,null,null,null,null,null,null,null,null,null,null,null,null,null,null,null,null,null,null,null,null,null,null,null,null,null,null,null,null,null,null,null,null,null,null,null,null,null,null,null,null,null,null,null,null,null,null,null,null,null,null,null,null,null,null,null,null,null,null,null,null,null,null,null,null,null,null,null,null,null,null,null,null,null,null,null,null,null,null,null,null,null,null,null,null,null,null,null,null,null,null,null,null,{"$f":"WBL_Master","v":31},"pepch"]
[]
[]
[null,null,null,null,null,null,null,null,null,null,null,null,null,null,null,null,null,null,null,null,null,null,null,null,null,null,null,null,null,null,null,null,null,null,null,null,null,null,null,null,null,null,null,null,null,null,null,null,null,null,null,null,null,null,null,null,null,null,null,null,null,null,null,null,null,null,null,null,null,null,null,"pepch",{"$f":"EBL_Master","v":31},{"$f":"'3 - Alt Num Lanes Input'!AU121","v":2},null,null,{"$f":"BU35+BU38/BV35+CJ38/LTAF/CI38","v":165.63157894736844},null,null,null,null,null,null,null,null,null,null,null,null,null,null,null,null,null,null,null,null,null,null,null,null,null,{"$f":"(DJ29+DJ32)/DI29+CU29/LTAF/CV29","v":150.13157894736844}]
[]
[]
[null,null,null,null,null,null,null,null,null,null,null,null,null,null,null,null,null,null,null,null,null,null,null,null,null,null,null,null,null,null,null,null,null,null,null,null,null,null,null,null,null,null,null,null,null,null,null,null,null,null,null,null,null,null,null,null,null,null,null,null,null,null,null,null,null,null,null,null,null,null,null,"pepch",{"$f":"EBT_Master","v":204},null,null,null,null,null,null,null,null,null,null,null,null,null,{"$f":"'3 - Alt Num Lanes Input'!BA121","v":1},{"$f":"DJ32","v":31},"pepch"]
[]
[]
[null,null,null,null,null,null,null,null,null,null,null,null,null,null,null,null,null,null,null,null,null,null,null,null,null,null,null,null,null,null,null,null,null,null,null,null,null,null,null,null,null,null,null,null,null,null,null,null,null,null,null,null,null,null,null,null,null,null,null,null,null,null,null,null,null,null,null,null,null,null,null,"pepch",{"$f":"EBR_Master","v":51},{"$f":"'3 - Alt Num Lanes Input'!AW121","v":1},null,null,null,null,null,null,null,null,null,{"$f":"'3 - Alt Num Lanes Input'!AK121","v":1},null,null,null,null,null,null,null,null,null,null,null,null,null,null,null,null,null,null,null,null,null,null,null,null,null,{"$f":"'3 - Alt Num Lanes Input'!AG121","v":1}]
[null,null,null,null,null,null,null,null,null,null,null,null,null,null,null,null,null,null,null,null,null,null,null,null,null,null,null,null,null,null,null,null,null,null,null,null,null,null,null,null,null,null,null,null,null,null,null,null,null,null,null,null,null,null,null,null,null,null,null,null,null,null,null,null,null,null,null,null,null,null,null,null,null,null,null,null,null,null,null,null,null,null,null,{"$f":"SBL_Master","v":31},null,null,null,null,null,null,null,null,null,null,null,null,null,null,null,null,null,null,null,null,null,null,null,null,null,{"$f":"NBR_Master","v":204}]
[null,null,null,null,null,null,null,null,null,null,null,null,null,null,null,null,null,null,null,null,null,null,null,null,null,null,null,null,null,null,null,null,null,null,null,null,null,null,null,null,null,null,null,null,null,null,null,null,null,null,null,null,null,null,null,null,null,null,null,null,null,null,null,null,null,null,null,null,null,null,null,null,null,null,null,null,null,null,null,null,null,null,null,"pepch",null,null,null,null,null,null,null,null,null,null,null,null,null,null,null,null,null,null,null,null,null,null,null,null,null,"pepch"]
[]
[]
[]
[]
[]
[]
[]
[]
[]
[]
[]
[]
[]
[]
[]
[]
[]
[]
[]
[]
[null,null,null,{"$f":"BY35","v":165.63157894736844},null,null,null,null,null,null,null,null,"CLV"]
[]
[]
[null,null,null,{"$f":"ROUND(D64/CLV_Limit_2,2)","v":0.09},null,null,null,"V/C",{"$f":"CLV_Limit_2","v":1800},null,null,null,"MAX"]
[]
[]
[null,null,null,null,null,null,null,null,"2 Phases"]
[]
[]
[]
[null,null,null,null,null,null,null,null,null,null,null,null,null,null,"Note: This diagram does not reflect the actual lane configuration of the Intersection"]

{"sheet":"DLTI N-S","index":59,"n_rows":74,"n_cols":101,"rows_kept":74,"cut":false,"hidden":false,"merged":[[38,46,38,50],[55,46,55,50],[69,46,69,50],[49,41,51,49],[49,50,51,50],[52,41,54,44],[52,45,54,45],[52,46,54,49],[52,50,54,50],[63,41,65,49],[63,50,65,50],[66,41,68,44],[66,45,68,45],[66,46,68,49],[66,50,68,50],[17,41,19,49],[17,50,19,50],[20,41,22,44],[20,45,22,45],[20,46,22,49],[20,50,22,50],[32,41,34,49],[32,50,34,50],[35,41,37,44],[35,45,37,45],[35,46,37,49],[35,50,37,50],[23,46,23,50],[68,86,71,88],[68,89,71,91],[68,92,71,94],[68,95,71,97],[65,86,65,88],[65,89,65,91],[65,92,65,94],[65,95,65,97],[66,86,66,88],[66,89,66,91],[66,92,66,94],[66,95,66,97],[49,84,51,84],[56,88,58,95],[59,88,61,95],[61,79,63,82],[61,83,63,83],[61,84,63,84],[61,85,63,85],[67,86,67,88],[67,89,67,91],[67,92,67,94],[67,95,67,97],[49,85,51,85],[29,101,31,104],[30,88,32,95],[32,98,34,98],[32,99,34,99],[32,100,34,100],[32,101,34,104],[14,100,16,100],[14,101,16,104],[16,88,18,95],[19,88,21,95],[26,99,28,99],[26,100,28,100],[26,101,28,104],[27,88,29,95],[29,98,31,98],[29,99,31,99],[29,100,31,100],[26,98,28,98],[73,13,73,48],[12,86,12,88],[12,89,12,91],[12,92,12,94],[35,88,38,90],[36,93,36,95],[37,93,37,95],[38,93,38,95],[39,88,39,90],[39,93,42,95],[40,88,40,90],[41,88,41,90],[43,79,45,82],[43,83,45,83],[43,84,45,84],[43,85,45,85],[45,88,47,95],[46,79,48,82],[46,83,48,83],[46,84,48,84],[46,85,48,85],[48,88,50,95],[49,79,51,82],[49,83,51,83],[0,63,1,122],[2,63,3,122],[6,86,9,88],[6,89,9,91],[6,92,9,94],[6,95,9,97],[12,95,12,97],[14,98,16,98],[14,99,16,99],[10,86,10,88],[10,89,10,91],[10,92,10,94],[10,95,10,97],[11,86,11,88],[11,89,11,91],[11,92,11,94],[11,95,11,97],[6,79,7,80],[6,65,8,78],[7,2,8,9],[7,10,8,35],[9,2,10,9],[9,10,10,35],[11,2,12,9],[11,10,12,35],[0,1,1,60],[2,1,3,60],[5,2,6,9],[5,10,6,35],[5,36,6,59],[7,36,8,41],[7,42,8,47],[7,48,8,53],[7,54,8,59],[9,36,12,47],[9,48,12,59]]}
[null,"Displaced Left Turn Interchange (N-S)",null,null,null,null,null,null,null,null,null,null,null,null,null,null,null,null,null,null,null,null,null,null,null,null,null,null,null,null,null,null,null,null,null,null,null,null,null,null,null,null,null,null,null,null,null,null,null,null,null,null,null,null,null,null,null,null,null,null,null,null,null,"Displaced Left Turn Interchange (N-S)"]
[]
[null,"Design and Results",null,null,null,null,null,null,null,null,null,null,null,null,null,null,null,null,null,null,null,null,null,null,null,null,null,null,null,null,null,null,null,null,null,null,null,null,null,null,null,null,null,null,null,null,null,null,null,null,null,null,null,null,null,null,null,null,null,null,null,null,null,"Data Input and Configuration"]
[]
[]
[null,null,"Project Name:",null,null,null,null,null,null,null,{"$f":"P_Name","v":"Cap-X Sample Street"},null,null,null,null,null,null,null,null,null,null,null,null,null,null,null,null,null,null,null,null,null,null,null,null,null,"Volume-to-Capacity Ratio"]
[null,null,null,null,null,null,null,null,null,null,null,null,null,null,null,null,null,null,null,null,null,null,null,null,null,null,null,null,null,null,null,null,null,null,null,null,null,null,null,null,null,null,null,null,null,null,null,null,null,null,null,null,null,null,null,null,null,null,null,null,null,null,null,null,null,"Multimodal Capacity Adjustment Factor",null,null,null,null,null,null,null,null,null,null,null,null,null,{"$f":"IF(Multimodal=1,1,IF(MAX(CL13,CO66)<3,1,IF(MAX(CL13,CO66)<4,0.9,0.8)))","v":1}]
[null,null,"Project Number:",null,null,null,null,null,null,null,{"$f":"P_Number","v":10000},null,null,null,null,null,null,null,null,null,null,null,null,null,null,null,null,null,null,null,null,null,null,null,null,null,"< 0.750",null,null,null,null,null,"0.750 - 0.875",null,null,null,null,null,"0.875 - 1.00",null,null,null,null,null,"≥ 1.00"]
[]
[null,null,"Location",null,null,null,null,null,null,null,{"$f":"Location","v":"Anywhere, USA"},null,null,null,null,null,null,null,null,null,null,null,null,null,null,null,null,null,null,null,null,null,null,null,null,null,"VOLUME / CAPACITY RATIO:",null,null,null,null,null,null,null,null,null,null,null,{"$f":"MAX(AP21,AP36,AP53,AP67)","v":0.28999999999999998}]
[null,null,null,null,null,null,null,null,null,null,null,null,null,null,null,null,null,null,null,null,null,null,null,null,null,null,null,null,null,null,null,null,null,null,null,null,null,null,null,null,null,null,null,null,null,null,null,null,null,null,null,null,null,null,null,null,null,null,null,null,null,null,null,null,null,null,null,null,null,null,null,null,null,null,null,null,null,null,null,null,null,null,null,null,null,null,"pepch",null,null,"pepch",null,null,"pepch",null,null,"pepch"]
[null,null,"Date",null,null,null,null,null,null,null,{"$f":"Date","v":"2017 AM"},null,null,null,null,null,null,null,null,null,null,null,null,null,null,null,null,null,null,null,null,null,null,null,null,null,null,null,null,null,null,null,null,null,null,null,null,null,null,null,null,null,null,null,null,null,null,null,null,null,null,null,null,null,null,null,null,null,null,null,null,null,null,null,null,null,null,null,null,null,null,null,null,null,null,null,{"$f":"SBR_Master","v":51},null,null,{"$f":"SBT_Master","v":204},null,null,{"$f":"SBL_Master","v":31},null,null,{"$f":"SBU_Master","v":0}]
[null,null,null,null,null,null,null,null,null,null,null,null,null,null,null,null,null,null,null,null,null,null,null,null,null,null,null,null,null,null,null,null,null,null,null,null,null,null,null,null,null,null,null,null,null,null,null,null,null,null,null,null,null,null,null,null,null,null,null,null,null,null,null,null,null,null,null,null,null,null,null,null,null,null,null,null,null,null,null,null,null,null,null,null,null,null,{"$f":"'3 - Alt Num Lanes Input'!AO123","v":1},null,null,{"$f":"'3 - Alt Num Lanes Input'!AM123","v":2},null,null,{"$f":"'3 - Alt Num Lanes Input'!AK123","v":1}]
[]
[null,null,null,null,null,null,null,null,null,null,null,null,null,null,null,null,null,null,null,null,null,null,null,null,null,null,null,null,null,null,null,null,null,null,null,null,null,null,null,null,null,null,null,null,null,null,null,null,null,null,null,null,null,null,null,null,null,null,null,null,null,null,null,null,null,null,null,null,null,null,null,null,null,null,null,null,null,null,null,null,null,null,null,null,null,null,null,null,null,null,null,null,null,null,null,null,null,null,{"$f":"'3 - Alt Num Lanes Input'!BE123","v":1},{"$f":"WBR_Master","v":51},"pepch"]
[]
[]
[null,null,null,null,null,null,null,null,null,null,null,null,null,null,null,null,null,null,null,null,null,null,null,null,null,null,null,null,null,null,null,null,null,null,null,null,null,null,null,null,null,{"$f":"CK20","v":324.18421052631578},null,null,null,null,null,null,null,null,"CLV"]
[]
[null,null,null,null,null,null,null,null,null,null,null,null,null,null,null,null,null,null,null,null,null,null,null,null,null,null,null,null,null,null,null,null,null,null,null,null,null,null,null,null,null,null,null,null,null,null,null,null,null,null,null,null,null,null,null,null,null,null,null,null,null,null,null,null,null,null,null,null,null,null,null,null,null,null,null,null,null,null,null,null,null,null,null,null,null,null,null,null,{"$f":"MAX(CO12/LTAF/CO13, CV15/LTAF/CU15)+ CP38/CP37","v":324.18421052631578}]
[null,null,null,null,null,null,null,null,null,null,null,null,null,null,null,null,null,null,null,null,null,null,null,null,null,null,null,null,null,null,null,null,null,null,null,null,null,null,null,null,null,{"$f":"ROUND(AP18/CLV_Limit_2,2)","v":0.18},null,null,null,"V/C",{"$f":"CLV_Limit_2*CB7","v":1800},null,null,null,"MAX"]
[]
[]
[null,null,null,null,null,null,null,null,null,null,null,null,null,null,null,null,null,null,null,null,null,null,null,null,null,null,null,null,null,null,null,null,null,null,null,null,null,null,null,null,null,null,null,null,null,null,"2 Phases"]
[]
[]
[null,null,null,null,null,null,null,null,null,null,null,null,null,null,null,null,null,null,null,null,null,null,null,null,null,null,null,null,null,null,null,null,null,null,null,null,null,null,null,null,null,null,null,null,null,null,null,null,null,null,null,null,null,null,null,null,null,null,null,null,null,null,null,null,null,null,null,null,null,null,null,null,null,null,null,null,null,null,null,null,null,null,null,null,null,null,null,null,null,null,null,null,null,null,null,null,null,null,{"$f":"'3 - Alt Num Lanes Input'!BC123","v":2},{"$f":"WBT_Master","v":204},"pepch"]
[]
[]
[null,null,null,null,null,null,null,null,null,null,null,null,null,null,null,null,null,null,null,null,null,null,null,null,null,null,null,null,null,null,null,null,null,null,null,null,null,null,null,null,null,null,null,null,null,null,null,null,null,null,null,null,null,null,null,null,null,null,null,null,null,null,null,null,null,null,null,null,null,null,null,null,null,null,null,null,null,null,null,null,null,null,null,null,null,null,null,null,null,null,null,null,null,null,null,null,null,null,{"$f":"'3 - Alt Num Lanes Input'!BA123","v":1},{"$f":"WBL_Master","v":31},"pepch"]
[null,null,null,null,null,null,null,null,null,null,null,null,null,null,null,null,null,null,null,null,null,null,null,null,null,null,null,null,null,null,null,null,null,null,null,null,null,null,null,null,null,null,null,null,null,null,null,null,null,null,null,null,null,null,null,null,null,null,null,null,null,null,null,null,null,null,null,null,null,null,null,null,null,null,null,null,null,null,null,null,null,null,null,null,null,null,null,null,{"$f":"MAX(CL12/CL13,CP38/CP37,CO12/LTAF/CO13)+(CV30+CV27/LTAF/CU30)","v":516.23684210526312}]
[]
[null,null,null,null,null,null,null,null,null,null,null,null,null,null,null,null,null,null,null,null,null,null,null,null,null,null,null,null,null,null,null,null,null,null,null,null,null,null,null,null,null,{"$f":"CK31","v":516.23684210526312},null,null,null,null,null,null,null,null,"CLV",null,null,null,null,null,null,null,null,null,null,null,null,null,null,null,null,null,null,null,null,null,null,null,null,null,null,null,null,null,null,null,null,null,null,null,null,null,null,null,null,null,null,null,null,null,null,null,null,{"$f":"WBU_Master","v":0},"pepch"]
[]
[]
[null,null,null,null,null,null,null,null,null,null,null,null,null,null,null,null,null,null,null,null,null,null,null,null,null,null,null,null,null,null,null,null,null,null,null,null,null,null,null,null,null,{"$f":"ROUND(AP33/CLV_Limit_2,2)","v":0.28999999999999998},null,null,null,"V/C",{"$f":"CLV_Limit_2*CB7","v":1800},null,null,null,"MAX"]
[null,null,null,null,null,null,null,null,null,null,null,null,null,null,null,null,null,null,null,null,null,null,null,null,null,null,null,null,null,null,null,null,null,null,null,null,null,null,null,null,null,null,null,null,null,null,null,null,null,null,null,null,null,null,null,null,null,null,null,null,null,null,null,null,null,null,null,null,null,null,null,null,null,null,null,null,null,null,null,null,null,null,null,null,null,null,null,null,null,null,null,null,null,{"$f":"'3 - Alt Num Lanes Input'!AE123","v":2}]
[null,null,null,null,null,null,null,null,null,null,null,null,null,null,null,null,null,null,null,null,null,null,null,null,null,null,null,null,null,null,null,null,null,null,null,null,null,null,null,null,null,null,null,null,null,null,null,null,null,null,null,null,null,null,null,null,null,null,null,null,null,null,null,null,null,null,null,null,null,null,null,null,null,null,null,null,null,null,null,null,null,null,null,null,null,null,null,null,null,null,null,null,null,{"$f":"CG47+CO67","v":541}]
[null,null,null,null,null,null,null,null,null,null,null,null,null,null,null,null,null,null,null,null,null,null,null,null,null,null,null,null,null,null,null,null,null,null,null,null,null,null,null,null,null,null,null,null,null,null,"2 Phases",null,null,null,null,null,null,null,null,null,null,null,null,null,null,null,null,null,null,null,null,null,null,null,null,null,null,null,null,null,null,null,null,null,null,null,null,null,null,null,null,null,null,null,null,null,null,"pepch"]
[null,null,null,null,null,null,null,null,null,null,null,null,null,null,null,null,null,null,null,null,null,null,null,null,null,null,null,null,null,null,null,null,null,null,null,null,null,null,null,null,null,null,null,null,null,null,null,null,null,null,null,null,null,null,null,null,null,null,null,null,null,null,null,null,null,null,null,null,null,null,null,null,null,null,null,null,null,null,null,null,null,null,null,null,null,null,null,null,"pepch"]
[null,null,null,null,null,null,null,null,null,null,null,null,null,null,null,null,null,null,null,null,null,null,null,null,null,null,null,null,null,null,null,null,null,null,null,null,null,null,null,null,null,null,null,null,null,null,null,null,null,null,null,null,null,null,null,null,null,null,null,null,null,null,null,null,null,null,null,null,null,null,null,null,null,null,null,null,null,null,null,null,null,null,null,null,null,null,null,null,{"$f":"CL12+CV30","v":235}]
[null,null,null,null,null,null,null,null,null,null,null,null,null,null,null,null,null,null,null,null,null,null,null,null,null,null,null,null,null,null,null,null,null,null,null,null,null,null,null,null,null,null,null,null,null,null,null,null,null,null,null,null,null,null,null,null,null,null,null,null,null,null,null,null,null,null,null,null,null,null,null,null,null,null,null,null,null,null,null,null,null,null,null,null,null,null,null,null,{"$f":"'3 - Alt Num Lanes Input'!AM123","v":2}]
[]
[null,null,null,null,null,null,null,null,null,null,null,null,null,null,null,null,null,null,null,null,null,null,null,null,null,null,null,null,null,null,null,null,null,null,null,null,null,null,null,null,null,null,null,null,null,null,null,null,null,null,null,null,null,null,null,null,null,null,null,null,null,null,null,null,null,null,null,null,null,null,null,null,null,null,null,null,null,null,null,null,null,null,null,"pepch",{"$f":"EBU_Master","v":0}]
[]
[]
[null,null,null,null,null,null,null,null,null,null,null,null,null,null,null,null,null,null,null,null,null,null,null,null,null,null,null,null,null,null,null,null,null,null,null,null,null,null,null,null,null,null,null,null,null,null,null,null,null,null,null,null,null,null,null,null,null,null,null,null,null,null,null,null,null,null,null,null,null,null,null,null,null,null,null,null,null,null,null,null,null,null,null,"pepch",{"$f":"EBL_Master","v":31},{"$f":"'3 - Alt Num Lanes Input'!AS123","v":1}]
[]
[null,null,null,null,null,null,null,null,null,null,null,null,null,null,null,null,null,null,null,null,null,null,null,null,null,null,null,null,null,null,null,null,null,null,null,null,null,null,null,null,null,null,null,null,null,null,null,null,null,null,null,null,null,null,null,null,null,null,null,null,null,null,null,null,null,null,null,null,null,null,null,null,null,null,null,null,null,null,null,null,null,null,null,null,null,null,null,null,{"$f":"MAX(CK41/CK42,CO67/CO66,CL67/LTAF/CL66)+(CG47+CG50/LTAF/CH47)","v":500.73684210526318}]
[null,null,null,null,null,null,null,null,null,null,null,null,null,null,null,null,null,null,null,null,null,null,null,null,null,null,null,null,null,null,null,null,null,null,null,null,null,null,null,null,null,{"$f":"CK49","v":500.73684210526318},null,null,null,null,null,null,null,null,"CLV",null,null,null,null,null,null,null,null,null,null,null,null,null,null,null,null,null,null,null,null,null,null,null,null,null,null,null,null,null,null,null,null,"pepch",{"$f":"EBT_Master","v":204},{"$f":"'3 - Alt Num Lanes Input'!AU123","v":2}]
[]
[]
[null,null,null,null,null,null,null,null,null,null,null,null,null,null,null,null,null,null,null,null,null,null,null,null,null,null,null,null,null,null,null,null,null,null,null,null,null,null,null,null,null,{"$f":"ROUND(AP50/CLV_Limit_2,2)","v":0.28000000000000003},null,null,null,"V/C",{"$f":"CLV_Limit_2*CB7","v":1800},null,null,null,"MAX"]
[]
[]
[null,null,null,null,null,null,null,null,null,null,null,null,null,null,null,null,null,null,null,null,null,null,null,null,null,null,null,null,null,null,null,null,null,null,null,null,null,null,null,null,null,null,null,null,null,null,"2 Phases"]
[]
[]
[]
[null,null,null,null,null,null,null,null,null,null,null,null,null,null,null,null,null,null,null,null,null,null,null,null,null,null,null,null,null,null,null,null,null,null,null,null,null,null,null,null,null,null,null,null,null,null,null,null,null,null,null,null,null,null,null,null,null,null,null,null,null,null,null,null,null,null,null,null,null,null,null,null,null,null,null,null,null,null,null,null,null,null,null,null,null,null,null,null,{"$f":"MAX(CL67/LTAF/CL66,CG62/LTAF/CH62)+ CK41/CK42","v":224.86842105263159}]
[]
[null,null,null,null,null,null,null,null,null,null,null,null,null,null,null,null,null,null,null,null,null,null,null,null,null,null,null,null,null,null,null,null,null,null,null,null,null,null,null,null,null,null,null,null,null,null,null,null,null,null,null,null,null,null,null,null,null,null,null,null,null,null,null,null,null,null,null,null,null,null,null,null,null,null,null,null,null,null,null,null,null,null,null,"pepch",{"$f":"EBR_Master","v":51},{"$f":"'3 - Alt Num Lanes Input'!AW123","v":1}]
[]
[null,null,null,null,null,null,null,null,null,null,null,null,null,null,null,null,null,null,null,null,null,null,null,null,null,null,null,null,null,null,null,null,null,null,null,null,null,null,null,null,null,{"$f":"CK60","v":224.86842105263159},null,null,null,null,null,null,null,null,"CLV"]
[]
[null,null,null,null,null,null,null,null,null,null,null,null,null,null,null,null,null,null,null,null,null,null,null,null,null,null,null,null,null,null,null,null,null,null,null,null,null,null,null,null,null,null,null,null,null,null,null,null,null,null,null,null,null,null,null,null,null,null,null,null,null,null,null,null,null,null,null,null,null,null,null,null,null,null,null,null,null,null,null,null,null,null,null,null,null,null,null,null,null,{"$f":"'3 - Alt Num Lanes Input'!AC123","v":1},null,null,{"$f":"'3 - Alt Num Lanes Input'!AE123","v":2},null,null,{"$f":"'3 - Alt Num Lanes Input'!AG123","v":1}]
[null,null,null,null,null,null,null,null,null,null,null,null,null,null,null,null,null,null,null,null,null,null,null,null,null,null,null,null,null,null,null,null,null,null,null,null,null,null,null,null,null,{"$f":"ROUND(AP64/CLV_Limit_2,2)","v":0.12},null,null,null,"V/C",{"$f":"CLV_Limit_2*CB7","v":1800},null,null,null,"MAX",null,null,null,null,null,null,null,null,null,null,null,null,null,null,null,null,null,null,null,null,null,null,null,null,null,null,null,null,null,null,null,null,null,null,null,{"$f":"NBU_Master","v":0},null,null,{"$f":"NBL_Master","v":102},null,null,{"$f":"NBT_Master","v":510},null,null,{"$f":"NBR_Master","v":204}]
[null,null,null,null,null,null,null,null,null,null,null,null,null,null,null,null,null,null,null,null,null,null,null,null,null,null,null,null,null,null,null,null,null,null,null,null,null,null,null,null,null,null,null,null,null,null,null,null,null,null,null,null,null,null,null,null,null,null,null,null,null,null,null,null,null,null,null,null,null,null,null,null,null,null,null,null,null,null,null,null,null,null,null,null,null,null,"pepch",null,null,"pepch",null,null,"pepch",null,null,"pepch"]
[]
[null,null,null,null,null,null,null,null,null,null,null,null,null,null,null,null,null,null,null,null,null,null,null,null,null,null,null,null,null,null,null,null,null,null,null,null,null,null,null,null,null,null,null,null,null,null,"2 Phases"]
[]
[]
[]
[null,null,null,null,null,null,null,null,null,null,null,null,null,"Note: This diagram does not reflect the actual lane configuration of the Intersection"]

{"sheet":"DLTI E-W ","index":60,"n_rows":93,"n_cols":76,"rows_kept":93,"cut":false,"hidden":false,"merged":[[62,17,63,18],[22,71,22,75],[22,57,22,61],[22,24,22,28],[22,10,22,14],[16,66,18,74],[16,75,18,75],[19,66,21,69],[19,70,21,70],[19,71,21,74],[19,75,21,75],[19,23,21,23],[19,24,21,27],[19,28,21,28],[16,52,18,60],[16,61,18,61],[19,52,21,55],[19,56,21,56],[19,57,21,60],[19,61,21,61],[16,28,18,28],[19,19,21,22],[62,3,64,16],[92,66,92,68],[93,46,96,48],[93,49,96,51],[93,52,96,54],[93,66,96,68],[90,27,92,30],[90,31,92,31],[90,32,92,32],[90,33,92,33],[90,46,90,51],[90,66,90,68],[91,46,91,48],[91,49,91,51],[91,52,91,54],[91,66,91,68],[92,46,92,48],[92,49,92,51],[92,52,92,54],[84,73,86,73],[84,74,86,77],[87,3,89,6],[87,7,89,7],[87,8,89,8],[87,9,89,9],[87,71,89,71],[87,72,89,72],[87,73,89,73],[87,74,89,77],[84,43,86,43],[84,44,86,44],[84,47,86,54],[84,61,86,68],[84,71,86,71],[84,72,86,72],[84,3,86,6],[84,7,86,7],[84,8,86,8],[84,9,86,9],[84,12,86,19],[84,26,86,33],[84,38,86,41],[84,42,86,42],[78,73,80,73],[78,74,80,77],[81,3,83,6],[81,7,83,7],[81,8,83,8],[81,9,83,9],[81,12,83,19],[81,26,83,33],[81,36,83,36],[81,37,83,37],[78,3,80,6],[78,7,80,7],[78,8,80,8],[78,9,80,9],[78,71,80,71],[78,72,80,72],[81,73,83,73],[81,74,83,77],[81,47,83,54],[81,61,83,68],[81,71,83,71],[81,72,83,72],[81,38,83,38],[81,39,83,42],[0,1,1,79],[2,1,3,79],[5,2,6,9],[5,10,6,54],[56,1,57,79],[7,2,8,9],[7,10,8,54],[9,2,10,9],[9,10,10,54],[11,2,12,9],[11,10,12,54],[5,55,6,78],[7,55,8,60],[7,61,8,66],[7,67,8,72],[7,73,8,78],[9,55,12,66],[16,5,18,13],[16,14,18,14],[19,5,21,8],[19,9,21,9],[19,10,21,13],[19,14,21,14],[16,19,18,27],[77,25,77,27],[90,52,90,54],[9,67,12,78],[58,1,59,79],[70,34,70,36],[71,12,74,14],[71,25,74,27],[71,28,74,30],[71,31,74,33],[54,23,54,56],[75,49,77,49],[75,50,77,53],[76,12,76,14],[76,25,76,27],[76,28,76,30],[76,31,76,33],[77,12,77,14],[77,28,77,33],[75,12,75,14],[75,25,75,27],[75,28,75,30],[75,31,75,33],[75,47,77,47],[75,48,77,48]]}
[null,"Displaced Left Turn Interchange (E-W)"]
[]
[null,"Design and Results"]
[]
[]
[null,null,"Project Name:",null,null,null,null,null,null,null,{"$f":"P_Name","v":"Cap-X Sample Street"},null,null,null,null,null,null,null,null,null,null,null,null,null,null,null,null,null,null,null,null,null,null,null,null,null,null,null,null,null,null,null,null,null,null,null,null,null,null,null,null,null,null,null,null,"Volume-to-Capacity Ratio"]
[]
[null,null,"Project Number:",null,null,null,null,null,null,null,{"$f":"P_Number","v":10000},null,null,null,null,null,null,null,null,null,null,null,null,null,null,null,null,null,null,null,null,null,null,null,null,null,null,null,null,null,null,null,null,null,null,null,null,null,null,null,null,null,null,null,null,"< 0.750",null,null,null,null,null,"0.750 - 0.875",null,null,null,null,null,"0.875 - 1.00",null,null,null,null,null,"≥ 1.00"]
[]
[null,null,"Location",null,null,null,null,null,null,null,{"$f":"Location","v":"Anywhere, USA"},null,null,null,null,null,null,null,null,null,null,null,null,null,null,null,null,null,null,null,null,null,null,null,null,null,null,null,null,null,null,null,null,null,null,null,null,null,null,null,null,null,null,null,null,"VOLUME / CAPACITY RATIO:",null,null,null,null,null,null,null,null,null,null,null,{"$f":"MAX(F20,T20,BA20,BO20)","v":0.41}]
[]
[null,null,"Date",null,null,null,null,null,null,null,{"$f":"Date","v":"2017 AM"}]
[]
[]
[]
[]
[null,null,null,null,null,{"$f":"M85","v":206.68421052631578},null,null,null,null,null,null,null,null,"CLV",null,null,null,null,{"$f":"AA85","v":185.63157894736844},null,null,null,null,null,null,null,null,"CLV",null,null,null,null,null,null,null,null,null,null,null,null,null,null,null,null,null,null,null,null,null,null,null,{"$f":"AV85","v":734.86842105263156},null,null,null,null,null,null,null,null,"CLV",null,null,null,null,{"$f":"BJ85","v":332.23684210526318},null,null,null,null,null,null,null,null,"CLV"]
[]
[]
[null,null,null,null,null,{"$f":"ROUND(F17/CLV_Limit_2,2)","v":0.11},null,null,null,"V/C",{"$f":"CLV_Limit_2*R63","v":1800},null,null,null,"MAX",null,null,null,null,{"$f":"ROUND(T17/CLV_Limit_2,2)","v":0.1},null,null,null,"V/C",{"$f":"CLV_Limit_2*R63","v":1800},null,null,null,"MAX",null,null,null,null,null,null,null,null,null,null,null,null,null,null,null,null,null,null,null,null,null,null,null,{"$f":"ROUND(BA17/CLV_Limit_2,2)","v":0.41},null,null,null,"V/C",{"$f":"CLV_Limit_2*R63","v":1800},null,null,null,"MAX",null,null,null,null,{"$f":"ROUND(BO17/CLV_Limit_2,2)","v":0.18},null,null,null,"V/C",{"$f":"CLV_Limit_2*R63","v":1800},null,null,null,"MAX"]
[]
[]
[null,null,null,null,null,null,null,null,null,null,"2 Phases",null,null,null,null,null,null,null,null,null,null,null,null,null,"2 Phases",null,null,null,null,null,null,null,null,null,null,null,null,null,null,null,null,null,null,null,null,null,null,null,null,null,null,null,null,null,null,null,null,"2 Phases",null,null,null,null,null,null,null,null,null,null,null,null,null,"2 Phases"]
[]
[]
[]
[]
[]
[]
[]
[]
[]
[]
[]
[]
[]
[]
[]
[]
[]
[]
[]
[]
[]
[]
[]
[]
[]
[]
[]
[]
[]
[]
[]
[null,null,null,null,null,null,null,null,null,null,null,null,null,null,null,null,null,null,null,null,null,null,null,"Note: This diagram does not reflect the actual lane configuration of the Intersection"]
[]
[null,"Displaced Left Turn Interchange (E-W)"]
[]
[null,"Data Input and Configuration"]
[]
[]
[]
[null,null,null,"Multimodal Capacity Adjustment Factor",null,null,null,null,null,null,null,null,null,null,null,null,null,{"$f":"IF(Multimodal=1,1,IF(MAX(J85,BT82)<3,1,IF(MAX(J85,BT82)<4,0.9,0.8)))","v":1}]
[]
[]
[]
[]
[]
[]
[]
[]
[]
[]
[]
[]
[null,null,null,null,null,null,null,null,null,null,null,null,"pepch",null,null,null,null,null,null,null,null,null,null,null,null,"pepch",null,null,"pepch",null,null,"pepch",null,null,null,null,null,null,null,null,null,null,null,null,null,null,null,{"$f":"'3 - Alt Num Lanes Input'!BC125","v":2},{"$f":"BU82","v":204},"pepch"]
[null,null,null,null,null,null,null,null,null,null,null,null,{"$f":"SBR_Master","v":51},null,null,null,null,null,null,null,null,null,null,null,null,{"$f":"SBT_Master","v":204},null,null,{"$f":"SBL_Master","v":31},null,null,{"$f":"SBU_Master","v":0}]
[null,null,null,null,null,null,null,null,null,null,null,null,{"$f":"'3 - Alt Num Lanes Input'!AO125","v":1},null,null,null,null,null,null,null,null,null,null,null,null,{"$f":"'3 - Alt Num Lanes Input'!AM125","v":2},null,null,{"$f":"'3 - Alt Num Lanes Input'!AK125","v":1}]
[null,null,null,null,null,null,null,"pepch",{"$f":"EBU_Master","v":0},null,null,null,null,null,null,null,null,null,null,null,null,null,null,null,null,null,null,null,null,null,null,null,null,null,null,null,null,null,null,null,null,null,null,null,null,null,null,null,null,null,null,null,null,null,null,null,null,null,null,null,null,null,null,null,null,null,null,null,null,null,null,{"$f":"'3 - Alt Num Lanes Input'!BE125","v":1},{"$f":"WBR_Master","v":51},"pepch"]
[]
[]
[null,null,null,null,null,null,null,"pepch",{"$f":"EBL_Master","v":31},{"$f":"'3 - Alt Num Lanes Input'!AS125","v":1},null,null,null,null,null,null,null,null,null,null,null,null,null,null,null,null,null,null,null,null,null,null,null,null,null,null,{"$f":"'3 - Alt Num Lanes Input'!BC125","v":2},{"$f":"BU82+AX92","v":306},"pepch",null,null,null,null,null,null,null,null,null,null,null,null,null,null,null,null,null,null,null,null,null,null,null,null,null,null,null,null,null,null,null,null,{"$f":"'3 - Alt Num Lanes Input'!BC125","v":2},{"$f":"WBT_Master","v":204},"pepch"]
[]
[]
[null,null,null,null,null,null,null,"pepch",{"$f":"EBT_Master","v":204},{"$f":"'3 - Alt Num Lanes Input'!AU125","v":2},null,null,{"$f":"MAX(M77/LTAF/M78, I82/LTAF/J82)+ AL82/AK82","v":206.68421052631578},null,null,null,null,null,null,null,null,null,null,null,null,null,{"$f":"MAX(AL82/AK82,I85/J85,I82/LTAF/J82)+(AC77/LTAF/AC78)","v":185.63157894736844},null,null,null,null,null,null,null,null,null,null,null,null,null,null,null,"pepch",{"$f":"I85+AC77","v":235},{"$f":"'3 - Alt Num Lanes Input'!AU125","v":2},null,null,{"$f":"MAX(BU82/BT82,AR85/AS85,BU85/LTAF/BT85)+((AX92/LTAF)+BA92)/AU91","v":734.86842105263156},null,null,null,null,null,null,null,null,null,null,null,null,null,{"$f":"MAX(BU85/LTAF/BT85,BO92/LTAF/BO91)+ AR85/AS85","v":332.23684210526318},null,null,null,null,null,null,null,null,null,{"$f":"'3 - Alt Num Lanes Input'!BA125","v":1},{"$f":"WBL_Master","v":31},"pepch"]
[]
[]
[null,null,null,null,null,null,null,"pepch",{"$f":"EBR_Master","v":51},{"$f":"'3 - Alt Num Lanes Input'!AW125","v":1},null,null,null,null,null,null,null,null,null,null,null,null,null,null,null,null,null,null,null,null,null,null,null,null,null,null,null,null,null,null,null,null,null,null,null,null,null,null,null,null,null,null,null,null,null,null,null,null,null,null,null,null,null,null,null,null,null,null,null,null,null,null,{"$f":"WBU_Master","v":0},"pepch"]
[]
[]
[null,null,null,null,null,null,null,null,null,null,null,null,null,null,null,null,null,null,null,null,null,null,null,null,null,null,null,null,null,null,null,"pepch",{"$f":"I85","v":204},{"$f":"'3 - Alt Num Lanes Input'!AU125","v":2},null,null,null,null,null,null,null,null,null,null,null,null,{"$f":"'3 - Alt Num Lanes Input'!AC125","v":1},null,null,null,null,null,{"$f":"'3 - Alt Num Lanes Input'!AE125","v":2},null,null,null,null,null,null,null,null,null,null,null,null,null,{"$f":"'3 - Alt Num Lanes Input'!AG125","v":1}]
[null,null,null,null,null,null,null,null,null,null,null,null,null,null,null,null,null,null,null,null,null,null,null,null,null,null,null,null,null,null,null,null,null,null,null,null,null,null,null,null,null,null,null,null,null,null,{"$f":"NBU_Master","v":0},null,null,{"$f":"NBL_Master","v":102},null,null,{"$f":"NBT_Master","v":510},null,null,null,null,null,null,null,null,null,null,null,null,null,{"$f":"NBR_Master","v":204}]
[null,null,null,null,null,null,null,null,null,null,null,null,null,null,null,null,null,null,null,null,null,null,null,null,null,null,null,null,null,null,null,null,null,null,null,null,null,null,null,null,null,null,null,null,null,null,"pepch",null,null,"pepch",null,null,"pepch",null,null,null,null,null,null,null,null,null,null,null,null,null,"pepch"]

{"sheet":"DDI N-S","index":61,"n_rows":74,"n_cols":112,"rows_kept":74,"cut":false,"hidden":false,"merged":[[65,9,65,13],[52,9,52,13],[49,13,51,13],[59,4,61,12],[59,13,61,13],[62,4,64,7],[62,8,64,8],[62,9,64,12],[62,13,64,13],[58,53,58,57],[60,89,60,91],[61,89,61,91],[65,104,65,106],[66,98,66,100],[66,101,66,103],[66,104,66,106],[65,98,65,103],[23,48,25,56],[23,57,25,57],[26,48,28,51],[26,52,28,52],[26,53,28,56],[26,57,28,57],[35,48,37,56],[35,57,37,57],[38,48,40,51],[38,52,40,52],[38,53,40,56],[38,57,40,57],[29,53,29,57],[30,4,32,12],[30,13,32,13],[33,4,35,7],[33,8,35,8],[33,9,35,12],[33,13,35,13],[52,48,54,56],[52,57,54,57],[55,48,57,51],[55,52,57,52],[55,53,57,56],[55,57,57,57],[46,4,48,12],[46,13,48,13],[49,4,51,7],[49,8,51,8],[49,9,51,12],[36,9,36,13],[41,53,41,57],[29,112,31,115],[32,94,32,96],[32,99,34,106],[32,110,34,110],[32,111,34,111],[44,89,44,91],[45,70,47,73],[45,74,47,74],[45,75,47,75],[45,79,47,86],[45,89,48,91],[32,112,34,115],[33,94,33,96],[34,94,34,96],[42,70,44,73],[42,74,44,74],[42,75,44,75],[42,76,47,76],[42,79,44,86],[42,89,42,91],[43,89,43,91],[17,112,19,115],[18,84,20,91],[18,94,21,96],[18,99,20,106],[15,84,17,91],[15,94,15,96],[15,99,17,106],[16,94,16,96],[17,94,17,96],[17,109,19,109],[73,13,73,48],[17,110,19,110],[17,111,19,111],[28,94,31,96],[29,99,31,106],[29,109,34,109],[29,110,31,110],[29,111,31,111],[55,89,58,91],[56,79,58,86],[56,94,58,101],[59,70,61,73],[59,74,61,74],[59,75,61,75],[59,76,61,76],[59,79,61,86],[59,89,59,91],[59,94,61,101],[67,98,67,100],[67,101,67,103],[67,104,67,106],[68,98,71,100],[68,101,71,103],[68,104,71,106],[10,79,10,81],[10,82,10,84],[10,85,10,87],[11,79,11,81],[0,63,1,122],[2,63,3,122],[5,79,8,81],[5,82,8,84],[5,85,8,87],[9,79,9,81],[9,82,9,84],[9,85,9,87],[11,82,11,87],[11,2,12,9],[11,10,12,35],[7,36,8,41],[7,42,8,47],[7,48,8,53],[7,54,8,59],[9,36,12,47],[9,48,12,59],[0,1,1,60],[2,1,3,60],[5,2,6,9],[5,10,6,35],[5,36,6,59],[7,2,8,9],[7,10,8,35],[9,2,10,9],[9,10,10,35]]}
[null,"Diverging Diamond Interchange (N-S)",null,null,null,null,null,null,null,null,null,null,null,null,null,null,null,null,null,null,null,null,null,null,null,null,null,null,null,null,null,null,null,null,null,null,null,null,null,null,null,null,null,null,null,null,null,null,null,null,null,null,null,null,null,null,null,null,null,null,null,null,null,"Diverging Diamond Interchange (N-S)"]
[]
[null,"Design and Results",null,null,null,null,null,null,null,null,null,null,null,null,null,null,null,null,null,null,null,null,null,null,null,null,null,null,null,null,null,null,null,null,null,null,null,null,null,null,null,null,null,null,null,null,null,null,null,null,null,null,null,null,null,null,null,null,null,null,null,null,null,"Data Input and Configuration"]
[]
[]
[null,null,"Project Name:",null,null,null,null,null,null,null,{"$f":"P_Name","v":"Cap-X Sample Street"},null,null,null,null,null,null,null,null,null,null,null,null,null,null,null,null,null,null,null,null,null,null,null,null,null,"Volume-to-Capacity Ratio"]
[]
[null,null,"Project Number:",null,null,null,null,null,null,null,{"$f":"P_Number","v":10000},null,null,null,null,null,null,null,null,null,null,null,null,null,null,null,null,null,null,null,null,null,null,null,null,null,"< 0.750",null,null,null,null,null,"0.750 - 0.875",null,null,null,null,null,"0.875 - 1.00",null,null,null,null,null,"≥ 1.00"]
[]
[null,null,"Location",null,null,null,null,null,null,null,{"$f":"Location","v":"Anywhere, USA"},null,null,null,null,null,null,null,null,null,null,null,null,null,null,null,null,null,null,null,null,null,null,null,null,null,"VOLUME / CAPACITY RATIO:",null,null,null,null,null,null,null,null,null,null,null,{"$f":"MAX(E34,AW27,AW39,AW56,E50,E63)","v":0.24},null,null,null,null,null,null,null,null,null,null,null,null,null,null,null,null,null,null,null,null,null,null,null,null,null,null,null,null,null,null,"pepch",null,null,"pepch",null,null,"pepch"]
[null,null,null,null,null,null,null,null,null,null,null,null,null,null,null,null,null,null,null,null,null,null,null,null,null,null,null,null,null,null,null,null,null,null,null,null,null,null,null,null,null,null,null,null,null,null,null,null,null,null,null,null,null,null,null,null,null,null,null,null,null,null,null,null,null,null,null,null,null,null,null,null,null,null,null,null,null,null,null,{"$f":"SBR_Master","v":51},null,null,{"$f":"SBT_Master","v":204},null,null,{"$f":"SBL_Master","v":31}]
[null,null,"Date",null,null,null,null,null,null,null,{"$f":"Date","v":"2017 AM"},null,null,null,null,null,null,null,null,null,null,null,null,null,null,null,null,null,null,null,null,null,null,null,null,null,null,null,null,null,null,null,null,null,null,null,null,null,null,null,null,null,null,null,null,null,null,null,null,null,null,null,null,null,null,null,null,null,null,null,null,null,null,null,null,null,null,null,null,{"$f":"'3 - Alt Num Lanes Input'!AO131","v":1},null,null,{"$f":"'3 - Alt Num Lanes Input'!AM131","v":2}]
[]
[]
[]
[null,null,null,null,null,null,null,null,null,null,null,null,null,null,null,null,null,null,null,null,null,null,null,null,null,null,null,null,null,null,null,null,null,null,null,null,null,null,null,null,null,null,null,null,null,null,null,null,null,null,null,null,null,null,null,null,null,null,null,null,null,null,null,null,null,null,null,null,null,null,null,null,null,null,null,null,null,null,null,null,null,null,null,null,null,null,null,null,null,null,null,null,null,null,{"$f":"CU66","v":2}]
[null,null,null,null,null,null,null,null,null,null,null,null,null,null,null,null,null,null,null,null,null,null,null,null,null,null,null,null,null,null,null,null,null,null,null,null,null,null,null,null,null,null,null,null,null,null,null,null,null,null,null,null,null,null,null,null,null,null,null,null,null,null,null,null,null,null,null,null,null,null,null,null,null,null,null,null,null,null,null,null,null,null,null,null,null,null,null,null,null,null,null,null,null,null,{"$f":"BX46+CX67","v":541}]
[null,null,null,null,null,null,null,null,null,null,null,null,null,null,null,null,null,null,null,null,null,null,null,null,null,null,null,null,null,null,null,null,null,null,null,null,null,null,null,null,null,null,null,null,null,null,null,null,null,null,null,null,null,null,null,null,null,null,null,null,null,null,null,null,null,null,null,null,null,null,null,null,null,null,null,null,null,null,null,null,null,null,null,null,null,null,null,null,null,null,null,null,null,null,"pepch",null,null,null,null,null,null,null,null,null,null,null,null,null,null,{"$f":"'3 - Alt Num Lanes Input'!BE131","v":1},{"$f":"WBR_Master","v":51},"pepch"]
[null,null,null,null,null,null,null,null,null,null,null,null,null,null,null,null,null,null,null,null,null,null,null,null,null,null,null,null,null,null,null,null,null,null,null,null,null,null,null,null,null,null,null,null,null,null,null,null,null,null,null,null,null,null,null,null,null,null,null,null,null,null,null,null,null,null,null,null,null,null,null,null,null,null,null,null,null,null,null,null,null,null,null,null,{"$f":"CQ17/CQ16 + CQ34/CQ35","v":388},null,null,null,null,null,null,null,null,null,null,null,null,null,null,{"$f":"CQ17/CQ16+ DG18/LTAF/DF18","v":324.18421052631578}]
[]
[]
[]
[]
[null,null,null,null,null,null,null,null,null,null,null,null,null,null,null,null,null,null,null,null,null,null,null,null,null,null,null,null,null,null,null,null,null,null,null,null,null,null,null,null,null,null,null,null,null,null,null,null,{"$f":"CV19","v":324.18421052631578},null,null,null,null,null,null,null,null,"CLV"]
[]
[]
[null,null,null,null,null,null,null,null,null,null,null,null,null,null,null,null,null,null,null,null,null,null,null,null,null,null,null,null,null,null,null,null,null,null,null,null,null,null,null,null,null,null,null,null,null,null,null,null,{"$f":"ROUND(AW24/CLV_Limit_2,2)","v":0.18},null,null,null,"V/C",{"$f":"CLV_Limit_2","v":1800},null,null,null,"MAX"]
[]
[]
[null,null,null,null,null,null,null,null,null,null,null,null,null,null,null,null,null,null,null,null,null,null,null,null,null,null,null,null,null,null,null,null,null,null,null,null,null,null,null,null,null,null,null,null,null,null,null,null,null,null,null,null,null,"2 Phases",null,null,null,null,null,null,null,null,null,null,null,null,null,null,null,null,null,null,null,null,null,null,null,null,null,null,null,null,null,null,null,null,null,null,null,null,null,null,null,null,null,null,null,null,null,null,null,null,null,null,null,null,null,null,null,{"$f":"'3 - Alt Num Lanes Input'!BA131","v":1},{"$f":"WBL_Master","v":31},"pepch"]
[null,null,null,null,{"$f":"CG19","v":388},null,null,null,null,null,null,null,null,"CLV"]
[]
[null,null,null,null,null,null,null,null,null,null,null,null,null,null,null,null,null,null,null,null,null,null,null,null,null,null,null,null,null,null,null,null,null,null,null,null,null,null,null,null,null,null,null,null,null,null,null,null,null,null,null,null,null,null,null,null,null,null,null,null,null,null,null,null,null,null,null,null,null,null,null,null,null,null,null,null,null,null,null,null,null,null,null,null,null,null,null,null,null,null,null,null,null,null,"pepch",null,null,null,null,{"$f":"(DG30/LTAF +DG33/UTAF)/DF30 +CQ34/CQ35","v":150.13157894736844},null,null,null,null,null,null,null,null,null,null,{"$f":"WBU_Master","v":0},"pepch"]
[null,null,null,null,{"$f":"ROUND(E31/CLV_Limit_2,2)","v":0.22},null,null,null,"V/C",{"$f":"CLV_Limit_2","v":1800},null,null,null,"MAX",null,null,null,null,null,null,null,null,null,null,null,null,null,null,null,null,null,null,null,null,null,null,null,null,null,null,null,null,null,null,null,null,null,null,null,null,null,null,null,null,null,null,null,null,null,null,null,null,null,null,null,null,null,null,null,null,null,null,null,null,null,null,null,null,null,null,null,null,null,null,null,null,null,null,null,null,null,null,null,null,{"$f":"CE11+CH11","v":235}]
[null,null,null,null,null,null,null,null,null,null,null,null,null,null,null,null,null,null,null,null,null,null,null,null,null,null,null,null,null,null,null,null,null,null,null,null,null,null,null,null,null,null,null,null,null,null,null,null,null,null,null,null,null,null,null,null,null,null,null,null,null,null,null,null,null,null,null,null,null,null,null,null,null,null,null,null,null,null,null,null,null,null,null,null,null,null,null,null,null,null,null,null,null,null,{"$f":"CE12","v":2}]
[null,null,null,null,null,null,null,null,null,null,null,null,null,null,null,null,null,null,null,null,null,null,null,null,null,null,null,null,null,null,null,null,null,null,null,null,null,null,null,null,null,null,null,null,null,null,null,null,{"$f":"CV33","v":150.13157894736844},null,null,null,null,null,null,null,null,"CLV"]
[null,null,null,null,null,null,null,null,null,"2 Phases"]
[]
[null,null,null,null,null,null,null,null,null,null,null,null,null,null,null,null,null,null,null,null,null,null,null,null,null,null,null,null,null,null,null,null,null,null,null,null,null,null,null,null,null,null,null,null,null,null,null,null,{"$f":"ROUND(AW36/CLV_Limit_2,2)","v":0.08},null,null,null,"V/C",{"$f":"CLV_Limit_2","v":1800},null,null,null,"MAX"]
[]
[]
[null,null,null,null,null,null,null,null,null,null,null,null,null,null,null,null,null,null,null,null,null,null,null,null,null,null,null,null,null,null,null,null,null,null,null,null,null,null,null,null,null,null,null,null,null,null,null,null,null,null,null,null,null,"2 Phases"]
[null,null,null,null,null,null,null,null,null,null,null,null,null,null,null,null,null,null,null,null,null,null,null,null,null,null,null,null,null,null,null,null,null,null,null,null,null,null,null,null,null,null,null,null,null,null,null,null,null,null,null,null,null,null,null,null,null,null,null,null,null,null,null,null,null,null,null,null,null,null,null,null,null,null,"pepch",{"$f":"EBU_Master","v":0},{"$f":"'3 - Alt Num Lanes Input'!AS131","v":1},null,null,null,null,null,null,null,null,null,null,null,null,{"$f":"CU66","v":2}]
[null,null,null,null,null,null,null,null,null,null,null,null,null,null,null,null,null,null,null,null,null,null,null,null,null,null,null,null,null,null,null,null,null,null,null,null,null,null,null,null,null,null,null,null,null,null,null,null,null,null,null,null,null,null,null,null,null,null,null,null,null,null,null,null,null,null,null,null,null,null,null,null,null,null,null,null,null,null,null,null,null,null,null,null,null,null,null,null,null,{"$f":"CX67+CU67","v":612}]
[null,null,null,null,null,null,null,null,null,null,null,null,null,null,null,null,null,null,null,null,null,null,null,null,null,null,null,null,null,null,null,null,null,null,null,null,null,null,null,null,null,null,null,null,null,null,null,null,null,null,null,null,null,null,null,null,null,null,null,null,null,null,null,null,null,null,null,null,null,null,null,null,null,null,null,null,null,null,null,null,null,null,null,null,null,null,null,null,null,"pepch"]
[null,null,null,null,null,null,null,null,null,null,null,null,null,null,null,null,null,null,null,null,null,null,null,null,null,null,null,null,null,null,null,null,null,null,null,null,null,null,null,null,null,null,null,null,null,null,null,null,null,null,null,null,null,null,null,null,null,null,null,null,null,null,null,null,null,null,null,null,null,null,null,null,null,null,"pepch",{"$f":"EBL_Master","v":31},null,null,null,{"$f":"CL44/CL43+((BX46/LTAF)+(BX43/UTAF)/BY43)","v":338.63157894736844}]
[null,null,null,null,{"$f":"CB46","v":338.63157894736844},null,null,null,null,null,null,null,null,"CLV"]
[]
[]
[null,null,null,null,{"$f":"ROUND(E47/CLV_Limit_2,2)","v":0.19},null,null,null,"V/C",{"$f":"CLV_Limit_2","v":1800},null,null,null,"MAX"]
[]
[]
[null,null,null,null,null,null,null,null,null,"2 Phases",null,null,null,null,null,null,null,null,null,null,null,null,null,null,null,null,null,null,null,null,null,null,null,null,null,null,null,null,null,null,null,null,null,null,null,null,null,null,{"$f":"CQ60","v":423.5},null,null,null,null,null,null,null,null,"CLV"]
[]
[]
[null,null,null,null,null,null,null,null,null,null,null,null,null,null,null,null,null,null,null,null,null,null,null,null,null,null,null,null,null,null,null,null,null,null,null,null,null,null,null,null,null,null,null,null,null,null,null,null,{"$f":"ROUND(AW53/CLV_Limit_2,2)","v":0.24},null,null,null,"V/C",{"$f":"CLV_Limit_2","v":1800},null,null,null,"MAX"]
[]
[]
[null,null,null,null,null,null,null,null,null,null,null,null,null,null,null,null,null,null,null,null,null,null,null,null,null,null,null,null,null,null,null,null,null,null,null,null,null,null,null,null,null,null,null,null,null,null,null,null,null,null,null,null,null,"2 Phases"]
[null,null,null,null,{"$f":"CB60","v":171.18421052631578},null,null,null,null,null,null,null,null,"CLV",null,null,null,null,null,null,null,null,null,null,null,null,null,null,null,null,null,null,null,null,null,null,null,null,null,null,null,null,null,null,null,null,null,null,null,null,null,null,null,null,null,null,null,null,null,null,null,null,null,null,null,null,null,null,null,null,null,null,null,null,"pepch",{"$f":"EBR_Master","v":51},{"$f":"'3 - Alt Num Lanes Input'!AW131","v":1},null,null,{"$f":"CL61/CL62+BX60/LTAF/BY60","v":171.18421052631578},null,null,null,null,null,null,null,null,null,"pepch",null,null,null,null,{"$f":"CL61/CL62 +CL44/CL43","v":423.5}]
[null,null,null,null,null,null,null,null,null,null,null,null,null,null,null,null,null,null,null,null,null,null,null,null,null,null,null,null,null,null,null,null,null,null,null,null,null,null,null,null,null,null,null,null,null,null,null,null,null,null,null,null,null,null,null,null,null,null,null,null,null,null,null,null,null,null,null,null,null,null,null,null,null,null,null,null,null,null,null,null,null,null,null,null,null,null,null,null,null,{"$f":"CE11+DG30","v":235}]
[null,null,null,null,null,null,null,null,null,null,null,null,null,null,null,null,null,null,null,null,null,null,null,null,null,null,null,null,null,null,null,null,null,null,null,null,null,null,null,null,null,null,null,null,null,null,null,null,null,null,null,null,null,null,null,null,null,null,null,null,null,null,null,null,null,null,null,null,null,null,null,null,null,null,null,null,null,null,null,null,null,null,null,null,null,null,null,null,null,{"$f":"CE12","v":2}]
[null,null,null,null,{"$f":"ROUND(E60/CLV_Limit_2,2)","v":0.1},null,null,null,"V/C",{"$f":"CLV_Limit_2","v":1800},null,null,null,"MAX"]
[]
[]
[null,null,null,null,null,null,null,null,null,"2 Phases",null,null,null,null,null,null,null,null,null,null,null,null,null,null,null,null,null,null,null,null,null,null,null,null,null,null,null,null,null,null,null,null,null,null,null,null,null,null,null,null,null,null,null,null,null,null,null,null,null,null,null,null,null,null,null,null,null,null,null,null,null,null,null,null,null,null,null,null,null,null,null,null,null,null,null,null,null,null,null,null,null,null,null,null,null,null,null,null,{"$f":"'3 - Alt Num Lanes Input'!AE131","v":2},null,null,null,null,null,{"$f":"'3 - Alt Num Lanes Input'!AG131","v":1}]
[null,null,null,null,null,null,null,null,null,null,null,null,null,null,null,null,null,null,null,null,null,null,null,null,null,null,null,null,null,null,null,null,null,null,null,null,null,null,null,null,null,null,null,null,null,null,null,null,null,null,null,null,null,null,null,null,null,null,null,null,null,null,null,null,null,null,null,null,null,null,null,null,null,null,null,null,null,null,null,null,null,null,null,null,null,null,null,null,null,null,null,null,null,null,null,null,null,null,{"$f":"NBL_Master","v":102},null,null,{"$f":"NBT_Master","v":510},null,null,{"$f":"NBR_Master","v":204}]
[null,null,null,null,null,null,null,null,null,null,null,null,null,null,null,null,null,null,null,null,null,null,null,null,null,null,null,null,null,null,null,null,null,null,null,null,null,null,null,null,null,null,null,null,null,null,null,null,null,null,null,null,null,null,null,null,null,null,null,null,null,null,null,null,null,null,null,null,null,null,null,null,null,null,null,null,null,null,null,null,null,null,null,null,null,null,null,null,null,null,null,null,null,null,null,null,null,null,"pepch",null,null,"pepch",null,null,"pepch"]
[]
[]
[]
[]
[]
[null,null,null,null,null,null,null,null,null,null,null,null,null,"Note: This diagram does not reflect the actual lane configuration of the Intersection"]

{"sheet":"DDI E-W","index":62,"n_rows":98,"n_cols":78,"rows_kept":98,"cut":false,"hidden":false,"merged":[[22,73,22,77],[22,60,22,64],[22,47,22,51],[22,34,22,38],[22,21,22,25],[22,8,22,12],[16,55,18,63],[16,64,18,64],[19,55,21,58],[19,59,21,59],[19,60,21,63],[19,64,21,64],[16,68,18,76],[16,77,18,77],[19,68,21,71],[19,72,21,72],[19,73,21,76],[19,77,21,77],[16,29,18,37],[16,38,18,38],[19,29,21,32],[19,33,21,33],[19,34,21,37],[19,38,21,38],[16,42,18,50],[16,51,18,51],[19,42,21,45],[19,46,21,46],[19,47,21,50],[19,51,21,51],[19,7,21,7],[19,8,21,11],[19,12,21,12],[16,16,18,24],[16,25,18,25],[19,16,21,19],[19,20,21,20],[19,21,21,24],[19,25,21,25],[96,40,98,47],[96,64,98,71],[90,11,92,14],[90,15,92,15],[90,16,92,16],[98,32,101,34],[98,35,101,37],[98,74,101,76],[95,32,95,37],[95,74,95,76],[96,32,96,34],[96,35,96,37],[96,74,96,76],[97,32,97,34],[97,35,97,37],[97,74,97,76],[90,17,92,17],[87,70,89,70],[87,71,89,71],[81,20,83,27],[84,11,86,14],[84,15,86,15],[84,16,86,16],[84,20,86,27],[93,40,95,47],[93,64,95,71],[87,40,89,40],[87,41,89,41],[87,42,89,42],[87,43,89,46],[87,65,89,68],[87,69,89,69],[87,11,89,14],[87,15,89,15],[87,16,89,16],[81,64,83,64],[81,65,83,68],[84,52,86,59],[84,17,89,17],[78,8,80,8],[78,9,80,9],[78,10,80,10],[78,11,80,14],[78,33,80,36],[78,37,80,37],[72,32,74,39],[78,38,80,38],[78,39,80,39],[75,63,77,63],[75,64,77,64],[75,65,77,68],[69,32,71,39],[78,62,83,62],[78,63,80,63],[78,64,80,64],[78,65,80,68],[81,52,83,59],[81,63,83,63],[75,62,77,62],[72,3,72,5],[72,42,72,47],[56,1,57,79],[58,1,59,79],[66,3,69,5],[66,42,69,44],[66,45,69,47],[70,3,70,5],[70,42,70,44],[70,45,70,47],[69,8,71,15],[72,8,74,15],[0,1,1,79],[2,1,3,79],[5,2,6,9],[5,10,6,54],[71,3,71,5],[71,42,71,44],[71,45,71,47],[7,2,8,9],[7,10,8,54],[9,2,10,9],[9,10,10,54],[11,2,12,9],[11,10,12,54],[7,55,8,60],[7,61,8,66],[7,67,8,72],[5,55,6,78],[7,73,8,78],[9,55,12,66],[9,67,12,78],[54,22,54,57],[16,3,18,11],[16,12,18,12],[19,3,21,6]]}
[null,"Diverging Diamond Interchange (E-W)"]
[]
[null,"Design and Results"]
[]
[]
[null,null,"Project Name:",null,null,null,null,null,null,null,{"$f":"P_Name","v":"Cap-X Sample Street"},null,null,null,null,null,null,null,null,null,null,null,null,null,null,null,null,null,null,null,null,null,null,null,null,null,null,null,null,null,null,null,null,null,null,null,null,null,null,null,null,null,null,null,null,"Volume-to-Capacity Ratio"]
[]
[null,null,"Project Number:",null,null,null,null,null,null,null,{"$f":"P_Number","v":10000},null,null,null,null,null,null,null,null,null,null,null,null,null,null,null,null,null,null,null,null,null,null,null,null,null,null,null,null,null,null,null,null,null,null,null,null,null,null,null,null,null,null,null,null,"< 0.750",null,null,null,null,null,"0.750 - 0.875",null,null,null,null,null,"0.875 - 1.00",null,null,null,null,null,"≥ 1.00"]
[]
[null,null,"Location",null,null,null,null,null,null,null,{"$f":"Location","v":"Anywhere, USA"},null,null,null,null,null,null,null,null,null,null,null,null,null,null,null,null,null,null,null,null,null,null,null,null,null,null,null,null,null,null,null,null,null,null,null,null,null,null,null,null,null,null,null,null,"VOLUME / CAPACITY RATIO:",null,null,null,null,null,null,null,null,null,null,null,{"$f":"MAX(D20,Q20,AD20,AQ20,BD20,BQ20)","v":0.2}]
[]
[null,null,"Date",null,null,null,null,null,null,null,{"$f":"Date","v":"2017 AM"}]
[]
[]
[]
[]
[null,null,null,{"$f":"I73","v":213},null,null,null,null,null,null,null,null,"CLV",null,null,null,{"$f":"U85","v":270.5},null,null,null,null,null,null,null,null,"CLV",null,null,null,{"$f":"AG73","v":150.13157894736844},null,null,null,null,null,null,null,null,"CLV",null,null,null,{"$f":"AO97","v":224.86842105263159},null,null,null,null,null,null,null,null,"CLV",null,null,null,{"$f":"BA85","v":235},null,null,null,null,null,null,null,null,"CLV",null,null,null,{"$f":"BM97","v":357.5},null,null,null,null,null,null,null,null,"CLV"]
[]
[]
[null,null,null,{"$f":"ROUND(D17/CLV_Limit_2,2)","v":0.12},null,null,null,"V/C",{"$f":"CLV_Limit_2","v":1800},null,null,null,"MAX",null,null,null,{"$f":"ROUND(Q17/CLV_Limit_2,2)","v":0.15},null,null,null,"V/C",{"$f":"CLV_Limit_2","v":1800},null,null,null,"MAX",null,null,null,{"$f":"ROUND(AD17/CLV_Limit_2,2)","v":0.08},null,null,null,"V/C",{"$f":"CLV_Limit_2","v":1800},null,null,null,"MAX",null,null,null,{"$f":"ROUND(AQ17/CLV_Limit_2,2)","v":0.12},null,null,null,"V/C",{"$f":"CLV_Limit_2","v":1800},null,null,null,"MAX",null,null,null,{"$f":"ROUND(BD17/CLV_Limit_2,2)","v":0.13},null,null,null,"V/C",{"$f":"CLV_Limit_2","v":1800},null,null,null,"MAX",null,null,null,{"$f":"ROUND(BQ17/CLV_Limit_2,2)","v":0.2},null,null,null,"V/C",{"$f":"CLV_Limit_2","v":1800},null,null,null,"MAX"]
[]
[]
[null,null,null,null,null,null,null,null,"2 Phases",null,null,null,null,null,null,null,null,null,null,null,null,"2 Phases",null,null,null,null,null,null,null,null,null,null,null,null,"2 Phases",null,null,null,null,null,null,null,null,null,null,null,null,"2 Phases",null,null,null,null,null,null,null,null,null,null,null,null,"2 Phases",null,null,null,null,null,null,null,null,null,null,null,null,"2 Phases"]
[]
[]
[]
[]
[]
[]
[]
[]
[]
[]
[]
[]
[]
[]
[]
[]
[]
[]
[]
[]
[]
[]
[]
[]
[]
[]
[]
[]
[]
[]
[]
[null,null,null,null,null,null,null,null,null,null,null,null,null,null,null,null,null,null,null,null,null,null,"Note: This diagram does not reflect the actual lane configuration of the Intersection"]
[]
[null,"Diverging Diamond Interchange (E-W)"]
[]
[null,"Data Input and Configuration"]
[]
[]
[]
[]
[]
[]
[]
[]
[]
[]
[]
[null,null,null,"pepch",null,null,null,null,null,null,null,null,null,null,null,null,null,null,null,null,null,null,null,null,null,null,null,null,null,null,null,null,null,null,null,null,null,null,null,null,null,null,"pepch",null,null,"pepch"]
[null,null,null,{"$f":"SBR_Master","v":51},null,null,null,null,null,null,null,null,null,null,null,null,null,null,null,null,null,null,null,null,null,null,null,null,null,null,null,null,null,null,null,null,null,null,null,null,null,null,{"$f":"SBL_Master","v":31},null,null,{"$f":"SBU_Master","v":0}]
[null,null,null,{"$f":"'3 - Alt Num Lanes Input'!AO133","v":1},null,null,null,null,{"$f":"J79/I79+D72/RTAF/D73","v":213},null,null,null,null,null,null,null,null,null,null,null,null,null,null,null,null,null,null,null,null,null,null,null,{"$f":"(AQ72/LTAF +AT72/UTAF)/AQ73 +AM79/AN79","v":150.13157894736844},null,null,null,null,null,null,null,null,null,{"$f":"'3 - Alt Num Lanes Input'!AK133","v":1}]
[]
[]
[null,null,null,null,null,null,null,null,null,null,null,null,null,null,null,null,null,null,null,null,null,null,null,null,null,null,null,null,null,null,null,null,null,null,null,null,null,null,null,null,null,null,null,null,null,null,null,null,null,null,null,null,null,null,null,null,null,null,null,null,null,null,{"$f":"'3 - Alt Num Lanes Input'!BE133","v":1},{"$f":"WBR_Master","v":51},"pepch"]
[]
[]
[null,null,null,null,null,null,null,null,{"$f":"BK79","v":2},{"$f":"BL79+AJ97","v":306},"pepch",null,null,null,null,null,null,null,null,null,null,null,null,null,null,null,null,null,null,null,null,null,null,null,null,null,null,"pepch",{"$f":"Q88+Q85","v":235},{"$f":"R85","v":2},null,null,null,null,null,null,null,null,null,null,null,null,null,null,null,null,null,null,null,null,null,null,{"$f":"'3 - Alt Num Lanes Input'!BC133","v":2},{"$f":"WBT_Master","v":204},"pepch"]
[]
[]
[null,null,null,null,null,null,null,null,null,null,null,null,null,null,null,null,null,null,null,null,null,null,null,null,null,null,null,null,null,null,null,null,null,null,null,null,null,null,null,null,null,null,null,null,null,null,null,null,null,null,null,null,null,null,null,null,null,null,null,null,null,null,null,{"$f":"WBL_Master","v":31},"pepch"]
[]
[]
[null,null,null,null,null,null,null,null,null,null,null,null,null,null,null,"pepch",{"$f":"EBL_Master","v":31},{"$f":"'3 - Alt Num Lanes Input'!AU133","v":2},null,null,{"$f":"((Q85+Q88)/R85 +J79/I79)","v":270.5},null,null,null,null,null,null,null,null,null,null,null,null,null,null,null,null,null,null,null,null,null,null,null,null,null,null,null,null,null,null,null,{"$f":"((BL82+BL79)/BK79)+BS88/BT88","v":235}]
[]
[]
[null,null,null,null,null,null,null,null,null,null,null,null,null,null,null,"pepch",{"$f":"EBT_Master","v":204},null,null,null,null,null,null,null,null,null,null,null,null,null,null,null,null,null,null,null,null,null,null,null,{"$f":"BK79","v":2},{"$f":"BL79+BL82","v":235},"pepch",null,null,null,null,null,null,null,null,null,null,null,null,null,null,null,null,null,null,null,null,null,null,null,null,null,null,"pepch",{"$f":"Q88+AQ72","v":235},{"$f":"R85","v":2}]
[]
[]
[null,null,null,null,null,null,null,null,null,null,null,null,null,null,null,"pepch",{"$f":"EBR_Master","v":51},{"$f":"'3 - Alt Num Lanes Input'!AW133","v":1}]
[]
[]
[]
[]
[null,null,null,null,null,null,null,null,null,null,null,null,null,null,null,null,null,null,null,null,null,null,null,null,null,null,null,null,null,null,null,null,{"$f":"'3 - Alt Num Lanes Input'!AC133","v":1},null,null,null,null,null,null,null,null,null,null,null,null,null,null,null,null,null,null,null,null,null,null,null,null,null,null,null,null,null,null,null,null,null,null,null,null,null,null,null,null,null,{"$f":"'3 - Alt Num Lanes Input'!AG133","v":1}]
[null,null,null,null,null,null,null,null,null,null,null,null,null,null,null,null,null,null,null,null,null,null,null,null,null,null,null,null,null,null,null,null,{"$f":"NBU_Master","v":0},null,null,{"$f":"NBL_Master","v":102},null,null,null,null,{"$f":"(AJ97/LTAF +AG97/UTAF)/AG96 +AP88/AO88","v":224.86842105263159},null,null,null,null,null,null,null,null,null,null,null,null,null,null,null,null,null,null,null,null,null,null,null,{"$f":"(BW97/RTAF/BW96 +BS88/BT88)","v":357.5},null,null,null,null,null,null,null,null,null,{"$f":"NBR_Master","v":204}]
[null,null,null,null,null,null,null,null,null,null,null,null,null,null,null,null,null,null,null,null,null,null,null,null,null,null,null,null,null,null,null,null,"pepch",null,null,"pepch",null,null,null,null,null,null,null,null,null,null,null,null,null,null,null,null,null,null,null,null,null,null,null,null,null,null,null,null,null,null,null,null,null,null,null,null,null,null,"pepch"]

{"sheet":"Contraflow Left N-S","index":63,"n_rows":74,"n_cols":117,"rows_kept":74,"cut":false,"hidden":false,"merged":[[23,105,25,105],[23,106,25,106],[23,107,25,107],[55,85,55,87],[55,88,55,90],[56,85,56,87],[56,88,56,90],[64,91,64,93],[52,81,54,81],[55,91,55,93],[56,91,56,93],[40,82,40,84],[40,85,40,87],[40,88,40,90],[41,82,41,84],[41,85,41,87],[41,88,41,90],[42,82,42,84],[42,85,42,87],[42,88,42,90],[38,99,41,101],[38,102,41,104],[36,82,39,84],[23,108,25,111],[26,10,26,14],[29,105,31,105],[64,51,64,55],[73,13,73,48],[58,46,60,54],[58,55,60,55],[61,46,63,49],[61,50,63,50],[61,51,63,54],[61,55,63,55],[35,102,35,104],[35,96,35,98],[35,99,35,101],[36,96,36,98],[36,99,36,101],[36,102,36,104],[37,96,37,98],[37,99,37,101],[37,102,37,104],[38,96,41,98],[27,64,27,68],[27,69,27,72],[63,76,63,80],[20,5,22,13],[20,14,22,14],[23,5,25,8],[23,9,25,9],[23,10,25,13],[23,14,25,14],[26,64,26,68],[26,69,26,72],[22,93,22,95],[21,93,21,95],[0,1,1,60],[0,63,1,122],[2,1,3,60],[2,63,3,122],[5,2,6,9],[5,10,6,35],[5,36,6,59],[14,44,16,57],[14,58,15,59],[7,2,8,9],[7,10,8,35],[7,36,8,41],[7,42,8,47],[7,48,8,53],[7,54,8,59],[9,2,10,9],[9,10,10,35],[9,36,12,47],[9,48,12,59],[11,2,12,9],[11,10,12,35],[11,103,11,110],[15,93,15,95],[13,93,14,95],[46,75,48,78],[46,79,48,79],[46,80,48,80],[46,81,48,81],[46,84,48,91],[16,93,19,95],[16,96,19,98],[26,95,28,102],[20,93,20,95],[20,96,20,98],[20,99,20,101],[21,96,21,98],[21,99,21,101],[22,96,22,98],[22,99,22,101],[12,105,12,109],[13,96,15,101],[29,95,31,102],[29,106,31,106],[29,107,31,107],[29,108,31,111],[49,75,51,78],[49,79,51,79],[49,80,51,80],[49,81,51,81],[49,84,51,91],[42,109,53,120],[19,111,19,117],[20,112,20,116],[23,112,24,114],[26,112,28,117],[25,112,25,114],[16,99,19,101],[26,105,28,105],[26,106,28,106],[26,107,28,107],[26,108,28,111],[36,85,39,87],[36,88,39,90],[63,111,63,115],[63,116,63,119],[58,85,61,87],[58,88,61,90],[58,91,61,93],[62,85,64,90],[62,91,63,93],[49,69,51,74],[54,72,54,74],[52,72,53,74],[57,67,57,73],[58,68,58,72],[62,111,62,115],[62,116,62,119],[57,85,57,87],[57,88,57,90],[57,91,57,93],[62,75,62,81],[52,75,54,78],[52,79,54,79],[52,80,54,80]]}
[null,"Contraflow Left (N-S)",null,null,null,null,null,null,null,null,null,null,null,null,null,null,null,null,null,null,null,null,null,null,null,null,null,null,null,null,null,null,null,null,null,null,null,null,null,null,null,null,null,null,null,null,null,null,null,null,null,null,null,null,null,null,null,null,null,null,null,null,null,"Contraflow Left (N-S)"]
[]
[null,"Design and Results",null,null,null,null,null,null,null,null,null,null,null,null,null,null,null,null,null,null,null,null,null,null,null,null,null,null,null,null,null,null,null,null,null,null,null,null,null,null,null,null,null,null,null,null,null,null,null,null,null,null,null,null,null,null,null,null,null,null,null,null,null,"Data Input and Configuration"]
[]
[]
[null,null,"Project Name:",null,null,null,null,null,null,null,{"$f":"P_Name","v":"Cap-X Sample Street"},null,null,null,null,null,null,null,null,null,null,null,null,null,null,null,null,null,null,null,null,null,null,null,null,null,"Volume-to-Capacity Ratio"]
[]
[null,null,"Project Number:",null,null,null,null,null,null,null,{"$f":"P_Number","v":10000},null,null,null,null,null,null,null,null,null,null,null,null,null,null,null,null,null,null,null,null,null,null,null,null,null,"< 0.750",null,null,null,null,null,"0.750 - 0.875",null,null,null,null,null,"0.875 - 1.00",null,null,null,null,null,"≥ 1.00"]
[]
[null,null,"Location",null,null,null,null,null,null,null,{"$f":"Location","v":"Anywhere, USA"},null,null,null,null,null,null,null,null,null,null,null,null,null,null,null,null,null,null,null,null,null,null,null,null,null,"VOLUME / CAPACITY RATIO:",null,null,null,null,null,null,null,null,null,null,null,{"$f":"MAX(F24,AU62)","v":0.2}]
[]
[null,null,"Date",null,null,null,null,null,null,null,{"$f":"Date","v":"2017 AM"},null,null,null,null,null,null,null,null,null,null,null,null,null,null,null,null,null,null,null,null,null,null,null,null,null,null,null,null,null,null,null,null,null,null,null,null,null,null,null,null,null,null,null,null,null,null,null,null,null,null,null,null,null,null,null,null,null,null,null,null,null,null,null,null,null,null,null,null,null,null,null,null,null,null,null,null,null,null,null,null,null,null,null,null,null,null,null,null,null,null,null,null,{"$f":"CS14&\" Critical Vol\"","v":"SB Critical Vol"}]
[null,null,null,null,null,null,null,null,null,null,null,null,null,null,null,null,null,null,null,null,null,null,null,null,null,null,null,null,null,null,null,null,null,null,null,null,null,null,null,null,null,null,null,null,null,null,null,null,null,null,null,null,null,null,null,null,null,null,null,null,null,null,null,null,null,null,null,null,null,null,null,null,null,null,null,null,null,null,null,null,null,null,null,null,null,null,null,null,null,null,null,null,null,null,null,null,null,null,null,null,null,null,null,null,null,{"$f":"ROUND(MAX(MAX(IFERROR(Z3SBL/Z3SBLlanes,0),IFERROR(Z3NBT/Z3NBTlanes,0)),IFERROR(Z3NBL/LTAF/Z3NBLlanes,0)+MAX(IFERROR(Z3SBT/Z3SBTlanes,0),IFERROR(Z3SBR/RTAF/Z3SBRlanes,0))),0)","v":271}]
[null,null,null,null,null,null,null,null,null,null,null,null,null,null,null,null,null,null,null,null,null,null,null,null,null,null,null,null,null,null,null,null,null,null,null,null,null,null,null,null,null,null,null,null,null,null,null,null,null,null,null,null,null,null,null,null,null,null,null,null,null,null,null,null,null,null,null,null,null,null,null,null,null,null,null,null,null,null,null,null,null,null,null,null,null,null,null,null,null,null,null,null,null,"Shared\n?",null,null,"SB"]
[null,null,null,null,null,null,null,null,null,null,null,null,null,null,null,null,null,null,null,null,null,null,null,null,null,null,null,null,null,null,null,null,null,null,null,null,null,null,null,null,null,null,null,null,"Multimodal Capacity Adjustment Factor",null,null,null,null,null,null,null,null,null,null,null,null,null,{"$f":"IF(Multimodal=1,1,IF(MAX(Z3SBTlanes,Z3NBTlanes,Z4NBTlanes,Z4SBTlanes)<3,1,IF(MAX(Z3SBTlanes,Z3NBTlanes,Z4NBTlanes,Z4SBTlanes)<4,0.9,0.8)))","v":1}]
[null,null,null,null,null,null,null,null,null,null,null,null,null,null,null,null,null,null,null,null,null,null,null,null,null,null,null,null,null,null,null,null,null,null,null,null,null,null,null,null,null,null,null,null,null,null,null,null,null,null,null,null,null,null,null,null,null,null,null,null,null,null,null,null,null,null,null,null,null,null,null,null,null,null,null,null,null,null,null,null,null,null,null,null,null,null,null,null,null,null,null,null,null,{"$f":"IF(Z3SBRlanes=0,\"Yes\",\"No\")","v":"No"}]
[]
[]
[]
[null,null,null,null,null,null,null,null,null,null,null,null,null,null,null,null,null,null,null,null,null,null,null,null,null,null,null,null,null,null,null,null,null,null,null,null,null,null,null,null,null,null,null,null,null,null,null,null,null,null,null,null,null,null,null,null,null,null,null,null,null,null,null,null,null,null,null,null,null,null,null,null,null,null,null,null,null,null,null,null,null,null,null,null,null,null,null,null,null,null,null,null,null,null,null,null,null,null,null,null,null,null,null,null,null,null,null,null,null,null,null,{"$f":"DI27&\" Critical Vol\"","v":"WB Critical Vol"}]
[null,null,null,null,null,{"$f":"CR30","v":331},null,null,null,null,null,null,null,null,"CLV",null,null,null,null,null,null,null,null,null,null,null,null,null,null,null,null,null,null,null,null,null,null,null,null,null,null,null,null,null,null,null,null,null,null,null,null,null,null,null,null,null,null,null,null,null,null,null,null,null,null,null,null,null,null,null,null,null,null,null,null,null,null,null,null,null,null,null,null,null,null,null,null,null,null,null,null,null,null,"pcph",null,null,"pcph",null,null,"pcph",null,null,null,null,null,null,null,null,null,null,null,null,{"$f":"ROUND(MAX(IFERROR(Z3WBR/RTAF/Z3WBRlanes,0),Z3WBT/1,IFERROR(Z3WBL/LTAF/Z3WBLlanes,0)),0)","v":60}]
[null,null,null,null,null,null,null,null,null,null,null,null,null,null,null,null,null,null,null,null,null,null,null,null,null,null,null,null,null,null,null,null,null,null,null,null,null,null,null,null,null,null,null,null,null,null,null,null,null,null,null,null,null,null,null,null,null,null,null,null,null,null,null,null,null,null,null,null,null,null,null,null,null,null,null,null,null,null,null,null,null,null,null,null,null,null,null,null,null,null,null,null,null,{"$f":"IF(Z3SBRShared=\"Yes\",ROUND(INDIRECT(CS14&\"R_Master\")*(Z3SBRlanes/(Z3SBRlanes+1)),0),INDIRECT(CS14&\"R_Master\"))","v":51},null,null,{"$f":"INDIRECT(CS14&\"T_Master\")+ROUND((INDIRECT(CS14&\"R_Master\")-Z3SBR)/RTAF,0)","v":204},null,null,{"$f":"INDIRECT(CS14&\"L_Master\")","v":31}]
[null,null,null,null,null,null,null,null,null,null,null,null,null,null,null,null,null,null,null,null,null,null,null,null,null,null,null,null,null,null,null,null,null,null,null,null,null,null,null,null,null,null,null,null,null,null,null,null,null,null,null,null,null,null,null,null,null,null,null,null,null,null,null,null,null,null,null,null,null,null,null,null,null,null,null,null,null,null,null,null,null,null,null,null,null,null,null,null,null,null,null,null,null,{"$f":"'3 - Alt Num Lanes Input'!AO127","v":1},null,null,{"$f":"'3 - Alt Num Lanes Input'!AM127","v":2},null,null,{"$f":"'3 - Alt Num Lanes Input'!AK127","v":1}]
[null,null,null,null,null,{"$f":"ROUND(F21/CLV_Limit_3,2)","v":0.19},null,null,null,"V/C",{"$f":"CLV_Limit_3*BG15","v":1750},null,null,null,"MAX",null,null,null,null,null,null,null,null,null,null,null,null,null,null,null,null,null,null,null,null,null,null,null,null,null,null,null,null,null,null,null,null,null,null,null,null,null,null,null,null,null,null,null,null,null,null,null,null,null,null,null,null,null,null,null,null,null,null,null,null,null,null,null,null,null,null,null,null,null,null,null,null,null,null,null,null,null,null,null,null,null,null,null,null,null,null,null,null,null,null,{"$f":"'3 - Alt Num Lanes Input'!BE127","v":1},{"$f":"IF(Z3WBRShared=\"Yes\",ROUND(INDIRECT(DI27&\"R_Master\")*(Z3WBRlanes/(Z3WBRlanes+1)),0),INDIRECT(DI27&\"R_Master\"))","v":51},"pcph",null,null,null,null,"Shared\n?"]
[]
[null,null,null,null,null,null,null,null,null,null,null,null,null,null,null,null,null,null,null,null,null,null,null,null,null,null,null,null,null,null,null,null,null,null,null,null,null,null,null,null,null,null,null,null,null,null,null,null,null,null,null,null,null,null,null,null,null,null,null,null,null,null,null,null,null,null,null,null,null,null,null,null,null,null,null,null,null,null,null,null,null,null,null,null,null,null,null,null,null,null,null,null,null,null,null,null,null,null,null,null,null,null,null,null,null,null,null,null,null,null,null,null,{"$f":"IF(Z3WBRlanes=0,\"Yes\",\"No\")","v":"No"}]
[null,null,null,null,null,null,null,null,null,null,"3 Phases",null,null,null,null,null,null,null,null,null,null,null,null,null,null,null,null,null,null,null,null,null,null,null,null,null,null,null,null,null,null,null,null,null,null,null,null,null,null,null,null,null,null,null,null,null,null,null,null,null,null,null,null,null,"EW Split?",null,null,null,null,false,null,null,null,null,null,null,null,null,null,null,null,null,null,null,null,null,null,null,null,null,null,null,null,null,null,null,null,null,null,null,null,null,null,null,null,null,{"$f":"IF(Z3WBRShared=\"Yes\",ROUND((INDIRECT(DI27&\"L_Master\")-Z3WBL)/LTAF+(INDIRECT(DI27&\"R_Master\")-Z3WBR)/RTAF,0),0)","v":0},"pcph",null,null,null,null,"WB"]
[null,null,null,null,null,null,null,null,null,null,null,null,null,null,null,null,null,null,null,null,null,null,null,null,null,null,null,null,null,null,null,null,null,null,null,null,null,null,null,null,null,null,null,null,null,null,null,null,null,null,null,null,null,null,null,null,null,null,null,null,null,null,null,null,"NS Split?",null,null,null,null,true]
[]
[null,null,null,null,null,null,null,null,null,null,null,null,null,null,null,null,null,null,null,null,null,null,null,null,null,null,null,null,null,null,null,null,null,null,null,null,null,null,null,null,null,null,null,null,null,null,null,null,null,null,null,null,null,null,null,null,null,null,null,null,null,null,null,null,null,null,null,null,null,null,null,null,null,null,null,null,null,null,null,null,null,null,null,null,null,null,null,null,null,null,null,null,null,null,null,{"$f":"Z3SB+Z3WB","v":331},null,null,null,null,null,null,null,null,null,{"$f":"'3 - Alt Num Lanes Input'!BA127","v":1},{"$f":"IF(AND(Z3WBRShared=\"Yes\",Z3WBLlanes<2),ROUND((INDIRECT(DI27&\"L_Master\"))*(Z3WBLlanes/(Z3WBLlanes+1)),0),INDIRECT(DI27&\"L_Master\"))","v":31},"pcph"]
[]
[]
[]
[]
[]
[null,null,null,null,null,null,null,null,null,null,null,null,null,null,null,null,null,null,null,null,null,null,null,null,null,null,null,null,null,null,null,null,null,null,null,null,null,null,null,null,null,null,null,null,null,null,null,null,null,null,null,null,null,null,null,null,null,null,null,null,null,null,null,null,null,null,null,null,null,null,null,null,null,null,null,null,null,null,null,null,null,null,null,null,null,null,null,null,null,null,null,null,null,null,null,null,1,null,null,{"$f":"Z4NBTlanes","v":2}]
[null,null,null,null,null,null,null,null,null,null,null,null,null,null,null,null,null,null,null,null,null,null,null,null,null,null,null,null,null,null,null,null,null,null,null,null,null,null,null,null,null,null,null,null,null,null,null,null,null,null,null,null,null,null,null,null,null,null,null,null,null,null,null,null,null,null,null,null,null,null,null,null,null,null,null,null,null,null,null,null,null,null,null,null,null,null,null,null,null,null,null,null,null,null,null,null,{"$f":"Z4NBL","v":102},null,null,{"$f":"INDIRECT(CH63&\"T_Master\")+INDIRECT(BR50&\"L_Master\")","v":541}]
[null,null,null,null,null,null,null,null,null,null,null,null,null,null,null,null,null,null,null,null,null,null,null,null,null,null,null,null,null,null,null,null,null,null,null,null,null,null,null,null,null,null,null,null,null,null,null,null,null,null,null,null,null,null,null,null,null,null,null,null,null,null,null,null,null,null,null,null,null,null,null,null,null,null,null,null,null,null,null,null,null,null,null,null,null,null,null,null,null,null,null,null,null,null,null,null,"pcph",null,null,"pcph",null,null,"pcph"]
[]
[]
[null,null,null,null,null,null,null,null,null,null,null,null,null,null,null,null,null,null,null,null,null,null,null,null,null,null,null,null,null,null,null,null,null,null,null,null,null,null,null,null,null,null,null,null,null,null,null,null,null,null,null,null,null,null,null,null,null,null,null,null,null,null,null,null,null,null,null,null,null,null,null,null,null,null,null,null,null,null,null,null,null,null,"pcph",null,null,"pcph",null,null,"pcph"]
[null,null,null,null,null,null,null,null,null,null,null,null,null,null,null,null,null,null,null,null,null,null,null,null,null,null,null,null,null,null,null,null,null,null,null,null,null,null,null,null,null,null,null,null,null,null,null,null,null,null,null,null,null,null,null,null,null,null,null,null,null,null,null,null,null,null,null,null,null,null,null,null,null,null,null,null,null,null,null,null,null,null,null,null,null,{"$f":"INDIRECT(CS14&\"T_Master\")+INDIRECT(DI27&\"L_Master\")","v":235},null,null,{"$f":"Z3SBL","v":31}]
[null,null,null,null,null,null,null,null,null,null,null,null,null,null,null,null,null,null,null,null,null,null,null,null,null,null,null,null,null,null,null,null,null,null,null,null,null,null,null,null,null,null,null,null,null,null,null,null,null,null,null,null,null,null,null,null,null,null,null,null,null,null,null,null,null,null,null,null,null,null,null,null,null,null,null,null,null,null,null,null,null,null,null,null,null,{"$f":"Z3SBTlanes","v":2},null,null,1,null,null,null,null,null,null,null,null,null,null,null,null,null,null,null,null,null,null,null,null,{"$f":"IF((DC27+CC50)>0,\"Warning: Includes Frontage Roads on Ramps\",\"\")","v":""}]
[]
[]
[]
[null,null,null,null,null,null,null,null,null,null,null,null,null,null,null,null,null,null,null,null,null,null,null,null,null,null,null,null,null,null,null,null,null,null,null,null,null,null,null,null,null,null,null,null,null,null,null,null,null,null,null,null,null,null,null,null,null,null,null,null,null,null,null,null,null,null,null,null,null,null,null,null,null,null,null,null,null,null,null,"pcph",{"$f":"IF(AND(Z4EBRShared=\"Yes\",Z4EBLlanes<2),ROUND((INDIRECT(BR50&\"L_Master\"))*(Z4EBLlanes/(Z4EBLlanes+1)),0),INDIRECT(BR50&\"L_Master\"))","v":31},{"$f":"'3 - Alt Num Lanes Input'!AS127","v":1}]
[]
[]
[null,null,null,null,null,null,null,null,null,null,null,null,null,null,null,null,null,null,null,null,null,null,null,null,null,null,null,null,null,null,null,null,null,null,null,null,null,null,null,null,null,null,null,null,null,null,null,null,null,null,null,null,null,null,null,null,null,null,null,null,null,null,null,null,null,null,null,null,null,"EB",null,null,null,null,null,null,null,null,null,"pcph",{"$f":"IF(Z4EBRShared=\"Yes\",ROUND((INDIRECT(BR50&\"L_Master\")-Z4EBL)/LTAF+(INDIRECT(BR50&\"R_Master\")-Z4EBR)/RTAF,0),0)","v":0},null,null,null,{"$f":"Z4EB+Z4NB","v":348}]
[]
[]
[null,null,null,null,null,null,null,null,null,null,null,null,null,null,null,null,null,null,null,null,null,null,null,null,null,null,null,null,null,null,null,null,null,null,null,null,null,null,null,null,null,null,null,null,null,null,null,null,null,null,null,null,null,null,null,null,null,null,null,null,null,null,null,null,null,null,null,null,null,null,null,null,"Shared\n?",null,null,null,null,null,null,"pcph",{"$f":"IF(Z4EBRShared=\"Yes\",ROUND(INDIRECT(BR50&\"R_Master\")*(Z4EBRlanes/(Z4EBRlanes+1)),0),INDIRECT(BR50&\"R_Master\"))","v":51},1]
[]
[null,null,null,null,null,null,null,null,null,null,null,null,null,null,null,null,null,null,null,null,null,null,null,null,null,null,null,null,null,null,null,null,null,null,null,null,null,null,null,null,null,null,null,null,null,null,null,null,null,null,null,null,null,null,null,null,null,null,null,null,null,null,null,null,null,null,null,null,null,null,null,null,{"$f":"IF(Z4EBRlanes=0,\"Yes\",\"No\")","v":"No"}]
[null,null,null,null,null,null,null,null,null,null,null,null,null,null,null,null,null,null,null,null,null,null,null,null,null,null,null,null,null,null,null,null,null,null,null,null,null,null,null,null,null,null,null,null,null,null,null,null,null,null,null,null,null,null,null,null,null,null,null,null,null,null,null,null,null,null,null,null,null,null,null,null,null,null,null,null,null,null,null,null,null,null,null,null,null,{"$f":"'3 - Alt Num Lanes Input'!AC127","v":1},null,null,{"$f":"'3 - Alt Num Lanes Input'!AE127","v":2},null,null,{"$f":"'3 - Alt Num Lanes Input'!AG127","v":1}]
[null,null,null,null,null,null,null,null,null,null,null,null,null,null,null,null,null,null,null,null,null,null,null,null,null,null,null,null,null,null,null,null,null,null,null,null,null,null,null,null,null,null,null,null,null,null,null,null,null,null,null,null,null,null,null,null,null,null,null,null,null,null,null,null,null,null,null,null,null,null,null,null,null,null,null,null,null,null,null,null,null,null,null,null,null,{"$f":"INDIRECT(CH63&\"L_Master\")","v":102},null,null,{"$f":"INDIRECT(CH63&\"T_Master\")+ROUND((INDIRECT(CH63&\"R_Master\")-Z4NBR)/RTAF,0)","v":510},null,null,{"$f":"IF(Z4NBRShared=\"Yes\",ROUND(INDIRECT(CH63&\"R_Master\")*(Z4NBRlanes/(Z4NBRlanes+1)),0),INDIRECT(CH63&\"R_Master\"))","v":204}]
[null,null,null,null,null,null,null,null,null,null,null,null,null,null,null,null,null,null,null,null,null,null,null,null,null,null,null,null,null,null,null,null,null,null,null,null,null,null,null,null,null,null,null,null,null,null,null,null,null,null,null,null,null,null,null,null,null,null,null,null,null,null,null,null,null,null,null,{"$f":"BR50&\" Critical Vol\"","v":"EB Critical Vol"},null,null,null,null,null,null,null,null,null,null,null,null,null,null,null,null,null,"pcph",null,null,"pcph",null,null,"pcph"]
[null,null,null,null,null,null,null,null,null,null,null,null,null,null,null,null,null,null,null,null,null,null,null,null,null,null,null,null,null,null,null,null,null,null,null,null,null,null,null,null,null,null,null,null,null,null,{"$f":"CG50","v":348},null,null,null,null,null,null,null,null,"CLV",null,null,null,null,null,null,null,null,null,null,null,null,{"$f":"ROUND(MAX(IFERROR(Z4EBL/LTAF/Z4EBLlanes,0),Z4EBT/1,IFERROR(Z4EBR/RTAF/Z4EBRlanes,0)),0)","v":60}]
[]
[]
[null,null,null,null,null,null,null,null,null,null,null,null,null,null,null,null,null,null,null,null,null,null,null,null,null,null,null,null,null,null,null,null,null,null,null,null,null,null,null,null,null,null,null,null,null,null,{"$f":"ROUND(AU59/CLV_Limit_3,2)","v":0.2},null,null,null,"V/C",{"$f":"CLV_Limit_3*BG15","v":1750},null,null,null,"MAX"]
[null,null,null,null,null,null,null,null,null,null,null,null,null,null,null,null,null,null,null,null,null,null,null,null,null,null,null,null,null,null,null,null,null,null,null,null,null,null,null,null,null,null,null,null,null,null,null,null,null,null,null,null,null,null,null,null,null,null,null,null,null,null,null,null,null,null,null,null,null,null,null,null,null,null,null,{"$f":"CH63&\" Critical Vol\"","v":"NB Critical Vol"},null,null,null,null,null,null,null,null,null,"NB",null,null,null,null,null,"Shared\n?",null,null,null,null,null,null,null,null,null,null,null,null,null,null,null,null,null,null,null,"EW Split?",null,null,null,null,false]
[null,null,null,null,null,null,null,null,null,null,null,null,null,null,null,null,null,null,null,null,null,null,null,null,null,null,null,null,null,null,null,null,null,null,null,null,null,null,null,null,null,null,null,null,null,null,null,null,null,null,null,null,null,null,null,null,null,null,null,null,null,null,null,null,null,null,null,null,null,null,null,null,null,null,null,null,{"$f":"ROUND(MAX(MAX(IFERROR(Z4NBL/Z4NBLlanes,0),IFERROR(Z4SBT/Z4SBTlanes,0)),IFERROR(Z4SBL/LTAF/Z4SBLlanes,0)+MAX(IFERROR(Z4NBT/Z4NBTlanes,0),IFERROR(Z4NBR/RTAF/Z4NBRlanes,0))),0)","v":288},null,null,null,null,null,null,null,null,null,null,null,null,null,null,null,null,null,null,null,null,null,null,null,null,null,null,null,null,null,null,null,null,null,null,"NS Split?",null,null,null,null,true]
[null,null,null,null,null,null,null,null,null,null,null,null,null,null,null,null,null,null,null,null,null,null,null,null,null,null,null,null,null,null,null,null,null,null,null,null,null,null,null,null,null,null,null,null,null,null,null,null,null,null,null,"3 Phases",null,null,null,null,null,null,null,null,null,null,null,null,null,null,null,null,null,null,null,null,null,null,null,null,null,null,null,null,null,null,null,null,null,null,null,null,null,null,null,{"$f":"IF(Z4NBRlanes=0,\"Yes\",\"No\")","v":"No"}]
[]
[]
[]
[]
[]
[]
[]
[]
[null,null,null,null,null,null,null,null,null,null,null,null,null,"Note: This diagram does not reflect the actual lane configuration of the Intersection"]

{"sheet":"Contraflow Left E-W","index":64,"n_rows":103,"n_cols":77,"rows_kept":103,"cut":false,"hidden":false,"merged":[[61,17,71,28],[69,44,69,48],[82,49,84,49],[101,29,101,33],[101,34,101,37],[58,1,59,79],[46,62,48,75],[46,76,47,77],[74,28,74,34],[75,29,75,33],[77,20,78,22],[77,23,79,28],[79,20,79,22],[80,20,83,22],[80,23,83,25],[80,26,83,28],[69,49,69,52],[84,20,84,22],[84,23,84,25],[84,26,84,28],[70,44,70,48],[70,49,70,52],[85,20,85,22],[73,62,75,62],[20,64,22,67],[20,68,22,68],[23,16,23,20],[23,64,23,68],[54,23,54,56],[56,1,57,79],[17,11,19,19],[17,20,19,20],[17,59,19,67],[17,68,19,68],[20,11,22,14],[20,15,22,15],[20,16,22,19],[20,20,22,20],[20,59,22,62],[20,63,22,63],[7,73,8,78],[9,2,10,9],[9,10,10,54],[9,55,12,66],[9,67,12,78],[11,2,12,9],[11,10,12,54],[0,1,1,79],[2,1,3,79],[5,2,6,9],[5,10,6,54],[5,55,6,78],[7,2,8,9],[7,10,8,54],[7,55,8,60],[7,61,8,66],[7,67,8,72],[73,63,75,63],[73,64,75,64],[73,65,75,68],[73,69,74,71],[75,69,75,71],[90,5,90,12],[90,13,92,16],[90,17,92,17],[90,18,92,18],[90,19,92,19],[90,22,92,29],[90,32,92,32],[90,33,92,33],[90,34,92,34],[90,35,92,38],[76,43,78,46],[76,47,78,47],[76,48,78,48],[76,49,78,49],[76,52,78,59],[76,62,78,62],[76,63,78,63],[76,64,78,64],[76,65,78,68],[76,69,78,74],[91,7,91,11],[93,7,95,12],[93,13,95,16],[93,17,95,17],[93,18,95,18],[93,19,95,19],[93,22,95,29],[93,32,95,32],[93,33,95,33],[93,34,95,34],[93,35,95,38],[79,43,81,46],[79,47,81,47],[79,48,81,48],[79,49,81,49],[79,52,81,59],[79,62,81,62],[79,63,81,63],[79,64,81,64],[79,65,81,68],[83,69,83,75],[85,23,85,25],[98,10,98,12],[84,70,84,74],[85,53,85,55],[85,56,85,58],[85,59,85,61],[86,53,86,55],[86,56,86,58],[86,59,86,61],[96,10,97,12],[96,13,98,16],[96,17,98,17],[96,18,98,18],[96,19,98,19],[82,43,84,46],[82,47,84,47],[82,48,84,48],[85,26,85,28],[86,20,86,22],[86,23,86,25],[86,26,86,28],[87,32,89,32],[87,33,89,33],[87,34,89,34],[87,35,89,38],[100,58,100,64],[101,59,101,63],[87,53,87,55],[87,56,87,58],[87,59,87,61],[102,29,102,33],[102,34,102,37],[88,53,91,55],[88,56,91,58],[88,59,91,61],[92,53,94,58],[92,59,92,61],[93,59,94,61]]}
[null,"Contraflow Left Interchange (E-W)"]
[]
[null,"Design and Results"]
[]
[]
[null,null,"Project Name:",null,null,null,null,null,null,null,{"$f":"P_Name","v":"Cap-X Sample Street"},null,null,null,null,null,null,null,null,null,null,null,null,null,null,null,null,null,null,null,null,null,null,null,null,null,null,null,null,null,null,null,null,null,null,null,null,null,null,null,null,null,null,null,null,"Volume-to-Capacity Ratio"]
[]
[null,null,"Project Number:",null,null,null,null,null,null,null,{"$f":"P_Number","v":10000},null,null,null,null,null,null,null,null,null,null,null,null,null,null,null,null,null,null,null,null,null,null,null,null,null,null,null,null,null,null,null,null,null,null,null,null,null,null,null,null,null,null,null,null,"< 0.750",null,null,null,null,null,"0.750 - 0.875",null,null,null,null,null,"0.875 - 1.00",null,null,null,null,null,"≥ 1.00"]
[]
[null,null,"Location",null,null,null,null,null,null,null,{"$f":"Location","v":"Anywhere, USA"},null,null,null,null,null,null,null,null,null,null,null,null,null,null,null,null,null,null,null,null,null,null,null,null,null,null,null,null,null,null,null,null,null,null,null,null,null,null,null,null,null,null,null,null,"VOLUME / CAPACITY RATIO:",null,null,null,null,null,null,null,null,null,null,null,{"$f":"MAX(L21,BH21)","v":0.21}]
[]
[null,null,"Date",null,null,null,null,null,null,null,{"$f":"Date","v":"2017 AM"}]
[]
[]
[]
[]
[]
[null,null,null,null,null,null,null,null,null,null,null,{"$f":"W94","v":213},null,null,null,null,null,null,null,null,"CLV",null,null,null,null,null,null,null,null,null,null,null,null,null,null,null,null,null,null,null,null,null,null,null,null,null,null,null,null,null,null,null,null,null,null,null,null,null,null,{"$f":"BA80","v":375},null,null,null,null,null,null,null,null,"CLV"]
[]
[]
[null,null,null,null,null,null,null,null,null,null,null,{"$f":"ROUND(L18/CLV_Limit_3,2)","v":0.12},null,null,null,"V/C",{"$f":"CLV_Limit_3*BY47","v":1750},null,null,null,"MAX",null,null,null,null,null,null,null,null,null,null,null,null,null,null,null,null,null,null,null,null,null,null,null,null,null,null,null,null,null,null,null,null,null,null,null,null,null,null,{"$f":"ROUND(BH18/CLV_Limit_3,2)","v":0.21},null,null,null,"V/C",{"$f":"CLV_Limit_3*BY47","v":1750},null,null,null,"MAX"]
[]
[]
[null,null,null,null,null,null,null,null,null,null,null,null,null,null,null,null,"3 Phases",null,null,null,null,null,null,null,null,null,null,null,null,null,null,null,null,null,null,null,null,null,null,null,null,null,null,null,null,null,null,null,null,null,null,null,null,null,null,null,null,null,null,null,null,null,null,null,"3 Phases"]
[]
[]
[]
[]
[]
[]
[]
[]
[]
[]
[]
[]
[]
[]
[]
[]
[]
[]
[]
[]
[]
[]
[null,null,null,null,null,null,null,null,null,null,null,null,null,null,null,null,null,null,null,null,null,null,null,null,null,null,null,null,null,null,null,null,null,null,null,null,null,null,null,null,null,null,null,null,null,null,null,null,null,null,null,null,null,null,null,null,null,null,null,null,null,null,"Multimodal Capacity Adjustment Factor",null,null,null,null,null,null,null,null,null,null,null,null,null,{"$f":"IF(Multimodal=1,1,IF(MAX(Z4EBTlanes,Z4WBTlanes,Z3WBTlanes,Z3EBTlanes)<3,1,IF(MAX(Z4EBTlanes,Z4WBTlanes,Z3WBTlanes,Z3EBTlanes)<4,0.9,0.8)))","v":1}]
[]
[]
[]
[]
[]
[]
[]
[null,null,null,null,null,null,null,null,null,null,null,null,null,null,null,null,null,null,null,null,null,null,null,"Note: This diagram does not reflect the actual lane configuration of the Intersection"]
[]
[null,"Contraflow Left Interchange (E-W)"]
[]
[null,"Data Input and Configuration"]
[]
[]
[null,null,null,null,null,null,null,null,null,null,null,null,null,null,null,null,null,{"$f":"IF((Z4SBT+Z3NBT)>0,\"Warning: Includes Frontage Roads on Ramps\",\"\")","v":""}]
[]
[]
[]
[]
[]
[]
[]
[null,null,null,null,null,null,null,null,null,null,null,null,null,null,null,null,null,null,null,null,null,null,null,null,null,null,null,null,null,null,null,null,null,null,null,null,null,null,null,null,null,null,null,null,"EW Split?",null,null,null,null,false]
[null,null,null,null,null,null,null,null,null,null,null,null,null,null,null,null,null,null,null,null,null,null,null,null,null,null,null,null,null,null,null,null,null,null,null,null,null,null,null,null,null,null,null,null,"NS Split?",null,null,null,null,true]
[]
[]
[null,null,null,null,null,null,null,null,null,null,null,null,null,null,null,null,null,null,null,null,null,null,null,null,null,null,null,null,null,null,null,null,null,null,null,null,null,null,null,null,null,null,null,null,null,null,null,null,null,null,null,null,null,null,null,null,null,null,null,null,null,null,{"$f":"'3 - Alt Num Lanes Input'!BE129","v":1},{"$f":"IF(Z3WBRShared=\"Yes\",ROUND(INDIRECT(BR77&\"R_Master\")*(Z3WBRlanes/(Z3WBRlanes+1)),0),INDIRECT(BR77&\"R_Master\"))","v":51},"pcph",null,null,null,null,"Shared\n?"]
[null,null,null,null,null,null,null,null,null,null,null,null,null,null,null,null,null,null,null,null,null,null,null,null,null,null,null,null,{"$f":"X78&\" Critical Vol\"","v":"SB Critical Vol"}]
[null,null,null,null,null,null,null,null,null,null,null,null,null,null,null,null,null,null,null,null,null,null,null,null,null,null,null,null,null,{"$f":"ROUND(MAX(IFERROR(Z4SBR/RTAF/Z4SBRlanes,0),Z4SBT/1,IFERROR(Z4SBL/LTAF/Z4SBLlanes,0)),0)","v":60},null,null,null,null,null,null,null,null,null,null,null,null,null,null,null,null,null,null,null,null,null,null,null,null,null,null,null,null,null,null,null,null,null,null,null,null,null,null,null,{"$f":"IF(Z3WBRlanes=0,\"Yes\",\"No\")","v":"No"}]
[null,null,null,null,null,null,null,null,null,null,null,null,null,null,null,null,null,null,null,null,null,null,null,null,null,null,null,null,null,null,null,null,null,null,null,null,null,null,null,null,null,null,null,null,null,null,null,"pcph",{"$f":"Z4EBL","v":31},1,null,null,null,null,null,null,null,null,null,null,null,null,{"$f":"'3 - Alt Num Lanes Input'!BC129","v":2},{"$f":"INDIRECT(BR77&\"T_Master\")+ROUND((INDIRECT(BR77&\"R_Master\")-Z3WBR)/RTAF,0)","v":204},"pcph",null,null,null,null,"WB"]
[null,null,null,null,null,null,null,null,null,null,null,null,null,null,null,null,null,null,null,null,"Shared\n?",null,null,"SB"]
[]
[null,null,null,null,null,null,null,null,null,null,null,null,null,null,null,null,null,null,null,null,{"$f":"IF(Z4SBRlanes=0,\"Yes\",\"No\")","v":"No"},null,null,null,null,null,null,null,null,null,null,null,null,null,null,null,null,null,null,null,null,null,null,null,null,null,null,"pcph",{"$f":"INDIRECT(H94&\"T_Master\")+INDIRECT(X78&\"L_Master\")","v":235},{"$f":"Z4EBTlanes","v":2},null,null,{"$f":"Z3NB+Z3WB","v":375},null,null,null,null,null,null,null,null,null,{"$f":"'3 - Alt Num Lanes Input'!BA129","v":1},{"$f":"INDIRECT(BR77&\"L_Master\")","v":31},"pcph"]
[]
[]
[null,null,null,null,null,null,null,null,null,null,null,null,null,null,null,null,null,null,null,null,null,null,null,null,null,null,null,null,null,null,null,null,null,null,null,null,null,null,null,null,null,null,null,null,null,null,null,"pcph"]
[null,null,null,null,null,null,null,null,null,null,null,null,null,null,null,null,null,null,null,null,null,null,null,null,null,null,null,null,null,null,null,null,null,null,null,null,null,null,null,null,null,null,null,null,null,null,null,null,null,null,null,null,null,null,null,null,null,null,null,null,null,null,null,null,null,null,null,null,null,{"$f":"BR77&\" Critical Vol\"","v":"WB Critical Vol"}]
[null,null,null,null,null,null,null,null,null,null,null,null,null,null,null,null,null,null,null,null,"pcph",null,null,"pcph",null,null,"pcph",null,null,null,null,null,null,null,null,null,null,null,null,null,null,null,null,null,null,null,null,null,null,null,null,null,null,null,null,null,null,null,null,null,null,null,null,null,null,null,null,null,null,null,{"$f":"ROUND(MAX(MAX(IFERROR(Z3WBL/Z3WBLlanes,0),IFERROR(Z3EBT/Z3EBTlanes,0)),IFERROR(Z3EBL/LTAF/Z3EBLlanes,0)+MAX(IFERROR(Z3WBT/Z3WBTlanes,0),IFERROR(Z3WBR/RTAF/Z3WBRlanes,0))),0)","v":135}]
[null,null,null,null,null,null,null,null,null,null,null,null,null,null,null,null,null,null,null,null,{"$f":"IF(Z4SBRShared=\"Yes\",ROUND(INDIRECT(X78&\"R_Master\")*(Z4SBRlanes/(Z4SBRlanes+1)),0),INDIRECT(X78&\"R_Master\"))","v":51},null,null,{"$f":"IF(Z4SBRShared=\"Yes\",ROUND((INDIRECT(X78&\"L_Master\")-Z4SBL)/LTAF+(INDIRECT(X78&\"R_Master\")-Z4SBR)/RTAF,0),0)","v":0},null,null,{"$f":"IF(AND(Z4SBRShared=\"Yes\",Z4SBLlanes<2),ROUND((INDIRECT(X78&\"L_Master\"))*(Z4SBLlanes/(Z4SBLlanes+1)),0),INDIRECT(X78&\"L_Master\"))","v":31},null,null,null,null,null,null,null,null,null,null,null,null,null,null,null,null,null,null,null,null,null,null,null,null,null,null,{"$f":"'3 - Alt Num Lanes Input'!AC129","v":1},null,null,null,null,null,{"$f":"'3 - Alt Num Lanes Input'!AG129","v":1}]
[null,null,null,null,null,null,null,null,null,null,null,null,null,null,null,null,null,null,null,null,{"$f":"'3 - Alt Num Lanes Input'!AO129","v":1},null,null,null,null,null,{"$f":"'3 - Alt Num Lanes Input'!AK129","v":1},null,null,null,null,null,null,null,null,null,null,null,null,null,null,null,null,null,null,null,null,null,null,null,null,null,null,{"$f":"IF(AND(Z3NBRShared=\"Yes\",Z3NBLlanes<2),ROUND((INDIRECT(BB93&\"L_Master\"))*(Z3NBLlanes/(Z3NBLlanes+1)),0),INDIRECT(BB93&\"L_Master\"))","v":102},null,null,{"$f":"IF(Z3NBRShared=\"Yes\",ROUND((INDIRECT(BB93&\"L_Master\")-Z3NBL)/LTAF+(INDIRECT(BB93&\"R_Master\")-Z3NBR)/RTAF,0),0)","v":0},null,null,{"$f":"IF(Z3NBRShared=\"Yes\",ROUND(INDIRECT(BB93&\"R_Master\")*(Z3NBRlanes/(Z3NBRlanes+1)),0),INDIRECT(BB93&\"R_Master\"))","v":204}]
[null,null,null,null,null,null,null,null,null,null,null,null,null,null,null,null,null,null,null,null,null,null,null,null,null,null,null,null,null,null,null,null,null,null,"pcph",null,null,null,null,null,null,null,null,null,null,null,null,null,null,null,null,null,null,"pcph",null,null,"pcph",null,null,"pcph"]
[]
[]
[null,null,null,null,null,{"$f":"H94&\" Critical Vol\"","v":"EB Critical Vol"},null,null,null,null,null,null,null,null,null,null,null,"pcph",{"$f":"INDIRECT(H94&\"L_Master\")","v":31},{"$f":"'3 - Alt Num Lanes Input'!AS129","v":1},null,null,null,null,null,null,null,null,null,null,null,null,{"$f":"Z3WBTlanes","v":2},{"$f":"INDIRECT(BR77&\"T_Master\")+INDIRECT(BB93&\"L_Master\")","v":306},"pcph"]
[null,null,null,null,null,null,null,{"$f":"ROUND(MAX(MAX(IFERROR(Z4EBL/Z4EBLlanes,0),IFERROR(Z4WBT/Z4WBTlanes,0)),IFERROR(Z4WBL/LTAF/Z4WBLlanes,0)+MAX(IFERROR(Z4EBT/Z4EBTlanes,0),IFERROR(Z4EBR/RTAF/Z4EBRlanes,0))),0)","v":153}]
[null,null,null,null,null,null,null,null,null,null,null,null,null,null,null,null,null,null,null,null,null,null,null,null,null,null,null,null,null,null,null,null,null,null,null,null,null,null,null,null,null,null,null,null,null,null,null,null,null,null,null,null,null,"NB",null,null,null,null,null,{"$f":"IF(Z3NBRlanes=0,\"Yes\",\"No\")","v":"No"}]
[null,null,null,null,null,null,null,"EB",null,null,null,null,null,null,null,null,null,"pcph",{"$f":"INDIRECT(H94&\"T_Master\")+ROUND((INDIRECT(H94&\"R_Master\")-Z4EBR)/RTAF,0)","v":204},{"$f":"'3 - Alt Num Lanes Input'!AU129","v":2},null,null,{"$f":"Z4EB+Z4SB","v":213},null,null,null,null,null,null,null,null,null,1,{"$f":"Z3WBL","v":31},"pcph",null,null,null,null,null,null,null,null,null,null,null,null,null,null,null,null,null,null,null,null,null,null,null,null,"Shared\n?"]
[]
[]
[null,null,null,null,null,null,null,null,null,null,"Shared\n?",null,null,null,null,null,null,"pcph",{"$f":"IF(Z4EBRShared=\"Yes\",ROUND(INDIRECT(H94&\"R_Master\")*(Z4EBRlanes/(Z4EBRlanes+1)),0),INDIRECT(H94&\"R_Master\"))","v":51},{"$f":"'3 - Alt Num Lanes Input'!AW129","v":1}]
[]
[null,null,null,null,null,null,null,null,null,null,{"$f":"IF(Z4EBRlanes=0,\"Yes\",\"No\")","v":"No"}]
[]
[null,null,null,null,null,null,null,null,null,null,null,null,null,null,null,null,null,null,null,null,null,null,null,null,null,null,null,null,null,null,null,null,null,null,null,null,null,null,null,null,null,null,null,null,null,null,null,null,null,null,null,null,null,null,null,null,null,null,{"$f":"BB93&\" Critical Vol\"","v":"NB Critical Vol"}]
[null,null,null,null,null,null,null,null,null,null,null,null,null,null,null,null,null,null,null,null,null,null,null,null,null,null,null,null,null,"EW Split?",null,null,null,null,false,null,null,null,null,null,null,null,null,null,null,null,null,null,null,null,null,null,null,null,null,null,null,null,null,{"$f":"ROUND(MAX(IFERROR(Z3NBL/LTAF/Z3NBLlanes,0),Z3NBT/1,IFERROR(Z3NBR/RTAF/Z3NBRlanes,0)),0)","v":240}]
[null,null,null,null,null,null,null,null,null,null,null,null,null,null,null,null,null,null,null,null,null,null,null,null,null,null,null,null,null,"NS Split?",null,null,null,null,true]

{"sheet":"SPI N-S ","index":65,"n_rows":74,"n_cols":108,"rows_kept":74,"cut":false,"hidden":false,"merged":[[42,52,44,52],[53,43,55,51],[53,52,55,52],[56,43,58,46],[56,47,58,47],[56,48,58,51],[56,52,58,52],[46,92,49,94],[46,95,49,97],[46,98,49,100],[58,77,60,80],[58,81,60,81],[58,82,60,82],[58,83,60,83],[48,86,51,88],[49,76,51,83],[52,76,54,83],[52,86,52,88],[53,86,53,88],[54,86,54,88],[30,86,30,88],[30,89,30,91],[43,92,43,94],[43,95,43,97],[43,98,43,100],[44,98,44,100],[45,92,45,94],[45,95,45,97],[45,98,45,100],[44,92,44,94],[44,95,44,97],[0,63,1,122],[2,63,3,122],[13,100,15,100],[13,101,15,101],[13,102,15,102],[13,103,15,106],[6,79,7,80],[22,100,24,107],[24,83,27,85],[24,86,27,88],[24,89,27,91],[19,95,19,97],[19,100,21,107],[20,95,20,97],[21,95,21,97],[6,65,8,78],[73,13,73,48],[0,1,1,60],[2,1,3,60],[5,2,6,9],[5,10,6,35],[5,36,6,59],[7,36,8,41],[7,42,8,47],[7,48,8,53],[7,54,8,59],[9,36,12,47],[9,48,12,59],[7,2,8,9],[7,10,8,35],[9,2,10,9],[9,10,10,35],[31,48,31,52],[59,48,59,52],[45,48,45,52],[39,43,41,51],[39,52,41,52],[42,43,44,46],[42,47,44,47],[42,48,44,51],[37,83,39,83],[37,85,39,85],[37,88,39,95],[11,2,12,9],[11,10,12,35],[25,43,27,51],[25,52,27,52],[28,43,30,46],[28,47,30,47],[28,48,30,51],[28,52,30,52],[22,95,25,97],[28,83,28,85],[28,86,28,88],[28,89,28,91],[29,83,29,85],[34,79,36,82],[34,83,36,83],[34,84,36,84],[34,85,36,85],[34,88,36,95],[29,86,29,88],[29,89,29,91],[30,83,30,85],[31,107,42,118],[34,98,36,98],[34,99,36,99],[34,100,36,100],[37,84,39,84],[37,101,39,104],[37,98,39,98],[37,99,39,99],[37,100,39,100]]}
[null,"Single Point Interchange (N-S)",null,null,null,null,null,null,null,null,null,null,null,null,null,null,null,null,null,null,null,null,null,null,null,null,null,null,null,null,null,null,null,null,null,null,null,null,null,null,null,null,null,null,null,null,null,null,null,null,null,null,null,null,null,null,null,null,null,null,null,null,null,"Single Point Interchange (N-S)"]
[]
[null,"Design and Results",null,null,null,null,null,null,null,null,null,null,null,null,null,null,null,null,null,null,null,null,null,null,null,null,null,null,null,null,null,null,null,null,null,null,null,null,null,null,null,null,null,null,null,null,null,null,null,null,null,null,null,null,null,null,null,null,null,null,null,null,null,"Data Input and Configuration"]
[]
[]
[null,null,"Project Name:",null,null,null,null,null,null,null,{"$f":"P_Name","v":"Cap-X Sample Street"},null,null,null,null,null,null,null,null,null,null,null,null,null,null,null,null,null,null,null,null,null,null,null,null,null,"Volume-to-Capacity Ratio"]
[null,null,null,null,null,null,null,null,null,null,null,null,null,null,null,null,null,null,null,null,null,null,null,null,null,null,null,null,null,null,null,null,null,null,null,null,null,null,null,null,null,null,null,null,null,null,null,null,null,null,null,null,null,null,null,null,null,null,null,null,null,null,null,null,null,"Multimodal Capacity Adjustment Factor",null,null,null,null,null,null,null,null,null,null,null,null,null,{"$f":"IF(Multimodal=1,1,IF(MAX(CR44,CI31)<3,1,IF(MAX(CR44,CI31)<4,0.9,0.8)))","v":1}]
[null,null,"Project Number:",null,null,null,null,null,null,null,{"$f":"P_Number","v":10000},null,null,null,null,null,null,null,null,null,null,null,null,null,null,null,null,null,null,null,null,null,null,null,null,null,"< 0.750",null,null,null,null,null,"0.750 - 0.875",null,null,null,null,null,"0.875 - 1.00",null,null,null,null,null,"≥ 1.00"]
[]
[null,null,"Location",null,null,null,null,null,null,null,{"$f":"Location","v":"Anywhere, USA"},null,null,null,null,null,null,null,null,null,null,null,null,null,null,null,null,null,null,null,null,null,null,null,null,null,"VOLUME / CAPACITY RATIO:",null,null,null,null,null,null,null,null,null,null,null,{"$f":"MAX(AR29,AR43,AR57)","v":0.23}]
[]
[null,null,"Date",null,null,null,null,null,null,null,{"$f":"Date","v":"2017 AM"}]
[]
[null,null,null,null,null,null,null,null,null,null,null,null,null,null,null,null,null,null,null,null,null,null,null,null,null,null,null,null,null,null,null,null,null,null,null,null,null,null,null,null,null,null,null,null,null,null,null,null,null,null,null,null,null,null,null,null,null,null,null,null,null,null,null,null,null,null,null,null,null,null,null,null,null,null,null,null,null,null,null,null,null,null,null,null,null,null,null,null,null,null,null,null,null,null,null,null,null,null,null,null,{"$f":"'3 - Alt Num Lanes Input'!BE135","v":1},{"$f":"WBR_Master","v":51},"pepch"]
[]
[]
[]
[]
[]
[null,null,null,null,null,null,null,null,null,null,null,null,null,null,null,null,null,null,null,null,null,null,null,null,null,null,null,null,null,null,null,null,null,null,null,null,null,null,null,null,null,null,null,null,null,null,null,null,null,null,null,null,null,null,null,null,null,null,null,null,null,null,null,null,null,null,null,null,null,null,null,null,null,null,null,null,null,null,null,null,null,null,null,null,null,null,null,null,null,null,null,null,null,null,null,{"$f":"CR44","v":2}]
[null,null,null,null,null,null,null,null,null,null,null,null,null,null,null,null,null,null,null,null,null,null,null,null,null,null,null,null,null,null,null,null,null,null,null,null,null,null,null,null,null,null,null,null,null,null,null,null,null,null,null,null,null,null,null,null,null,null,null,null,null,null,null,null,null,null,null,null,null,null,null,null,null,null,null,null,null,null,null,null,null,null,null,null,null,null,null,null,null,null,null,null,null,null,null,{"$f":"CR45+CG35","v":541}]
[null,null,null,null,null,null,null,null,null,null,null,null,null,null,null,null,null,null,null,null,null,null,null,null,null,null,null,null,null,null,null,null,null,null,null,null,null,null,null,null,null,null,null,null,null,null,null,null,null,null,null,null,null,null,null,null,null,null,null,null,null,null,null,null,null,null,null,null,null,null,null,null,null,null,null,null,null,null,null,null,null,null,null,null,null,null,null,null,null,null,null,null,null,null,null,"pepch"]
[null,null,null,null,null,null,null,null,null,null,null,null,null,null,null,null,null,null,null,null,null,null,null,null,null,null,null,null,null,null,null,null,null,null,null,null,null,null,null,null,null,null,null,null,null,null,null,null,null,null,null,null,null,null,null,null,null,null,null,null,null,null,null,null,null,null,null,null,null,null,null,null,null,null,null,null,null,null,null,null,null,null,null,null,null,null,null,null,null,null,null,null,null,null,null,null,null,null,null,null,{"$f":"(CX14/RTAF/CW14)+(CR21/CR20)","v":330.5}]
[]
[]
[null,null,null,null,null,null,null,null,null,null,null,null,null,null,null,null,null,null,null,null,null,null,null,null,null,null,null,null,null,null,null,null,null,null,null,null,null,null,null,null,null,null,null,{"$f":"CW23","v":330.5},null,null,null,null,null,null,null,null,"CLV"]
[]
[]
[null,null,null,null,null,null,null,null,null,null,null,null,null,null,null,null,null,null,null,null,null,null,null,null,null,null,null,null,null,null,null,null,null,null,null,null,null,null,null,null,null,null,null,{"$f":"ROUND(AR26/CLV_Limit_2,2)","v":0.18},null,null,null,"V/C",{"$f":"CLV_Limit_2*CB7","v":1800},null,null,null,"MAX",null,null,null,null,null,null,null,null,null,null,null,null,null,null,null,null,null,null,null,null,null,null,null,null,null,null,null,null,null,null,"pepch",null,null,"pepch",null,null,"pepch"]
[null,null,null,null,null,null,null,null,null,null,null,null,null,null,null,null,null,null,null,null,null,null,null,null,null,null,null,null,null,null,null,null,null,null,null,null,null,null,null,null,null,null,null,null,null,null,null,null,null,null,null,null,null,null,null,null,null,null,null,null,null,null,null,null,null,null,null,null,null,null,null,null,null,null,null,null,null,null,null,null,null,null,null,{"$f":"SBR_Master","v":51},null,null,{"$f":"SBT_Master","v":204},null,null,{"$f":"SBL_Master","v":31}]
[null,null,null,null,null,null,null,null,null,null,null,null,null,null,null,null,null,null,null,null,null,null,null,null,null,null,null,null,null,null,null,null,null,null,null,null,null,null,null,null,null,null,null,null,null,null,null,null,null,null,null,null,null,null,null,null,null,null,null,null,null,null,null,null,null,null,null,null,null,null,null,null,null,null,null,null,null,null,null,null,null,null,null,{"$f":"'3 - Alt Num Lanes Input'!AO135","v":1},null,null,{"$f":"'3 - Alt Num Lanes Input'!AM135","v":2},null,null,{"$f":"'3 - Alt Num Lanes Input'!AK135","v":1}]
[null,null,null,null,null,null,null,null,null,null,null,null,null,null,null,null,null,null,null,null,null,null,null,null,null,null,null,null,null,null,null,null,null,null,null,null,null,null,null,null,null,null,null,null,null,null,null,null,"2 Phases",null,null,null,null,null,null,null,null,null,null,null,null,null,null,null,null,null,null,null,null,null,null,null,null,null,null,null,null,null,null,null,null,null,null,null,null,null,null,null,null,null,null,null,null,null,null,null,null,null,null,null,null,null,null,null,null,null,null,{"$f":"IF((CV35+CG38)>0,\"WARNING: Includes Frontage Roads on Ramps\",\"\")","v":"WARNING: Includes Frontage Roads on Ramps"}]
[]
[]
[null,null,null,null,null,null,null,null,null,null,null,null,null,null,null,null,null,null,null,null,null,null,null,null,null,null,null,null,null,null,null,null,null,null,null,null,null,null,null,null,null,null,null,null,null,null,null,null,null,null,null,null,null,null,null,null,null,null,null,null,null,null,null,null,null,null,null,null,null,null,null,null,null,null,null,null,null,null,null,null,null,null,null,"pepch",{"$f":"EBL_Master","v":31},{"$f":"'3 - Alt Num Lanes Input'!AS135","v":1},null,null,null,null,null,null,null,null,null,null,null,null,{"$f":"'3 - Alt Num Lanes Input'!BC135","v":2},{"$f":"WBT_Master","v":204},"pepch"]
[]
[]
[null,null,null,null,null,null,null,null,null,null,null,null,null,null,null,null,null,null,null,null,null,null,null,null,null,null,null,null,null,null,null,null,null,null,null,null,null,null,null,null,null,null,null,null,null,null,null,null,null,null,null,null,null,null,null,null,null,null,null,null,null,null,null,null,null,null,null,null,null,null,null,null,null,null,null,null,null,null,null,null,null,null,null,"pepch",{"$f":"EBT_Master","v":204},{"$f":"'3 - Alt Num Lanes Input'!AU135","v":2},null,null,{"$f":"MAX(CI30/CI31,CR45/CR44)+MAX(MAX(CO45/LTAF/CO44),MAX(CL30/LTAF/CL31))+MAX(CV38/LTAF/CU38,CG35/LTAF/CH35)","v":395},null,null,null,null,null,null,null,null,null,{"$f":"'3 - Alt Num Lanes Input'!BA135","v":1},{"$f":"WBL_Master","v":31},"pepch"]
[]
[null,null,null,null,null,null,null,null,null,null,null,null,null,null,null,null,null,null,null,null,null,null,null,null,null,null,null,null,null,null,null,null,null,null,null,null,null,null,null,null,null,null,null,{"$f":"CK38","v":395},null,null,null,null,null,null,null,null,"CLV"]
[]
[]
[null,null,null,null,null,null,null,null,null,null,null,null,null,null,null,null,null,null,null,null,null,null,null,null,null,null,null,null,null,null,null,null,null,null,null,null,null,null,null,null,null,null,null,{"$f":"IF((CG38+CV35)=0,ROUND(AR40/CLV_Limit_3,2),ROUND(AR40/CLV_Limit_4,2))","v":0.23},null,null,null,"V/C",{"$f":"IF((CG38+CV35)=0,CLV_Limit_3,CLV_Limit_4)*CB7","v":1700},null,null,null,"MAX"]
[null,null,null,null,null,null,null,null,null,null,null,null,null,null,null,null,null,null,null,null,null,null,null,null,null,null,null,null,null,null,null,null,null,null,null,null,null,null,null,null,null,null,null,null,null,null,null,null,null,null,null,null,null,null,null,null,null,null,null,null,null,null,null,null,null,null,null,null,null,null,null,null,null,null,null,null,null,null,null,null,null,null,null,null,null,null,null,null,null,null,null,null,{"$f":"'3 - Alt Num Lanes Input'!AC135","v":1},null,null,{"$f":"'3 - Alt Num Lanes Input'!AE135","v":2},null,null,{"$f":"'3 - Alt Num Lanes Input'!AG135","v":1}]
[null,null,null,null,null,null,null,null,null,null,null,null,null,null,null,null,null,null,null,null,null,null,null,null,null,null,null,null,null,null,null,null,null,null,null,null,null,null,null,null,null,null,null,null,null,null,null,null,null,null,null,null,null,null,null,null,null,null,null,null,null,null,null,null,null,null,null,null,null,null,null,null,null,null,null,null,null,null,null,null,null,null,null,null,null,null,null,null,null,null,null,null,{"$f":"NBL_Master","v":102},null,null,{"$f":"NBT_Master","v":510},null,null,{"$f":"NBR_Master","v":204}]
[null,null,null,null,null,null,null,null,null,null,null,null,null,null,null,null,null,null,null,null,null,null,null,null,null,null,null,null,null,null,null,null,null,null,null,null,null,null,null,null,null,null,null,null,null,null,null,null,{"$f":"IF((CG38+CV35)=0,\"3 Phases\",\"4 Phases\")","v":"4 Phases"},null,null,null,null,null,null,null,null,null,null,null,null,null,null,null,null,null,null,null,null,null,null,null,null,null,null,null,null,null,null,null,null,null,null,null,null,null,null,null,null,null,null,null,"pepch",null,null,"pepch",null,null,"pepch"]
[]
[]
[]
[]
[]
[]
[null,null,null,null,null,null,null,null,null,null,null,null,null,null,null,null,null,null,null,null,null,null,null,null,null,null,null,null,null,null,null,null,null,null,null,null,null,null,null,null,null,null,null,null,null,null,null,null,null,null,null,null,null,null,null,null,null,null,null,null,null,null,null,null,null,null,null,null,null,null,null,null,null,null,null,null,{"$f":"(CE59/RTAF/CF59)+(CI54/CI55)","v":177.5},null,null,null,null,null,null,null,null,null,"pepch"]
[null,null,null,null,null,null,null,null,null,null,null,null,null,null,null,null,null,null,null,null,null,null,null,null,null,null,null,null,null,null,null,null,null,null,null,null,null,null,null,null,null,null,null,{"$f":"BY53","v":177.5},null,null,null,null,null,null,null,null,"CLV",null,null,null,null,null,null,null,null,null,null,null,null,null,null,null,null,null,null,null,null,null,null,null,null,null,null,null,null,null,null,null,null,null,{"$f":"CV38+CI30","v":235}]
[null,null,null,null,null,null,null,null,null,null,null,null,null,null,null,null,null,null,null,null,null,null,null,null,null,null,null,null,null,null,null,null,null,null,null,null,null,null,null,null,null,null,null,null,null,null,null,null,null,null,null,null,null,null,null,null,null,null,null,null,null,null,null,null,null,null,null,null,null,null,null,null,null,null,null,null,null,null,null,null,null,null,null,null,null,null,{"$f":"CI31","v":2}]
[]
[null,null,null,null,null,null,null,null,null,null,null,null,null,null,null,null,null,null,null,null,null,null,null,null,null,null,null,null,null,null,null,null,null,null,null,null,null,null,null,null,null,null,null,{"$f":"ROUND(AR54/CLV_Limit_2,2)","v":0.1},null,null,null,"V/C",{"$f":"CLV_Limit_2*CB7","v":1800},null,null,null,"MAX"]
[]
[null,null,null,null,null,null,null,null,null,null,null,null,null,null,null,null,null,null,null,null,null,null,null,null,null,null,null,null,null,null,null,null,null,null,null,null,null,null,null,null,null,null,null,null,null,null,null,null,null,null,null,null,null,null,null,null,null,null,null,null,null,null,null,null,null,null,null,null,null,null,null,null,null,null,null,null,null,null,null,null,null,"pepch",{"$f":"EBR_Master","v":51},{"$f":"'3 - Alt Num Lanes Input'!AW135","v":1}]
[null,null,null,null,null,null,null,null,null,null,null,null,null,null,null,null,null,null,null,null,null,null,null,null,null,null,null,null,null,null,null,null,null,null,null,null,null,null,null,null,null,null,null,null,null,null,null,null,"2 Phases"]
[]
[]
[]
[]
[]
[]
[]
[]
[]
[]
[]
[]
[]
[null,null,null,null,null,null,null,null,null,null,null,null,null,"Note: This diagram does not reflect the actual lane configuration of the Intersection"]

{"sheet":"SPI E-W","index":66,"n_rows":99,"n_cols":74,"rows_kept":99,"cut":false,"hidden":false,"merged":[[89,52,91,55],[89,56,91,56],[89,57,91,57],[89,58,91,58],[92,28,94,31],[92,32,94,32],[92,33,94,33],[92,34,94,34],[92,39,92,41],[94,39,94,41],[92,42,92,44],[92,45,92,47],[93,42,93,44],[93,45,93,47],[94,42,94,44],[94,45,94,47],[95,39,98,41],[95,52,97,59],[95,62,95,64],[96,62,96,64],[97,62,97,64],[98,52,100,59],[98,62,101,64],[95,42,98,44],[95,45,98,47],[22,40,22,44],[22,56,22,60],[22,24,22,28],[54,22,54,57],[73,33,76,35],[73,36,76,38],[62,35,71,46],[79,36,79,38],[80,49,82,49],[80,50,82,53],[62,3,64,16],[86,28,88,31],[86,32,88,32],[86,33,88,33],[86,34,88,34],[86,37,88,44],[93,39,93,41],[89,28,91,31],[89,32,91,32],[89,33,91,33],[89,34,91,34],[83,37,85,44],[80,22,82,22],[80,23,82,23],[80,24,82,24],[80,25,82,28],[62,17,63,18],[83,47,85,47],[83,48,85,48],[83,49,85,49],[83,50,85,53],[80,48,82,48],[77,50,79,53],[78,39,78,41],[79,39,79,41],[77,39,77,41],[77,47,79,47],[77,48,79,48],[77,49,79,49],[80,47,82,47],[9,67,12,78],[77,33,77,35],[77,36,77,38],[78,33,78,35],[78,36,78,38],[79,33,79,35],[9,2,10,9],[9,10,10,54],[11,2,12,9],[11,10,12,54],[19,19,21,22],[19,23,21,23],[19,24,21,27],[19,28,21,28],[19,51,21,54],[56,1,57,79],[58,1,59,79],[70,17,73,19],[71,22,73,29],[73,39,76,41],[74,17,74,19],[74,22,76,29],[75,17,75,19],[76,17,76,19],[0,1,1,79],[2,1,3,79],[5,2,6,9],[5,10,6,54],[7,2,8,9],[7,10,8,54],[5,55,6,78],[7,55,8,60],[7,61,8,66],[7,67,8,72],[7,73,8,78],[19,55,21,55],[19,56,21,59],[19,60,21,60],[19,35,21,38],[19,39,21,39],[19,40,21,43],[19,44,21,44],[9,55,12,66],[16,19,18,27],[16,28,18,28],[16,51,18,59],[16,60,18,60],[16,35,18,43],[16,44,18,44]]}
[null,"Single Point Interchange (E-W)"]
[]
[null,"Design and Results"]
[]
[]
[null,null,"Project Name:",null,null,null,null,null,null,null,{"$f":"P_Name","v":"Cap-X Sample Street"},null,null,null,null,null,null,null,null,null,null,null,null,null,null,null,null,null,null,null,null,null,null,null,null,null,null,null,null,null,null,null,null,null,null,null,null,null,null,null,null,null,null,null,null,"Volume-to-Capacity Ratio"]
[]
[null,null,"Project Number:",null,null,null,null,null,null,null,{"$f":"P_Number","v":10000},null,null,null,null,null,null,null,null,null,null,null,null,null,null,null,null,null,null,null,null,null,null,null,null,null,null,null,null,null,null,null,null,null,null,null,null,null,null,null,null,null,null,null,null,"< 0.750",null,null,null,null,null,"0.750 - 0.875",null,null,null,null,null,"0.875 - 1.00",null,null,null,null,null,"≥ 1.00"]
[]
[null,null,"Location",null,null,null,null,null,null,null,{"$f":"Location","v":"Anywhere, USA"},null,null,null,null,null,null,null,null,null,null,null,null,null,null,null,null,null,null,null,null,null,null,null,null,null,null,null,null,null,null,null,null,null,null,null,null,null,null,null,null,null,null,null,null,"VOLUME / CAPACITY RATIO:",null,null,null,null,null,null,null,null,null,null,null,{"$f":"MAX(T20,AJ20,AZ20)","v":0.2}]
[]
[null,null,"Date",null,null,null,null,null,null,null,{"$f":"Date","v":"2017 AM"}]
[]
[]
[]
[]
[null,null,null,null,null,null,null,null,null,null,null,null,null,null,null,null,null,null,null,{"$f":"W75","v":213},null,null,null,null,null,null,null,null,"CLV",null,null,null,null,null,null,{"$f":"AL87","v":242.00000000000003},null,null,null,null,null,null,null,null,"CLV",null,null,null,null,null,null,{"$f":"BA99","v":357.5},null,null,null,null,null,null,null,null,"CLV"]
[]
[]
[null,null,null,null,null,null,null,null,null,null,null,null,null,null,null,null,null,null,null,{"$f":"ROUND(T17/CLV_Limit_2,2)","v":0.12},null,null,null,"V/C",{"$f":"CLV_Limit_2*R63","v":1800},null,null,null,"MAX",null,null,null,null,null,null,{"$f":"IF((AQ94+AK79)=0,ROUND(AJ17/CLV_Limit_3,2),ROUND(AJ17/CLV_Limit_4,2))","v":0.14000000000000001},null,null,null,"V/C",{"$f":"IF((AQ94+AK79)=0,CLV_Limit_3,CLV_Limit_4)*R63","v":1700},null,null,null,"MAX",null,null,null,null,null,null,{"$f":"ROUND(AZ17/CLV_Limit_2,2)","v":0.2},null,null,null,"V/C",{"$f":"CLV_Limit_2*R63","v":1800},null,null,null,"MAX"]
[]
[]
[null,null,null,null,null,null,null,null,null,null,null,null,null,null,null,null,null,null,null,null,null,null,null,null,"2 Phases",null,null,null,null,null,null,null,null,null,null,null,null,null,null,null,{"$f":"IF((AQ94+AK79)=0,\"3 Phases\",\"4 Phases\")","v":"4 Phases"},null,null,null,null,null,null,null,null,null,null,null,null,null,null,null,"2 Phases"]
[]
[]
[]
[]
[]
[]
[]
[]
[]
[]
[]
[]
[]
[]
[]
[]
[]
[]
[]
[]
[]
[]
[]
[]
[]
[]
[]
[]
[]
[]
[]
[null,null,null,null,null,null,null,null,null,null,null,null,null,null,null,null,null,null,null,null,null,null,"Note: This diagram does not reflect the actual lane configuration of the Intersection"]
[]
[null,"Single Point Interchange (E-W)"]
[]
[null,"Data Input and Configuration"]
[]
[]
[]
[null,null,null,"Multimodal Capacity Adjustment Factor",null,null,null,null,null,null,null,null,null,null,null,null,null,{"$f":"IF(Multimodal=1,1,IF(MAX(AI90,AV81)<3,1,IF(MAX(AI90,AV81)<4,0.9,0.8)))","v":1},null,null,null,null,null,null,null,null,null,null,null,null,null,null,null,null,null,{"$f":"IF((AK79+AQ94)>0,\"WARNING: Includes Frontage Roads on Ramps\")","v":"WARNING: Includes Frontage Roads on Ramps"}]
[]
[]
[]
[]
[]
[]
[]
[]
[]
[]
[]
[null,null,null,null,null,null,null,null,null,null,null,null,null,null,null,null,null,"pepch",null,null,null,null,{"$f":"((X81/W81)+(R76/RTAF/R77))","v":213}]
[null,null,null,null,null,null,null,null,null,null,null,null,null,null,null,null,null,{"$f":"SBR_Master","v":51}]
[null,null,null,null,null,null,null,null,null,null,null,null,null,null,null,null,null,{"$f":"'3 - Alt Num Lanes Input'!AO137","v":1}]
[null,null,null,null,null,null,null,null,null,null,null,null,null,null,null,null,null,null,null,null,null,null,null,null,null,null,null,null,null,null,null,null,null,null,null,null,"pepch",null,null,"pepch",null,null,null,null,null,null,null,{"$f":"'3 - Alt Num Lanes Input'!BE137","v":1},{"$f":"WBR_Master","v":51},"pepch"]
[null,null,null,null,null,null,null,null,null,null,null,null,null,null,null,null,null,null,null,null,null,null,null,null,null,null,null,null,null,null,null,null,null,null,null,null,{"$f":"SBT_Master","v":204},null,null,{"$f":"SBL_Master","v":31}]
[null,null,null,null,null,null,null,null,null,null,null,null,null,null,null,null,null,null,null,null,null,null,null,null,null,null,null,null,null,null,null,null,null,null,null,null,{"$f":"'3 - Alt Num Lanes Input'!AM137","v":2},null,null,{"$f":"'3 - Alt Num Lanes Input'!AK137","v":1}]
[null,null,null,null,null,null,null,null,null,null,null,null,null,null,null,null,null,null,null,null,null,null,{"$f":"'3 - Alt Num Lanes Input'!BC137","v":2},{"$f":"AW81+AN94","v":306},"pepch",null,null,null,null,null,null,null,null,null,null,null,null,null,null,null,null,null,null,null,null,null,null,{"$f":"'3 - Alt Num Lanes Input'!BC137","v":2},{"$f":"WBT_Master","v":204},"pepch"]
[]
[]
[null,null,null,null,null,null,null,null,null,null,null,null,null,null,null,null,null,null,null,null,null,null,null,null,null,null,null,null,null,null,null,null,null,null,null,null,null,null,null,null,null,null,null,null,null,null,null,{"$f":"'3 - Alt Num Lanes Input'!BA137","v":1},{"$f":"WBL_Master","v":31},"pepch"]
[]
[]
[null,null,null,null,null,null,null,null,null,null,null,null,null,null,null,null,null,null,null,null,null,null,null,null,null,null,null,null,null,null,null,null,"pepch",{"$f":"EBL_Master","v":31},{"$f":"'3 - Alt Num Lanes Input'!AS137","v":1},null,null,{"$f":"MAX(AH90/AI90,AW81/AV81)+MAX(MAX(AW84/LTAF/AV84, AH87/LTAF/AI87))+MAX(AN94/LTAF/AN93,AN79/LTAF/AN80)","v":242.00000000000003}]
[]
[]
[null,null,null,null,null,null,null,null,null,null,null,null,null,null,null,null,null,null,null,null,null,null,null,null,null,null,null,null,null,null,null,null,"pepch",{"$f":"EBT_Master","v":204},{"$f":"'3 - Alt Num Lanes Input'!AU137","v":2},null,null,null,null,null,null,null,null,null,null,null,null,null,null,null,null,null,null,null,null,null,"pepch",{"$f":"(AN79+AH90)","v":235},{"$f":"'3 - Alt Num Lanes Input'!AU137","v":2}]
[]
[]
[null,null,null,null,null,null,null,null,null,null,null,null,null,null,null,null,null,null,null,null,null,null,null,null,null,null,null,null,null,null,null,null,"pepch",{"$f":"EBR_Master","v":51},{"$f":"'3 - Alt Num Lanes Input'!AW137","v":1},null,null,null,null,{"$f":"'3 - Alt Num Lanes Input'!AC137","v":1},null,null,{"$f":"'3 - Alt Num Lanes Input'!AE137","v":2}]
[null,null,null,null,null,null,null,null,null,null,null,null,null,null,null,null,null,null,null,null,null,null,null,null,null,null,null,null,null,null,null,null,null,null,null,null,null,null,null,{"$f":"NBL_Master","v":102},null,null,{"$f":"NBT_Master","v":510}]
[null,null,null,null,null,null,null,null,null,null,null,null,null,null,null,null,null,null,null,null,null,null,null,null,null,null,null,null,null,null,null,null,null,null,null,null,null,null,null,"pepch",null,null,"pepch"]
[null,null,null,null,null,null,null,null,null,null,null,null,null,null,null,null,null,null,null,null,null,null,null,null,null,null,null,null,null,null,null,null,null,null,null,null,null,null,null,null,null,null,null,null,null,null,null,null,null,null,null,null,null,null,null,null,null,null,null,null,null,null,{"$f":"'3 - Alt Num Lanes Input'!AG137","v":1}]
[null,null,null,null,null,null,null,null,null,null,null,null,null,null,null,null,null,null,null,null,null,null,null,null,null,null,null,null,null,null,null,null,null,null,null,null,null,null,null,null,null,null,null,null,null,null,null,null,null,null,null,null,null,null,null,null,null,null,null,null,null,null,{"$f":"NBR_Master","v":204}]
[null,null,null,null,null,null,null,null,null,null,null,null,null,null,null,null,null,null,null,null,null,null,null,null,null,null,null,null,null,null,null,null,null,null,null,null,null,null,null,null,null,null,null,null,null,null,null,null,null,null,null,null,null,null,null,null,null,null,null,null,null,null,"pepch"]
[null,null,null,null,null,null,null,null,null,null,null,null,null,null,null,null,null,null,null,null,null,null,null,null,null,null,null,null,null,null,null,null,null,null,null,null,null,null,null,null,null,null,null,null,null,null,null,null,null,null,null,null,{"$f":"((BK97/RTAF/BK96)+(BF90/BG90))","v":357.5}]

{"sheet":"SPI RAB N-S","index":67,"n_rows":72,"n_cols":155,"rows_kept":72,"cut":false,"hidden":false,"merged":[[0,63,1,126],[44,99,47,101],[44,102,47,104],[38,89,40,92],[41,89,43,92],[28,88,31,90],[28,91,31,93],[28,101,30,104],[31,101,33,104],[16,73,19,75],[16,77,19,79],[17,88,17,90],[17,91,17,93],[27,125,35,125],[28,105,30,106],[28,107,30,108],[28,109,30,113],[28,114,30,114],[28,115,30,115],[28,116,30,119],[31,105,33,106],[31,107,33,108],[31,109,33,113],[31,114,33,114],[40,1,45,2],[9,48,12,59],[11,2,12,9],[11,10,12,35],[18,27,20,32],[23,5,25,14],[23,15,25,18],[0,1,1,60],[2,1,3,60],[5,2,6,9],[5,10,6,35],[5,36,6,59],[7,2,8,9],[7,10,8,35],[7,36,8,41],[7,42,8,47],[7,48,8,53],[7,54,8,59],[20,5,20,7],[20,8,20,10],[20,11,20,13],[21,5,21,7],[21,8,21,10],[21,11,21,13],[9,2,10,9],[9,10,10,35],[9,36,12,47],[2,63,3,126],[16,5,19,7],[16,8,19,10],[16,11,19,13],[9,87,10,90],[9,91,10,94],[14,15,19,25],[17,51,19,51],[17,52,19,52],[17,53,19,56],[18,70,19,72],[18,80,19,82],[18,88,18,90],[18,91,18,93],[19,88,23,90],[19,91,23,93],[20,73,21,75],[20,77,21,79],[21,96,21,103],[22,96,23,99],[22,100,23,103],[4,130,5,158],[6,130,8,136],[6,137,8,146],[6,147,8,150],[6,151,8,153],[6,154,8,158],[14,51,16,51],[14,52,16,52],[14,53,16,56],[5,69,6,78],[5,79,6,82],[6,87,6,94],[7,87,8,90],[7,91,8,94],[9,130,10,136],[9,137,10,146],[9,147,10,150],[9,151,10,153],[9,154,10,158],[8,74,11,76],[11,130,12,136],[11,137,12,146],[11,147,12,150],[11,151,12,153],[11,154,12,158],[10,71,11,73],[10,77,11,79],[20,51,22,51],[20,52,22,52],[20,53,22,56],[11,124,14,125],[13,130,14,136],[13,137,14,146],[13,147,14,150],[13,151,14,153],[13,154,14,158],[12,74,13,76],[12,111,14,112],[13,88,16,90],[13,91,16,93],[15,130,16,136],[15,137,16,146],[15,147,16,150],[15,151,16,153],[17,117,19,118],[17,119,19,122],[19,130,20,136],[19,137,20,146],[19,147,20,150],[15,154,16,158],[14,119,16,120],[15,105,20,107],[15,109,17,110],[15,111,17,114],[15,124,24,125],[17,130,18,136],[17,137,18,146],[17,147,18,150],[17,151,18,153],[17,154,18,158],[19,151,20,153],[19,154,20,158],[20,119,22,120],[19,109,21,110],[19,111,21,114],[22,111,24,112],[23,130,25,166],[24,91,25,93],[24,96,25,99],[24,100,25,103],[26,5,28,14],[26,15,28,18],[27,43,29,52],[27,53,29,56],[26,88,27,90],[26,91,27,93],[27,81,35,81],[27,82,31,83],[27,84,31,85],[30,3,32,12],[31,49,33,58],[32,82,35,83],[32,84,35,85],[33,3,35,12],[34,49,36,58],[38,78,40,78],[38,79,40,79],[38,80,40,84],[38,85,40,86],[38,87,40,88],[24,43,26,52],[24,53,26,56],[23,73,25,78],[24,88,25,90],[27,121,30,122],[27,123,30,124],[40,58,45,60],[41,74,43,77],[41,78,43,78],[41,79,43,79],[41,80,43,84],[41,85,43,86],[41,87,43,88],[41,106,45,107],[41,108,45,109],[42,68,45,69],[42,70,45,71],[37,67,45,67],[37,68,41,69],[37,70,41,71],[37,106,40,107],[37,108,40,109],[31,115,33,115],[31,116,33,119],[31,121,35,122],[31,123,35,124],[37,110,45,110],[38,74,40,77],[46,88,47,91],[46,92,47,95],[47,4,49,13],[47,14,49,17],[47,50,49,59],[48,64,57,65],[48,77,50,78],[48,88,49,91],[48,92,49,95],[48,99,49,101],[48,102,49,104],[50,4,52,13],[50,14,52,17],[50,50,52,59],[50,69,52,70],[50,88,50,95],[50,99,51,101],[50,102,51,104],[51,75,53,78],[51,79,53,80],[51,82,56,84],[52,99,56,101],[52,102,56,104],[52,115,54,120],[53,67,55,70],[53,71,55,72],[54,7,56,16],[54,44,56,53],[54,54,56,57],[55,75,57,78],[55,79,57,80],[56,69,58,70],[56,114,57,116],[56,118,57,120],[57,7,59,16],[57,44,59,53],[57,54,59,57],[57,99,57,101],[57,102,57,104],[58,64,61,65],[58,77,60,78],[58,99,58,101],[58,102,58,104],[58,111,59,113],[58,114,61,116],[58,118,61,120],[64,116,65,118],[66,98,67,101],[66,102,67,105],[66,113,67,115],[66,116,69,118],[66,119,67,121],[67,3,69,6],[67,7,69,7],[67,8,69,8],[67,31,67,33],[67,34,67,36],[67,37,67,39],[68,31,68,33],[27,131,30,166],[31,131,34,166],[35,131,38,166],[39,131,42,166],[68,98,68,105],[69,31,72,33],[69,34,72,36],[69,37,72,39],[70,3,72,6],[70,7,72,7],[70,8,72,8],[68,34,68,36],[68,37,68,39],[71,111,72,120],[71,121,72,124],[58,121,59,123],[59,99,62,101],[59,102,62,104],[63,27,65,32],[64,3,66,6],[64,7,66,7],[64,8,66,8],[64,98,65,101],[64,102,65,105]]}
[null,"Single Point Interchange w/ Roundabout (N-S)",null,null,null,null,null,null,null,null,null,null,null,null,null,null,null,null,null,null,null,null,null,null,null,null,null,null,null,null,null,null,null,null,null,null,null,null,null,null,null,null,null,null,null,null,null,null,null,null,null,null,null,null,null,null,null,null,null,null,null,null,null,"Single Point Interchange w/ Roundabout (N-S)"]
[]
[null,"Design and Results",null,null,null,null,null,null,null,null,null,null,null,null,null,null,null,null,null,null,null,null,null,null,null,null,null,null,null,null,null,null,null,null,null,null,null,null,null,null,null,null,null,null,null,null,null,null,null,null,null,null,null,null,null,null,null,null,null,null,null,null,null,"CAPACITY CALCULATIONS"]
[]
[null,null,null,null,null,null,null,null,null,null,null,null,null,null,null,null,null,null,null,null,null,null,null,null,null,null,null,null,null,null,null,null,null,null,null,null,null,null,null,null,null,null,null,null,null,null,null,null,null,null,null,null,null,null,null,null,null,null,null,null,null,null,null,null,null,null,null,null,null,null,null,null,null,null,null,null,null,null,null,null,null,null,null,null,null,null,null,null,null,null,null,null,null,null,null,null,null,null,null,null,null,null,null,null,null,null,null,null,null,null,null,null,null,null,null,null,null,null,null,null,null,null,null,null,null,null,null,null,null,null,"EQUATION: A x exp(-B x Q)"]
[null,null,"Project Name:",null,null,null,null,null,null,null,{"$f":"P_Name","v":"Cap-X Sample Street"},null,null,null,null,null,null,null,null,null,null,null,null,null,null,null,null,null,null,null,null,null,null,null,null,null,"Volume-to-Capacity Ratio",null,null,null,null,null,null,null,null,null,null,null,null,null,null,null,null,null,null,null,null,null,null,null,null,null,null,null,null,null,null,null,null,"Through lane utilization factor",null,null,null,null,null,null,null,null,null,0.53]
[null,null,null,null,null,null,null,null,null,null,null,null,null,null,null,null,null,null,null,null,null,null,null,null,null,null,null,null,null,null,null,null,null,null,null,null,null,null,null,null,null,null,null,null,null,null,null,null,null,null,null,null,null,null,null,null,null,null,null,null,null,null,null,null,null,null,null,null,null,null,null,null,null,null,null,null,null,null,null,null,null,null,null,null,null,null,null,"Lane Capacity",null,null,null,null,null,null,null,null,null,null,null,null,null,null,null,null,null,null,null,null,null,null,null,null,null,null,null,null,null,null,null,null,null,null,null,null,null,null,null,null,null,null,"Number of Entry Lanes",null,null,null,null,null,null,"Number of Circulating Lanes",null,null,null,null,null,null,null,null,null,"Lane",null,null,null,"A",null,null,"B"]
[null,null,"Project Number:",null,null,null,null,null,null,null,{"$f":"P_Number","v":10000},null,null,null,null,null,null,null,null,null,null,null,null,null,null,null,null,null,null,null,null,null,null,null,null,null,"< 0.750",null,null,null,null,null,"0.750 - 0.875",null,null,null,null,null,"0.875 - 1.00",null,null,null,null,null,"≥ 1.00",null,null,null,null,null,null,null,null,null,null,null,null,null,null,null,null,null,null,null,null,null,null,null,null,null,null,null,null,null,null,null,null,{"$f":"IF($F$27=1,\"\",1)","v":1},null,null,null,{"$f":"IF(F27=0,\"\",IF(F27=1,\"\",IF(D34=1,$EV$14*EXP(-$EY$14*CS23),$EV$18*EXP(-$EY$18*(CS25+CS23)))))","v":1258.1304781413749}]
[]
[null,null,"Location",null,null,null,null,null,null,null,{"$f":"Location","v":"Anywhere, USA"},null,null,null,null,null,null,null,null,null,null,null,null,null,null,null,null,null,null,null,null,null,null,null,null,null,"VOLUME / CAPACITY RATIO:",null,null,null,null,null,null,null,null,null,null,null,{"$f":"MAX(CY45,CN29,CL42,CX32)","v":0.45600118623299835},null,null,null,null,null,null,null,null,null,null,null,null,null,null,null,null,null,null,null,null,null,null,null,null,null,null,null,null,null,null,null,null,null,null,null,null,null,null,{"$f":"IF($F$27=1,1,2)","v":2},null,null,null,{"$f":"IF(F27=0,\"\",IF(F27=1,IF(D34=1,$EV$10*EXP(-$EY$10*CS23),$EV$12*EXP(-$EY$12*(CS23+CS25))),IF(D34=1,$EV$16*EXP(-$EY$16*CS23),$EV$20*EXP(-$EY$20*(CS23+CS25)))))","v":1258.1304781413749},null,null,null,null,null,null,null,null,null,null,null,null,null,null,null,null,null,null,null,null,null,null,null,null,null,null,null,null,null,null,null,null,null,null,null,null,null,null,1,null,null,null,null,null,null,1,null,null,null,null,null,null,null,null,null,"-",null,null,null,1380,null,null,1.0200000000000001E-3]
[null,null,null,null,null,null,null,null,null,null,null,null,null,null,null,null,null,null,null,null,null,null,null,null,null,null,null,null,null,null,null,null,null,null,null,null,null,null,null,null,null,null,null,null,null,null,null,null,null,null,null,null,null,null,null,null,null,null,null,null,null,null,null,null,null,null,null,null,null,null,null,{"$f":"IF(SBSlip=\"Yes\",0,IF($F$27=1,SBR,\"\"))","v":""},null,null,null,null,null,{"$f":"IF($F$27=1,SBL,\"\")","v":""}]
[null,null,"Date",null,null,null,null,null,null,null,{"$f":"Date","v":"2017 AM"},null,null,null,null,null,null,null,null,null,null,null,null,null,null,null,null,null,null,null,null,null,null,null,null,null,null,null,null,null,null,null,null,null,null,null,null,null,null,null,null,null,null,null,null,null,null,null,null,null,null,null,null,null,null,null,null,null,null,null,null,null,null,null,null,null,null,null,null,null,null,null,null,null,null,null,null,null,null,null,null,null,null,null,null,null,null,null,null,null,null,null,null,null,null,null,null,null,null,null,null,null,null,null,null,null,null,null,null,null,null,null,null,null,0.53,null,null,null,null,null,1,null,null,null,null,null,null,2,null,null,null,null,null,null,null,null,null,"-",null,null,null,1420,null,null,8.4999999999999995E-4]
[null,null,null,null,null,null,null,null,null,null,null,null,null,null,null,null,null,null,null,null,null,null,null,null,null,null,null,null,null,null,null,null,null,null,null,null,null,null,null,null,null,null,null,null,null,null,null,null,null,null,null,null,null,null,null,null,null,null,null,null,null,null,null,null,null,null,null,null,null,null,null,null,null,null,{"$f":"IF($F$27=1,SBT,\"\")","v":""},null,null,null,null,null,null,null,null,null,null,null,null,null,null,null,null,null,null,null,null,null,null,null,null,null,null,null,null,null,null,null,null,null,null,null,null,{"$f":"IF(WBSlip=\"Yes\",0,IF($AR$28=2,WBR,\"\"))","v":51}]
[null,null,null,null,null,null,null,null,null,null,null,null,null,null,null,null,null,null,null,null,null,null,null,null,null,null,null,null,null,null,null,null,null,null,null,null,null,null,null,null,null,null,null,null,null,null,null,null,null,null,null,null,null,null,null,null,null,null,null,null,null,null,null,null,null,null,null,null,null,null,null,null,null,null,null,null,null,null,null,null,null,null,null,null,null,null,null,null,null,null,null,null,null,null,null,null,null,null,null,null,null,null,null,null,null,null,null,null,null,null,null,null,null,null,null,null,null,null,null,null,null,null,null,null,null,null,null,null,null,null,2,null,null,null,null,null,null,1,null,null,null,null,null,null,null,null,null,"Left",null,null,null,1420,null,null,9.1E-4]
[null,null,null,null,null,null,null,null,null,null,null,null,null,null,null,"Enter the lane configurations in the yellow cells.",null,null,null,null,null,null,null,null,null,null,null,null,null,null,null,null,null,null,null,null,null,null,null,null,null,null,null,null,null,null,null,null,null,null,null,{"$f":"INDIRECT(BG41&\"R_Master\")","v":51},"pcph",null,null,null,null,null,null,null,null,null,null,null,null,null,null,null,null,null,null,null,null,null,null,null,null,null,null,null,null,null,null,null,null,null,null,null,null,null,null,null,null,null,null,null,null,null,null,null,null,null,null,null,null,null,null,null,null,null,null,null,null,null,null,null,null,null,null,{"$f":"IF(WBSlip=\"Yes\",0,IF($AR$28=1,WBR,\"\"))","v":""}]
[null,null,null,null,null,null,null,null,null,null,null,null,null,null,null,null,null,null,null,null,null,null,null,null,null,null,null,null,null,null,null,null,null,null,null,null,null,null,null,null,null,null,null,null,null,null,null,null,null,null,null,null,null,null,null,null,null,null,null,null,null,null,null,null,null,null,null,null,null,null,null,null,null,null,null,null,null,null,null,null,null,null,null,null,null,null,null,null,null,null,null,null,null,null,null,null,null,null,null,null,null,null,null,null,null,"WB",null,null,null,{"$f":"IF($AR$28=2,IF($D$34=2,SBT*(1-$DU$12),0),\"\")","v":0},null,null,null,null,null,null,null,null,null,null,null,null,null,null,"Through lane utilization factor",null,null,null,null,null,2,null,null,null,null,null,null,1,null,null,null,null,null,null,null,null,null,"Right",null,null,null,1420,null,null,9.1E-4]
[]
[null,null,null,null,null,null,null,null,null,null,null,null,null,null,null,null,null,null,null,null,null,null,null,null,null,null,null,null,null,null,null,null,null,null,null,null,null,null,null,null,null,null,null,null,null,null,null,null,null,null,null,0,"pcph",null,null,null,null,null,null,null,null,null,null,null,null,null,null,null,null,null,null,null,null,null,null,null,null,null,null,null,null,null,null,null,null,null,null,null,"pcph",null,null,"pcph",null,null,null,null,null,null,null,null,null,null,null,null,null,null,null,null,null,null,null,null,null,null,null,null,null,{"$f":"IF($AR$28=1,WBT,\"\")","v":""},null,null,null,null,null,null,null,null,null,null,null,null,2,null,null,null,null,null,null,2,null,null,null,null,null,null,null,null,null,"Left",null,null,null,1350,null,null,9.2000000000000003E-4]
[null,null,null,null,null,null,null,null,null,null,null,null,null,null,null,null,null,null,null,null,null,null,null,null,null,null,null,"SB",null,null,null,null,null,null,null,null,null,null,null,null,null,null,null,null,null,null,null,null,null,null,null,null,null,null,null,null,null,null,null,null,null,null,null,null,null,null,null,null,null,null,{"$f":"IF(SBSlip=\"Yes\",0,IF($F$27=2,SBR,\"\"))","v":51},null,null,null,null,null,null,null,null,null,{"$f":"IF($F$27=2,SBL,\"\")","v":31},null,null,null,null,null,null,null,{"$f":"IF(F27=0,\"\",IF(F27=1,BT11+BW13+BZ11,BS19+BV21))","v":51},null,null,{"$f":"IF(F27=0,\"\",IF(F27=1,\"\",BZ21+CC19))","v":235}]
[null,null,null,null,null,null,null,null,null,null,null,null,null,null,null,null,null,null,null,null,null,null,null,null,null,null,null,null,null,null,null,null,null,null,null,null,null,null,null,null,null,null,null,null,null,null,null,null,null,null,null,null,null,null,null,null,null,null,null,null,null,null,null,null,null,null,null,null,null,null,null,null,null,null,null,null,null,null,null,null,null,null,null,null,null,null,null,null,"V/C RATIO",null,null,"V/C RATIO",null,null,null,null,null,null,null,null,null,null,null,null,null,null,null,null,null,{"$f":"IF($AR$28=2,IF(D34=2,WBT*DU12,WBT),\"\")","v":0},null,null,null,null,null,null,null,null,null,null,null,null,null,null,null,null,null,null,null,null,2,null,null,null,null,null,null,2,null,null,null,null,null,null,null,null,null,"Right",null,null,null,1420,null,null,8.4999999999999995E-4]
[null,null,null,null,null,"pcph",null,null,"pcph",null,null,"pcph",null,null,null,null,null,null,null,null,null,null,null,null,null,null,null,null,null,null,null,null,null,null,null,null,null,null,null,null,null,null,null,null,null,null,null,null,null,null,null,{"$f":"INDIRECT(BG41&\"L_Master\")","v":31},"pcph",null,null,null,null,null,null,null,null,null,null,null,null,null,null,null,null,null,null,null,null,{"$f":"IF($F$27=2,IF($H$58=2,SBT*(1-$DR$72),0),\"\")","v":0},null,null,null,{"$f":"IF($F$27=2,IF($H$58=2,SBT*$DR$72,SBT),\"\")","v":204},null,null,null,null,null,null,null,null,null,null,null,null,null,null,null,null,null,null,null,null,null,null,null,null,null,null,null,null,null,null,null,null,null,null,null,null,null,null,null,null,null,{"$f":"IF($AR$28=1,WBL,\"\")","v":""}]
[null,null,null,null,null,{"$f":"INDIRECT(AB19&\"R_Master\")","v":51},null,null,{"$f":"INDIRECT(AB19&\"T_Master\")","v":204},null,null,{"$f":"INDIRECT(AB19&\"L_Master\")","v":31},null,null,null,null,null,null,null,null,null,null,null,null,null,null,null,null,null,null,null,null,null,null,null,null,null,null,null,null,null,null,null,null,null,null,null,null,null,null,null,null,null,null,null,null,null,null,null,null,null,null,null,null,null,null,null,null,null,null,null,null,null,null,null,null,null,null,null,null,null,null,null,null,null,null,null,null,null,null,null,null,null,null,null,null,"Conflicting flow"]
[null,null,null,null,null,null,null,null,null,null,null,null,null,null,null,null,null,null,null,null,null,null,null,null,null,null,null,null,null,null,null,null,null,null,null,null,null,null,null,null,null,null,null,null,null,null,null,null,null,null,null,null,null,null,null,null,null,null,null,null,null,null,null,null,null,null,null,null,null,null,null,null,null,null,null,null,null,null,null,null,null,null,null,null,null,null,null,null,null,null,null,null,null,null,null,null,{"$f":"IF($D$34=1,IF(AS58=0,0,IF($AS$58=1,$DJ$67,$DH$59))+IF(AR28=0,0,IF($AR$28=1,$DN$18+$DP$21,$DH$23+$DF$20)),IF(AR28=0,0,IF($AR$28=1,$DU$12*$DN$18,$DF$16)))","v":133},null,null,null,null,null,null,null,null,null,null,null,null,null,null,{"$f":"IF($AR$28=2,WBL,\"\")","v":31}]
[null,null,null,null,null,"Number of Entry Lanes",null,null,null,null,null,null,null,null,null,"Slip Lane?",null,null,null,null,null,null,null,null,null,null,null,null,null,null,null,null,null,null,null,null,null,null,null,null,null,null,null,null,null,null,null,null,null,null,null,null,null,null,null,null,null,null,null,null,null,null,null,null,null,null,null,null,null,null,null,null,null,"SB",null,null,null,null,null,null,null,null,null,null,null,null,null,null,null,null,null,null,null,null,null,null,null,null,null,null,null,null,null,null,null,null,null,null,null,null,null,null,null,null,null,null,null,null,null,null,null,null,null,null,null,null,null,null,null,null,"Assumptions"]
[null,null,null,null,null,null,null,null,null,null,null,null,null,null,null,null,null,null,null,null,null,null,null,null,null,null,null,null,null,null,null,null,null,null,null,null,null,null,null,null,null,null,null,"Number of Entry Lanes",null,null,null,null,null,null,null,null,null,"Slip Lane?",null,null,null,null,null,null,null,null,null,null,null,null,null,null,null,null,null,null,null,null,null,null,null,null,null,null,null,null,null,null,null,null,null,null,{"$f":"IF(F27=0,\"\",CK19/CN10)","v":4.0536336163910322E-2},null,null,{"$f":"IFERROR(CN19/CN8,\"\")","v":0.18678507840233188},null,null,null,null,{"$f":"IF($D$34=1,\"\",IF(AS58=0,0,IF($AS$58=1,$DJ$67,$DH$59))+IF(AR28=0,0,IF($AR$28=1,$DP$21+(1-$DU$12)*$DN$18,$DF$20+$DH$23)))","v":""}]
[]
[null,null,null,null,null,2,null,null,null,null,null,null,null,null,null,"No",null,null,null,null,null,null,null,null,null,null,null,null,null,null,null,null,null,null,null,null,null,null,null,null,null,null,null,null,null,null,null,null,null,null,null,null,null,null,null,null,null,null,null,null,null,null,null,null,null,null,null,null,null,null,null,null,null,null,null,null,null,null,null,null,null,null,null,null,null,null,null,null,{"$f":"IF($F$27=1,1,2)","v":2},null,null,{"$f":"IF($F$27=1,\"\",1)","v":1}]
[null,null,null,null,null,null,null,null,null,null,null,null,null,null,null,null,null,null,null,null,null,null,null,null,null,null,null,null,null,null,null,null,null,null,null,null,null,null,null,null,null,null,null,2,null,null,null,null,null,null,null,null,null,"No",null,null,null,null,null,null,null,null,null,null,null,null,null,null,null,null,null,null,null,null,null,null,null,null,null,null,null,"Conflicting flow",{"$f":"IF($H$58=1,IF(AR28=0,0,IF($AR$28=1,$DP$21,$DH$23))+IF(F27=0,0,IF($F$27=1,$BW$13+$BZ$11,$CC$19+$BZ$21)),IF(F27=0,0,IF($F$27=1,$CB$6*$BW$13,$BV$21)))","v":266},null,{"$f":"IF($H$58=1,\"\",IF(AR28=0,0,IF($AR$28=1,$DP$21,$DH$23))+IF(F27=0,0,IF($F$27=1,$BZ$11+(1-$CB$6)*$BW$13,$BZ$21+$CC$19)))","v":""},null,null,null,null,null,null,null,null,null,null,null,null,null,null,null,null,null,null,null,null,null,null,null,null,null,null,null,null,null,null,null,null,null,null,null,null,{"$f":"IF(AR28=0,\"\",IF(AR28=1,\"\",IF(AX35=1,$EV$14*EXP(-$EY$14*DE42),$EV$18*EXP(-$EY$18*(DC42+DE42)))))","v":790.98748871561986},null,{"$f":"IF(AR28=0,\"\",IF(AR28=1,IF(AX35=1,$EV$10*EXP(-$EY$10*DE42),$EV$12*EXP(-$EY$12*(DE42+DC42))),IF(AX35=1,$EV$16*EXP(-$EY$16*DE42),$EV$20*EXP(-$EY$20*(DE42+DC42)))))","v":790.98748871561986},null,"Lane Capacity",null,null,null,null,null,"● The number of circulating lanes in one quadrant is assumed to be equal to the number of exiting lanes in the next quadrant."]
[null,null,null,null,null,null,null,null,null,null,null,null,null,null,null,null,null,null,null,null,null,null,null,null,null,null,null,null,null,null,null,null,null,null,null,null,null,null,null,null,null,null,null,null,null,null,null,null,null,null,null,null,null,null,null,null,null,null,null,null,null,null,null,null,null,null,null,null,null,null,null,null,null,null,null,null,null,null,null,null,null,null,null,null,null,null,null,null,"App.\nV/C",null,null,{"$f":"MAX(CK25:CP26)","v":0.18678507840233188},null,null,null,null,null,null,null,null,null,"App.\nV/C",null,null,null,{"$f":"IF($AR$28=1,1,2)","v":2},null,{"$f":"IF(AR28=0,\"\",DK29/DT28)","v":6.4476367486939856E-2},null,"V/C RATIO",null,null,null,null,{"$f":"IF(AR28=0,\"\",IF(AR28=1,DP15+DN18+DP21,DH13+DF16))","v":51},"pcph"]
[]
[null,null,null,"Number of Circulating Lanes"]
[null,null,null,null,null,null,null,null,null,null,null,null,null,null,null,null,null,null,null,null,null,null,null,null,null,null,null,null,null,null,null,null,null,null,null,null,null,null,null,null,null,null,null,null,null,null,null,null,null,"Number of Circulating Lanes",null,null,null,null,null,null,null,null,null,null,null,null,null,null,null,null,null,null,null,null,null,null,null,null,null,null,null,null,null,null,null,null,null,null,null,null,null,null,null,null,null,null,null,null,null,null,null,null,null,null,null,{"$f":"MAX(DD29:DE34)","v":6.4476367486939856E-2},null,null,null,{"$f":"IF($AR$28=1,\"\",1)","v":1},null,{"$f":"IFERROR(DK32/DR28,\"\")","v":3.9191517492061484E-2},null,"V/C RATIO",null,null,null,null,{"$f":"IF(AR28=0,\"\",IF(AR28=1,\"\",DF20+DH23))","v":31},"pcph",null,null,null,null,null,{"$f":"IF($AR$28=1,\"\",1)","v":1},null,{"$f":"IF($AR$28=1,1,2)","v":2},null,null,null,null,null,null,null,"● The roundabout is limited to a maximum of two entry lanes and two circulating lanes."]
[]
[null,null,null,1]
[null,null,null,null,null,null,null,null,null,null,null,null,null,null,null,null,null,null,null,null,null,null,null,null,null,null,null,null,null,null,null,null,null,null,null,null,null,null,null,null,null,null,null,null,null,null,null,null,null,1]
[null,null,null,null,null,null,null,null,null,null,null,null,null,null,null,null,null,null,null,null,null,null,null,null,null,null,null,null,null,null,null,null,null,null,null,null,null,null,null,null,null,null,null,null,null,null,null,null,null,null,null,null,null,null,null,null,null,null,null,null,null,null,null,null,null,null,null,null,null,null,null,null,null,null,null,null,null,null,null,null,null,null,null,null,null,null,null,null,null,null,null,null,null,null,null,null,null,null,null,null,null,null,null,null,null,null,null,null,null,null,null,null,null,null,null,null,null,null,null,null,null,null,null,null,null,null,null,null,null,null,null,"● All left-turning vehicles are assumed to stay in the innermost lane until exiting the roundabout."]
[]
[null,null,null,null,null,null,null,null,null,null,null,null,null,null,null,null,null,null,null,null,null,null,null,null,null,null,null,null,null,null,null,null,null,null,null,null,null,null,null,null,null,null,null,null,null,null,null,null,null,null,null,null,null,null,null,null,null,null,null,null,null,null,null,null,null,null,null,"Lane Capacity",{"$f":"IF($E$51=1,1,2)","v":2},null,{"$f":"IF($E$51=1,\"\",1)","v":1},null,null,null,null,null,null,null,null,null,null,null,null,null,null,null,null,null,null,null,null,null,null,null,null,null,null,null,null,null,null,null,null,null,null,null,null,null,null,null,"Conflicting flow"]
[null,null,null,null,null,null,null,null,null,null,null,null,null,null,null,null,null,null,null,null,null,null,null,null,null,null,null,null,null,null,null,null,null,null,null,null,null,null,null,null,null,null,null,null,null,null,null,null,null,null,null,null,null,null,null,null,null,null,null,null,null,null,null,null,null,null,null,null,null,null,null,null,null,null,null,null,null,null,"pcph",{"$f":"IF(E51=0,\"\",IF(E51=1,\"\",BZ49+CB52))","v":31},"V/C RATIO",null,null,null,null,{"$f":"IFERROR(CB39/BS43,\"\")","v":2.7809851623647758E-2},null,{"$f":"IF($E$51=1,\"\",1)","v":1},null,"App.\nV/C"]
[null,null,null,null,null,null,null,null,null,null,null,null,null,null,null,null,null,null,null,null,null,null,null,null,null,null,null,null,null,null,null,null,null,null,null,null,null,null,null,null,null,null,null,null,null,null,null,null,null,null,null,null,null,null,null,null,null,null,null,null,null,null,null,null,null,null,null,null,null,null,null,null,null,null,null,null,null,null,null,null,null,null,null,null,null,null,null,null,null,null,null,null,null,null,null,null,null,null,null,null,null,null,null,null,null,null,null,null,null,null,null,null,null,null,null,null,null,null,null,null,null,null,null,null,null,null,null,null,null,null,null,"● This worksheet does not use the CLV methodology. The calculations are based on the HCM 2010."]
[null,"EB",null,null,null,null,null,null,null,null,null,null,null,null,null,null,null,null,null,null,null,null,null,null,null,null,null,null,null,null,null,null,null,null,null,null,null,null,null,null,null,null,null,null,null,null,null,null,null,null,null,null,null,null,null,null,null,null,"WB"]
[null,null,null,null,null,null,null,null,null,null,null,null,null,null,null,null,null,null,null,null,null,null,null,null,null,null,null,null,null,null,null,null,null,null,null,null,null,null,null,null,null,null,null,null,null,null,null,null,null,null,null,null,null,null,null,null,null,null,null,null,null,null,null,null,null,null,null,null,null,null,null,null,null,null,null,null,null,null,"pcph",{"$f":"IF(E51=0,\"\",IF(E51=1,BR51+BT54+BR57,CB56+BZ59))","v":51},"V/C RATIO",null,null,null,null,{"$f":"IF(E51=0,\"\",CB42/BQ43)","v":4.5751691380839857E-2},null,{"$f":"IF($E$51=1,1,2)","v":2},null,{"$f":"MAX(CH39:CI44)","v":4.5751691380839857E-2},null,null,null,null,null,null,null,null,null,null,null,null,null,null,null,null,{"$f":"IF($AX$35=1,\"\",IF(E51=0,0,IF($E$51=1,$BR$51,$BZ$49))+IF(AS58=0,0,IF($AS$58=1,$DJ$67+(1-$DR$72)*$DM$65,$DK$57+$DH$59)))","v":""},null,{"$f":"IF($AX$35=1,IF(E51=0,0,IF($E$51=1,$BR$51,$BZ$49))+IF(AS58=0,0,IF($AS$58=1,$DM$65+$DJ$67,$DH$59+$DK$57)),IF(AS58=0,0,IF($AS$58=1,$DR$72*$DM$65,$DO$57)))","v":643}]
[null,null,null,null,null,null,null,null,null,null,null,null,null,null,null,null,null,null,null,null,null,null,null,null,null,null,null,null,null,null,null,null,null,null,null,null,null,null,null,null,null,null,null,null,null,null,null,null,null,null,null,null,null,null,null,null,null,null,null,null,null,null,null,null,null,null,null,null,{"$f":"IF(E51=0,\"\",IF(E51=1,IF(H58=1,$EV$10*EXP(-$EY$10*CE28),$EV$12*EXP(-$EY$12*(CE28+CG28))),IF(H58=1,$EV$16*EXP(-$EY$16*CE28),$EV$20*EXP(-$EY$20*(CE28+CG28)))))","v":1114.7128873438339},null,{"$f":"IF(E51=0,\"\",IF(E51=1,\"\",IF(H58=1,$EV$14*EXP(-$EY$14*CE28),$EV$18*EXP(-$EY$18*(CG28+CE28)))))","v":1114.7128873438339}]
[]
[null,null,null,null,null,null,null,null,null,null,null,null,null,null,null,null,null,null,null,null,null,null,null,null,null,null,null,null,null,null,null,null,null,null,null,null,null,null,null,null,null,null,null,null,null,null,null,null,null,null,null,null,null,null,null,null,null,null,null,null,null,null,null,null,null,null,null,null,null,null,null,null,null,null,null,null,null,null,null,null,null,null,null,null,null,null,null,null,null,null,null,null,null,null,null,null,null,null,null,"App.\nV/C",null,null,{"$f":"MAX(CV51:DA52)","v":0.45600118623299835}]
[]
[null,null,null,null,null,null,null,null,null,null,null,null,null,null,null,null,null,null,null,null,null,null,null,null,null,null,null,null,null,null,null,null,null,null,null,null,null,null,null,null,null,null,null,null,null,null,null,null,null,null,null,null,null,null,null,null,null,null,null,null,null,null,null,null,null,null,null,null,null,null,null,null,null,null,null,null,null,null,null,null,null,null,null,null,null,null,null,null,{"$f":"IF($AY$51=1,\"\",IF(F27=0,0,IF($F$27=1,$BZ$11,$CC$19))+IF(E51=0,0,IF($E$51=1,$BR$51+(1-$BM$59)*$BT$54,$CB$52+$BZ$49)))","v":""}]
[null,null,null,null,"Number of Entry Lanes",null,null,null,null,null,null,null,null,null,"Slip Lane?",null,null,null,null,null,null,null,null,null,null,null,null,null,null,null,null,null,null,null,null,null,null,null,null,null,null,null,null,null,null,null,null,null,null,null,"Number of Circulating Lanes"]
[null,null,null,null,null,null,null,null,null,null,null,null,null,null,null,null,null,null,null,null,null,null,null,null,null,null,null,null,null,null,null,null,null,null,null,null,null,null,null,null,null,null,null,null,null,null,null,null,null,null,null,null,null,null,null,null,null,null,null,null,null,null,null,null,"Through lane utilization factor",null,null,null,null,null,null,null,null,null,null,null,null,{"$f":"IF(E51=2,EBL,\"\")","v":31},null,null,null,null,null,null,null,null,null,null,{"$f":"IF($AY$51=1,IF(F27=0,0,IF($F$27=1,$BZ$11,$CC$19))+IF(E51=0,0,IF($E$51=1,$BT$54+$BR$51,$BZ$49+$CB$52)),IF(E51=0,0,IF($E$51=1,$BM$59*$BT$54,$CB$56)))","v":62},null,null,null,null,null,null,null,null,null,null,{"$f":"IF($AS$58=1,\"\",1)","v":1},null,null,{"$f":"IF($AS$58=1,1,2)","v":2}]
[]
[null,null,null,null,2,null,null,null,null,null,null,null,null,null,"No",null,null,null,null,null,null,null,null,null,null,null,null,null,null,null,null,null,null,null,null,null,null,null,null,null,null,null,null,null,null,null,null,null,null,null,1,null,null,null,null,null,null,null,null,null,null,null,null,null,null,null,null,null,null,{"$f":"IF($E$51=1,EBL,\"\")","v":""},null,null,null,null,null,null,null,null,null,null,null,null,null,null,null,null,null,null,"Conflicting flow",null,null,null,null,null,null,null,null,null,null,{"$f":"IFERROR(CV58/CY65,\"\")","v":0.45600118623299835},null,null,{"$f":"IF(AS58=0,\"\",CY58/CY67)","v":0.15200039541099944}]
[null,null,null,null,null,null,null,null,null,null,null,null,null,null,null,null,null,null,null,null,null,null,null,null,null,null,null,null,null,null,null,null,null,null,null,null,null,null,null,null,null,null,null,null,null,null,null,null,null,null,null,null,null,null,null,null,null,null,null,null,null,null,null,null,null,null,null,null,null,null,null,null,null,null,null,null,null,null,null,{"$f":"IF(E51=2,IF(AY51=2,EBT*BM59,EBT),\"\")","v":0},null,null,"EB"]
[null,null,null,null,null,null,null,null,null,null,null,null,null,null,null,null,null,null,null,null,null,null,null,null,null,null,null,null,null,null,null,null,null,null,null,null,null,null,null,null,null,null,null,null,null,null,null,null,null,null,null,null,null,null,null,null,null,null,null,null,null,null,null,null,null,null,null,null,null,null,null,null,null,null,null,null,null,null,null,null,null,null,null,null,null,null,null,null,null,null,null,null,null,null,null,null,null,null,null,"V/C RATIO",null,null,"V/C RATIO",null,null,null,null,null,null,null,null,null,null,null,null,"NB"]
[null,null,null,null,null,null,null,null,null,null,null,null,null,null,null,null,null,null,null,null,null,null,null,null,null,null,null,null,null,null,null,null,null,null,null,null,null,null,null,null,null,null,null,null,null,null,null,null,null,null,null,null,null,null,null,null,null,null,null,null,null,null,null,null,null,null,null,null,null,null,null,{"$f":"IF($E$51=1,EBT,\"\")","v":""}]
[null,null,null,null,null,null,null,"Number of Circulating Lanes",null,null,null,null,null,null,null,null,null,null,null,null,null,null,null,null,null,null,null,null,null,null,null,null,null,null,null,null,null,null,null,null,null,null,null,null,"Number of Entry Lanes",null,null,null,null,null,null,null,null,null,"Slip Lane?"]
[null,null,null,null,null,null,null,null,null,null,null,null,null,null,null,null,null,null,null,null,null,null,null,null,null,null,null,null,null,null,null,null,null,null,null,null,null,null,null,null,null,null,null,null,null,null,null,null,null,null,null,null,null,null,null,null,null,null,null,null,null,null,null,null,null,null,null,null,null,null,null,null,null,null,null,null,null,null,null,{"$f":"IF(E51=2,IF(AY51=2,EBT*(1-BM59),0),\"\")","v":0}]
[null,null,null,null,null,null,null,null,null,null,null,null,null,null,null,null,null,null,null,null,null,null,null,null,null,null,null,null,null,null,null,null,null,null,null,null,null,null,null,null,null,null,null,null,null,null,null,null,null,null,null,null,null,null,null,null,null,null,null,null,null,null,null,null,null,null,null,null,null,{"$f":"IF(EBSlip=\"Yes\",0,IF($E$51=1,EBR,\"\"))","v":""},null,null,null,null,null,null,null,null,null,null,null,null,null,null,null,null,null,null,null,null,null,null,null,null,null,null,null,null,null,null,null,null,null,null,null,null,null,null,null,null,null,null,null,null,{"$f":"IF($AS$58=2,IF($AX$35=2,NBT*$DR$72,NBT),\"\")","v":510},null,null,null,{"$f":"IF($AS$58=2,IF($AX$35=2,NBT*(1-$DR$72),0),\"\")","v":0}]
[null,null,null,null,null,null,null,1,null,null,null,null,null,null,null,null,null,null,null,null,null,null,null,null,null,null,null,null,null,null,null,null,null,null,null,null,null,null,null,null,null,null,null,null,2,null,null,null,null,null,null,null,null,null,"No",null,null,null,null,null,null,null,null,null,null,null,null,null,null,null,null,null,null,null,null,null,null,null,null,null,null,null,null,null,null,null,null,null,null,null,null,null,null,null,null,null,null,null,null,{"$f":"IF(AS58=0,\"\",IF(AS58=1,\"\",DH59+DK57))","v":612},null,null,{"$f":"IF(AS58=0,\"\",IF(AS58=1,DJ67+DM65+DP67,DO57+DR59))","v":204}]
[null,null,null,null,null,null,null,null,null,null,null,null,null,null,null,null,null,null,null,null,null,null,null,null,null,null,null,null,null,null,null,null,null,null,null,null,null,null,null,null,null,null,null,null,null,null,null,null,null,null,null,null,null,null,null,null,null,null,null,null,null,null,null,null,0.53,null,null,null,null,null,null,null,null,null,null,null,null,{"$f":"IF(EBSlip=\"Yes\",0,IF(E51=2,EBR,\"\"))","v":51},null,null,null,null,null,null,null,null,null,null,null,null,null,null,null,null,null,null,null,null,null,"pcph",null,null,"pcph",null,null,null,null,null,null,null,null,{"$f":"IF($AS$58=2,NBL,\"\")","v":102},null,null,null,null,null,null,null,null,null,{"$f":"IF(NBSlip=\"Yes\",0,IF($AS$58=2,NBR,\"\"))","v":204}]
[]
[]
[]
[]
[null,null,null,null,null,null,null,null,null,null,null,null,null,null,null,null,null,null,null,null,null,null,null,null,null,null,null,"NB"]
[null,null,null,null,null,null,null,"pcph",{"$f":"INDIRECT(B41&\"L_Master\")","v":31},null,null,null,null,null,null,null,null,null,null,null,null,null,null,null,null,null,null,null,null,null,null,null,null,null,null,null,null,null,null,null,null,null,null,null,null,null,null,null,null,null,null,null,null,null,null,null,null,null,null,null,null,null,null,null,null,null,null,null,null,null,null,null,null,null,null,null,null,null,null,null,null,null,null,null,null,null,null,null,null,null,null,null,null,null,null,null,null,null,{"$f":"IF($AS$58=1,\"\",1)","v":1},null,null,null,{"$f":"IF(AS58=0,\"\",IF(AS58=1,\"\",IF(AY51=1,$EV$14*EXP(-$EY$14*CK49),$EV$18*EXP(-$EY$18*(CK47+CK49)))))","v":1342.1017718302437},null,null,null,null,null,null,null,null,null,null,null,null,null,{"$f":"IF($AS$58=1,NBT,\"\")","v":""}]
[]
[null,null,null,null,null,null,null,null,null,null,null,null,null,null,null,null,null,null,null,null,null,null,null,null,null,null,null,null,null,null,null,null,null,null,null,null,null,null,null,null,null,null,null,null,null,null,null,null,null,null,null,null,null,null,null,null,null,null,null,null,null,null,null,null,null,null,null,null,null,null,null,null,null,null,null,null,null,null,null,null,null,null,null,null,null,null,null,null,null,null,null,null,null,null,null,null,null,null,{"$f":"IF($AS$58=1,1,2)","v":2},null,null,null,{"$f":"IF(AS58=0,\"\",IF(AS58=1,IF(AY51=1,$EV$10*EXP(-$EY$10*CK49),$EV$12*EXP(-$EY$12*(CK49+CK47))),IF(AY51=1,$EV$16*EXP(-$EY$16*CK49),$EV$20*EXP(-$EY$20*(CK49+CK47)))))","v":1342.1017718302437},null,null,null,null,null,null,null,null,null,null,{"$f":"IF($AS$58=1,NBL,\"\")","v":""},null,null,null,null,null,{"$f":"IF(NBSlip=\"Yes\",0,IF($AS$58=1,NBR,\"\"))","v":""}]
[null,null,null,null,null,null,null,"pcph",0,null,null,null,null,null,null,null,null,null,null,null,null,null,null,null,null,null,null,null,null,null,null,{"$f":"INDIRECT(AB64&\"L_Master\")","v":102},null,null,{"$f":"INDIRECT(AB64&\"T_Master\")","v":510},null,null,{"$f":"INDIRECT(AB64&\"R_Master\")","v":204}]
[null,null,null,null,null,null,null,null,null,null,null,null,null,null,null,null,null,null,null,null,null,null,null,null,null,null,null,null,null,null,null,"pcph",null,null,"pcph",null,null,"pcph",null,null,null,null,null,null,null,null,null,null,null,null,null,null,null,null,null,null,null,null,null,null,null,null,null,null,null,null,null,null,null,null,null,null,null,null,null,null,null,null,null,null,null,null,null,null,null,null,null,null,null,null,null,null,null,null,null,null,null,null,"Lane Capacity"]
[]
[null,null,null,null,null,null,null,"pcph",{"$f":"INDIRECT(B41&\"R_Master\")","v":51}]
[null,null,null,null,null,null,null,null,null,null,null,null,null,null,null,null,null,null,null,null,null,null,null,null,null,null,null,null,null,null,null,null,null,null,null,null,null,null,null,null,null,null,null,null,null,null,null,null,null,null,null,null,null,null,null,null,null,null,null,null,null,null,null,null,null,null,null,null,null,null,null,null,null,null,null,null,null,null,null,null,null,null,null,null,null,null,null,null,null,null,null,null,null,null,null,null,null,null,null,null,null,null,null,null,null,null,null,null,null,null,null,"Through lane utilization factor",null,null,null,null,null,null,null,null,null,0.53]

{"sheet":"SPI RAB E-W","index":68,"n_rows":72,"n_cols":153,"rows_kept":72,"cut":false,"hidden":false,"merged":[[22,128,24,164],[26,129,29,164],[30,129,33,164],[34,129,37,164],[38,129,41,164],[2,63,3,126],[11,124,14,125],[15,124,24,125],[27,123,30,124],[27,125,35,125],[31,123,35,124],[22,96,23,99],[22,100,23,103],[22,111,24,112],[24,88,25,90],[24,91,25,93],[27,81,35,81],[27,82,31,83],[27,84,31,85],[28,105,30,106],[28,107,30,108],[28,109,30,113],[31,105,33,106],[31,107,33,108],[0,1,1,60],[2,1,3,60],[0,63,1,126],[48,64,57,65],[58,64,61,65],[23,73,25,78],[44,99,47,101],[44,102,47,104],[38,89,40,92],[28,88,31,90],[28,91,31,93],[41,89,43,92],[28,101,30,104],[31,101,33,104],[42,70,45,71],[46,88,47,91],[46,92,47,95],[48,77,50,78],[48,99,49,101],[48,102,49,104],[50,69,52,70],[50,88,50,95],[51,75,53,78],[51,79,53,80],[51,82,56,84],[52,99,56,101],[52,102,56,104],[53,67,55,70],[53,71,55,72],[55,75,57,78],[55,79,57,80],[56,69,58,70],[57,99,57,101],[57,102,57,104],[58,77,60,78],[58,99,58,101],[48,88,49,91],[48,92,49,95],[37,67,45,67],[37,68,41,69],[37,70,41,71],[37,106,40,107],[37,108,40,109],[37,110,45,110],[38,74,40,77],[38,78,40,78],[38,79,40,79],[38,80,40,84],[38,85,40,86],[38,87,40,88],[41,74,43,77],[41,78,43,78],[41,79,43,79],[41,80,43,84],[41,85,43,86],[41,87,43,88],[41,106,45,107],[41,108,45,109],[42,68,45,69],[26,88,27,90],[26,91,27,93],[32,82,35,83],[32,84,35,85],[5,69,6,78],[5,79,6,82],[6,87,6,94],[7,87,8,90],[7,91,8,94],[8,74,11,76],[10,71,11,73],[10,77,11,79],[12,74,13,76],[13,88,16,90],[13,91,16,93],[18,70,19,72],[9,87,10,90],[9,91,10,94],[14,119,16,120],[15,105,20,107],[15,109,17,110],[15,111,17,114],[16,73,19,75],[16,77,19,79],[17,88,17,90],[17,91,17,93],[17,117,19,118],[17,119,19,122],[18,80,19,82],[18,88,18,90],[18,91,18,93],[19,88,23,90],[19,91,23,93],[19,109,21,110],[19,111,21,114],[20,73,21,75],[20,77,21,79],[20,119,22,120],[21,96,21,103],[12,111,14,112],[66,98,67,101],[66,102,67,105],[66,113,67,115],[66,116,69,118],[66,119,67,121],[68,98,68,105],[71,111,72,120],[71,121,72,124],[58,114,61,116],[58,118,61,120],[59,99,62,101],[59,102,62,104],[64,98,65,101],[64,102,65,105],[64,116,65,118],[58,121,59,123],[52,115,54,120],[56,114,57,116],[56,118,57,120],[58,102,58,104],[58,111,59,113],[50,99,51,101],[50,102,51,104],[27,121,30,122],[24,96,25,99],[24,100,25,103],[28,114,30,114],[28,115,30,115],[28,116,30,119],[31,114,33,114],[31,115,33,115],[31,116,33,119],[31,121,35,122],[31,109,33,113],[18,8,18,10],[18,11,18,13],[19,5,19,7],[19,8,19,10],[19,11,19,13],[14,36,18,47],[69,31,72,33],[69,34,72,36],[69,37,72,39],[70,3,72,6],[70,7,72,7],[70,8,72,8],[63,27,65,32],[64,3,66,6],[64,7,66,7],[64,8,66,8],[67,3,69,6],[67,7,69,7],[67,8,69,8],[67,31,67,33],[67,34,67,36],[57,7,59,16],[57,44,59,53],[57,54,59,57],[33,49,35,58],[54,44,56,53],[54,54,56,57],[30,49,32,58],[67,37,67,39],[68,31,68,33],[68,34,68,36],[68,37,68,39],[17,128,18,134],[17,135,18,144],[17,145,18,148],[17,149,18,151],[17,152,18,156],[19,128,20,134],[19,135,20,144],[19,145,20,148],[19,149,20,151],[19,152,20,156],[11,149,12,151],[11,152,12,156],[13,128,14,134],[13,135,14,144],[13,145,14,148],[13,149,14,151],[13,152,14,156],[15,128,16,134],[15,135,16,144],[15,145,16,148],[15,149,16,151],[15,152,16,156],[11,128,12,134],[11,135,12,144],[11,145,12,148],[4,128,5,156],[6,128,8,134],[6,135,8,144],[6,145,8,148],[6,149,8,151],[6,152,8,156],[9,128,10,134],[9,135,10,144],[9,145,10,148],[9,149,10,151],[9,152,10,156],[7,55,8,60],[9,2,10,9],[9,37,12,48],[9,49,12,60],[11,2,12,9],[47,4,49,13],[47,14,49,17],[50,4,52,13],[50,14,52,17],[17,27,19,32],[26,5,28,14],[26,15,28,18],[30,3,32,12],[33,3,35,12],[14,8,17,10],[14,11,17,13],[18,5,18,7],[40,58,45,60],[47,50,49,59],[23,43,25,52],[23,53,25,56],[50,50,52,59],[26,43,28,52],[26,53,28,56],[5,2,6,9],[5,37,6,60],[7,2,8,9],[7,37,8,42],[7,43,8,48],[7,49,8,54],[54,7,56,16],[40,1,45,2],[5,10,6,36],[7,10,8,36],[9,10,10,36],[11,10,12,36],[23,5,25,14],[23,15,25,18],[14,51,16,51],[14,52,16,52],[14,53,16,56],[17,51,19,51],[17,52,19,52],[17,53,19,56],[20,51,22,51],[20,52,22,52],[20,53,22,56],[14,5,17,7]]}
[null,"Single Point Interchange w/ Roundabout (E-W)",null,null,null,null,null,null,null,null,null,null,null,null,null,null,null,null,null,null,null,null,null,null,null,null,null,null,null,null,null,null,null,null,null,null,null,null,null,null,null,null,null,null,null,null,null,null,null,null,null,null,null,null,null,null,null,null,null,null,null,null,null,"Single Point Interchange w/ Roundabout (E-W)"]
[]
[null,"Design and Results",null,null,null,null,null,null,null,null,null,null,null,null,null,null,null,null,null,null,null,null,null,null,null,null,null,null,null,null,null,null,null,null,null,null,null,null,null,null,null,null,null,null,null,null,null,null,null,null,null,null,null,null,null,null,null,null,null,null,null,null,null,"Capacity Calculations"]
[]
[null,null,null,null,null,null,null,null,null,null,null,null,null,null,null,null,null,null,null,null,null,null,null,null,null,null,null,null,null,null,null,null,null,null,null,null,null,null,null,null,null,null,null,null,null,null,null,null,null,null,null,null,null,null,null,null,null,null,null,null,null,null,null,null,null,null,null,null,null,null,null,null,null,null,null,null,null,null,null,null,null,null,null,null,null,null,null,null,null,null,null,null,null,null,null,null,null,null,null,null,null,null,null,null,null,null,null,null,null,null,null,null,null,null,null,null,null,null,null,null,null,null,null,null,null,null,null,null,"EQUATION: A x exp(-B x Q)"]
[null,null,"Project Name:",null,null,null,null,null,null,null,{"$f":"P_Name","v":"Cap-X Sample Street"},null,null,null,null,null,null,null,null,null,null,null,null,null,null,null,null,null,null,null,null,null,null,null,null,null,null,"Volume-to-Capacity Ratio",null,null,null,null,null,null,null,null,null,null,null,null,null,null,null,null,null,null,null,null,null,null,null,null,null,null,null,null,null,null,null,"Through lane utilization factor",null,null,null,null,null,null,null,null,null,0.53]
[null,null,null,null,null,null,null,null,null,null,null,null,null,null,null,null,null,null,null,null,null,null,null,null,null,null,null,null,null,null,null,null,null,null,null,null,null,null,null,null,null,null,null,null,null,null,null,null,null,null,null,null,null,null,null,null,null,null,null,null,null,null,null,null,null,null,null,null,null,null,null,null,null,null,null,null,null,null,null,null,null,null,null,null,null,null,null,"Lane Capacity",null,null,null,null,null,null,null,null,null,null,null,null,null,null,null,null,null,null,null,null,null,null,null,null,null,null,null,null,null,null,null,null,null,null,null,null,null,null,null,null,"Number of Entry Lanes",null,null,null,null,null,null,"Number of Circulating Lanes",null,null,null,null,null,null,null,null,null,"Lane",null,null,null,"A",null,null,"B"]
[null,null,"Project Number:",null,null,null,null,null,null,null,{"$f":"P_Number","v":10000},null,null,null,null,null,null,null,null,null,null,null,null,null,null,null,null,null,null,null,null,null,null,null,null,null,null,"< 0.750",null,null,null,null,null,"0.750 - 0.875",null,null,null,null,null,"0.875 - 1.00",null,null,null,null,null,"≥ 1.00",null,null,null,null,null,null,null,null,null,null,null,null,null,null,null,null,null,null,null,null,null,null,null,null,null,null,null,null,null,null,null,{"$f":"IF($F$27=1,\"\",1)","v":""},null,null,null,{"$f":"IF(F27=0,\"\",IF(F27=1,\"\",IF(D34=1,$ET$14*EXP(-$EW$14*CS23),$ET$18*EXP(-$EW$18*(CS25+CS23)))))","v":""}]
[]
[null,null,"Location",null,null,null,null,null,null,null,{"$f":"Location","v":"Anywhere, USA"},null,null,null,null,null,null,null,null,null,null,null,null,null,null,null,null,null,null,null,null,null,null,null,null,null,null,"VOLUME / CAPACITY RATIO:",null,null,null,null,null,null,null,null,null,null,null,{"$f":"MAX(Result_SPIRAB_EW_VC_Z1,Result_SPIRAB_EW_VC_Z4,Result_SPIRAB_EW_VC_Z2,Result_SPIRAB_EW_VC_Z3)","v":0.29085405227447558},null,null,null,null,null,null,null,null,null,null,null,null,null,null,null,null,null,null,null,null,null,null,null,null,null,null,null,null,null,null,null,null,null,null,null,null,null,{"$f":"IF($F$27=1,1,2)","v":1},null,null,null,{"$f":"IF(F27=0,\"\",IF(F27=1,IF(D34=1,$ET$10*EXP(-$EW$10*CS23),$ET$12*EXP(-$EW$12*(CS23+CS25))),IF(D34=1,$ET$16*EXP(-$EW$16*CS23),$ET$20*EXP(-$EW$20*(CS23+CS25)))))","v":978.57631747785592},null,null,null,null,null,null,null,null,null,null,null,null,null,null,null,null,null,null,null,null,null,null,null,null,null,null,null,null,null,null,null,null,null,null,null,null,1,null,null,null,null,null,null,1,null,null,null,null,null,null,null,null,null,"-",null,null,null,1380,null,null,1.0200000000000001E-3]
[null,null,null,null,null,null,null,null,null,null,null,null,null,null,null,null,null,null,null,null,null,null,null,null,null,null,null,null,null,null,null,null,null,null,null,null,null,null,null,null,null,null,null,null,null,null,null,null,null,null,null,null,null,null,null,null,null,null,null,null,null,null,null,null,null,null,null,null,null,null,null,{"$f":"IF(SBSlip=\"Yes\",0,IF($F$27=1,SBR,\"\"))","v":51},null,null,null,null,null,{"$f":"IF($F$27=1,SBL,\"\")","v":31}]
[null,null,"Date",null,null,null,null,null,null,null,{"$f":"Date","v":"2017 AM"},null,null,null,null,null,null,null,null,null,null,null,null,null,null,null,null,null,null,null,null,null,null,null,null,null,null,null,null,null,null,null,null,null,null,null,null,null,null,null,null,null,null,null,null,null,null,null,null,null,null,null,null,null,null,null,null,null,null,null,null,null,null,null,null,null,null,null,null,null,null,null,null,null,null,null,null,null,null,null,null,null,null,null,null,null,null,null,null,null,null,null,null,null,null,null,null,null,null,null,null,null,null,null,null,null,null,null,null,null,null,null,null,null,0.53,null,null,null,1,null,null,null,null,null,null,2,null,null,null,null,null,null,null,null,null,"-",null,null,null,1420,null,null,8.4999999999999995E-4]
[null,null,null,null,null,null,null,null,null,null,null,null,null,null,null,null,null,null,null,null,null,null,null,null,null,null,null,null,null,null,null,null,null,null,null,null,null,null,null,null,null,null,null,null,null,null,null,null,null,null,null,null,null,null,null,null,null,null,null,null,null,null,null,null,null,null,null,null,null,null,null,null,null,null,{"$f":"IF($F$27=1,SBT,\"\")","v":0},null,null,null,null,null,null,null,null,null,null,null,null,null,null,null,null,null,null,null,null,null,null,null,null,null,null,null,null,null,null,null,null,null,null,null,null,{"$f":"IF(WBSlip=\"Yes\",0,IF($AR$27=2,WBR,\"\"))","v":""}]
[null,null,null,null,null,null,null,null,null,null,null,null,null,null,null,null,null,null,null,null,null,null,null,null,null,null,null,null,null,null,null,null,null,null,null,null,null,null,null,null,null,null,null,null,null,null,null,null,null,null,null,null,null,null,null,null,null,null,null,null,null,null,null,null,null,null,null,null,null,null,null,null,null,null,null,null,null,null,null,null,null,null,null,null,null,null,null,null,null,null,null,null,null,null,null,null,null,null,null,null,null,null,null,null,null,null,null,null,null,null,null,null,null,null,null,null,null,null,null,null,null,null,null,null,null,null,null,null,2,null,null,null,null,null,null,1,null,null,null,null,null,null,null,null,null,"Left",null,null,null,1420,null,null,9.1E-4]
[null,null,null,null,null,null,null,null,null,null,null,null,null,null,null,null,null,null,null,null,null,null,null,null,null,null,null,null,null,null,null,null,null,null,null,null,"Enter the lane configurations in the yellow cells.",null,null,null,null,null,null,null,null,null,null,null,null,null,null,{"$f":"INDIRECT(BG41&\"R_Master\")","v":51},"pcph",null,null,null,null,null,null,null,null,null,null,null,null,null,null,null,null,null,null,null,null,null,null,null,null,null,null,null,null,null,null,null,null,null,null,null,null,null,null,null,null,null,null,null,null,null,null,null,null,null,null,null,null,null,null,null,null,null,null,null,null,null,null,null,null,null,null,{"$f":"IF(WBSlip=\"Yes\",0,IF($AR$27=1,WBR,\"\"))","v":51}]
[null,null,null,null,null,null,null,null,null,null,null,null,null,null,null,null,null,null,null,null,null,null,null,null,null,null,null,null,null,null,null,null,null,null,null,null,null,null,null,null,null,null,null,null,null,null,null,null,null,null,null,null,null,null,null,null,null,null,null,null,null,null,null,null,null,null,null,null,null,null,null,null,null,null,null,null,null,null,null,null,null,null,null,null,null,null,null,null,null,null,null,null,null,null,null,null,null,null,null,null,null,null,null,null,null,{"$f":"IF($T$15=\"EB-WB\",\"NB\",\"WB\")","v":"WB"},null,null,null,{"$f":"IF($AR$27=2,IF($D$34=2,WBT*(1-$DU$12),0),\"\")","v":""},null,null,null,null,null,null,null,null,null,null,null,null,null,null,"Through lane utilization factor",null,null,null,2,null,null,null,null,null,null,1,null,null,null,null,null,null,null,null,null,"Right",null,null,null,1420,null,null,9.1E-4]
[]
[null,null,null,null,null,null,null,null,null,null,null,null,null,null,null,null,null,null,null,null,null,null,null,null,null,null,null,{"$f":"IF($T$15=\"EB-WB\",\"WB\",\"SB\")","v":"SB"},null,null,null,null,null,null,null,null,null,null,null,null,null,null,null,null,null,null,null,null,null,null,null,{"$f":"INDIRECT(BG41&\"T_Master\")","v":204},"pcph",null,null,null,null,null,null,null,null,null,null,null,null,null,null,null,null,null,null,null,null,null,null,null,null,null,null,null,null,null,null,null,null,null,null,null,"pcph",null,null,"pcph",null,null,null,null,null,null,null,null,null,null,null,null,null,null,null,null,null,null,null,null,null,null,null,null,null,{"$f":"IF($AR$27=1,WBT,\"\")","v":204},null,null,null,null,null,null,null,null,null,null,2,null,null,null,null,null,null,2,null,null,null,null,null,null,null,null,null,"Left",null,null,null,1350,null,null,9.2000000000000003E-4]
[null,null,null,null,null,"pcph",null,null,"pcph",null,null,"pcph",null,null,null,null,null,null,null,null,null,null,null,null,null,null,null,null,null,null,null,null,null,null,null,null,null,null,null,null,null,null,null,null,null,null,null,null,null,null,null,null,null,null,null,null,null,null,null,null,null,null,null,null,null,null,null,null,null,null,{"$f":"IF(SBSlip=\"Yes\",0,IF($F$27=2,SBR,\"\"))","v":""},null,null,null,null,null,null,null,null,null,{"$f":"IF($F$27=2,SBL,\"\")","v":""},null,null,null,null,null,null,null,{"$f":"IF(F27=0,\"\",IF(F27=1,BT11+BW13+BZ11,BS19+BV21))","v":82},null,null,{"$f":"IF(F27=0,\"\",IF(F27=1,\"\",BZ21+CC19))","v":""}]
[null,null,null,null,null,{"$f":"INDIRECT(AB18&\"R_Master\")","v":51},null,null,0,null,null,{"$f":"INDIRECT(AB18&\"L_Master\")","v":31},null,null,null,null,null,null,null,null,null,null,null,null,null,null,null,null,null,null,null,null,null,null,null,null,null,null,null,null,null,null,null,null,null,null,null,null,null,null,null,null,null,null,null,null,null,null,null,null,null,null,null,null,null,null,null,null,null,null,null,null,null,null,null,null,null,null,null,null,null,null,null,null,null,null,null,null,"V/C RATIO",null,null,"V/C RATIO",null,null,null,null,null,null,null,null,null,null,null,null,null,null,null,null,null,{"$f":"IF($AR$27=2,IF($D$34=2,WBT*$DU$12,WBT),\"\")","v":""},null,null,null,null,null,null,null,null,null,null,null,null,null,null,null,null,null,null,2,null,null,null,null,null,null,2,null,null,null,null,null,null,null,null,null,"Right",null,null,null,1420,null,null,8.4999999999999995E-4]
[null,null,null,null,null,null,null,null,null,null,null,null,null,null,null,null,null,null,null,null,null,null,null,null,null,null,null,null,null,null,null,null,null,null,null,null,null,null,null,null,null,null,null,null,null,null,null,null,null,null,null,{"$f":"INDIRECT(BG41&\"L_Master\")","v":31},"pcph",null,null,null,null,null,null,null,null,null,null,null,null,null,null,null,null,null,null,null,null,{"$f":"IF($F$27=2,IF($H$58=2,EBT*(1-$CB$6),0),\"\")","v":""},null,null,null,{"$f":"IF($F$27=2,IF(H58=2,SBT*CB6,SBT),\"\")","v":""},null,null,null,null,null,null,null,null,null,null,null,null,null,null,null,null,null,null,null,null,null,null,null,null,null,null,null,null,null,null,null,null,null,null,null,null,null,null,null,null,null,{"$f":"IF($AR$27=1,WBL,\"\")","v":31}]
[null,null,null,null,null,null,null,null,null,null,null,null,null,null,null,null,null,null,null,null,null,null,null,null,null,null,null,null,null,null,null,null,null,null,null,null,null,null,null,null,null,null,null,null,null,null,null,null,null,null,null,null,null,null,null,null,null,null,null,null,null,null,null,null,null,null,null,null,null,null,null,null,null,null,null,null,null,null,null,null,null,null,null,null,null,null,null,null,null,null,null,null,null,null,null,null,"Conflicting flow"]
[null,null,null,null,null,null,null,null,null,null,null,null,null,null,null,null,null,null,null,null,null,null,null,null,null,null,null,null,null,null,null,null,null,null,null,null,null,null,null,null,null,null,null,null,null,null,null,null,null,null,null,null,null,null,null,null,null,null,null,null,null,null,null,null,null,null,null,null,null,null,null,null,null,null,null,null,null,null,null,null,null,null,null,null,null,null,null,null,null,null,null,null,null,null,null,null,{"$f":"IF($D$34=1,IF(AS58=0,0,IF($AS$58=1,$DJ$67,$DH$59))+IF(AR27=0,0,IF($AR$27=1,$DN$18+$DP$21,$DH$23+$DF$20)),IF(AR27=0,0,IF($AR$27=1,$DU$12*$DN$18,$DF$16)))","v":337},null,null,null,null,null,null,null,null,null,null,null,null,null,null,{"$f":"IF($AR$27=2,WBL,\"\")","v":""},null,null,null,null,null,null,null,null,null,null,null,null,null,null,null,null,"Assumptions"]
[null,null,null,null,null,"Number of Entry Lanes",null,null,null,null,null,null,null,null,null,"Slip Lane?",null,null,null,null,null,null,null,null,null,null,null,null,null,null,null,null,null,null,null,null,null,null,null,null,null,null,null,"Number of Entry Lanes",null,null,null,null,null,null,null,null,null,"Slip Lane?",null,null,null,null,null,null,null,null,null,null,null,null,null,null,null,null,null,null,null,{"$f":"IF($T$15=\"EB-WB\",\"WB\",\"SB\")","v":"SB"}]
[null,null,null,null,null,null,null,null,null,null,null,null,null,null,null,null,null,null,null,null,null,null,null,null,null,null,null,null,null,null,null,null,null,null,null,null,null,null,null,null,null,null,null,null,null,null,null,null,null,null,null,null,null,null,null,null,null,null,null,null,null,null,null,null,null,null,null,null,null,null,null,null,null,null,null,null,null,null,null,null,null,null,null,null,null,null,null,null,{"$f":"IF(F27=0,\"\",CK19/CN10)","v":8.3795201800247493E-2},null,null,{"$f":"IFERROR(CN19/CN8,\"\")","v":""},null,null,null,null,{"$f":"IF($D$34=1,\"\",IF(AS58=0,0,IF($AS$58=1,$DJ$67,$DH$59))+IF(AR27=0,0,IF($AR$27=1,$DP$21+(1-$DU$12)*$DN$18,$DF$20+$DH$23)))","v":""}]
[]
[null,null,null,null,null,1,null,null,null,null,null,null,null,null,null,"No",null,null,null,null,null,null,null,null,null,null,null,null,null,null,null,null,null,null,null,null,null,null,null,null,null,null,null,1,null,null,null,null,null,null,null,null,null,"No",null,null,null,null,null,null,null,null,null,null,null,null,null,null,null,null,null,null,null,null,null,null,null,null,null,null,null,null,null,null,null,null,null,null,{"$f":"IF($F$27=1,1,2)","v":1},null,null,{"$f":"IF($F$27=1,\"\",1)","v":""},null,null,null,null,null,null,null,null,null,null,null,null,null,null,null,null,null,null,null,null,null,null,null,null,null,null,null,null,null,null,null,null,null,null,null,null,null,"● The number of circulating lanes in one quadrant is assumed to be equal to the number of exiting lanes in the next quadrant."]
[null,null,null,null,null,null,null,null,null,null,null,null,null,null,null,null,null,null,null,null,null,null,null,null,null,null,null,null,null,null,null,null,null,null,null,null,null,null,null,null,null,null,null,null,null,null,null,null,null,null,null,null,null,null,null,null,null,null,null,null,null,null,null,null,null,null,null,null,null,null,null,null,null,null,null,null,null,null,null,null,null,"Conflicting flow",{"$f":"IF($H$58=1,IF(AR27=0,0,IF($AR$27=1,$DP$21,$DH$23))+IF(F27=0,0,IF($F$27=1,$BW$13+$BZ$11,$CC$19+$BZ$21)),IF(F27=0,0,IF($F$27=1,$CB$6*$BW$13,$BV$21)))","v":62},null,{"$f":"IF($H$58=1,\"\",IF(AR27=0,0,IF($AR$27=1,$DP$21,$DH$23))+IF(F27=0,0,IF($F$27=1,$BZ$11+(1-$CB$6)*$BW$13,$BZ$21+$CC$19)))","v":""},null,null,null,null,null,null,null,null,null,null,null,null,null,null,null,null,null,null,null,null,null,null,null,null,null,null,null,null,null,null,null,null,null,null,null,null,{"$f":"IF(AR27=0,\"\",IF(AR27=1,\"\",IF(AX34=1,$ET$14*EXP(-$EW$14*DE42),$ET$18*EXP(-$EW$18*(DC42+DE42)))))","v":""},null,{"$f":"IF(AR27=0,\"\",IF(AR27=1,IF(AX34=1,$ET$10*EXP(-$EW$10*DE42),$ET$12*EXP(-$EW$12*(DE42+DC42))),IF(AX34=1,$ET$16*EXP(-$EW$16*DE42),$ET$20*EXP(-$EW$20*(DE42+DC42)))))","v":1204.9324402269071},null,"Lane Capacity"]
[null,null,null,null,null,null,null,null,null,null,null,null,null,null,null,null,null,null,null,null,null,null,null,null,null,null,null,null,null,null,null,null,null,null,null,null,null,null,null,null,null,null,null,null,null,null,null,null,null,null,null,null,null,null,null,null,null,null,null,null,null,null,null,null,null,null,null,null,null,null,null,null,null,null,null,null,null,null,null,null,null,null,null,null,null,null,null,null,"App.\nV/C",null,null,{"$f":"MAX(CK25:CP26)","v":8.3795201800247493E-2},null,null,null,null,null,null,null,null,null,"App.\nV/C",null,null,null,{"$f":"IF($AR$27=1,1,2)","v":1},null,{"$f":"IF(AR27=0,\"\",DK29/DT28)","v":0.23735770608528212},null,"V/C RATIO",null,null,null,null,{"$f":"IF(AR27=0,\"\",IF(AR27=1,DP21+DN18+DP15,DF16+DH13))","v":286},"pcph"]
[]
[null,null,null,"Number of Circulating Lanes",null,null,null,null,null,null,null,null,null,null,null,null,null,null,null,null,null,null,null,null,null,null,null,null,null,null,null,null,null,null,null,null,null,null,null,null,null,null,null,null,null,null,null,null,null,"Number of Circulating Lanes",null,null,null,null,null,null,null,null,null,null,null,null,null,null,null,null,null,null,null,null,null,null,null,null,null,null,null,null,null,null,null,null,null,null,null,null,null,null,null,null,null,null,null,null,null,null,null,null,null,null,null,null,null,null,null,null,null,null,null,null,null,null,null,null,null,null,null,null,null,null,null,null,null,null,null,null,null,null,null,"● The roundabout is limited to a maximum of two entry lanes and two circulating lanes."]
[null,null,null,null,null,null,null,null,null,null,null,null,null,null,null,null,null,null,null,null,null,null,null,null,null,null,null,null,null,null,null,null,null,null,null,null,null,null,null,null,null,null,null,null,null,null,null,null,null,null,null,null,null,null,null,null,null,null,null,null,null,null,null,null,null,null,null,null,null,null,null,null,null,null,null,null,null,null,null,null,null,null,null,null,null,null,null,null,null,null,null,null,null,null,null,null,null,null,null,null,null,{"$f":"MAX(DD29:DE34)","v":0.23735770608528212},null,null,null,{"$f":"IF($AR$27=1,\"\",1)","v":""},null,{"$f":"IFERROR(DK32/DR28,\"\")","v":""},null,"V/C RATIO",null,null,null,null,{"$f":"IF(AR27=0,\"\",IF(AR27=1,\"\",DH23+DF20))","v":""},"pcph",null,null,null,null,null,{"$f":"IF($AR$27=1,\"\",1)","v":""},null,{"$f":"IF($AR$27=1,1,2)","v":1}]
[]
[null,null,null,1,null,null,null,null,null,null,null,null,null,null,null,null,null,null,null,null,null,null,null,null,null,null,null,null,null,null,null,null,null,null,null,null,null,null,null,null,null,null,null,null,null,null,null,null,null,1]
[null,null,null,null,null,null,null,null,null,null,null,null,null,null,null,null,null,null,null,null,null,null,null,null,null,null,null,null,null,null,null,null,null,null,null,null,null,null,null,null,null,null,null,null,null,null,null,null,null,null,null,null,null,null,null,null,null,null,null,null,null,null,null,null,null,null,null,null,null,null,null,null,null,null,null,null,null,null,null,null,null,null,null,null,null,null,null,null,null,null,null,null,null,null,null,null,null,null,null,null,null,null,null,null,null,null,null,null,null,null,null,null,null,null,null,null,null,null,null,null,null,null,null,null,null,null,null,null,null,"● All left-turning vehicles are assumed to stay in the innermost lane until exiting the roundabout."]
[]
[]
[null,null,null,null,null,null,null,null,null,null,null,null,null,null,null,null,null,null,null,null,null,null,null,null,null,null,null,null,null,null,null,null,null,null,null,null,null,null,null,null,null,null,null,null,null,null,null,null,null,null,null,null,null,null,null,null,null,null,null,null,null,null,null,null,null,null,null,"Lane Capacity",{"$f":"IF($E$51=1,1,2)","v":1},null,{"$f":"IF($E$51=1,\"\",1)","v":""},null,null,null,null,null,null,null,null,null,null,null,null,null,null,null,null,null,null,null,null,null,null,null,null,null,null,null,null,null,null,null,null,null,null,null,null,null,null,null,"Conflicting flow"]
[null,null,null,null,null,null,null,null,null,null,null,null,null,null,null,null,null,null,null,null,null,null,null,null,null,null,null,null,null,null,null,null,null,null,null,null,null,null,null,null,null,null,null,null,null,null,null,null,null,null,null,null,null,null,null,null,null,null,null,null,null,null,null,null,null,null,null,null,null,null,null,null,null,null,null,null,null,null,"pcph",{"$f":"IF(E51=0,\"\",IF(E51=1,\"\",CB52+BZ49))","v":""},"V/C RATIO",null,null,null,null,{"$f":"IFERROR(CB39/BS43,\"\")","v":""},null,{"$f":"IF($E$51=1,\"\",1)","v":""},null,"App.\nV/C",null,null,null,null,null,null,null,null,null,null,null,null,null,null,null,null,null,null,null,null,null,null,null,null,null,null,null,null,null,null,null,null,null,null,null,null,null,null,null,"● This worksheet does not use the CLV methodology. The calculations are based on the HCM 2010."]
[]
[null,{"$f":"IF($T$15=\"EB-WB\",\"SB\",\"EB\")","v":"EB"},null,null,null,null,null,null,null,null,null,null,null,null,null,null,null,null,null,null,null,null,null,null,null,null,null,null,null,null,null,null,null,null,null,null,null,null,null,null,null,null,null,null,null,null,null,null,null,null,null,null,null,null,null,null,null,null,{"$f":"IF($T$15=\"EB-WB\",\"NB\",\"WB\")","v":"WB"}]
[null,null,null,null,null,null,null,null,null,null,null,null,null,null,null,null,null,null,null,null,null,null,null,null,null,null,null,null,null,null,null,null,null,null,null,null,null,null,null,null,null,null,null,null,null,null,null,null,null,null,null,null,null,null,null,null,null,null,null,null,null,null,null,null,null,null,null,null,null,null,null,null,null,null,null,null,null,null,"pcph",{"$f":"IF(E51=0,\"\",IF(E51=1,BR57+BT54+BR51,BZ59+CB56))","v":286},"V/C RATIO",null,null,null,null,{"$f":"IF(E51=0,\"\",CB42/BQ43)","v":0.22077593350399499},null,{"$f":"IF($E$51=1,1,2)","v":1},null,{"$f":"MAX(CH39:CI44)","v":0.22077593350399499},null,null,null,null,null,null,null,null,null,null,null,null,null,null,null,null,{"$f":"IF($AX$34=1,\"\",IF(E51=0,0,IF($E$51=1,$BR$51,$BZ$49))+IF(AS58=0,0,IF($AS$58=1,$DJ$67+(1-$DR$72)*$DM$65,$DK$57+$DH$59)))","v":""},null,{"$f":"IF($AX$34=1,IF(E51=0,0,IF($E$51=1,$BR$51,$BZ$49))+IF(AS58=0,0,IF($AS$58=1,$DM$65+$DJ$67,$DH$59+$DK$57)),IF(AS58=0,0,IF($AS$58=1,$DR$72*$DM$65,$DO$57)))","v":133}]
[null,null,null,null,null,null,null,null,null,null,null,null,null,null,null,null,null,null,null,null,null,null,null,null,null,null,null,null,null,null,null,null,null,null,null,null,null,null,null,null,null,null,null,null,null,null,null,null,null,null,null,null,null,null,null,null,null,null,null,null,null,null,null,null,null,null,null,null,{"$f":"IF(E51=0,\"\",IF(E51=1,IF(H58=1,$ET$10*EXP(-$EW$10*CE28),$ET$12*EXP(-$EW$12*(CE28+CG28))),IF(H58=1,$ET$16*EXP(-$EW$16*CE28),$ET$20*EXP(-$EW$20*(CE28+CG28)))))","v":1295.4310529269023},null,{"$f":"IF(E51=0,\"\",IF(E51=1,\"\",IF(H58=1,$ET$14*EXP(-$EW$14*CE28),$ET$18*EXP(-$EW$18*(CG28+CE28)))))","v":""}]
[]
[null,null,null,null,null,null,null,null,null,null,null,null,null,null,null,null,null,null,null,null,null,null,null,null,null,null,null,null,null,null,null,null,null,null,null,null,null,null,null,null,null,null,null,null,null,null,null,null,null,null,null,null,null,null,null,null,null,null,null,null,null,null,null,null,null,null,null,null,null,null,null,null,null,null,null,null,null,null,null,null,null,null,null,null,null,null,null,null,null,null,null,null,null,null,null,null,null,null,null,"App.\nV/C",null,null,{"$f":"MAX(CV51:DA52)","v":0.29085405227447558}]
[]
[null,null,null,null,null,null,null,null,null,null,null,null,null,null,null,null,null,null,null,null,null,null,null,null,null,null,null,null,null,null,null,null,null,null,null,null,null,null,null,null,null,null,null,null,null,null,null,null,null,null,null,null,null,null,null,null,null,null,null,null,null,null,null,null,null,null,null,null,null,null,null,null,null,null,null,null,null,null,null,null,null,null,null,null,null,null,null,null,{"$f":"IF($AY$51=1,\"\",IF(F27=0,0,IF($F$27=1,$BZ$11,$CC$19))+IF(E51=0,0,IF($E$51=1,$BR$51+(1-$BM$59)*$BT$54,$CB$52+$BZ$49)))","v":""}]
[null,null,null,null,"Number of Entry Lanes",null,null,null,null,null,null,null,null,null,"Slip Lane?",null,null,null,null,null,null,null,null,null,null,null,null,null,null,null,null,null,null,null,null,null,null,null,null,null,null,null,null,null,null,null,null,null,null,null,"Number of Circulating Lanes"]
[null,null,null,null,null,null,null,null,null,null,null,null,null,null,null,null,null,null,null,null,null,null,null,null,null,null,null,null,null,null,null,null,null,null,null,null,null,null,null,null,null,null,null,null,null,null,null,null,null,null,null,null,null,null,null,null,null,null,null,null,null,null,null,null,"Through lane utilization factor",null,null,null,null,null,null,null,null,null,null,null,null,{"$f":"IF($E$51=2,EBL,\"\")","v":""},null,null,null,null,null,null,null,null,null,null,{"$f":"IF($AY$51=1,IF(F27=0,0,IF($F$27=1,$BZ$11,$CC$19))+IF(E51=0,0,IF($E$51=1,$BT$54+$BR$51,$BZ$49+$CB$52)),IF(E51=0,0,IF($E$51=1,$BM$59*$BT$54,$CB$56)))","v":266},null,null,null,null,null,null,null,null,null,null,{"$f":"IF($AS$58=1,\"\",1)","v":""},null,null,{"$f":"IF($AS$58=1,1,2)","v":1}]
[]
[null,null,null,null,1,null,null,null,null,null,null,null,null,null,"No",null,null,null,null,null,null,null,null,null,null,null,null,null,null,null,null,null,null,null,null,null,null,null,null,null,null,null,null,null,null,null,null,null,null,null,1,null,null,null,null,null,null,null,null,null,null,null,null,null,null,null,null,null,null,{"$f":"IF($E$51=1,EBL,\"\")","v":31},null,null,null,null,null,null,null,null,null,null,null,null,null,null,null,null,null,null,"Conflicting flow",null,null,null,null,null,null,null,null,null,null,{"$f":"IFERROR(CV58/CY65,\"\")","v":""},null,null,{"$f":"IF(AS58=0,\"\",CY58/CY67)","v":0.29085405227447558}]
[null,null,null,null,null,null,null,null,null,null,null,null,null,null,null,null,null,null,null,null,null,null,null,null,null,null,null,null,null,null,null,null,null,null,null,null,null,null,null,null,null,null,null,null,null,null,null,null,null,null,null,null,null,null,null,null,null,null,null,null,null,null,null,null,null,null,null,null,null,null,null,null,null,null,null,null,null,null,null,{"$f":"IF($E$51=2,IF($AY$51=2,EBT*$DU$12,EBT),\"\")","v":""},null,null,{"$f":"IF($T$15=\"EB-WB\",\"SB\",\"EB\")","v":"EB"}]
[null,null,null,null,null,null,null,null,null,null,null,null,null,null,null,null,null,null,null,null,null,null,null,null,null,null,null,null,null,null,null,null,null,null,null,null,null,null,null,null,null,null,null,null,null,null,null,null,null,null,null,null,null,null,null,null,null,null,null,null,null,null,null,null,null,null,null,null,null,null,null,null,null,null,null,null,null,null,null,null,null,null,null,null,null,null,null,null,null,null,null,null,null,null,null,null,null,null,null,"V/C RATIO",null,null,"V/C RATIO",null,null,null,null,null,null,null,null,null,null,null,null,{"$f":"IF($T$15=\"EB-WB\",\"EB\",\"NB\")","v":"NB"}]
[null,null,null,null,null,null,null,null,null,null,null,null,null,null,null,null,null,null,null,null,null,null,null,null,null,null,null,null,null,null,null,null,null,null,null,null,null,null,null,null,null,null,null,null,null,null,null,null,null,null,null,null,null,null,null,null,null,null,null,null,null,null,null,null,null,null,null,null,null,null,null,{"$f":"IF($E$51=1,EBT,\"\")","v":204}]
[null,null,null,null,null,null,null,"Number of Circulating Lanes",null,null,null,null,null,null,null,null,null,null,null,null,null,null,null,null,null,null,null,null,null,null,null,null,null,null,null,null,null,null,null,null,null,null,null,null,"Number of Entry Lanes",null,null,null,null,null,null,null,null,null,"Slip Lane?"]
[null,null,null,null,null,null,null,null,null,null,null,null,null,null,null,null,null,null,null,null,null,null,null,null,null,null,null,null,null,null,null,null,null,null,null,null,null,null,null,null,null,null,null,null,null,null,null,null,null,null,null,null,null,null,null,null,null,null,null,null,null,null,null,null,null,null,null,null,null,null,null,null,null,null,null,null,null,null,null,{"$f":"IF($E$51=2,IF($AY$51=2,EBT*(1-$DU$12),0),\"\")","v":""}]
[null,null,null,null,null,null,null,null,null,null,null,null,null,null,null,null,null,null,null,null,null,null,null,null,null,null,null,null,null,null,null,null,null,null,null,null,null,null,null,null,null,null,null,null,null,null,null,null,null,null,null,null,null,null,null,null,null,null,null,null,null,null,null,null,null,null,null,null,null,{"$f":"IF(EBSlip=\"Yes\",0,IF($E$51=1,EBR,\"\"))","v":51},null,null,null,null,null,null,null,null,null,null,null,null,null,null,null,null,null,null,null,null,null,null,null,null,null,null,null,null,null,null,null,null,null,null,null,null,null,null,null,null,null,null,null,null,{"$f":"IF(AS58=2,IF(AX34=2,NBT*DR72,NBT),\"\")","v":""},null,null,null,{"$f":"IF(AS58=2,IF(AX34=2,NBT*(1-DR72),0),\"\")","v":""}]
[null,null,null,null,null,null,null,1,null,null,null,null,null,null,null,null,null,null,null,null,null,null,null,null,null,null,null,null,null,null,null,null,null,null,null,null,null,null,null,null,null,null,null,null,1,null,null,null,null,null,null,null,null,null,"No",null,null,null,null,null,null,null,null,null,null,null,null,null,null,null,null,null,null,null,null,null,null,null,null,null,null,null,null,null,null,null,null,null,null,null,null,null,null,null,null,null,null,null,null,{"$f":"IF(AS58=0,\"\",IF(AS58=1,\"\",DH59+DK57))","v":""},null,null,{"$f":"IF(AS58=0,\"\",IF(AS58=1,DJ67+DM65+DP67,DO57+DR59))","v":306}]
[null,null,null,null,null,null,null,null,null,null,null,null,null,null,null,null,null,null,null,null,null,null,null,null,null,null,null,null,null,null,null,null,null,null,null,null,null,null,null,null,null,null,null,null,null,null,null,null,null,null,null,null,null,null,null,null,null,null,null,null,null,null,null,null,0.53,null,null,null,null,null,null,null,null,null,null,null,null,{"$f":"IF(EBSlip=\"Yes\",0,IF($E$51=2,EBR,\"\"))","v":""},null,null,null,null,null,null,null,null,null,null,null,null,null,null,null,null,null,null,null,null,null,"pcph",null,null,"pcph",null,null,null,null,null,null,null,null,{"$f":"IF(AS58=2,NBL,\"\")","v":""},null,null,null,null,null,null,null,null,null,{"$f":"IF(NBSlip=\"Yes\",0,IF(AS58=2,NBR,\"\"))","v":""}]
[]
[]
[]
[]
[null,null,null,null,null,null,null,null,null,null,null,null,null,null,null,null,null,null,null,null,null,null,null,null,null,null,null,{"$f":"IF($T$15=\"EB-WB\",\"EB\",\"NB\")","v":"NB"}]
[null,null,null,null,null,null,null,"pcph",{"$f":"INDIRECT(B41&\"L_Master\")","v":31},null,null,null,null,null,null,null,null,null,null,null,null,null,null,null,null,null,null,null,null,null,null,null,null,null,null,null,null,null,null,null,null,null,null,null,null,null,null,null,null,null,null,null,null,null,null,null,null,null,null,null,null,null,null,null,null,null,null,null,null,null,null,null,null,null,null,null,null,null,null,null,null,null,null,null,null,null,null,null,null,null,null,null,null,null,null,null,null,null,{"$f":"IF($AS$58=1,\"\",1)","v":""},null,null,null,{"$f":"IF(AS58=0,\"\",IF(AS58=1,\"\",IF(AY51=1,$ET$14*EXP(-$EW$14*CK49),$ET$18*EXP(-$EW$18*(CK47+CK49)))))","v":""},null,null,null,null,null,null,null,null,null,null,null,null,null,{"$f":"IF($AS$58=1,NBT,\"\")","v":0}]
[]
[null,null,null,null,null,null,null,null,null,null,null,null,null,null,null,null,null,null,null,null,null,null,null,null,null,null,null,null,null,null,null,null,null,null,null,null,null,null,null,null,null,null,null,null,null,null,null,null,null,null,null,null,null,null,null,null,null,null,null,null,null,null,null,null,null,null,null,null,null,null,null,null,null,null,null,null,null,null,null,null,null,null,null,null,null,null,null,null,null,null,null,null,null,null,null,null,null,null,{"$f":"IF($AS$58=1,1,2)","v":1},null,null,null,{"$f":"IF(AS58=0,\"\",IF(AS58=1,IF(AY51=1,$ET$10*EXP(-$EW$10*CK49),$ET$12*EXP(-$EW$12*(CK49+CK47))),IF(AY51=1,$ET$16*EXP(-$EW$16*CK49),$ET$20*EXP(-$EW$20*(CK49+CK47)))))","v":1052.0740474718618},null,null,null,null,null,null,null,null,null,null,{"$f":"IF($AS$58=1,NBL,\"\")","v":102},null,null,null,null,null,{"$f":"IF(NBSlip=\"Yes\",0,IF($AS$58=1,NBR,\"\"))","v":204}]
[null,null,null,null,null,null,null,"pcph",{"$f":"INDIRECT(B41&\"T_Master\")","v":204},null,null,null,null,null,null,null,null,null,null,null,null,null,null,null,null,null,null,null,null,null,null,{"$f":"INDIRECT(AB64&\"L_Master\")","v":102},null,null,0,null,null,{"$f":"INDIRECT(AB64&\"R_Master\")","v":204}]
[null,null,null,null,null,null,null,null,null,null,null,null,null,null,null,null,null,null,null,null,null,null,null,null,null,null,null,null,null,null,null,"pcph",null,null,"pcph",null,null,"pcph",null,null,null,null,null,null,null,null,null,null,null,null,null,null,null,null,null,null,null,null,null,null,null,null,null,null,null,null,null,null,null,null,null,null,null,null,null,null,null,null,null,null,null,null,null,null,null,null,null,null,null,null,null,null,null,null,null,null,null,null,"Lane Capacity"]
[]
[null,null,null,null,null,null,null,"pcph",{"$f":"INDIRECT(B41&\"R_Master\")","v":51}]
[null,null,null,null,null,null,null,null,null,null,null,null,null,null,null,null,null,null,null,null,null,null,null,null,null,null,null,null,null,null,null,null,null,null,null,null,null,null,null,null,null,null,null,null,null,null,null,null,null,null,null,null,null,null,null,null,null,null,null,null,null,null,null,null,null,null,null,null,null,null,null,null,null,null,null,null,null,null,null,null,null,null,null,null,null,null,null,null,null,null,null,null,null,null,null,null,null,null,null,null,null,null,null,null,null,null,null,null,null,null,null,"Through lane utilization factor",null,null,null,null,null,null,null,null,null,0.53]